{"text_format":"1","workbook":"xlsx","n_sheets":3,"sheets":["Simulador","Tabla","Rangos"],"not_rendered":{"charts":0,"images":3,"macros":1,"external_links":0,"defined_names":9,"comments":0,"pivot_tables":0},"unopened":[],"bounds":{"document_bytes":16777216,"sheet_cells":100000,"rows_first":2000,"rows_last":500,"rows_between":2000,"halvings":0,"cell_chars":16384,"cell_head_chars":4096},"cells_cut":0,"cells_raw":0,"read":"whole","date_system":"1900"}

{"sheet":"Simulador","index":0,"n_rows":74,"n_cols":9,"rows_kept":74,"cut":false,"hidden":false,"merged":[[73,4,74,5],[73,7,74,8],[73,1,74,2],[65,7,65,8],[66,7,66,8],[68,7,68,8],[69,7,69,8],[70,7,70,8],[65,4,65,5],[69,4,69,5],[70,4,70,5],[69,1,69,2],[70,1,70,2],[68,1,68,2],[64,7,64,8],[66,4,66,5],[68,4,68,5],[64,4,64,5],[59,7,60,8],[64,1,64,2],[59,1,59,2],[60,1,60,2],[65,1,65,2],[66,1,66,2],[10,1,10,2],[21,1,21,2],[11,1,11,2],[12,1,12,2],[13,1,13,2],[18,1,18,2],[19,1,19,2],[20,1,20,2],[26,1,26,2],[27,1,27,2],[24,1,24,2],[50,1,51,2],[59,4,60,5],[55,1,55,2],[33,1,33,2],[37,1,37,2],[39,1,39,2],[40,1,40,2],[34,1,34,2],[46,1,46,2],[47,1,47,2]]}
[]
[]
[]
[]
[null,"SIMULADOR FLEXIAHORRO"]
[null,"Fecha Actualización: Junio 2025"]
[]
[]
[null,"Paso 1"]
[]
[null,"Ahorro inicial"]
[null,"¿Con cuánto quieres empezar?"]
[null,10]
[null,"Monto"]
[]
[]
[null,"Paso 2"]
[]
[null,"Ahorro mensual automático"]
[null,"¿Cuánto dinero quieres ahorrar mensualmente?"]
[null,50]
[null,"Monto"]
[]
[]
[null,"¿Qué día del mes deseas realizar el aporte?"]
[]
[null,21]
[null,"Día del mes"]
[]
[]
[]
[null,"Paso 3"]
[]
[null,"Tiempo"]
[]
[null,"Fecha inicio de simulación",{"$f":"+TODAY()","v":"2025-07-20"}]
[]
[null,"¿Por cuánto tiempo quieres simular tu ahorro?"]
[]
[null,90]
[null,"Días"]
[]
[null,"Fecha fin de simulación",{"$f":"+INDEX(Tabla!C10:AAU10,B40+1)","v":"2025-10-18"}]
[]
[null,"Paso 4"]
[]
[null,"Potenciadores"]
[null,"Funcionalidades que te hacen ahorrar y ganar más"]
[]
[null,"Ahorro Blindado","No"]
[null,"Al activarlo, seleccionas un tiempo durante el cual tu cuenta estará blindada para evitar retiros, y a cambio puedes obtener un tasa de interés mejor dependiendo del tiempo."]
[]
[]
[]
[null,"Reto de 52 semanas","No"]
[null,"Al activarlo, por 52 semanas te debitaremos $1 incremental por semana:\n\n-Semana 1: $1\n-Semana 2: $2\n-Semana 52: $52\n\nAl final del ciclo habrás ahorrado $1.378."]
[]
[]
[]
[null,"Resultado simulador",null,null,"Recomendación 1",null,null,"Recomendación 2"]
[null,{"$f":"+\"Rendimiento al\"&\" \"&TEXT(C43,\"dd-mmm-yy\")","v":"Rendimiento al 18-oct-25"}]
[null,"Total Ahorrado",{"$f":"+IF(C50=\"No\",INDEX(Tabla!C30:AAU30,B40),INDEX(Tabla!C30:AAU30,B40+1))","v":160},null,"Total Ahorrado",{"$f":"+IFERROR(IF(C50=\"No\",INDEX(Tabla!C41:AAU41,F72),INDEX(Tabla!C41:AAU41,F72+1)),\"N/A\")","v":210},null,"Total Ahorrado",{"$f":"+IF(C50=\"No\",INDEX(Tabla!C52:AAU52,I72),INDEX(Tabla!C52:AAU52,I72+1))","v":610}]
[null,"Tasa de interés",{"$f":"+IF(C50=\"No\",5%,VLOOKUP($B$40,Rangos!$B$3:$D$8,3,TRUE))","v":0.05},null,"Tasa de interés",{"$f":"+IF(C50=\"No\",5%,VLOOKUP($F$72,Rangos!$B$3:$D$8,3,TRUE))","v":0.05},null,"Tasa de interés",{"$f":"+IF(C50=\"No\",5%,VLOOKUP($I$72,Rangos!$B$3:$D$8,3,TRUE))","v":0.05}]
[]
[null,"Ahorro + Interés",null,null,"Ahorro + Interés",null,null,"Ahorro + Interés"]
[null,{"$f":"+IF(C50=\"Si\",INDEX(Tabla!C34:AAU34,B40+1),INDEX(Tabla!C34:AAU34,B40))+(IF($C$50=\"No\",INDEX(Tabla!C36:AAU36,B40),0))","v":161.47},null,null,{"$f":"+IFERROR(IF(C50=\"Si\",INDEX(Tabla!C45:AAU45,+F72+1),INDEX(Tabla!C45:AAU45,F72)+INDEX(Tabla!C47:AAU47,F72)),\"N/A\")","v":212.33999999999997},null,null,{"$f":"+IF(C50=\"Si\",INDEX(Tabla!C56:AAU56,I72+1),INDEX(Tabla!C56:AAU56,I72)+INDEX(Tabla!C58:AAU58,I72))","v":627.38}]
[null,"Monto",null,null,"Monto",null,null,"Monto"]
[]
[null,"Interés Ganado",null,null,"Interés Ganado",null,null,"Interés Ganado"]
[null,{"$f":"+B66-C62","v":1.4699999999999989},null,null,{"$f":"+IFERROR(E66-F62,\"N/A\")","v":2.339999999999975},null,null,{"$f":"+H66-I62","v":17.379999999999995}]
[null,"Monto",null,null,"Monto",null,null,"Monto"]
[null,"Fecha Vencimiento Blindado",{"$f":"+IF(C50=\"Si\",INDEX(Tabla!C10:AAU10,B40+1),\"No Aplica\")","v":"No Aplica"},null,"Tiempo sugerido (días)",{"$f":"+B40+VLOOKUP(B40,Rangos!$G$2:$K$8,4)","v":120},null,"Tiempo sugerido (días)",365]
[null,null,null,null,"Fecha Vencimiento Blindado",{"$f":"+IF(C50=\"Si\",INDEX(Tabla!C10:AAU10,F72+1),\"No Aplica\")","v":"No Aplica"},null,"Fecha Vencimiento Blindado",{"$f":"+IF(C50=\"Si\",INDEX(Tabla!C10:AAU10,I72+1),\"No Aplica\")","v":"No Aplica"}]
[null,"El cálculo es referencial. Las tasa están sujetas a condiciones. ",null,null,"El cálculo es referencial. Las tasa están sujetas a condiciones. ",null,null,"El cálculo es referencial. Las tasa están sujetas a condiciones. "]

{"sheet":"Tabla","index":1,"n_rows":61,"n_cols":723,"rows_kept":61,"cut":false,"hidden":true,"merged":[]}
[]
[]
[]
[]
[]
[]
[]
[]
[null,null,{"$f":"+IF(DAY(EOMONTH(C10,0))<Simulador!$B$27,(Simulador!$B$27-DAY(EOMONTH(C10,0)))+DAY(EOMONTH(C10,0)),31)","v":31},{"$f":"+IF(DAY(EOMONTH(D10,0))<Simulador!$B$27,(Simulador!$B$27-DAY(EOMONTH(D10,0)))+DAY(EOMONTH(D10,0)),31)","v":31},{"$f":"+IF(DAY(EOMONTH(E10,0))<Simulador!$B$27,(Simulador!$B$27-DAY(EOMONTH(E10,0)))+DAY(EOMONTH(E10,0)),31)","v":31},{"$f":"+IF(DAY(EOMONTH(F10,0))<Simulador!$B$27,(Simulador!$B$27-DAY(EOMONTH(F10,0)))+DAY(EOMONTH(F10,0)),31)","v":31},{"$f":"+IF(DAY(EOMONTH(G10,0))<Simulador!$B$27,(Simulador!$B$27-DAY(EOMONTH(G10,0)))+DAY(EOMONTH(G10,0)),31)","v":31},{"$f":"+IF(DAY(EOMONTH(H10,0))<Simulador!$B$27,(Simulador!$B$27-DAY(EOMONTH(H10,0)))+DAY(EOMONTH(H10,0)),31)","v":31},{"$f":"+IF(DAY(EOMONTH(I10,0))<Simulador!$B$27,(Simulador!$B$27-DAY(EOMONTH(I10,0)))+DAY(EOMONTH(I10,0)),31)","v":31},{"$f":"+IF(DAY(EOMONTH(J10,0))<Simulador!$B$27,(Simulador!$B$27-DAY(EOMONTH(J10,0)))+DAY(EOMONTH(J10,0)),31)","v":31},{"$f":"+IF(DAY(EOMONTH(K10,0))<Simulador!$B$27,(Simulador!$B$27-DAY(EOMONTH(K10,0)))+DAY(EOMONTH(K10,0)),31)","v":31},{"$f":"+IF(DAY(EOMONTH(L10,0))<Simulador!$B$27,(Simulador!$B$27-DAY(EOMONTH(L10,0)))+DAY(EOMONTH(L10,0)),31)","v":31},{"$f":"+IF(DAY(EOMONTH(M10,0))<Simulador!$B$27,(Simulador!$B$27-DAY(EOMONTH(M10,0)))+DAY(EOMONTH(M10,0)),31)","v":31},{"$f":"+IF(DAY(EOMONTH(N10,0))<Simulador!$B$27,(Simulador!$B$27-DAY(EOMONTH(N10,0)))+DAY(EOMONTH(N10,0)),31)","v":31},{"$f":"+IF(DAY(EOMONTH(O10,0))<Simulador!$B$27,(Simulador!$B$27-DAY(EOMONTH(O10,0)))+DAY(EOMONTH(O10,0)),31)","v":31},{"$f":"+IF(DAY(EOMONTH(P10,0))<Simulador!$B$27,(Simulador!$B$27-DAY(EOMONTH(P10,0)))+DAY(EOMONTH(P10,0)),31)","v":31},{"$f":"+IF(DAY(EOMONTH(Q10,0))<Simulador!$B$27,(Simulador!$B$27-DAY(EOMONTH(Q10,0)))+DAY(EOMONTH(Q10,0)),31)","v":31},{"$f":"+IF(DAY(EOMONTH(R10,0))<Simulador!$B$27,(Simulador!$B$27-DAY(EOMONTH(R10,0)))+DAY(EOMONTH(R10,0)),31)","v":31},{"$f":"+IF(DAY(EOMONTH(S10,0))<Simulador!$B$27,(Simulador!$B$27-DAY(EOMONTH(S10,0)))+DAY(EOMONTH(S10,0)),31)","v":31},{"$f":"+IF(DAY(EOMONTH(T10,0))<Simulador!$B$27,(Simulador!$B$27-DAY(EOMONTH(T10,0)))+DAY(EOMONTH(T10,0)),31)","v":31},{"$f":"+IF(DAY(EOMONTH(U10,0))<Simulador!$B$27,(Simulador!$B$27-DAY(EOMONTH(U10,0)))+DAY(EOMONTH(U10,0)),31)","v":31},{"$f":"+IF(DAY(EOMONTH(V10,0))<Simulador!$B$27,(Simulador!$B$27-DAY(EOMONTH(V10,0)))+DAY(EOMONTH(V10,0)),31)","v":31},{"$f":"+IF(DAY(EOMONTH(W10,0))<Simulador!$B$27,(Simulador!$B$27-DAY(EOMONTH(W10,0)))+DAY(EOMONTH(W10,0)),31)","v":31},{"$f":"+IF(DAY(EOMONTH(X10,0))<Simulador!$B$27,(Simulador!$B$27-DAY(EOMONTH(X10,0)))+DAY(EOMONTH(X10,0)),31)","v":31},{"$f":"+IF(DAY(EOMONTH(Y10,0))<Simulador!$B$27,(Simulador!$B$27-DAY(EOMONTH(Y10,0)))+DAY(EOMONTH(Y10,0)),31)","v":31},{"$f":"+IF(DAY(EOMONTH(Z10,0))<Simulador!$B$27,(Simulador!$B$27-DAY(EOMONTH(Z10,0)))+DAY(EOMONTH(Z10,0)),31)","v":31},{"$f":"+IF(DAY(EOMONTH(AA10,0))<Simulador!$B$27,(Simulador!$B$27-DAY(EOMONTH(AA10,0)))+DAY(EOMONTH(AA10,0)),31)","v":31},{"$f":"+IF(DAY(EOMONTH(AB10,0))<Simulador!$B$27,(Simulador!$B$27-DAY(EOMONTH(AB10,0)))+DAY(EOMONTH(AB10,0)),31)","v":31},{"$f":"+IF(DAY(EOMONTH(AC10,0))<Simulador!$B$27,(Simulador!$B$27-DAY(EOMONTH(AC10,0)))+DAY(EOMONTH(AC10,0)),31)","v":31},{"$f":"+IF(DAY(EOMONTH(AD10,0))<Simulador!$B$27,(Simulador!$B$27-DAY(EOMONTH(AD10,0)))+DAY(EOMONTH(AD10,0)),31)","v":31},{"$f":"+IF(DAY(EOMONTH(AE10,0))<Simulador!$B$27,(Simulador!$B$27-DAY(EOMONTH(AE10,0)))+DAY(EOMONTH(AE10,0)),31)","v":31},{"$f":"+IF(DAY(EOMONTH(AF10,0))<Simulador!$B$27,(Simulador!$B$27-DAY(EOMONTH(AF10,0)))+DAY(EOMONTH(AF10,0)),31)","v":31},{"$f":"+IF(DAY(EOMONTH(AG10,0))<Simulador!$B$27,(Simulador!$B$27-DAY(EOMONTH(AG10,0)))+DAY(EOMONTH(AG10,0)),31)","v":31},{"$f":"+IF(DAY(EOMONTH(AH10,0))<Simulador!$B$27,(Simulador!$B$27-DAY(EOMONTH(AH10,0)))+DAY(EOMONTH(AH10,0)),31)","v":31},{"$f":"+IF(DAY(EOMONTH(AI10,0))<Simulador!$B$27,(Simulador!$B$27-DAY(EOMONTH(AI10,0)))+DAY(EOMONTH(AI10,0)),31)","v":31},{"$f":"+IF(DAY(EOMONTH(AJ10,0))<Simulador!$B$27,(Simulador!$B$27-DAY(EOMONTH(AJ10,0)))+DAY(EOMONTH(AJ10,0)),31)","v":31},{"$f":"+IF(DAY(EOMONTH(AK10,0))<Simulador!$B$27,(Simulador!$B$27-DAY(EOMONTH(AK10,0)))+DAY(EOMONTH(AK10,0)),31)","v":31},{"$f":"+IF(DAY(EOMONTH(AL10,0))<Simulador!$B$27,(Simulador!$B$27-DAY(EOMONTH(AL10,0)))+DAY(EOMONTH(AL10,0)),31)","v":31},{"$f":"+IF(DAY(EOMONTH(AM10,0))<Simulador!$B$27,(Simulador!$B$27-DAY(EOMONTH(AM10,0)))+DAY(EOMONTH(AM10,0)),31)","v":31},{"$f":"+IF(DAY(EOMONTH(AN10,0))<Simulador!$B$27,(Simulador!$B$27-DAY(EOMONTH(AN10,0)))+DAY(EOMONTH(AN10,0)),31)","v":31},{"$f":"+IF(DAY(EOMONTH(AO10,0))<Simulador!$B$27,(Simulador!$B$27-DAY(EOMONTH(AO10,0)))+DAY(EOMONTH(AO10,0)),31)","v":31},{"$f":"+IF(DAY(EOMONTH(AP10,0))<Simulador!$B$27,(Simulador!$B$27-DAY(EOMONTH(AP10,0)))+DAY(EOMONTH(AP10,0)),31)","v":31},{"$f":"+IF(DAY(EOMONTH(AQ10,0))<Simulador!$B$27,(Simulador!$B$27-DAY(EOMONTH(AQ10,0)))+DAY(EOMONTH(AQ10,0)),31)","v":31},{"$f":"+IF(DAY(EOMONTH(AR10,0))<Simulador!$B$27,(Simulador!$B$27-DAY(EOMONTH(AR10,0)))+DAY(EOMONTH(AR10,0)),31)","v":31},{"$f":"+IF(DAY(EOMONTH(AS10,0))<Simulador!$B$27,(Simulador!$B$27-DAY(EOMONTH(AS10,0)))+DAY(EOMONTH(AS10,0)),31)","v":31},{"$f":"+IF(DAY(EOMONTH(AT10,0))<Simulador!$B$27,(Simulador!$B$27-DAY(EOMONTH(AT10,0)))+DAY(EOMONTH(AT10,0)),31)","v":31},{"$f":"+IF(DAY(EOMONTH(AU10,0))<Simulador!$B$27,(Simulador!$B$27-DAY(EOMONTH(AU10,0)))+DAY(EOMONTH(AU10,0)),31)","v":31},{"$f":"+IF(DAY(EOMONTH(AV10,0))<Simulador!$B$27,(Simulador!$B$27-DAY(EOMONTH(AV10,0)))+DAY(EOMONTH(AV10,0)),31)","v":31},{"$f":"+IF(DAY(EOMONTH(AW10,0))<Simulador!$B$27,(Simulador!$B$27-DAY(EOMONTH(AW10,0)))+DAY(EOMONTH(AW10,0)),31)","v":31},{"$f":"+IF(DAY(EOMONTH(AX10,0))<Simulador!$B$27,(Simulador!$B$27-DAY(EOMONTH(AX10,0)))+DAY(EOMONTH(AX10,0)),31)","v":31},{"$f":"+IF(DAY(EOMONTH(AY10,0))<Simulador!$B$27,(Simulador!$B$27-DAY(EOMONTH(AY10,0)))+DAY(EOMONTH(AY10,0)),31)","v":31},{"$f":"+IF(DAY(EOMONTH(AZ10,0))<Simulador!$B$27,(Simulador!$B$27-DAY(EOMONTH(AZ10,0)))+DAY(EOMONTH(AZ10,0)),31)","v":31},{"$f":"+IF(DAY(EOMONTH(BA10,0))<Simulador!$B$27,(Simulador!$B$27-DAY(EOMONTH(BA10,0)))+DAY(EOMONTH(BA10,0)),31)","v":31},{"$f":"+IF(DAY(EOMONTH(BB10,0))<Simulador!$B$27,(Simulador!$B$27-DAY(EOMONTH(BB10,0)))+DAY(EOMONTH(BB10,0)),31)","v":31},{"$f":"+IF(DAY(EOMONTH(BC10,0))<Simulador!$B$27,(Simulador!$B$27-DAY(EOMONTH(BC10,0)))+DAY(EOMONTH(BC10,0)),31)","v":31},{"$f":"+IF(DAY(EOMONTH(BD10,0))<Simulador!$B$27,(Simulador!$B$27-DAY(EOMONTH(BD10,0)))+DAY(EOMONTH(BD10,0)),31)","v":31},{"$f":"+IF(DAY(EOMONTH(BE10,0))<Simulador!$B$27,(Simulador!$B$27-DAY(EOMONTH(BE10,0)))+DAY(EOMONTH(BE10,0)),31)","v":31},{"$f":"+IF(DAY(EOMONTH(BF10,0))<Simulador!$B$27,(Simulador!$B$27-DAY(EOMONTH(BF10,0)))+DAY(EOMONTH(BF10,0)),31)","v":31},{"$f":"+IF(DAY(EOMONTH(BG10,0))<Simulador!$B$27,(Simulador!$B$27-DAY(EOMONTH(BG10,0)))+DAY(EOMONTH(BG10,0)),31)","v":31},{"$f":"+IF(DAY(EOMONTH(BH10,0))<Simulador!$B$27,(Simulador!$B$27-DAY(EOMONTH(BH10,0)))+DAY(EOMONTH(BH10,0)),31)","v":31},{"$f":"+IF(DAY(EOMONTH(BI10,0))<Simulador!$B$27,(Simulador!$B$27-DAY(EOMONTH(BI10,0)))+DAY(EOMONTH(BI10,0)),31)","v":31},{"$f":"+IF(DAY(EOMONTH(BJ10,0))<Simulador!$B$27,(Simulador!$B$27-DAY(EOMONTH(BJ10,0)))+DAY(EOMONTH(BJ10,0)),31)","v":31},{"$f":"+IF(DAY(EOMONTH(BK10,0))<Simulador!$B$27,(Simulador!$B$27-DAY(EOMONTH(BK10,0)))+DAY(EOMONTH(BK10,0)),31)","v":31},{"$f":"+IF(DAY(EOMONTH(BL10,0))<Simulador!$B$27,(Simulador!$B$27-DAY(EOMONTH(BL10,0)))+DAY(EOMONTH(BL10,0)),31)","v":31},{"$f":"+IF(DAY(EOMONTH(BM10,0))<Simulador!$B$27,(Simulador!$B$27-DAY(EOMONTH(BM10,0)))+DAY(EOMONTH(BM10,0)),31)","v":31},{"$f":"+IF(DAY(EOMONTH(BN10,0))<Simulador!$B$27,(Simulador!$B$27-DAY(EOMONTH(BN10,0)))+DAY(EOMONTH(BN10,0)),31)","v":31},{"$f":"+IF(DAY(EOMONTH(BO10,0))<Simulador!$B$27,(Simulador!$B$27-DAY(EOMONTH(BO10,0)))+DAY(EOMONTH(BO10,0)),31)","v":31},{"$f":"+IF(DAY(EOMONTH(BP10,0))<Simulador!$B$27,(Simulador!$B$27-DAY(EOMONTH(BP10,0)))+DAY(EOMONTH(BP10,0)),31)","v":31},{"$f":"+IF(DAY(EOMONTH(BQ10,0))<Simulador!$B$27,(Simulador!$B$27-DAY(EOMONTH(BQ10,0)))+DAY(EOMONTH(BQ10,0)),31)","v":31},{"$f":"+IF(DAY(EOMONTH(BR10,0))<Simulador!$B$27,(Simulador!$B$27-DAY(EOMONTH(BR10,0)))+DAY(EOMONTH(BR10,0)),31)","v":31},{"$f":"+IF(DAY(EOMONTH(BS10,0))<Simulador!$B$27,(Simulador!$B$27-DAY(EOMONTH(BS10,0)))+DAY(EOMONTH(BS10,0)),31)","v":31},{"$f":"+IF(DAY(EOMONTH(BT10,0))<Simulador!$B$27,(Simulador!$B$27-DAY(EOMONTH(BT10,0)))+DAY(EOMONTH(BT10,0)),31)","v":31},{"$f":"+IF(DAY(EOMONTH(BU10,0))<Simulador!$B$27,(Simulador!$B$27-DAY(EOMONTH(BU10,0)))+DAY(EOMONTH(BU10,0)),31)","v":31},{"$f":"+IF(DAY(EOMONTH(BV10,0))<Simulador!$B$27,(Simulador!$B$27-DAY(EOMONTH(BV10,0)))+DAY(EOMONTH(BV10,0)),31)","v":31},{"$f":"+IF(DAY(EOMONTH(BW10,0))<Simulador!$B$27,(Simulador!$B$27-DAY(EOMONTH(BW10,0)))+DAY(EOMONTH(BW10,0)),31)","v":31},{"$f":"+IF(DAY(EOMONTH(BX10,0))<Simulador!$B$27,(Simulador!$B$27-DAY(EOMONTH(BX10,0)))+DAY(EOMONTH(BX10,0)),31)","v":31},{"$f":"+IF(DAY(EOMONTH(BY10,0))<Simulador!$B$27,(Simulador!$B$27-DAY(EOMONTH(BY10,0)))+DAY(EOMONTH(BY10,0)),31)","v":31},{"$f":"+IF(DAY(EOMONTH(BZ10,0))<Simulador!$B$27,(Simulador!$B$27-DAY(EOMONTH(BZ10,0)))+DAY(EOMONTH(BZ10,0)),31)","v":31},{"$f":"+IF(DAY(EOMONTH(CA10,0))<Simulador!$B$27,(Simulador!$B$27-DAY(EOMONTH(CA10,0)))+DAY(EOMONTH(CA10,0)),31)","v":31},{"$f":"+IF(DAY(EOMONTH(CB10,0))<Simulador!$B$27,(Simulador!$B$27-DAY(EOMONTH(CB10,0)))+DAY(EOMONTH(CB10,0)),31)","v":31},{"$f":"+IF(DAY(EOMONTH(CC10,0))<Simulador!$B$27,(Simulador!$B$27-DAY(EOMONTH(CC10,0)))+DAY(EOMONTH(CC10,0)),31)","v":31},{"$f":"+IF(DAY(EOMONTH(CD10,0))<Simulador!$B$27,(Simulador!$B$27-DAY(EOMONTH(CD10,0)))+DAY(EOMONTH(CD10,0)),31)","v":31},{"$f":"+IF(DAY(EOMONTH(CE10,0))<Simulador!$B$27,(Simulador!$B$27-DAY(EOMONTH(CE10,0)))+DAY(EOMONTH(CE10,0)),31)","v":31},{"$f":"+IF(DAY(EOMONTH(CF10,0))<Simulador!$B$27,(Simulador!$B$27-DAY(EOMONTH(CF10,0)))+DAY(EOMONTH(CF10,0)),31)","v":31},{"$f":"+IF(DAY(EOMONTH(CG10,0))<Simulador!$B$27,(Simulador!$B$27-DAY(EOMONTH(CG10,0)))+DAY(EOMONTH(CG10,0)),31)","v":31},{"$f":"+IF(DAY(EOMONTH(CH10,0))<Simulador!$B$27,(Simulador!$B$27-DAY(EOMONTH(CH10,0)))+DAY(EOMONTH(CH10,0)),31)","v":31},{"$f":"+IF(DAY(EOMONTH(CI10,0))<Simulador!$B$27,(Simulador!$B$27-DAY(EOMONTH(CI10,0)))+DAY(EOMONTH(CI10,0)),31)","v":31},{"$f":"+IF(DAY(EOMONTH(CJ10,0))<Simulador!$B$27,(Simulador!$B$27-DAY(EOMONTH(CJ10,0)))+DAY(EOMONTH(CJ10,0)),31)","v":31},{"$f":"+IF(DAY(EOMONTH(CK10,0))<Simulador!$B$27,(Simulador!$B$27-DAY(EOMONTH(CK10,0)))+DAY(EOMONTH(CK10,0)),31)","v":31},{"$f":"+IF(DAY(EOMONTH(CL10,0))<Simulador!$B$27,(Simulador!$B$27-DAY(EOMONTH(CL10,0)))+DAY(EOMONTH(CL10,0)),31)","v":31},{"$f":"+IF(DAY(EOMONTH(CM10,0))<Simulador!$B$27,(Simulador!$B$27-DAY(EOMONTH(CM10,0)))+DAY(EOMONTH(CM10,0)),31)","v":31},{"$f":"+IF(DAY(EOMONTH(CN10,0))<Simulador!$B$27,(Simulador!$B$27-DAY(EOMONTH(CN10,0)))+DAY(EOMONTH(CN10,0)),31)","v":31},{"$f":"+IF(DAY(EOMONTH(CO10,0))<Simulador!$B$27,(Simulador!$B$27-DAY(EOMONTH(CO10,0)))+DAY(EOMONTH(CO10,0)),31)","v":31},{"$f":"+IF(DAY(EOMONTH(CP10,0))<Simulador!$B$27,(Simulador!$B$27-DAY(EOMONTH(CP10,0)))+DAY(EOMONTH(CP10,0)),31)","v":31},{"$f":"+IF(DAY(EOMONTH(CQ10,0))<Simulador!$B$27,(Simulador!$B$27-DAY(EOMONTH(CQ10,0)))+DAY(EOMONTH(CQ10,0)),31)","v":31},{"$f":"+IF(DAY(EOMONTH(CR10,0))<Simulador!$B$27,(Simulador!$B$27-DAY(EOMONTH(CR10,0)))+DAY(EOMONTH(CR10,0)),31)","v":31},{"$f":"+IF(DAY(EOMONTH(CS10,0))<Simulador!$B$27,(Simulador!$B$27-DAY(EOMONTH(CS10,0)))+DAY(EOMONTH(CS10,0)),31)","v":31},{"$f":"+IF(DAY(EOMONTH(CT10,0))<Simulador!$B$27,(Simulador!$B$27-DAY(EOMONTH(CT10,0)))+DAY(EOMONTH(CT10,0)),31)","v":31},{"$f":"+IF(DAY(EOMONTH(CU10,0))<Simulador!$B$27,(Simulador!$B$27-DAY(EOMONTH(CU10,0)))+DAY(EOMONTH(CU10,0)),31)","v":31},{"$f":"+IF(DAY(EOMONTH(CV10,0))<Simulador!$B$27,(Simulador!$B$27-DAY(EOMONTH(CV10,0)))+DAY(EOMONTH(CV10,0)),31)","v":31},{"$f":"+IF(DAY(EOMONTH(CW10,0))<Simulador!$B$27,(Simulador!$B$27-DAY(EOMONTH(CW10,0)))+DAY(EOMONTH(CW10,0)),31)","v":31},{"$f":"+IF(DAY(EOMONTH(CX10,0))<Simulador!$B$27,(Simulador!$B$27-DAY(EOMONTH(CX10,0)))+DAY(EOMONTH(CX10,0)),31)","v":31},{"$f":"+IF(DAY(EOMONTH(CY10,0))<Simulador!$B$27,(Simulador!$B$27-DAY(EOMONTH(CY10,0)))+DAY(EOMONTH(CY10,0)),31)","v":31},{"$f":"+IF(DAY(EOMONTH(CZ10,0))<Simulador!$B$27,(Simulador!$B$27-DAY(EOMONTH(CZ10,0)))+DAY(EOMONTH(CZ10,0)),31)","v":31},{"$f":"+IF(DAY(EOMONTH(DA10,0))<Simulador!$B$27,(Simulador!$B$27-DAY(EOMONTH(DA10,0)))+DAY(EOMONTH(DA10,0)),31)","v":31},{"$f":"+IF(DAY(EOMONTH(DB10,0))<Simulador!$B$27,(Simulador!$B$27-DAY(EOMONTH(DB10,0)))+DAY(EOMONTH(DB10,0)),31)","v":31},{"$f":"+IF(DAY(EOMONTH(DC10,0))<Simulador!$B$27,(Simulador!$B$27-DAY(EOMONTH(DC10,0)))+DAY(EOMONTH(DC10,0)),31)","v":31},{"$f":"+IF(DAY(EOMONTH(DD10,0))<Simulador!$B$27,(Simulador!$B$27-DAY(EOMONTH(DD10,0)))+DAY(EOMONTH(DD10,0)),31)","v":31},{"$f":"+IF(DAY(EOMONTH(DE10,0))<Simulador!$B$27,(Simulador!$B$27-DAY(EOMONTH(DE10,0)))+DAY(EOMONTH(DE10,0)),31)","v":31},{"$f":"+IF(DAY(EOMONTH(DF10,0))<Simulador!$B$27,(Simulador!$B$27-DAY(EOMONTH(DF10,0)))+DAY(EOMONTH(DF10,0)),31)","v":31},{"$f":"+IF(DAY(EOMONTH(DG10,0))<Simulador!$B$27,(Simulador!$B$27-DAY(EOMONTH(DG10,0)))+DAY(EOMONTH(DG10,0)),31)","v":31},{"$f":"+IF(DAY(EOMONTH(DH10,0))<Simulador!$B$27,(Simulador!$B$27-DAY(EOMONTH(DH10,0)))+DAY(EOMONTH(DH10,0)),31)","v":31},{"$f":"+IF(DAY(EOMONTH(DI10,0))<Simulador!$B$27,(Simulador!$B$27-DAY(EOMONTH(DI10,0)))+DAY(EOMONTH(DI10,0)),31)","v":31},{"$f":"+IF(DAY(EOMONTH(DJ10,0))<Simulador!$B$27,(Simulador!$B$27-DAY(EOMONTH(DJ10,0)))+DAY(EOMONTH(DJ10,0)),31)","v":31},{"$f":"+IF(DAY(EOMONTH(DK10,0))<Simulador!$B$27,(Simulador!$B$27-DAY(EOMONTH(DK10,0)))+DAY(EOMONTH(DK10,0)),31)","v":31},{"$f":"+IF(DAY(EOMONTH(DL10,0))<Simulador!$B$27,(Simulador!$B$27-DAY(EOMONTH(DL10,0)))+DAY(EOMONTH(DL10,0)),31)","v":31},{"$f":"+IF(DAY(EOMONTH(DM10,0))<Simulador!$B$27,(Simulador!$B$27-DAY(EOMONTH(DM10,0)))+DAY(EOMONTH(DM10,0)),31)","v":31},{"$f":"+IF(DAY(EOMONTH(DN10,0))<Simulador!$B$27,(Simulador!$B$27-DAY(EOMONTH(DN10,0)))+DAY(EOMONTH(DN10,0)),31)","v":31},{"$f":"+IF(DAY(EOMONTH(DO10,0))<Simulador!$B$27,(Simulador!$B$27-DAY(EOMONTH(DO10,0)))+DAY(EOMONTH(DO10,0)),31)","v":31},{"$f":"+IF(DAY(EOMONTH(DP10,0))<Simulador!$B$27,(Simulador!$B$27-DAY(EOMONTH(DP10,0)))+DAY(EOMONTH(DP10,0)),31)","v":31},{"$f":"+IF(DAY(EOMONTH(DQ10,0))<Simulador!$B$27,(Simulador!$B$27-DAY(EOMONTH(DQ10,0)))+DAY(EOMONTH(DQ10,0)),31)","v":31},{"$f":"+IF(DAY(EOMONTH(DR10,0))<Simulador!$B$27,(Simulador!$B$27-DAY(EOMONTH(DR10,0)))+DAY(EOMONTH(DR10,0)),31)","v":31},{"$f":"+IF(DAY(EOMONTH(DS10,0))<Simulador!$B$27,(Simulador!$B$27-DAY(EOMONTH(DS10,0)))+DAY(EOMONTH(DS10,0)),31)","v":31},{"$f":"+IF(DAY(EOMONTH(DT10,0))<Simulador!$B$27,(Simulador!$B$27-DAY(EOMONTH(DT10,0)))+DAY(EOMONTH(DT10,0)),31)","v":31},{"$f":"+IF(DAY(EOMONTH(DU10,0))<Simulador!$B$27,(Simulador!$B$27-DAY(EOMONTH(DU10,0)))+DAY(EOMONTH(DU10,0)),31)","v":31},{"$f":"+IF(DAY(EOMONTH(DV10,0))<Simulador!$B$27,(Simulador!$B$27-DAY(EOMONTH(DV10,0)))+DAY(EOMONTH(DV10,0)),31)","v":31},{"$f":"+IF(DAY(EOMONTH(DW10,0))<Simulador!$B$27,(Simulador!$B$27-DAY(EOMONTH(DW10,0)))+DAY(EOMONTH(DW10,0)),31)","v":31},{"$f":"+IF(DAY(EOMONTH(DX10,0))<Simulador!$B$27,(Simulador!$B$27-DAY(EOMONTH(DX10,0)))+DAY(EOMONTH(DX10,0)),31)","v":31},{"$f":"+IF(DAY(EOMONTH(DY10,0))<Simulador!$B$27,(Simulador!$B$27-DAY(EOMONTH(DY10,0)))+DAY(EOMONTH(DY10,0)),31)","v":31},{"$f":"+IF(DAY(EOMONTH(DZ10,0))<Simulador!$B$27,(Simulador!$B$27-DAY(EOMONTH(DZ10,0)))+DAY(EOMONTH(DZ10,0)),31)","v":31},{"$f":"+IF(DAY(EOMONTH(EA10,0))<Simulador!$B$27,(Simulador!$B$27-DAY(EOMONTH(EA10,0)))+DAY(EOMONTH(EA10,0)),31)","v":31},{"$f":"+IF(DAY(EOMONTH(EB10,0))<Simulador!$B$27,(Simulador!$B$27-DAY(EOMONTH(EB10,0)))+DAY(EOMONTH(EB10,0)),31)","v":31},{"$f":"+IF(DAY(EOMONTH(EC10,0))<Simulador!$B$27,(Simulador!$B$27-DAY(EOMONTH(EC10,0)))+DAY(EOMONTH(EC10,0)),31)","v":31},{"$f":"+IF(DAY(EOMONTH(ED10,0))<Simulador!$B$27,(Simulador!$B$27-DAY(EOMONTH(ED10,0)))+DAY(EOMONTH(ED10,0)),31)","v":31},{"$f":"+IF(DAY(EOMONTH(EE10,0))<Simulador!$B$27,(Simulador!$B$27-DAY(EOMONTH(EE10,0)))+DAY(EOMONTH(EE10,0)),31)","v":31},{"$f":"+IF(DAY(EOMONTH(EF10,0))<Simulador!$B$27,(Simulador!$B$27-DAY(EOMONTH(EF10,0)))+DAY(EOMONTH(EF10,0)),31)","v":31},{"$f":"+IF(DAY(EOMONTH(EG10,0))<Simulador!$B$27,(Simulador!$B$27-DAY(EOMONTH(EG10,0)))+DAY(EOMONTH(EG10,0)),31)","v":31},{"$f":"+IF(DAY(EOMONTH(EH10,0))<Simulador!$B$27,(Simulador!$B$27-DAY(EOMONTH(EH10,0)))+DAY(EOMONTH(EH10,0)),31)","v":31},{"$f":"+IF(DAY(EOMONTH(EI10,0))<Simulador!$B$27,(Simulador!$B$27-DAY(EOMONTH(EI10,0)))+DAY(EOMONTH(EI10,0)),31)","v":31},{"$f":"+IF(DAY(EOMONTH(EJ10,0))<Simulador!$B$27,(Simulador!$B$27-DAY(EOMONTH(EJ10,0)))+DAY(EOMONTH(EJ10,0)),31)","v":31},{"$f":"+IF(DAY(EOMONTH(EK10,0))<Simulador!$B$27,(Simulador!$B$27-DAY(EOMONTH(EK10,0)))+DAY(EOMONTH(EK10,0)),31)","v":31},{"$f":"+IF(DAY(EOMONTH(EL10,0))<Simulador!$B$27,(Simulador!$B$27-DAY(EOMONTH(EL10,0)))+DAY(EOMONTH(EL10,0)),31)","v":31},{"$f":"+IF(DAY(EOMONTH(EM10,0))<Simulador!$B$27,(Simulador!$B$27-DAY(EOMONTH(EM10,0)))+DAY(EOMONTH(EM10,0)),31)","v":31},{"$f":"+IF(DAY(EOMONTH(EN10,0))<Simulador!$B$27,(Simulador!$B$27-DAY(EOMONTH(EN10,0)))+DAY(EOMONTH(EN10,0)),31)","v":31},{"$f":"+IF(DAY(EOMONTH(EO10,0))<Simulador!$B$27,(Simulador!$B$27-DAY(EOMONTH(EO10,0)))+DAY(EOMONTH(EO10,0)),31)","v":31},{"$f":"+IF(DAY(EOMONTH(EP10,0))<Simulador!$B$27,(Simulador!$B$27-DAY(EOMONTH(EP10,0)))+DAY(EOMONTH(EP10,0)),31)","v":31},{"$f":"+IF(DAY(EOMONTH(EQ10,0))<Simulador!$B$27,(Simulador!$B$27-DAY(EOMONTH(EQ10,0)))+DAY(EOMONTH(EQ10,0)),31)","v":31},{"$f":"+IF(DAY(EOMONTH(ER10,0))<Simulador!$B$27,(Simulador!$B$27-DAY(EOMONTH(ER10,0)))+DAY(EOMONTH(ER10,0)),31)","v":31},{"$f":"+IF(DAY(EOMONTH(ES10,0))<Simulador!$B$27,(Simulador!$B$27-DAY(EOMONTH(ES10,0)))+DAY(EOMONTH(ES10,0)),31)","v":31},{"$f":"+IF(DAY(EOMONTH(ET10,0))<Simulador!$B$27,(Simulador!$B$27-DAY(EOMONTH(ET10,0)))+DAY(EOMONTH(ET10,0)),31)","v":31},{"$f":"+IF(DAY(EOMONTH(EU10,0))<Simulador!$B$27,(Simulador!$B$27-DAY(EOMONTH(EU10,0)))+DAY(EOMONTH(EU10,0)),31)","v":31},{"$f":"+IF(DAY(EOMONTH(EV10,0))<Simulador!$B$27,(Simulador!$B$27-DAY(EOMONTH(EV10,0)))+DAY(EOMONTH(EV10,0)),31)","v":31},{"$f":"+IF(DAY(EOMONTH(EW10,0))<Simulador!$B$27,(Simulador!$B$27-DAY(EOMONTH(EW10,0)))+DAY(EOMONTH(EW10,0)),31)","v":31},{"$f":"+IF(DAY(EOMONTH(EX10,0))<Simulador!$B$27,(Simulador!$B$27-DAY(EOMONTH(EX10,0)))+DAY(EOMONTH(EX10,0)),31)","v":31},{"$f":"+IF(DAY(EOMONTH(EY10,0))<Simulador!$B$27,(Simulador!$B$27-DAY(EOMONTH(EY10,0)))+DAY(EOMONTH(EY10,0)),31)","v":31},{"$f":"+IF(DAY(EOMONTH(EZ10,0))<Simulador!$B$27,(Simulador!$B$27-DAY(EOMONTH(EZ10,0)))+DAY(EOMONTH(EZ10,0)),31)","v":31},{"$f":"+IF(DAY(EOMONTH(FA10,0))<Simulador!$B$27,(Simulador!$B$27-DAY(EOMONTH(FA10,0)))+DAY(EOMONTH(FA10,0)),31)","v":31},{"$f":"+IF(DAY(EOMONTH(FB10,0))<Simulador!$B$27,(Simulador!$B$27-DAY(EOMONTH(FB10,0)))+DAY(EOMONTH(FB10,0)),31)","v":31},{"$f":"+IF(DAY(EOMONTH(FC10,0))<Simulador!$B$27,(Simulador!$B$27-DAY(EOMONTH(FC10,0)))+DAY(EOMONTH(FC10,0)),31)","v":31},{"$f":"+IF(DAY(EOMONTH(FD10,0))<Simulador!$B$27,(Simulador!$B$27-DAY(EOMONTH(FD10,0)))+DAY(EOMONTH(FD10,0)),31)","v":31},{"$f":"+IF(DAY(EOMONTH(FE10,0))<Simulador!$B$27,(Simulador!$B$27-DAY(EOMONTH(FE10,0)))+DAY(EOMONTH(FE10,0)),31)","v":31},{"$f":"+IF(DAY(EOMONTH(FF10,0))<Simulador!$B$27,(Simulador!$B$27-DAY(EOMONTH(FF10,0)))+DAY(EOMONTH(FF10,0)),31)","v":31},{"$f":"+IF(DAY(EOMONTH(FG10,0))<Simulador!$B$27,(Simulador!$B$27-DAY(EOMONTH(FG10,0)))+DAY(EOMONTH(FG10,0)),31)","v":31},{"$f":"+IF(DAY(EOMONTH(FH10,0))<Simulador!$B$27,(Simulador!$B$27-DAY(EOMONTH(FH10,0)))+DAY(EOMONTH(FH10,0)),31)","v":31},{"$f":"+IF(DAY(EOMONTH(FI10,0))<Simulador!$B$27,(Simulador!$B$27-DAY(EOMONTH(FI10,0)))+DAY(EOMONTH(FI10,0)),31)","v":31},{"$f":"+IF(DAY(EOMONTH(FJ10,0))<Simulador!$B$27,(Simulador!$B$27-DAY(EOMONTH(FJ10,0)))+DAY(EOMONTH(FJ10,0)),31)","v":31},{"$f":"+IF(DAY(EOMONTH(FK10,0))<Simulador!$B$27,(Simulador!$B$27-DAY(EOMONTH(FK10,0)))+DAY(EOMONTH(FK10,0)),31)","v":31},{"$f":"+IF(DAY(EOMONTH(FL10,0))<Simulador!$B$27,(Simulador!$B$27-DAY(EOMONTH(FL10,0)))+DAY(EOMONTH(FL10,0)),31)","v":31},{"$f":"+IF(DAY(EOMONTH(FM10,0))<Simulador!$B$27,(Simulador!$B$27-DAY(EOMONTH(FM10,0)))+DAY(EOMONTH(FM10,0)),31)","v":31},{"$f":"+IF(DAY(EOMONTH(FN10,0))<Simulador!$B$27,(Simulador!$B$27-DAY(EOMONTH(FN10,0)))+DAY(EOMONTH(FN10,0)),31)","v":31},{"$f":"+IF(DAY(EOMONTH(FO10,0))<Simulador!$B$27,(Simulador!$B$27-DAY(EOMONTH(FO10,0)))+DAY(EOMONTH(FO10,0)),31)","v":31},{"$f":"+IF(DAY(EOMONTH(FP10,0))<Simulador!$B$27,(Simulador!$B$27-DAY(EOMONTH(FP10,0)))+DAY(EOMONTH(FP10,0)),31)","v":31},{"$f":"+IF(DAY(EOMONTH(FQ10,0))<Simulador!$B$27,(Simulador!$B$27-DAY(EOMONTH(FQ10,0)))+DAY(EOMONTH(FQ10,0)),31)","v":31},{"$f":"+IF(DAY(EOMONTH(FR10,0))<Simulador!$B$27,(Simulador!$B$27-DAY(EOMONTH(FR10,0)))+DAY(EOMONTH(FR10,0)),31)","v":31},{"$f":"+IF(DAY(EOMONTH(FS10,0))<Simulador!$B$27,(Simulador!$B$27-DAY(EOMONTH(FS10,0)))+DAY(EOMONTH(FS10,0)),31)","v":31},{"$f":"+IF(DAY(EOMONTH(FT10,0))<Simulador!$B$27,(Simulador!$B$27-DAY(EOMONTH(FT10,0)))+DAY(EOMONTH(FT10,0)),31)","v":31},{"$f":"+IF(DAY(EOMONTH(FU10,0))<Simulador!$B$27,(Simulador!$B$27-DAY(EOMONTH(FU10,0)))+DAY(EOMONTH(FU10,0)),31)","v":31},{"$f":"+IF(DAY(EOMONTH(FV10,0))<Simulador!$B$27,(Simulador!$B$27-DAY(EOMONTH(FV10,0)))+DAY(EOMONTH(FV10,0)),31)","v":31},{"$f":"+IF(DAY(EOMONTH(FW10,0))<Simulador!$B$27,(Simulador!$B$27-DAY(EOMONTH(FW10,0)))+DAY(EOMONTH(FW10,0)),31)","v":31},{"$f":"+IF(DAY(EOMONTH(FX10,0))<Simulador!$B$27,(Simulador!$B$27-DAY(EOMONTH(FX10,0)))+DAY(EOMONTH(FX10,0)),31)","v":31},{"$f":"+IF(DAY(EOMONTH(FY10,0))<Simulador!$B$27,(Simulador!$B$27-DAY(EOMONTH(FY10,0)))+DAY(EOMONTH(FY10,0)),31)","v":31},{"$f":"+IF(DAY(EOMONTH(FZ10,0))<Simulador!$B$27,(Simulador!$B$27-DAY(EOMONTH(FZ10,0)))+DAY(EOMONTH(FZ10,0)),31)","v":31},{"$f":"+IF(DAY(EOMONTH(GA10,0))<Simulador!$B$27,(Simulador!$B$27-DAY(EOMONTH(GA10,0)))+DAY(EOMONTH(GA10,0)),31)","v":31},{"$f":"+IF(DAY(EOMONTH(GB10,0))<Simulador!$B$27,(Simulador!$B$27-DAY(EOMONTH(GB10,0)))+DAY(EOMONTH(GB10,0)),31)","v":31},{"$f":"+IF(DAY(EOMONTH(GC10,0))<Simulador!$B$27,(Simulador!$B$27-DAY(EOMONTH(GC10,0)))+DAY(EOMONTH(GC10,0)),31)","v":31},{"$f":"+IF(DAY(EOMONTH(GD10,0))<Simulador!$B$27,(Simulador!$B$27-DAY(EOMONTH(GD10,0)))+DAY(EOMONTH(GD10,0)),31)","v":31},{"$f":"+IF(DAY(EOMONTH(GE10,0))<Simulador!$B$27,(Simulador!$B$27-DAY(EOMONTH(GE10,0)))+DAY(EOMONTH(GE10,0)),31)","v":31},{"$f":"+IF(DAY(EOMONTH(GF10,0))<Simulador!$B$27,(Simulador!$B$27-DAY(EOMONTH(GF10,0)))+DAY(EOMONTH(GF10,0)),31)","v":31},{"$f":"+IF(DAY(EOMONTH(GG10,0))<Simulador!$B$27,(Simulador!$B$27-DAY(EOMONTH(GG10,0)))+DAY(EOMONTH(GG10,0)),31)","v":31},{"$f":"+IF(DAY(EOMONTH(GH10,0))<Simulador!$B$27,(Simulador!$B$27-DAY(EOMONTH(GH10,0)))+DAY(EOMONTH(GH10,0)),31)","v":31},{"$f":"+IF(DAY(EOMONTH(GI10,0))<Simulador!$B$27,(Simulador!$B$27-DAY(EOMONTH(GI10,0)))+DAY(EOMONTH(GI10,0)),31)","v":31},{"$f":"+IF(DAY(EOMONTH(GJ10,0))<Simulador!$B$27,(Simulador!$B$27-DAY(EOMONTH(GJ10,0)))+DAY(EOMONTH(GJ10,0)),31)","v":31},{"$f":"+IF(DAY(EOMONTH(GK10,0))<Simulador!$B$27,(Simulador!$B$27-DAY(EOMONTH(GK10,0)))+DAY(EOMONTH(GK10,0)),31)","v":31},{"$f":"+IF(DAY(EOMONTH(GL10,0))<Simulador!$B$27,(Simulador!$B$27-DAY(EOMONTH(GL10,0)))+DAY(EOMONTH(GL10,0)),31)","v":31},{"$f":"+IF(DAY(EOMONTH(GM10,0))<Simulador!$B$27,(Simulador!$B$27-DAY(EOMONTH(GM10,0)))+DAY(EOMONTH(GM10,0)),31)","v":31},{"$f":"+IF(DAY(EOMONTH(GN10,0))<Simulador!$B$27,(Simulador!$B$27-DAY(EOMONTH(GN10,0)))+DAY(EOMONTH(GN10,0)),31)","v":31},{"$f":"+IF(DAY(EOMONTH(GO10,0))<Simulador!$B$27,(Simulador!$B$27-DAY(EOMONTH(GO10,0)))+DAY(EOMONTH(GO10,0)),31)","v":31},{"$f":"+IF(DAY(EOMONTH(GP10,0))<Simulador!$B$27,(Simulador!$B$27-DAY(EOMONTH(GP10,0)))+DAY(EOMONTH(GP10,0)),31)","v":31},{"$f":"+IF(DAY(EOMONTH(GQ10,0))<Simulador!$B$27,(Simulador!$B$27-DAY(EOMONTH(GQ10,0)))+DAY(EOMONTH(GQ10,0)),31)","v":31},{"$f":"+IF(DAY(EOMONTH(GR10,0))<Simulador!$B$27,(Simulador!$B$27-DAY(EOMONTH(GR10,0)))+DAY(EOMONTH(GR10,0)),31)","v":31},{"$f":"+IF(DAY(EOMONTH(GS10,0))<Simulador!$B$27,(Simulador!$B$27-DAY(EOMONTH(GS10,0)))+DAY(EOMONTH(GS10,0)),31)","v":31},{"$f":"+IF(DAY(EOMONTH(GT10,0))<Simulador!$B$27,(Simulador!$B$27-DAY(EOMONTH(GT10,0)))+DAY(EOMONTH(GT10,0)),31)","v":31},{"$f":"+IF(DAY(EOMONTH(GU10,0))<Simulador!$B$27,(Simulador!$B$27-DAY(EOMONTH(GU10,0)))+DAY(EOMONTH(GU10,0)),31)","v":31},{"$f":"+IF(DAY(EOMONTH(GV10,0))<Simulador!$B$27,(Simulador!$B$27-DAY(EOMONTH(GV10,0)))+DAY(EOMONTH(GV10,0)),31)","v":31},{"$f":"+IF(DAY(EOMONTH(GW10,0))<Simulador!$B$27,(Simulador!$B$27-DAY(EOMONTH(GW10,0)))+DAY(EOMONTH(GW10,0)),31)","v":31},{"$f":"+IF(DAY(EOMONTH(GX10,0))<Simulador!$B$27,(Simulador!$B$27-DAY(EOMONTH(GX10,0)))+DAY(EOMONTH(GX10,0)),31)","v":31},{"$f":"+IF(DAY(EOMONTH(GY10,0))<Simulador!$B$27,(Simulador!$B$27-DAY(EOMONTH(GY10,0)))+DAY(EOMONTH(GY10,0)),31)","v":31},{"$f":"+IF(DAY(EOMONTH(GZ10,0))<Simulador!$B$27,(Simulador!$B$27-DAY(EOMONTH(GZ10,0)))+DAY(EOMONTH(GZ10,0)),31)","v":31},{"$f":"+IF(DAY(EOMONTH(HA10,0))<Simulador!$B$27,(Simulador!$B$27-DAY(EOMONTH(HA10,0)))+DAY(EOMONTH(HA10,0)),31)","v":31},{"$f":"+IF(DAY(EOMONTH(HB10,0))<Simulador!$B$27,(Simulador!$B$27-DAY(EOMONTH(HB10,0)))+DAY(EOMONTH(HB10,0)),31)","v":31},{"$f":"+IF(DAY(EOMONTH(HC10,0))<Simulador!$B$27,(Simulador!$B$27-DAY(EOMONTH(HC10,0)))+DAY(EOMONTH(HC10,0)),31)","v":31},{"$f":"+IF(DAY(EOMONTH(HD10,0))<Simulador!$B$27,(Simulador!$B$27-DAY(EOMONTH(HD10,0)))+DAY(EOMONTH(HD10,0)),31)","v":31},{"$f":"+IF(DAY(EOMONTH(HE10,0))<Simulador!$B$27,(Simulador!$B$27-DAY(EOMONTH(HE10,0)))+DAY(EOMONTH(HE10,0)),31)","v":31},{"$f":"+IF(DAY(EOMONTH(HF10,0))<Simulador!$B$27,(Simulador!$B$27-DAY(EOMONTH(HF10,0)))+DAY(EOMONTH(HF10,0)),31)","v":31},{"$f":"+IF(DAY(EOMONTH(HG10,0))<Simulador!$B$27,(Simulador!$B$27-DAY(EOMONTH(HG10,0)))+DAY(EOMONTH(HG10,0)),31)","v":31},{"$f":"+IF(DAY(EOMONTH(HH10,0))<Simulador!$B$27,(Simulador!$B$27-DAY(EOMONTH(HH10,0)))+DAY(EOMONTH(HH10,0)),31)","v":31},{"$f":"+IF(DAY(EOMONTH(HI10,0))<Simulador!$B$27,(Simulador!$B$27-DAY(EOMONTH(HI10,0)))+DAY(EOMONTH(HI10,0)),31)","v":31},{"$f":"+IF(DAY(EOMONTH(HJ10,0))<Simulador!$B$27,(Simulador!$B$27-DAY(EOMONTH(HJ10,0)))+DAY(EOMONTH(HJ10,0)),31)","v":31},{"$f":"+IF(DAY(EOMONTH(HK10,0))<Simulador!$B$27,(Simulador!$B$27-DAY(EOMONTH(HK10,0)))+DAY(EOMONTH(HK10,0)),31)","v":31},{"$f":"+IF(DAY(EOMONTH(HL10,0))<Simulador!$B$27,(Simulador!$B$27-DAY(EOMONTH(HL10,0)))+DAY(EOMONTH(HL10,0)),31)","v":31},{"$f":"+IF(DAY(EOMONTH(HM10,0))<Simulador!$B$27,(Simulador!$B$27-DAY(EOMONTH(HM10,0)))+DAY(EOMONTH(HM10,0)),31)","v":31},{"$f":"+IF(DAY(EOMONTH(HN10,0))<Simulador!$B$27,(Simulador!$B$27-DAY(EOMONTH(HN10,0)))+DAY(EOMONTH(HN10,0)),31)","v":31},{"$f":"+IF(DAY(EOMONTH(HO10,0))<Simulador!$B$27,(Simulador!$B$27-DAY(EOMONTH(HO10,0)))+DAY(EOMONTH(HO10,0)),31)","v":31},{"$f":"+IF(DAY(EOMONTH(HP10,0))<Simulador!$B$27,(Simulador!$B$27-DAY(EOMONTH(HP10,0)))+DAY(EOMONTH(HP10,0)),31)","v":31},{"$f":"+IF(DAY(EOMONTH(HQ10,0))<Simulador!$B$27,(Simulador!$B$27-DAY(EOMONTH(HQ10,0)))+DAY(EOMONTH(HQ10,0)),31)","v":31},{"$f":"+IF(DAY(EOMONTH(HR10,0))<Simulador!$B$27,(Simulador!$B$27-DAY(EOMONTH(HR10,0)))+DAY(EOMONTH(HR10,0)),31)","v":31},{"$f":"+IF(DAY(EOMONTH(HS10,0))<Simulador!$B$27,(Simulador!$B$27-DAY(EOMONTH(HS10,0)))+DAY(EOMONTH(HS10,0)),31)","v":31},{"$f":"+IF(DAY(EOMONTH(HT10,0))<Simulador!$B$27,(Simulador!$B$27-DAY(EOMONTH(HT10,0)))+DAY(EOMONTH(HT10,0)),31)","v":31},{"$f":"+IF(DAY(EOMONTH(HU10,0))<Simulador!$B$27,(Simulador!$B$27-DAY(EOMONTH(HU10,0)))+DAY(EOMONTH(HU10,0)),31)","v":31},{"$f":"+IF(DAY(EOMONTH(HV10,0))<Simulador!$B$27,(Simulador!$B$27-DAY(EOMONTH(HV10,0)))+DAY(EOMONTH(HV10,0)),31)","v":31},{"$f":"+IF(DAY(EOMONTH(HW10,0))<Simulador!$B$27,(Simulador!$B$27-DAY(EOMONTH(HW10,0)))+DAY(EOMONTH(HW10,0)),31)","v":31},{"$f":"+IF(DAY(EOMONTH(HX10,0))<Simulador!$B$27,(Simulador!$B$27-DAY(EOMONTH(HX10,0)))+DAY(EOMONTH(HX10,0)),31)","v":31},{"$f":"+IF(DAY(EOMONTH(HY10,0))<Simulador!$B$27,(Simulador!$B$27-DAY(EOMONTH(HY10,0)))+DAY(EOMONTH(HY10,0)),31)","v":31},{"$f":"+IF(DAY(EOMONTH(HZ10,0))<Simulador!$B$27,(Simulador!$B$27-DAY(EOMONTH(HZ10,0)))+DAY(EOMONTH(HZ10,0)),31)","v":31},{"$f":"+IF(DAY(EOMONTH(IA10,0))<Simulador!$B$27,(Simulador!$B$27-DAY(EOMONTH(IA10,0)))+DAY(EOMONTH(IA10,0)),31)","v":31},{"$f":"+IF(DAY(EOMONTH(IB10,0))<Simulador!$B$27,(Simulador!$B$27-DAY(EOMONTH(IB10,0)))+DAY(EOMONTH(IB10,0)),31)","v":31},{"$f":"+IF(DAY(EOMONTH(IC10,0))<Simulador!$B$27,(Simulador!$B$27-DAY(EOMONTH(IC10,0)))+DAY(EOMONTH(IC10,0)),31)","v":31},{"$f":"+IF(DAY(EOMONTH(ID10,0))<Simulador!$B$27,(Simulador!$B$27-DAY(EOMONTH(ID10,0)))+DAY(EOMONTH(ID10,0)),31)","v":31},{"$f":"+IF(DAY(EOMONTH(IE10,0))<Simulador!$B$27,(Simulador!$B$27-DAY(EOMONTH(IE10,0)))+DAY(EOMONTH(IE10,0)),31)","v":31},{"$f":"+IF(DAY(EOMONTH(IF10,0))<Simulador!$B$27,(Simulador!$B$27-DAY(EOMONTH(IF10,0)))+DAY(EOMONTH(IF10,0)),31)","v":31},{"$f":"+IF(DAY(EOMONTH(IG10,0))<Simulador!$B$27,(Simulador!$B$27-DAY(EOMONTH(IG10,0)))+DAY(EOMONTH(IG10,0)),31)","v":31},{"$f":"+IF(DAY(EOMONTH(IH10,0))<Simulador!$B$27,(Simulador!$B$27-DAY(EOMONTH(IH10,0)))+DAY(EOMONTH(IH10,0)),31)","v":31},{"$f":"+IF(DAY(EOMONTH(II10,0))<Simulador!$B$27,(Simulador!$B$27-DAY(EOMONTH(II10,0)))+DAY(EOMONTH(II10,0)),31)","v":31},{"$f":"+IF(DAY(EOMONTH(IJ10,0))<Simulador!$B$27,(Simulador!$B$27-DAY(EOMONTH(IJ10,0)))+DAY(EOMONTH(IJ10,0)),31)","v":31},{"$f":"+IF(DAY(EOMONTH(IK10,0))<Simulador!$B$27,(Simulador!$B$27-DAY(EOMONTH(IK10,0)))+DAY(EOMONTH(IK10,0)),31)","v":31},{"$f":"+IF(DAY(EOMONTH(IL10,0))<Simulador!$B$27,(Simulador!$B$27-DAY(EOMONTH(IL10,0)))+DAY(EOMONTH(IL10,0)),31)","v":31},{"$f":"+IF(DAY(EOMONTH(IM10,0))<Simulador!$B$27,(Simulador!$B$27-DAY(EOMONTH(IM10,0)))+DAY(EOMONTH(IM10,0)),31)","v":31},{"$f":"+IF(DAY(EOMONTH(IN10,0))<Simulador!$B$27,(Simulador!$B$27-DAY(EOMONTH(IN10,0)))+DAY(EOMONTH(IN10,0)),31)","v":31},{"$f":"+IF(DAY(EOMONTH(IO10,0))<Simulador!$B$27,(Simulador!$B$27-DAY(EOMONTH(IO10,0)))+DAY(EOMONTH(IO10,0)),31)","v":31},{"$f":"+IF(DAY(EOMONTH(IP10,0))<Simulador!$B$27,(Simulador!$B$27-DAY(EOMONTH(IP10,0)))+DAY(EOMONTH(IP10,0)),31)","v":31},{"$f":"+IF(DAY(EOMONTH(IQ10,0))<Simulador!$B$27,(Simulador!$B$27-DAY(EOMONTH(IQ10,0)))+DAY(EOMONTH(IQ10,0)),31)","v":31},{"$f":"+IF(DAY(EOMONTH(IR10,0))<Simulador!$B$27,(Simulador!$B$27-DAY(EOMONTH(IR10,0)))+DAY(EOMONTH(IR10,0)),31)","v":31},{"$f":"+IF(DAY(EOMONTH(IS10,0))<Simulador!$B$27,(Simulador!$B$27-DAY(EOMONTH(IS10,0)))+DAY(EOMONTH(IS10,0)),31)","v":31},{"$f":"+IF(DAY(EOMONTH(IT10,0))<Simulador!$B$27,(Simulador!$B$27-DAY(EOMONTH(IT10,0)))+DAY(EOMONTH(IT10,0)),31)","v":31},{"$f":"+IF(DAY(EOMONTH(IU10,0))<Simulador!$B$27,(Simulador!$B$27-DAY(EOMONTH(IU10,0)))+DAY(EOMONTH(IU10,0)),31)","v":31},{"$f":"+IF(DAY(EOMONTH(IV10,0))<Simulador!$B$27,(Simulador!$B$27-DAY(EOMONTH(IV10,0)))+DAY(EOMONTH(IV10,0)),31)","v":31},{"$f":"+IF(DAY(EOMONTH(IW10,0))<Simulador!$B$27,(Simulador!$B$27-DAY(EOMONTH(IW10,0)))+DAY(EOMONTH(IW10,0)),31)","v":31},{"$f":"+IF(DAY(EOMONTH(IX10,0))<Simulador!$B$27,(Simulador!$B$27-DAY(EOMONTH(IX10,0)))+DAY(EOMONTH(IX10,0)),31)","v":31},{"$f":"+IF(DAY(EOMONTH(IY10,0))<Simulador!$B$27,(Simulador!$B$27-DAY(EOMONTH(IY10,0)))+DAY(EOMONTH(IY10,0)),31)","v":31},{"$f":"+IF(DAY(EOMONTH(IZ10,0))<Simulador!$B$27,(Simulador!$B$27-DAY(EOMONTH(IZ10,0)))+DAY(EOMONTH(IZ10,0)),31)","v":31},{"$f":"+IF(DAY(EOMONTH(JA10,0))<Simulador!$B$27,(Simulador!$B$27-DAY(EOMONTH(JA10,0)))+DAY(EOMONTH(JA10,0)),31)","v":31},{"$f":"+IF(DAY(EOMONTH(JB10,0))<Simulador!$B$27,(Simulador!$B$27-DAY(EOMONTH(JB10,0)))+DAY(EOMONTH(JB10,0)),31)","v":31},{"$f":"+IF(DAY(EOMONTH(JC10,0))<Simulador!$B$27,(Simulador!$B$27-DAY(EOMONTH(JC10,0)))+DAY(EOMONTH(JC10,0)),31)","v":31},{"$f":"+IF(DAY(EOMONTH(JD10,0))<Simulador!$B$27,(Simulador!$B$27-DAY(EOMONTH(JD10,0)))+DAY(EOMONTH(JD10,0)),31)","v":31},{"$f":"+IF(DAY(EOMONTH(JE10,0))<Simulador!$B$27,(Simulador!$B$27-DAY(EOMONTH(JE10,0)))+DAY(EOMONTH(JE10,0)),31)","v":31},{"$f":"+IF(DAY(EOMONTH(JF10,0))<Simulador!$B$27,(Simulador!$B$27-DAY(EOMONTH(JF10,0)))+DAY(EOMONTH(JF10,0)),31)","v":31},{"$f":"+IF(DAY(EOMONTH(JG10,0))<Simulador!$B$27,(Simulador!$B$27-DAY(EOMONTH(JG10,0)))+DAY(EOMONTH(JG10,0)),31)","v":31},{"$f":"+IF(DAY(EOMONTH(JH10,0))<Simulador!$B$27,(Simulador!$B$27-DAY(EOMONTH(JH10,0)))+DAY(EOMONTH(JH10,0)),31)","v":31},{"$f":"+IF(DAY(EOMONTH(JI10,0))<Simulador!$B$27,(Simulador!$B$27-DAY(EOMONTH(JI10,0)))+DAY(EOMONTH(JI10,0)),31)","v":31},{"$f":"+IF(DAY(EOMONTH(JJ10,0))<Simulador!$B$27,(Simulador!$B$27-DAY(EOMONTH(JJ10,0)))+DAY(EOMONTH(JJ10,0)),31)","v":31},{"$f":"+IF(DAY(EOMONTH(JK10,0))<Simulador!$B$27,(Simulador!$B$27-DAY(EOMONTH(JK10,0)))+DAY(EOMONTH(JK10,0)),31)","v":31},{"$f":"+IF(DAY(EOMONTH(JL10,0))<Simulador!$B$27,(Simulador!$B$27-DAY(EOMONTH(JL10,0)))+DAY(EOMONTH(JL10,0)),31)","v":31},{"$f":"+IF(DAY(EOMONTH(JM10,0))<Simulador!$B$27,(Simulador!$B$27-DAY(EOMONTH(JM10,0)))+DAY(EOMONTH(JM10,0)),31)","v":31},{"$f":"+IF(DAY(EOMONTH(JN10,0))<Simulador!$B$27,(Simulador!$B$27-DAY(EOMONTH(JN10,0)))+DAY(EOMONTH(JN10,0)),31)","v":31},{"$f":"+IF(DAY(EOMONTH(JO10,0))<Simulador!$B$27,(Simulador!$B$27-DAY(EOMONTH(JO10,0)))+DAY(EOMONTH(JO10,0)),31)","v":31},{"$f":"+IF(DAY(EOMONTH(JP10,0))<Simulador!$B$27,(Simulador!$B$27-DAY(EOMONTH(JP10,0)))+DAY(EOMONTH(JP10,0)),31)","v":31},{"$f":"+IF(DAY(EOMONTH(JQ10,0))<Simulador!$B$27,(Simulador!$B$27-DAY(EOMONTH(JQ10,0)))+DAY(EOMONTH(JQ10,0)),31)","v":31},{"$f":"+IF(DAY(EOMONTH(JR10,0))<Simulador!$B$27,(Simulador!$B$27-DAY(EOMONTH(JR10,0)))+DAY(EOMONTH(JR10,0)),31)","v":31},{"$f":"+IF(DAY(EOMONTH(JS10,0))<Simulador!$B$27,(Simulador!$B$27-DAY(EOMONTH(JS10,0)))+DAY(EOMONTH(JS10,0)),31)","v":31},{"$f":"+IF(DAY(EOMONTH(JT10,0))<Simulador!$B$27,(Simulador!$B$27-DAY(EOMONTH(JT10,0)))+DAY(EOMONTH(JT10,0)),31)","v":31},{"$f":"+IF(DAY(EOMONTH(JU10,0))<Simulador!$B$27,(Simulador!$B$27-DAY(EOMONTH(JU10,0)))+DAY(EOMONTH(JU10,0)),31)","v":31},{"$f":"+IF(DAY(EOMONTH(JV10,0))<Simulador!$B$27,(Simulador!$B$27-DAY(EOMONTH(JV10,0)))+DAY(EOMONTH(JV10,0)),31)","v":31},{"$f":"+IF(DAY(EOMONTH(JW10,0))<Simulador!$B$27,(Simulador!$B$27-DAY(EOMONTH(JW10,0)))+DAY(EOMONTH(JW10,0)),31)","v":31},{"$f":"+IF(DAY(EOMONTH(JX10,0))<Simulador!$B$27,(Simulador!$B$27-DAY(EOMONTH(JX10,0)))+DAY(EOMONTH(JX10,0)),31)","v":31},{"$f":"+IF(DAY(EOMONTH(JY10,0))<Simulador!$B$27,(Simulador!$B$27-DAY(EOMONTH(JY10,0)))+DAY(EOMONTH(JY10,0)),31)","v":31},{"$f":"+IF(DAY(EOMONTH(JZ10,0))<Simulador!$B$27,(Simulador!$B$27-DAY(EOMONTH(JZ10,0)))+DAY(EOMONTH(JZ10,0)),31)","v":31},{"$f":"+IF(DAY(EOMONTH(KA10,0))<Simulador!$B$27,(Simulador!$B$27-DAY(EOMONTH(KA10,0)))+DAY(EOMONTH(KA10,0)),31)","v":31},{"$f":"+IF(DAY(EOMONTH(KB10,0))<Simulador!$B$27,(Simulador!$B$27-DAY(EOMONTH(KB10,0)))+DAY(EOMONTH(KB10,0)),31)","v":31},{"$f":"+IF(DAY(EOMONTH(KC10,0))<Simulador!$B$27,(Simulador!$B$27-DAY(EOMONTH(KC10,0)))+DAY(EOMONTH(KC10,0)),31)","v":31},{"$f":"+IF(DAY(EOMONTH(KD10,0))<Simulador!$B$27,(Simulador!$B$27-DAY(EOMONTH(KD10,0)))+DAY(EOMONTH(KD10,0)),31)","v":31},{"$f":"+IF(DAY(EOMONTH(KE10,0))<Simulador!$B$27,(Simulador!$B$27-DAY(EOMONTH(KE10,0)))+DAY(EOMONTH(KE10,0)),31)","v":31},{"$f":"+IF(DAY(EOMONTH(KF10,0))<Simulador!$B$27,(Simulador!$B$27-DAY(EOMONTH(KF10,0)))+DAY(EOMONTH(KF10,0)),31)","v":31},{"$f":"+IF(DAY(EOMONTH(KG10,0))<Simulador!$B$27,(Simulador!$B$27-DAY(EOMONTH(KG10,0)))+DAY(EOMONTH(KG10,0)),31)","v":31},{"$f":"+IF(DAY(EOMONTH(KH10,0))<Simulador!$B$27,(Simulador!$B$27-DAY(EOMONTH(KH10,0)))+DAY(EOMONTH(KH10,0)),31)","v":31},{"$f":"+IF(DAY(EOMONTH(KI10,0))<Simulador!$B$27,(Simulador!$B$27-DAY(EOMONTH(KI10,0)))+DAY(EOMONTH(KI10,0)),31)","v":31},{"$f":"+IF(DAY(EOMONTH(KJ10,0))<Simulador!$B$27,(Simulador!$B$27-DAY(EOMONTH(KJ10,0)))+DAY(EOMONTH(KJ10,0)),31)","v":31},{"$f":"+IF(DAY(EOMONTH(KK10,0))<Simulador!$B$27,(Simulador!$B$27-DAY(EOMONTH(KK10,0)))+DAY(EOMONTH(KK10,0)),31)","v":31},{"$f":"+IF(DAY(EOMONTH(KL10,0))<Simulador!$B$27,(Simulador!$B$27-DAY(EOMONTH(KL10,0)))+DAY(EOMONTH(KL10,0)),31)","v":31},{"$f":"+IF(DAY(EOMONTH(KM10,0))<Simulador!$B$27,(Simulador!$B$27-DAY(EOMONTH(KM10,0)))+DAY(EOMONTH(KM10,0)),31)","v":31},{"$f":"+IF(DAY(EOMONTH(KN10,0))<Simulador!$B$27,(Simulador!$B$27-DAY(EOMONTH(KN10,0)))+DAY(EOMONTH(KN10,0)),31)","v":31},{"$f":"+IF(DAY(EOMONTH(KO10,0))<Simulador!$B$27,(Simulador!$B$27-DAY(EOMONTH(KO10,0)))+DAY(EOMONTH(KO10,0)),31)","v":31},{"$f":"+IF(DAY(EOMONTH(KP10,0))<Simulador!$B$27,(Simulador!$B$27-DAY(EOMONTH(KP10,0)))+DAY(EOMONTH(KP10,0)),31)","v":31},{"$f":"+IF(DAY(EOMONTH(KQ10,0))<Simulador!$B$27,(Simulador!$B$27-DAY(EOMONTH(KQ10,0)))+DAY(EOMONTH(KQ10,0)),31)","v":31},{"$f":"+IF(DAY(EOMONTH(KR10,0))<Simulador!$B$27,(Simulador!$B$27-DAY(EOMONTH(KR10,0)))+DAY(EOMONTH(KR10,0)),31)","v":31},{"$f":"+IF(DAY(EOMONTH(KS10,0))<Simulador!$B$27,(Simulador!$B$27-DAY(EOMONTH(KS10,0)))+DAY(EOMONTH(KS10,0)),31)","v":31},{"$f":"+IF(DAY(EOMONTH(KT10,0))<Simulador!$B$27,(Simulador!$B$27-DAY(EOMONTH(KT10,0)))+DAY(EOMONTH(KT10,0)),31)","v":31},{"$f":"+IF(DAY(EOMONTH(KU10,0))<Simulador!$B$27,(Simulador!$B$27-DAY(EOMONTH(KU10,0)))+DAY(EOMONTH(KU10,0)),31)","v":31},{"$f":"+IF(DAY(EOMONTH(KV10,0))<Simulador!$B$27,(Simulador!$B$27-DAY(EOMONTH(KV10,0)))+DAY(EOMONTH(KV10,0)),31)","v":31},{"$f":"+IF(DAY(EOMONTH(KW10,0))<Simulador!$B$27,(Simulador!$B$27-DAY(EOMONTH(KW10,0)))+DAY(EOMONTH(KW10,0)),31)","v":31},{"$f":"+IF(DAY(EOMONTH(KX10,0))<Simulador!$B$27,(Simulador!$B$27-DAY(EOMONTH(KX10,0)))+DAY(EOMONTH(KX10,0)),31)","v":31},{"$f":"+IF(DAY(EOMONTH(KY10,0))<Simulador!$B$27,(Simulador!$B$27-DAY(EOMONTH(KY10,0)))+DAY(EOMONTH(KY10,0)),31)","v":31},{"$f":"+IF(DAY(EOMONTH(KZ10,0))<Simulador!$B$27,(Simulador!$B$27-DAY(EOMONTH(KZ10,0)))+DAY(EOMONTH(KZ10,0)),31)","v":31},{"$f":"+IF(DAY(EOMONTH(LA10,0))<Simulador!$B$27,(Simulador!$B$27-DAY(EOMONTH(LA10,0)))+DAY(EOMONTH(LA10,0)),31)","v":31},{"$f":"+IF(DAY(EOMONTH(LB10,0))<Simulador!$B$27,(Simulador!$B$27-DAY(EOMONTH(LB10,0)))+DAY(EOMONTH(LB10,0)),31)","v":31},{"$f":"+IF(DAY(EOMONTH(LC10,0))<Simulador!$B$27,(Simulador!$B$27-DAY(EOMONTH(LC10,0)))+DAY(EOMONTH(LC10,0)),31)","v":31},{"$f":"+IF(DAY(EOMONTH(LD10,0))<Simulador!$B$27,(Simulador!$B$27-DAY(EOMONTH(LD10,0)))+DAY(EOMONTH(LD10,0)),31)","v":31},{"$f":"+IF(DAY(EOMONTH(LE10,0))<Simulador!$B$27,(Simulador!$B$27-DAY(EOMONTH(LE10,0)))+DAY(EOMONTH(LE10,0)),31)","v":31},{"$f":"+IF(DAY(EOMONTH(LF10,0))<Simulador!$B$27,(Simulador!$B$27-DAY(EOMONTH(LF10,0)))+DAY(EOMONTH(LF10,0)),31)","v":31},{"$f":"+IF(DAY(EOMONTH(LG10,0))<Simulador!$B$27,(Simulador!$B$27-DAY(EOMONTH(LG10,0)))+DAY(EOMONTH(LG10,0)),31)","v":31},{"$f":"+IF(DAY(EOMONTH(LH10,0))<Simulador!$B$27,(Simulador!$B$27-DAY(EOMONTH(LH10,0)))+DAY(EOMONTH(LH10,0)),31)","v":31},{"$f":"+IF(DAY(EOMONTH(LI10,0))<Simulador!$B$27,(Simulador!$B$27-DAY(EOMONTH(LI10,0)))+DAY(EOMONTH(LI10,0)),31)","v":31},{"$f":"+IF(DAY(EOMONTH(LJ10,0))<Simulador!$B$27,(Simulador!$B$27-DAY(EOMONTH(LJ10,0)))+DAY(EOMONTH(LJ10,0)),31)","v":31},{"$f":"+IF(DAY(EOMONTH(LK10,0))<Simulador!$B$27,(Simulador!$B$27-DAY(EOMONTH(LK10,0)))+DAY(EOMONTH(LK10,0)),31)","v":31},{"$f":"+IF(DAY(EOMONTH(LL10,0))<Simulador!$B$27,(Simulador!$B$27-DAY(EOMONTH(LL10,0)))+DAY(EOMONTH(LL10,0)),31)","v":31},{"$f":"+IF(DAY(EOMONTH(LM10,0))<Simulador!$B$27,(Simulador!$B$27-DAY(EOMONTH(LM10,0)))+DAY(EOMONTH(LM10,0)),31)","v":31},{"$f":"+IF(DAY(EOMONTH(LN10,0))<Simulador!$B$27,(Simulador!$B$27-DAY(EOMONTH(LN10,0)))+DAY(EOMONTH(LN10,0)),31)","v":31},{"$f":"+IF(DAY(EOMONTH(LO10,0))<Simulador!$B$27,(Simulador!$B$27-DAY(EOMONTH(LO10,0)))+DAY(EOMONTH(LO10,0)),31)","v":31},{"$f":"+IF(DAY(EOMONTH(LP10,0))<Simulador!$B$27,(Simulador!$B$27-DAY(EOMONTH(LP10,0)))+DAY(EOMONTH(LP10,0)),31)","v":31},{"$f":"+IF(DAY(EOMONTH(LQ10,0))<Simulador!$B$27,(Simulador!$B$27-DAY(EOMONTH(LQ10,0)))+DAY(EOMONTH(LQ10,0)),31)","v":31},{"$f":"+IF(DAY(EOMONTH(LR10,0))<Simulador!$B$27,(Simulador!$B$27-DAY(EOMONTH(LR10,0)))+DAY(EOMONTH(LR10,0)),31)","v":31},{"$f":"+IF(DAY(EOMONTH(LS10,0))<Simulador!$B$27,(Simulador!$B$27-DAY(EOMONTH(LS10,0)))+DAY(EOMONTH(LS10,0)),31)","v":31},{"$f":"+IF(DAY(EOMONTH(LT10,0))<Simulador!$B$27,(Simulador!$B$27-DAY(EOMONTH(LT10,0)))+DAY(EOMONTH(LT10,0)),31)","v":31},{"$f":"+IF(DAY(EOMONTH(LU10,0))<Simulador!$B$27,(Simulador!$B$27-DAY(EOMONTH(LU10,0)))+DAY(EOMONTH(LU10,0)),31)","v":31},{"$f":"+IF(DAY(EOMONTH(LV10,0))<Simulador!$B$27,(Simulador!$B$27-DAY(EOMONTH(LV10,0)))+DAY(EOMONTH(LV10,0)),31)","v":31},{"$f":"+IF(DAY(EOMONTH(LW10,0))<Simulador!$B$27,(Simulador!$B$27-DAY(EOMONTH(LW10,0)))+DAY(EOMONTH(LW10,0)),31)","v":31},{"$f":"+IF(DAY(EOMONTH(LX10,0))<Simulador!$B$27,(Simulador!$B$27-DAY(EOMONTH(LX10,0)))+DAY(EOMONTH(LX10,0)),31)","v":31},{"$f":"+IF(DAY(EOMONTH(LY10,0))<Simulador!$B$27,(Simulador!$B$27-DAY(EOMONTH(LY10,0)))+DAY(EOMONTH(LY10,0)),31)","v":31},{"$f":"+IF(DAY(EOMONTH(LZ10,0))<Simulador!$B$27,(Simulador!$B$27-DAY(EOMONTH(LZ10,0)))+DAY(EOMONTH(LZ10,0)),31)","v":31},{"$f":"+IF(DAY(EOMONTH(MA10,0))<Simulador!$B$27,(Simulador!$B$27-DAY(EOMONTH(MA10,0)))+DAY(EOMONTH(MA10,0)),31)","v":31},{"$f":"+IF(DAY(EOMONTH(MB10,0))<Simulador!$B$27,(Simulador!$B$27-DAY(EOMONTH(MB10,0)))+DAY(EOMONTH(MB10,0)),31)","v":31},{"$f":"+IF(DAY(EOMONTH(MC10,0))<Simulador!$B$27,(Simulador!$B$27-DAY(EOMONTH(MC10,0)))+DAY(EOMONTH(MC10,0)),31)","v":31},{"$f":"+IF(DAY(EOMONTH(MD10,0))<Simulador!$B$27,(Simulador!$B$27-DAY(EOMONTH(MD10,0)))+DAY(EOMONTH(MD10,0)),31)","v":31},{"$f":"+IF(DAY(EOMONTH(ME10,0))<Simulador!$B$27,(Simulador!$B$27-DAY(EOMONTH(ME10,0)))+DAY(EOMONTH(ME10,0)),31)","v":31},{"$f":"+IF(DAY(EOMONTH(MF10,0))<Simulador!$B$27,(Simulador!$B$27-DAY(EOMONTH(MF10,0)))+DAY(EOMONTH(MF10,0)),31)","v":31},{"$f":"+IF(DAY(EOMONTH(MG10,0))<Simulador!$B$27,(Simulador!$B$27-DAY(EOMONTH(MG10,0)))+DAY(EOMONTH(MG10,0)),31)","v":31},{"$f":"+IF(DAY(EOMONTH(MH10,0))<Simulador!$B$27,(Simulador!$B$27-DAY(EOMONTH(MH10,0)))+DAY(EOMONTH(MH10,0)),31)","v":31},{"$f":"+IF(DAY(EOMONTH(MI10,0))<Simulador!$B$27,(Simulador!$B$27-DAY(EOMONTH(MI10,0)))+DAY(EOMONTH(MI10,0)),31)","v":31},{"$f":"+IF(DAY(EOMONTH(MJ10,0))<Simulador!$B$27,(Simulador!$B$27-DAY(EOMONTH(MJ10,0)))+DAY(EOMONTH(MJ10,0)),31)","v":31},{"$f":"+IF(DAY(EOMONTH(MK10,0))<Simulador!$B$27,(Simulador!$B$27-DAY(EOMONTH(MK10,0)))+DAY(EOMONTH(MK10,0)),31)","v":31},{"$f":"+IF(DAY(EOMONTH(ML10,0))<Simulador!$B$27,(Simulador!$B$27-DAY(EOMONTH(ML10,0)))+DAY(EOMONTH(ML10,0)),31)","v":31},{"$f":"+IF(DAY(EOMONTH(MM10,0))<Simulador!$B$27,(Simulador!$B$27-DAY(EOMONTH(MM10,0)))+DAY(EOMONTH(MM10,0)),31)","v":31},{"$f":"+IF(DAY(EOMONTH(MN10,0))<Simulador!$B$27,(Simulador!$B$27-DAY(EOMONTH(MN10,0)))+DAY(EOMONTH(MN10,0)),31)","v":31},{"$f":"+IF(DAY(EOMONTH(MO10,0))<Simulador!$B$27,(Simulador!$B$27-DAY(EOMONTH(MO10,0)))+DAY(EOMONTH(MO10,0)),31)","v":31},{"$f":"+IF(DAY(EOMONTH(MP10,0))<Simulador!$B$27,(Simulador!$B$27-DAY(EOMONTH(MP10,0)))+DAY(EOMONTH(MP10,0)),31)","v":31},{"$f":"+IF(DAY(EOMONTH(MQ10,0))<Simulador!$B$27,(Simulador!$B$27-DAY(EOMONTH(MQ10,0)))+DAY(EOMONTH(MQ10,0)),31)","v":31},{"$f":"+IF(DAY(EOMONTH(MR10,0))<Simulador!$B$27,(Simulador!$B$27-DAY(EOMONTH(MR10,0)))+DAY(EOMONTH(MR10,0)),31)","v":31},{"$f":"+IF(DAY(EOMONTH(MS10,0))<Simulador!$B$27,(Simulador!$B$27-DAY(EOMONTH(MS10,0)))+DAY(EOMONTH(MS10,0)),31)","v":31},{"$f":"+IF(DAY(EOMONTH(MT10,0))<Simulador!$B$27,(Simulador!$B$27-DAY(EOMONTH(MT10,0)))+DAY(EOMONTH(MT10,0)),31)","v":31},{"$f":"+IF(DAY(EOMONTH(MU10,0))<Simulador!$B$27,(Simulador!$B$27-DAY(EOMONTH(MU10,0)))+DAY(EOMONTH(MU10,0)),31)","v":31},{"$f":"+IF(DAY(EOMONTH(MV10,0))<Simulador!$B$27,(Simulador!$B$27-DAY(EOMONTH(MV10,0)))+DAY(EOMONTH(MV10,0)),31)","v":31},{"$f":"+IF(DAY(EOMONTH(MW10,0))<Simulador!$B$27,(Simulador!$B$27-DAY(EOMONTH(MW10,0)))+DAY(EOMONTH(MW10,0)),31)","v":31},{"$f":"+IF(DAY(EOMONTH(MX10,0))<Simulador!$B$27,(Simulador!$B$27-DAY(EOMONTH(MX10,0)))+DAY(EOMONTH(MX10,0)),31)","v":31},{"$f":"+IF(DAY(EOMONTH(MY10,0))<Simulador!$B$27,(Simulador!$B$27-DAY(EOMONTH(MY10,0)))+DAY(EOMONTH(MY10,0)),31)","v":31},{"$f":"+IF(DAY(EOMONTH(MZ10,0))<Simulador!$B$27,(Simulador!$B$27-DAY(EOMONTH(MZ10,0)))+DAY(EOMONTH(MZ10,0)),31)","v":31},{"$f":"+IF(DAY(EOMONTH(NA10,0))<Simulador!$B$27,(Simulador!$B$27-DAY(EOMONTH(NA10,0)))+DAY(EOMONTH(NA10,0)),31)","v":31},{"$f":"+IF(DAY(EOMONTH(NB10,0))<Simulador!$B$27,(Simulador!$B$27-DAY(EOMONTH(NB10,0)))+DAY(EOMONTH(NB10,0)),31)","v":31},{"$f":"+IF(DAY(EOMONTH(NC10,0))<Simulador!$B$27,(Simulador!$B$27-DAY(EOMONTH(NC10,0)))+DAY(EOMONTH(NC10,0)),31)","v":31},{"$f":"+IF(DAY(EOMONTH(ND10,0))<Simulador!$B$27,(Simulador!$B$27-DAY(EOMONTH(ND10,0)))+DAY(EOMONTH(ND10,0)),31)","v":31},{"$f":"+IF(DAY(EOMONTH(NE10,0))<Simulador!$B$27,(Simulador!$B$27-DAY(EOMONTH(NE10,0)))+DAY(EOMONTH(NE10,0)),31)","v":31},{"$f":"+IF(DAY(EOMONTH(NF10,0))<Simulador!$B$27,(Simulador!$B$27-DAY(EOMONTH(NF10,0)))+DAY(EOMONTH(NF10,0)),31)","v":31},{"$f":"+IF(DAY(EOMONTH(NG10,0))<Simulador!$B$27,(Simulador!$B$27-DAY(EOMONTH(NG10,0)))+DAY(EOMONTH(NG10,0)),31)","v":31},{"$f":"+IF(DAY(EOMONTH(NH10,0))<Simulador!$B$27,(Simulador!$B$27-DAY(EOMONTH(NH10,0)))+DAY(EOMONTH(NH10,0)),31)","v":31},{"$f":"+IF(DAY(EOMONTH(NI10,0))<Simulador!$B$27,(Simulador!$B$27-DAY(EOMONTH(NI10,0)))+DAY(EOMONTH(NI10,0)),31)","v":31},{"$f":"+IF(DAY(EOMONTH(NJ10,0))<Simulador!$B$27,(Simulador!$B$27-DAY(EOMONTH(NJ10,0)))+DAY(EOMONTH(NJ10,0)),31)","v":31},{"$f":"+IF(DAY(EOMONTH(NK10,0))<Simulador!$B$27,(Simulador!$B$27-DAY(EOMONTH(NK10,0)))+DAY(EOMONTH(NK10,0)),31)","v":31},{"$f":"+IF(DAY(EOMONTH(NL10,0))<Simulador!$B$27,(Simulador!$B$27-DAY(EOMONTH(NL10,0)))+DAY(EOMONTH(NL10,0)),31)","v":31},{"$f":"+IF(DAY(EOMONTH(NM10,0))<Simulador!$B$27,(Simulador!$B$27-DAY(EOMONTH(NM10,0)))+DAY(EOMONTH(NM10,0)),31)","v":31},{"$f":"+IF(DAY(EOMONTH(NN10,0))<Simulador!$B$27,(Simulador!$B$27-DAY(EOMONTH(NN10,0)))+DAY(EOMONTH(NN10,0)),31)","v":31},{"$f":"+IF(DAY(EOMONTH(NO10,0))<Simulador!$B$27,(Simulador!$B$27-DAY(EOMONTH(NO10,0)))+DAY(EOMONTH(NO10,0)),31)","v":31},{"$f":"+IF(DAY(EOMONTH(NP10,0))<Simulador!$B$27,(Simulador!$B$27-DAY(EOMONTH(NP10,0)))+DAY(EOMONTH(NP10,0)),31)","v":31},{"$f":"+IF(DAY(EOMONTH(NQ10,0))<Simulador!$B$27,(Simulador!$B$27-DAY(EOMONTH(NQ10,0)))+DAY(EOMONTH(NQ10,0)),31)","v":31},{"$f":"+IF(DAY(EOMONTH(NR10,0))<Simulador!$B$27,(Simulador!$B$27-DAY(EOMONTH(NR10,0)))+DAY(EOMONTH(NR10,0)),31)","v":31},{"$f":"+IF(DAY(EOMONTH(NS10,0))<Simulador!$B$27,(Simulador!$B$27-DAY(EOMONTH(NS10,0)))+DAY(EOMONTH(NS10,0)),31)","v":31},{"$f":"+IF(DAY(EOMONTH(NT10,0))<Simulador!$B$27,(Simulador!$B$27-DAY(EOMONTH(NT10,0)))+DAY(EOMONTH(NT10,0)),31)","v":31},{"$f":"+IF(DAY(EOMONTH(NU10,0))<Simulador!$B$27,(Simulador!$B$27-DAY(EOMONTH(NU10,0)))+DAY(EOMONTH(NU10,0)),31)","v":31},{"$f":"+IF(DAY(EOMONTH(NV10,0))<Simulador!$B$27,(Simulador!$B$27-DAY(EOMONTH(NV10,0)))+DAY(EOMONTH(NV10,0)),31)","v":31},{"$f":"+IF(DAY(EOMONTH(NW10,0))<Simulador!$B$27,(Simulador!$B$27-DAY(EOMONTH(NW10,0)))+DAY(EOMONTH(NW10,0)),31)","v":31},{"$f":"+IF(DAY(EOMONTH(NX10,0))<Simulador!$B$27,(Simulador!$B$27-DAY(EOMONTH(NX10,0)))+DAY(EOMONTH(NX10,0)),31)","v":31},{"$f":"+IF(DAY(EOMONTH(NY10,0))<Simulador!$B$27,(Simulador!$B$27-DAY(EOMONTH(NY10,0)))+DAY(EOMONTH(NY10,0)),31)","v":31},{"$f":"+IF(DAY(EOMONTH(NZ10,0))<Simulador!$B$27,(Simulador!$B$27-DAY(EOMONTH(NZ10,0)))+DAY(EOMONTH(NZ10,0)),31)","v":31},{"$f":"+IF(DAY(EOMONTH(OA10,0))<Simulador!$B$27,(Simulador!$B$27-DAY(EOMONTH(OA10,0)))+DAY(EOMONTH(OA10,0)),31)","v":31},{"$f":"+IF(DAY(EOMONTH(OB10,0))<Simulador!$B$27,(Simulador!$B$27-DAY(EOMONTH(OB10,0)))+DAY(EOMONTH(OB10,0)),31)","v":31},{"$f":"+IF(DAY(EOMONTH(OC10,0))<Simulador!$B$27,(Simulador!$B$27-DAY(EOMONTH(OC10,0)))+DAY(EOMONTH(OC10,0)),31)","v":31},{"$f":"+IF(DAY(EOMONTH(OD10,0))<Simulador!$B$27,(Simulador!$B$27-DAY(EOMONTH(OD10,0)))+DAY(EOMONTH(OD10,0)),31)","v":31},{"$f":"+IF(DAY(EOMONTH(OE10,0))<Simulador!$B$27,(Simulador!$B$27-DAY(EOMONTH(OE10,0)))+DAY(EOMONTH(OE10,0)),31)","v":31},{"$f":"+IF(DAY(EOMONTH(OF10,0))<Simulador!$B$27,(Simulador!$B$27-DAY(EOMONTH(OF10,0)))+DAY(EOMONTH(OF10,0)),31)","v":31},{"$f":"+IF(DAY(EOMONTH(OG10,0))<Simulador!$B$27,(Simulador!$B$27-DAY(EOMONTH(OG10,0)))+DAY(EOMONTH(OG10,0)),31)","v":31},{"$f":"+IF(DAY(EOMONTH(OH10,0))<Simulador!$B$27,(Simulador!$B$27-DAY(EOMONTH(OH10,0)))+DAY(EOMONTH(OH10,0)),31)","v":31},{"$f":"+IF(DAY(EOMONTH(OI10,0))<Simulador!$B$27,(Simulador!$B$27-DAY(EOMONTH(OI10,0)))+DAY(EOMONTH(OI10,0)),31)","v":31},{"$f":"+IF(DAY(EOMONTH(OJ10,0))<Simulador!$B$27,(Simulador!$B$27-DAY(EOMONTH(OJ10,0)))+DAY(EOMONTH(OJ10,0)),31)","v":31},{"$f":"+IF(DAY(EOMONTH(OK10,0))<Simulador!$B$27,(Simulador!$B$27-DAY(EOMONTH(OK10,0)))+DAY(EOMONTH(OK10,0)),31)","v":31},{"$f":"+IF(DAY(EOMONTH(OL10,0))<Simulador!$B$27,(Simulador!$B$27-DAY(EOMONTH(OL10,0)))+DAY(EOMONTH(OL10,0)),31)","v":31},{"$f":"+IF(DAY(EOMONTH(OM10,0))<Simulador!$B$27,(Simulador!$B$27-DAY(EOMONTH(OM10,0)))+DAY(EOMONTH(OM10,0)),31)","v":31},{"$f":"+IF(DAY(EOMONTH(ON10,0))<Simulador!$B$27,(Simulador!$B$27-DAY(EOMONTH(ON10,0)))+DAY(EOMONTH(ON10,0)),31)","v":31},{"$f":"+IF(DAY(EOMONTH(OO10,0))<Simulador!$B$27,(Simulador!$B$27-DAY(EOMONTH(OO10,0)))+DAY(EOMONTH(OO10,0)),31)","v":31},{"$f":"+IF(DAY(EOMONTH(OP10,0))<Simulador!$B$27,(Simulador!$B$27-DAY(EOMONTH(OP10,0)))+DAY(EOMONTH(OP10,0)),31)","v":31},{"$f":"+IF(DAY(EOMONTH(OQ10,0))<Simulador!$B$27,(Simulador!$B$27-DAY(EOMONTH(OQ10,0)))+DAY(EOMONTH(OQ10,0)),31)","v":31},{"$f":"+IF(DAY(EOMONTH(OR10,0))<Simulador!$B$27,(Simulador!$B$27-DAY(EOMONTH(OR10,0)))+DAY(EOMONTH(OR10,0)),31)","v":31},{"$f":"+IF(DAY(EOMONTH(OS10,0))<Simulador!$B$27,(Simulador!$B$27-DAY(EOMONTH(OS10,0)))+DAY(EOMONTH(OS10,0)),31)","v":31},{"$f":"+IF(DAY(EOMONTH(OT10,0))<Simulador!$B$27,(Simulador!$B$27-DAY(EOMONTH(OT10,0)))+DAY(EOMONTH(OT10,0)),31)","v":31},{"$f":"+IF(DAY(EOMONTH(OU10,0))<Simulador!$B$27,(Simulador!$B$27-DAY(EOMONTH(OU10,0)))+DAY(EOMONTH(OU10,0)),31)","v":31},{"$f":"+IF(DAY(EOMONTH(OV10,0))<Simulador!$B$27,(Simulador!$B$27-DAY(EOMONTH(OV10,0)))+DAY(EOMONTH(OV10,0)),31)","v":31},{"$f":"+IF(DAY(EOMONTH(OW10,0))<Simulador!$B$27,(Simulador!$B$27-DAY(EOMONTH(OW10,0)))+DAY(EOMONTH(OW10,0)),31)","v":31},{"$f":"+IF(DAY(EOMONTH(OX10,0))<Simulador!$B$27,(Simulador!$B$27-DAY(EOMONTH(OX10,0)))+DAY(EOMONTH(OX10,0)),31)","v":31},{"$f":"+IF(DAY(EOMONTH(OY10,0))<Simulador!$B$27,(Simulador!$B$27-DAY(EOMONTH(OY10,0)))+DAY(EOMONTH(OY10,0)),31)","v":31},{"$f":"+IF(DAY(EOMONTH(OZ10,0))<Simulador!$B$27,(Simulador!$B$27-DAY(EOMONTH(OZ10,0)))+DAY(EOMONTH(OZ10,0)),31)","v":31},{"$f":"+IF(DAY(EOMONTH(PA10,0))<Simulador!$B$27,(Simulador!$B$27-DAY(EOMONTH(PA10,0)))+DAY(EOMONTH(PA10,0)),31)","v":31},{"$f":"+IF(DAY(EOMONTH(PB10,0))<Simulador!$B$27,(Simulador!$B$27-DAY(EOMONTH(PB10,0)))+DAY(EOMONTH(PB10,0)),31)","v":31},{"$f":"+IF(DAY(EOMONTH(PC10,0))<Simulador!$B$27,(Simulador!$B$27-DAY(EOMONTH(PC10,0)))+DAY(EOMONTH(PC10,0)),31)","v":31},{"$f":"+IF(DAY(EOMONTH(PD10,0))<Simulador!$B$27,(Simulador!$B$27-DAY(EOMONTH(PD10,0)))+DAY(EOMONTH(PD10,0)),31)","v":31},{"$f":"+IF(DAY(EOMONTH(PE10,0))<Simulador!$B$27,(Simulador!$B$27-DAY(EOMONTH(PE10,0)))+DAY(EOMONTH(PE10,0)),31)","v":31},{"$f":"+IF(DAY(EOMONTH(PF10,0))<Simulador!$B$27,(Simulador!$B$27-DAY(EOMONTH(PF10,0)))+DAY(EOMONTH(PF10,0)),31)","v":31},{"$f":"+IF(DAY(EOMONTH(PG10,0))<Simulador!$B$27,(Simulador!$B$27-DAY(EOMONTH(PG10,0)))+DAY(EOMONTH(PG10,0)),31)","v":31},{"$f":"+IF(DAY(EOMONTH(PH10,0))<Simulador!$B$27,(Simulador!$B$27-DAY(EOMONTH(PH10,0)))+DAY(EOMONTH(PH10,0)),31)","v":31},{"$f":"+IF(DAY(EOMONTH(PI10,0))<Simulador!$B$27,(Simulador!$B$27-DAY(EOMONTH(PI10,0)))+DAY(EOMONTH(PI10,0)),31)","v":31},{"$f":"+IF(DAY(EOMONTH(PJ10,0))<Simulador!$B$27,(Simulador!$B$27-DAY(EOMONTH(PJ10,0)))+DAY(EOMONTH(PJ10,0)),31)","v":31},{"$f":"+IF(DAY(EOMONTH(PK10,0))<Simulador!$B$27,(Simulador!$B$27-DAY(EOMONTH(PK10,0)))+DAY(EOMONTH(PK10,0)),31)","v":31},{"$f":"+IF(DAY(EOMONTH(PL10,0))<Simulador!$B$27,(Simulador!$B$27-DAY(EOMONTH(PL10,0)))+DAY(EOMONTH(PL10,0)),31)","v":31},{"$f":"+IF(DAY(EOMONTH(PM10,0))<Simulador!$B$27,(Simulador!$B$27-DAY(EOMONTH(PM10,0)))+DAY(EOMONTH(PM10,0)),31)","v":31},{"$f":"+IF(DAY(EOMONTH(PN10,0))<Simulador!$B$27,(Simulador!$B$27-DAY(EOMONTH(PN10,0)))+DAY(EOMONTH(PN10,0)),31)","v":31},{"$f":"+IF(DAY(EOMONTH(PO10,0))<Simulador!$B$27,(Simulador!$B$27-DAY(EOMONTH(PO10,0)))+DAY(EOMONTH(PO10,0)),31)","v":31},{"$f":"+IF(DAY(EOMONTH(PP10,0))<Simulador!$B$27,(Simulador!$B$27-DAY(EOMONTH(PP10,0)))+DAY(EOMONTH(PP10,0)),31)","v":31},{"$f":"+IF(DAY(EOMONTH(PQ10,0))<Simulador!$B$27,(Simulador!$B$27-DAY(EOMONTH(PQ10,0)))+DAY(EOMONTH(PQ10,0)),31)","v":31},{"$f":"+IF(DAY(EOMONTH(PR10,0))<Simulador!$B$27,(Simulador!$B$27-DAY(EOMONTH(PR10,0)))+DAY(EOMONTH(PR10,0)),31)","v":31},{"$f":"+IF(DAY(EOMONTH(PS10,0))<Simulador!$B$27,(Simulador!$B$27-DAY(EOMONTH(PS10,0)))+DAY(EOMONTH(PS10,0)),31)","v":31},{"$f":"+IF(DAY(EOMONTH(PT10,0))<Simulador!$B$27,(Simulador!$B$27-DAY(EOMONTH(PT10,0)))+DAY(EOMONTH(PT10,0)),31)","v":31},{"$f":"+IF(DAY(EOMONTH(PU10,0))<Simulador!$B$27,(Simulador!$B$27-DAY(EOMONTH(PU10,0)))+DAY(EOMONTH(PU10,0)),31)","v":31},{"$f":"+IF(DAY(EOMONTH(PV10,0))<Simulador!$B$27,(Simulador!$B$27-DAY(EOMONTH(PV10,0)))+DAY(EOMONTH(PV10,0)),31)","v":31},{"$f":"+IF(DAY(EOMONTH(PW10,0))<Simulador!$B$27,(Simulador!$B$27-DAY(EOMONTH(PW10,0)))+DAY(EOMONTH(PW10,0)),31)","v":31},{"$f":"+IF(DAY(EOMONTH(PX10,0))<Simulador!$B$27,(Simulador!$B$27-DAY(EOMONTH(PX10,0)))+DAY(EOMONTH(PX10,0)),31)","v":31},{"$f":"+IF(DAY(EOMONTH(PY10,0))<Simulador!$B$27,(Simulador!$B$27-DAY(EOMONTH(PY10,0)))+DAY(EOMONTH(PY10,0)),31)","v":31},{"$f":"+IF(DAY(EOMONTH(PZ10,0))<Simulador!$B$27,(Simulador!$B$27-DAY(EOMONTH(PZ10,0)))+DAY(EOMONTH(PZ10,0)),31)","v":31},{"$f":"+IF(DAY(EOMONTH(QA10,0))<Simulador!$B$27,(Simulador!$B$27-DAY(EOMONTH(QA10,0)))+DAY(EOMONTH(QA10,0)),31)","v":31},{"$f":"+IF(DAY(EOMONTH(QB10,0))<Simulador!$B$27,(Simulador!$B$27-DAY(EOMONTH(QB10,0)))+DAY(EOMONTH(QB10,0)),31)","v":31},{"$f":"+IF(DAY(EOMONTH(QC10,0))<Simulador!$B$27,(Simulador!$B$27-DAY(EOMONTH(QC10,0)))+DAY(EOMONTH(QC10,0)),31)","v":31},{"$f":"+IF(DAY(EOMONTH(QD10,0))<Simulador!$B$27,(Simulador!$B$27-DAY(EOMONTH(QD10,0)))+DAY(EOMONTH(QD10,0)),31)","v":31},{"$f":"+IF(DAY(EOMONTH(QE10,0))<Simulador!$B$27,(Simulador!$B$27-DAY(EOMONTH(QE10,0)))+DAY(EOMONTH(QE10,0)),31)","v":31},{"$f":"+IF(DAY(EOMONTH(QF10,0))<Simulador!$B$27,(Simulador!$B$27-DAY(EOMONTH(QF10,0)))+DAY(EOMONTH(QF10,0)),31)","v":31},{"$f":"+IF(DAY(EOMONTH(QG10,0))<Simulador!$B$27,(Simulador!$B$27-DAY(EOMONTH(QG10,0)))+DAY(EOMONTH(QG10,0)),31)","v":31},{"$f":"+IF(DAY(EOMONTH(QH10,0))<Simulador!$B$27,(Simulador!$B$27-DAY(EOMONTH(QH10,0)))+DAY(EOMONTH(QH10,0)),31)","v":31},{"$f":"+IF(DAY(EOMONTH(QI10,0))<Simulador!$B$27,(Simulador!$B$27-DAY(EOMONTH(QI10,0)))+DAY(EOMONTH(QI10,0)),31)","v":31},{"$f":"+IF(DAY(EOMONTH(QJ10,0))<Simulador!$B$27,(Simulador!$B$27-DAY(EOMONTH(QJ10,0)))+DAY(EOMONTH(QJ10,0)),31)","v":31},{"$f":"+IF(DAY(EOMONTH(QK10,0))<Simulador!$B$27,(Simulador!$B$27-DAY(EOMONTH(QK10,0)))+DAY(EOMONTH(QK10,0)),31)","v":31},{"$f":"+IF(DAY(EOMONTH(QL10,0))<Simulador!$B$27,(Simulador!$B$27-DAY(EOMONTH(QL10,0)))+DAY(EOMONTH(QL10,0)),31)","v":31},{"$f":"+IF(DAY(EOMONTH(QM10,0))<Simulador!$B$27,(Simulador!$B$27-DAY(EOMONTH(QM10,0)))+DAY(EOMONTH(QM10,0)),31)","v":31},{"$f":"+IF(DAY(EOMONTH(QN10,0))<Simulador!$B$27,(Simulador!$B$27-DAY(EOMONTH(QN10,0)))+DAY(EOMONTH(QN10,0)),31)","v":31},{"$f":"+IF(DAY(EOMONTH(QO10,0))<Simulador!$B$27,(Simulador!$B$27-DAY(EOMONTH(QO10,0)))+DAY(EOMONTH(QO10,0)),31)","v":31},{"$f":"+IF(DAY(EOMONTH(QP10,0))<Simulador!$B$27,(Simulador!$B$27-DAY(EOMONTH(QP10,0)))+DAY(EOMONTH(QP10,0)),31)","v":31},{"$f":"+IF(DAY(EOMONTH(QQ10,0))<Simulador!$B$27,(Simulador!$B$27-DAY(EOMONTH(QQ10,0)))+DAY(EOMONTH(QQ10,0)),31)","v":31},{"$f":"+IF(DAY(EOMONTH(QR10,0))<Simulador!$B$27,(Simulador!$B$27-DAY(EOMONTH(QR10,0)))+DAY(EOMONTH(QR10,0)),31)","v":31},{"$f":"+IF(DAY(EOMONTH(QS10,0))<Simulador!$B$27,(Simulador!$B$27-DAY(EOMONTH(QS10,0)))+DAY(EOMONTH(QS10,0)),31)","v":31},{"$f":"+IF(DAY(EOMONTH(QT10,0))<Simulador!$B$27,(Simulador!$B$27-DAY(EOMONTH(QT10,0)))+DAY(EOMONTH(QT10,0)),31)","v":31},{"$f":"+IF(DAY(EOMONTH(QU10,0))<Simulador!$B$27,(Simulador!$B$27-DAY(EOMONTH(QU10,0)))+DAY(EOMONTH(QU10,0)),31)","v":31},{"$f":"+IF(DAY(EOMONTH(QV10,0))<Simulador!$B$27,(Simulador!$B$27-DAY(EOMONTH(QV10,0)))+DAY(EOMONTH(QV10,0)),31)","v":31},{"$f":"+IF(DAY(EOMONTH(QW10,0))<Simulador!$B$27,(Simulador!$B$27-DAY(EOMONTH(QW10,0)))+DAY(EOMONTH(QW10,0)),31)","v":31},{"$f":"+IF(DAY(EOMONTH(QX10,0))<Simulador!$B$27,(Simulador!$B$27-DAY(EOMONTH(QX10,0)))+DAY(EOMONTH(QX10,0)),31)","v":31},{"$f":"+IF(DAY(EOMONTH(QY10,0))<Simulador!$B$27,(Simulador!$B$27-DAY(EOMONTH(QY10,0)))+DAY(EOMONTH(QY10,0)),31)","v":31},{"$f":"+IF(DAY(EOMONTH(QZ10,0))<Simulador!$B$27,(Simulador!$B$27-DAY(EOMONTH(QZ10,0)))+DAY(EOMONTH(QZ10,0)),31)","v":31},{"$f":"+IF(DAY(EOMONTH(RA10,0))<Simulador!$B$27,(Simulador!$B$27-DAY(EOMONTH(RA10,0)))+DAY(EOMONTH(RA10,0)),31)","v":31},{"$f":"+IF(DAY(EOMONTH(RB10,0))<Simulador!$B$27,(Simulador!$B$27-DAY(EOMONTH(RB10,0)))+DAY(EOMONTH(RB10,0)),31)","v":31},{"$f":"+IF(DAY(EOMONTH(RC10,0))<Simulador!$B$27,(Simulador!$B$27-DAY(EOMONTH(RC10,0)))+DAY(EOMONTH(RC10,0)),31)","v":31},{"$f":"+IF(DAY(EOMONTH(RD10,0))<Simulador!$B$27,(Simulador!$B$27-DAY(EOMONTH(RD10,0)))+DAY(EOMONTH(RD10,0)),31)","v":31},{"$f":"+IF(DAY(EOMONTH(RE10,0))<Simulador!$B$27,(Simulador!$B$27-DAY(EOMONTH(RE10,0)))+DAY(EOMONTH(RE10,0)),31)","v":31},{"$f":"+IF(DAY(EOMONTH(RF10,0))<Simulador!$B$27,(Simulador!$B$27-DAY(EOMONTH(RF10,0)))+DAY(EOMONTH(RF10,0)),31)","v":31},{"$f":"+IF(DAY(EOMONTH(RG10,0))<Simulador!$B$27,(Simulador!$B$27-DAY(EOMONTH(RG10,0)))+DAY(EOMONTH(RG10,0)),31)","v":31},{"$f":"+IF(DAY(EOMONTH(RH10,0))<Simulador!$B$27,(Simulador!$B$27-DAY(EOMONTH(RH10,0)))+DAY(EOMONTH(RH10,0)),31)","v":31},{"$f":"+IF(DAY(EOMONTH(RI10,0))<Simulador!$B$27,(Simulador!$B$27-DAY(EOMONTH(RI10,0)))+DAY(EOMONTH(RI10,0)),31)","v":31},{"$f":"+IF(DAY(EOMONTH(RJ10,0))<Simulador!$B$27,(Simulador!$B$27-DAY(EOMONTH(RJ10,0)))+DAY(EOMONTH(RJ10,0)),31)","v":31},{"$f":"+IF(DAY(EOMONTH(RK10,0))<Simulador!$B$27,(Simulador!$B$27-DAY(EOMONTH(RK10,0)))+DAY(EOMONTH(RK10,0)),31)","v":31},{"$f":"+IF(DAY(EOMONTH(RL10,0))<Simulador!$B$27,(Simulador!$B$27-DAY(EOMONTH(RL10,0)))+DAY(EOMONTH(RL10,0)),31)","v":31},{"$f":"+IF(DAY(EOMONTH(RM10,0))<Simulador!$B$27,(Simulador!$B$27-DAY(EOMONTH(RM10,0)))+DAY(EOMONTH(RM10,0)),31)","v":31},{"$f":"+IF(DAY(EOMONTH(RN10,0))<Simulador!$B$27,(Simulador!$B$27-DAY(EOMONTH(RN10,0)))+DAY(EOMONTH(RN10,0)),31)","v":31},{"$f":"+IF(DAY(EOMONTH(RO10,0))<Simulador!$B$27,(Simulador!$B$27-DAY(EOMONTH(RO10,0)))+DAY(EOMONTH(RO10,0)),31)","v":31},{"$f":"+IF(DAY(EOMONTH(RP10,0))<Simulador!$B$27,(Simulador!$B$27-DAY(EOMONTH(RP10,0)))+DAY(EOMONTH(RP10,0)),31)","v":31},{"$f":"+IF(DAY(EOMONTH(RQ10,0))<Simulador!$B$27,(Simulador!$B$27-DAY(EOMONTH(RQ10,0)))+DAY(EOMONTH(RQ10,0)),31)","v":31},{"$f":"+IF(DAY(EOMONTH(RR10,0))<Simulador!$B$27,(Simulador!$B$27-DAY(EOMONTH(RR10,0)))+DAY(EOMONTH(RR10,0)),31)","v":31},{"$f":"+IF(DAY(EOMONTH(RS10,0))<Simulador!$B$27,(Simulador!$B$27-DAY(EOMONTH(RS10,0)))+DAY(EOMONTH(RS10,0)),31)","v":31},{"$f":"+IF(DAY(EOMONTH(RT10,0))<Simulador!$B$27,(Simulador!$B$27-DAY(EOMONTH(RT10,0)))+DAY(EOMONTH(RT10,0)),31)","v":31},{"$f":"+IF(DAY(EOMONTH(RU10,0))<Simulador!$B$27,(Simulador!$B$27-DAY(EOMONTH(RU10,0)))+DAY(EOMONTH(RU10,0)),31)","v":31},{"$f":"+IF(DAY(EOMONTH(RV10,0))<Simulador!$B$27,(Simulador!$B$27-DAY(EOMONTH(RV10,0)))+DAY(EOMONTH(RV10,0)),31)","v":31},{"$f":"+IF(DAY(EOMONTH(RW10,0))<Simulador!$B$27,(Simulador!$B$27-DAY(EOMONTH(RW10,0)))+DAY(EOMONTH(RW10,0)),31)","v":31},{"$f":"+IF(DAY(EOMONTH(RX10,0))<Simulador!$B$27,(Simulador!$B$27-DAY(EOMONTH(RX10,0)))+DAY(EOMONTH(RX10,0)),31)","v":31},{"$f":"+IF(DAY(EOMONTH(RY10,0))<Simulador!$B$27,(Simulador!$B$27-DAY(EOMONTH(RY10,0)))+DAY(EOMONTH(RY10,0)),31)","v":31},{"$f":"+IF(DAY(EOMONTH(RZ10,0))<Simulador!$B$27,(Simulador!$B$27-DAY(EOMONTH(RZ10,0)))+DAY(EOMONTH(RZ10,0)),31)","v":31},{"$f":"+IF(DAY(EOMONTH(SA10,0))<Simulador!$B$27,(Simulador!$B$27-DAY(EOMONTH(SA10,0)))+DAY(EOMONTH(SA10,0)),31)","v":31},{"$f":"+IF(DAY(EOMONTH(SB10,0))<Simulador!$B$27,(Simulador!$B$27-DAY(EOMONTH(SB10,0)))+DAY(EOMONTH(SB10,0)),31)","v":31},{"$f":"+IF(DAY(EOMONTH(SC10,0))<Simulador!$B$27,(Simulador!$B$27-DAY(EOMONTH(SC10,0)))+DAY(EOMONTH(SC10,0)),31)","v":31},{"$f":"+IF(DAY(EOMONTH(SD10,0))<Simulador!$B$27,(Simulador!$B$27-DAY(EOMONTH(SD10,0)))+DAY(EOMONTH(SD10,0)),31)","v":31},{"$f":"+IF(DAY(EOMONTH(SE10,0))<Simulador!$B$27,(Simulador!$B$27-DAY(EOMONTH(SE10,0)))+DAY(EOMONTH(SE10,0)),31)","v":31},{"$f":"+IF(DAY(EOMONTH(SF10,0))<Simulador!$B$27,(Simulador!$B$27-DAY(EOMONTH(SF10,0)))+DAY(EOMONTH(SF10,0)),31)","v":31},{"$f":"+IF(DAY(EOMONTH(SG10,0))<Simulador!$B$27,(Simulador!$B$27-DAY(EOMONTH(SG10,0)))+DAY(EOMONTH(SG10,0)),31)","v":31},{"$f":"+IF(DAY(EOMONTH(SH10,0))<Simulador!$B$27,(Simulador!$B$27-DAY(EOMONTH(SH10,0)))+DAY(EOMONTH(SH10,0)),31)","v":31},{"$f":"+IF(DAY(EOMONTH(SI10,0))<Simulador!$B$27,(Simulador!$B$27-DAY(EOMONTH(SI10,0)))+DAY(EOMONTH(SI10,0)),31)","v":31},{"$f":"+IF(DAY(EOMONTH(SJ10,0))<Simulador!$B$27,(Simulador!$B$27-DAY(EOMONTH(SJ10,0)))+DAY(EOMONTH(SJ10,0)),31)","v":31},{"$f":"+IF(DAY(EOMONTH(SK10,0))<Simulador!$B$27,(Simulador!$B$27-DAY(EOMONTH(SK10,0)))+DAY(EOMONTH(SK10,0)),31)","v":31},{"$f":"+IF(DAY(EOMONTH(SL10,0))<Simulador!$B$27,(Simulador!$B$27-DAY(EOMONTH(SL10,0)))+DAY(EOMONTH(SL10,0)),31)","v":31},{"$f":"+IF(DAY(EOMONTH(SM10,0))<Simulador!$B$27,(Simulador!$B$27-DAY(EOMONTH(SM10,0)))+DAY(EOMONTH(SM10,0)),31)","v":31},{"$f":"+IF(DAY(EOMONTH(SN10,0))<Simulador!$B$27,(Simulador!$B$27-DAY(EOMONTH(SN10,0)))+DAY(EOMONTH(SN10,0)),31)","v":31},{"$f":"+IF(DAY(EOMONTH(SO10,0))<Simulador!$B$27,(Simulador!$B$27-DAY(EOMONTH(SO10,0)))+DAY(EOMONTH(SO10,0)),31)","v":31},{"$f":"+IF(DAY(EOMONTH(SP10,0))<Simulador!$B$27,(Simulador!$B$27-DAY(EOMONTH(SP10,0)))+DAY(EOMONTH(SP10,0)),31)","v":31},{"$f":"+IF(DAY(EOMONTH(SQ10,0))<Simulador!$B$27,(Simulador!$B$27-DAY(EOMONTH(SQ10,0)))+DAY(EOMONTH(SQ10,0)),31)","v":31},{"$f":"+IF(DAY(EOMONTH(SR10,0))<Simulador!$B$27,(Simulador!$B$27-DAY(EOMONTH(SR10,0)))+DAY(EOMONTH(SR10,0)),31)","v":31},{"$f":"+IF(DAY(EOMONTH(SS10,0))<Simulador!$B$27,(Simulador!$B$27-DAY(EOMONTH(SS10,0)))+DAY(EOMONTH(SS10,0)),31)","v":31},{"$f":"+IF(DAY(EOMONTH(ST10,0))<Simulador!$B$27,(Simulador!$B$27-DAY(EOMONTH(ST10,0)))+DAY(EOMONTH(ST10,0)),31)","v":31},{"$f":"+IF(DAY(EOMONTH(SU10,0))<Simulador!$B$27,(Simulador!$B$27-DAY(EOMONTH(SU10,0)))+DAY(EOMONTH(SU10,0)),31)","v":31},{"$f":"+IF(DAY(EOMONTH(SV10,0))<Simulador!$B$27,(Simulador!$B$27-DAY(EOMONTH(SV10,0)))+DAY(EOMONTH(SV10,0)),31)","v":31},{"$f":"+IF(DAY(EOMONTH(SW10,0))<Simulador!$B$27,(Simulador!$B$27-DAY(EOMONTH(SW10,0)))+DAY(EOMONTH(SW10,0)),31)","v":31},{"$f":"+IF(DAY(EOMONTH(SX10,0))<Simulador!$B$27,(Simulador!$B$27-DAY(EOMONTH(SX10,0)))+DAY(EOMONTH(SX10,0)),31)","v":31},{"$f":"+IF(DAY(EOMONTH(SY10,0))<Simulador!$B$27,(Simulador!$B$27-DAY(EOMONTH(SY10,0)))+DAY(EOMONTH(SY10,0)),31)","v":31},{"$f":"+IF(DAY(EOMONTH(SZ10,0))<Simulador!$B$27,(Simulador!$B$27-DAY(EOMONTH(SZ10,0)))+DAY(EOMONTH(SZ10,0)),31)","v":31},{"$f":"+IF(DAY(EOMONTH(TA10,0))<Simulador!$B$27,(Simulador!$B$27-DAY(EOMONTH(TA10,0)))+DAY(EOMONTH(TA10,0)),31)","v":31},{"$f":"+IF(DAY(EOMONTH(TB10,0))<Simulador!$B$27,(Simulador!$B$27-DAY(EOMONTH(TB10,0)))+DAY(EOMONTH(TB10,0)),31)","v":31},{"$f":"+IF(DAY(EOMONTH(TC10,0))<Simulador!$B$27,(Simulador!$B$27-DAY(EOMONTH(TC10,0)))+DAY(EOMONTH(TC10,0)),31)","v":31},{"$f":"+IF(DAY(EOMONTH(TD10,0))<Simulador!$B$27,(Simulador!$B$27-DAY(EOMONTH(TD10,0)))+DAY(EOMONTH(TD10,0)),31)","v":31},{"$f":"+IF(DAY(EOMONTH(TE10,0))<Simulador!$B$27,(Simulador!$B$27-DAY(EOMONTH(TE10,0)))+DAY(EOMONTH(TE10,0)),31)","v":31},{"$f":"+IF(DAY(EOMONTH(TF10,0))<Simulador!$B$27,(Simulador!$B$27-DAY(EOMONTH(TF10,0)))+DAY(EOMONTH(TF10,0)),31)","v":31},{"$f":"+IF(DAY(EOMONTH(TG10,0))<Simulador!$B$27,(Simulador!$B$27-DAY(EOMONTH(TG10,0)))+DAY(EOMONTH(TG10,0)),31)","v":31},{"$f":"+IF(DAY(EOMONTH(TH10,0))<Simulador!$B$27,(Simulador!$B$27-DAY(EOMONTH(TH10,0)))+DAY(EOMONTH(TH10,0)),31)","v":31},{"$f":"+IF(DAY(EOMONTH(TI10,0))<Simulador!$B$27,(Simulador!$B$27-DAY(EOMONTH(TI10,0)))+DAY(EOMONTH(TI10,0)),31)","v":31},{"$f":"+IF(DAY(EOMONTH(TJ10,0))<Simulador!$B$27,(Simulador!$B$27-DAY(EOMONTH(TJ10,0)))+DAY(EOMONTH(TJ10,0)),31)","v":31},{"$f":"+IF(DAY(EOMONTH(TK10,0))<Simulador!$B$27,(Simulador!$B$27-DAY(EOMONTH(TK10,0)))+DAY(EOMONTH(TK10,0)),31)","v":31},{"$f":"+IF(DAY(EOMONTH(TL10,0))<Simulador!$B$27,(Simulador!$B$27-DAY(EOMONTH(TL10,0)))+DAY(EOMONTH(TL10,0)),31)","v":31},{"$f":"+IF(DAY(EOMONTH(TM10,0))<Simulador!$B$27,(Simulador!$B$27-DAY(EOMONTH(TM10,0)))+DAY(EOMONTH(TM10,0)),31)","v":31},{"$f":"+IF(DAY(EOMONTH(TN10,0))<Simulador!$B$27,(Simulador!$B$27-DAY(EOMONTH(TN10,0)))+DAY(EOMONTH(TN10,0)),31)","v":31},{"$f":"+IF(DAY(EOMONTH(TO10,0))<Simulador!$B$27,(Simulador!$B$27-DAY(EOMONTH(TO10,0)))+DAY(EOMONTH(TO10,0)),31)","v":31},{"$f":"+IF(DAY(EOMONTH(TP10,0))<Simulador!$B$27,(Simulador!$B$27-DAY(EOMONTH(TP10,0)))+DAY(EOMONTH(TP10,0)),31)","v":31},{"$f":"+IF(DAY(EOMONTH(TQ10,0))<Simulador!$B$27,(Simulador!$B$27-DAY(EOMONTH(TQ10,0)))+DAY(EOMONTH(TQ10,0)),31)","v":31},{"$f":"+IF(DAY(EOMONTH(TR10,0))<Simulador!$B$27,(Simulador!$B$27-DAY(EOMONTH(TR10,0)))+DAY(EOMONTH(TR10,0)),31)","v":31},{"$f":"+IF(DAY(EOMONTH(TS10,0))<Simulador!$B$27,(Simulador!$B$27-DAY(EOMONTH(TS10,0)))+DAY(EOMONTH(TS10,0)),31)","v":31},{"$f":"+IF(DAY(EOMONTH(TT10,0))<Simulador!$B$27,(Simulador!$B$27-DAY(EOMONTH(TT10,0)))+DAY(EOMONTH(TT10,0)),31)","v":31},{"$f":"+IF(DAY(EOMONTH(TU10,0))<Simulador!$B$27,(Simulador!$B$27-DAY(EOMONTH(TU10,0)))+DAY(EOMONTH(TU10,0)),31)","v":31},{"$f":"+IF(DAY(EOMONTH(TV10,0))<Simulador!$B$27,(Simulador!$B$27-DAY(EOMONTH(TV10,0)))+DAY(EOMONTH(TV10,0)),31)","v":31},{"$f":"+IF(DAY(EOMONTH(TW10,0))<Simulador!$B$27,(Simulador!$B$27-DAY(EOMONTH(TW10,0)))+DAY(EOMONTH(TW10,0)),31)","v":31},{"$f":"+IF(DAY(EOMONTH(TX10,0))<Simulador!$B$27,(Simulador!$B$27-DAY(EOMONTH(TX10,0)))+DAY(EOMONTH(TX10,0)),31)","v":31},{"$f":"+IF(DAY(EOMONTH(TY10,0))<Simulador!$B$27,(Simulador!$B$27-DAY(EOMONTH(TY10,0)))+DAY(EOMONTH(TY10,0)),31)","v":31},{"$f":"+IF(DAY(EOMONTH(TZ10,0))<Simulador!$B$27,(Simulador!$B$27-DAY(EOMONTH(TZ10,0)))+DAY(EOMONTH(TZ10,0)),31)","v":31},{"$f":"+IF(DAY(EOMONTH(UA10,0))<Simulador!$B$27,(Simulador!$B$27-DAY(EOMONTH(UA10,0)))+DAY(EOMONTH(UA10,0)),31)","v":31},{"$f":"+IF(DAY(EOMONTH(UB10,0))<Simulador!$B$27,(Simulador!$B$27-DAY(EOMONTH(UB10,0)))+DAY(EOMONTH(UB10,0)),31)","v":31},{"$f":"+IF(DAY(EOMONTH(UC10,0))<Simulador!$B$27,(Simulador!$B$27-DAY(EOMONTH(UC10,0)))+DAY(EOMONTH(UC10,0)),31)","v":31},{"$f":"+IF(DAY(EOMONTH(UD10,0))<Simulador!$B$27,(Simulador!$B$27-DAY(EOMONTH(UD10,0)))+DAY(EOMONTH(UD10,0)),31)","v":31},{"$f":"+IF(DAY(EOMONTH(UE10,0))<Simulador!$B$27,(Simulador!$B$27-DAY(EOMONTH(UE10,0)))+DAY(EOMONTH(UE10,0)),31)","v":31},{"$f":"+IF(DAY(EOMONTH(UF10,0))<Simulador!$B$27,(Simulador!$B$27-DAY(EOMONTH(UF10,0)))+DAY(EOMONTH(UF10,0)),31)","v":31},{"$f":"+IF(DAY(EOMONTH(UG10,0))<Simulador!$B$27,(Simulador!$B$27-DAY(EOMONTH(UG10,0)))+DAY(EOMONTH(UG10,0)),31)","v":31},{"$f":"+IF(DAY(EOMONTH(UH10,0))<Simulador!$B$27,(Simulador!$B$27-DAY(EOMONTH(UH10,0)))+DAY(EOMONTH(UH10,0)),31)","v":31},{"$f":"+IF(DAY(EOMONTH(UI10,0))<Simulador!$B$27,(Simulador!$B$27-DAY(EOMONTH(UI10,0)))+DAY(EOMONTH(UI10,0)),31)","v":31},{"$f":"+IF(DAY(EOMONTH(UJ10,0))<Simulador!$B$27,(Simulador!$B$27-DAY(EOMONTH(UJ10,0)))+DAY(EOMONTH(UJ10,0)),31)","v":31},{"$f":"+IF(DAY(EOMONTH(UK10,0))<Simulador!$B$27,(Simulador!$B$27-DAY(EOMONTH(UK10,0)))+DAY(EOMONTH(UK10,0)),31)","v":31},{"$f":"+IF(DAY(EOMONTH(UL10,0))<Simulador!$B$27,(Simulador!$B$27-DAY(EOMONTH(UL10,0)))+DAY(EOMONTH(UL10,0)),31)","v":31},{"$f":"+IF(DAY(EOMONTH(UM10,0))<Simulador!$B$27,(Simulador!$B$27-DAY(EOMONTH(UM10,0)))+DAY(EOMONTH(UM10,0)),31)","v":31},{"$f":"+IF(DAY(EOMONTH(UN10,0))<Simulador!$B$27,(Simulador!$B$27-DAY(EOMONTH(UN10,0)))+DAY(EOMONTH(UN10,0)),31)","v":31},{"$f":"+IF(DAY(EOMONTH(UO10,0))<Simulador!$B$27,(Simulador!$B$27-DAY(EOMONTH(UO10,0)))+DAY(EOMONTH(UO10,0)),31)","v":31},{"$f":"+IF(DAY(EOMONTH(UP10,0))<Simulador!$B$27,(Simulador!$B$27-DAY(EOMONTH(UP10,0)))+DAY(EOMONTH(UP10,0)),31)","v":31},{"$f":"+IF(DAY(EOMONTH(UQ10,0))<Simulador!$B$27,(Simulador!$B$27-DAY(EOMONTH(UQ10,0)))+DAY(EOMONTH(UQ10,0)),31)","v":31},{"$f":"+IF(DAY(EOMONTH(UR10,0))<Simulador!$B$27,(Simulador!$B$27-DAY(EOMONTH(UR10,0)))+DAY(EOMONTH(UR10,0)),31)","v":31},{"$f":"+IF(DAY(EOMONTH(US10,0))<Simulador!$B$27,(Simulador!$B$27-DAY(EOMONTH(US10,0)))+DAY(EOMONTH(US10,0)),31)","v":31},{"$f":"+IF(DAY(EOMONTH(UT10,0))<Simulador!$B$27,(Simulador!$B$27-DAY(EOMONTH(UT10,0)))+DAY(EOMONTH(UT10,0)),31)","v":31},{"$f":"+IF(DAY(EOMONTH(UU10,0))<Simulador!$B$27,(Simulador!$B$27-DAY(EOMONTH(UU10,0)))+DAY(EOMONTH(UU10,0)),31)","v":31},{"$f":"+IF(DAY(EOMONTH(UV10,0))<Simulador!$B$27,(Simulador!$B$27-DAY(EOMONTH(UV10,0)))+DAY(EOMONTH(UV10,0)),31)","v":31},{"$f":"+IF(DAY(EOMONTH(UW10,0))<Simulador!$B$27,(Simulador!$B$27-DAY(EOMONTH(UW10,0)))+DAY(EOMONTH(UW10,0)),31)","v":31},{"$f":"+IF(DAY(EOMONTH(UX10,0))<Simulador!$B$27,(Simulador!$B$27-DAY(EOMONTH(UX10,0)))+DAY(EOMONTH(UX10,0)),31)","v":31},{"$f":"+IF(DAY(EOMONTH(UY10,0))<Simulador!$B$27,(Simulador!$B$27-DAY(EOMONTH(UY10,0)))+DAY(EOMONTH(UY10,0)),31)","v":31},{"$f":"+IF(DAY(EOMONTH(UZ10,0))<Simulador!$B$27,(Simulador!$B$27-DAY(EOMONTH(UZ10,0)))+DAY(EOMONTH(UZ10,0)),31)","v":31},{"$f":"+IF(DAY(EOMONTH(VA10,0))<Simulador!$B$27,(Simulador!$B$27-DAY(EOMONTH(VA10,0)))+DAY(EOMONTH(VA10,0)),31)","v":31},{"$f":"+IF(DAY(EOMONTH(VB10,0))<Simulador!$B$27,(Simulador!$B$27-DAY(EOMONTH(VB10,0)))+DAY(EOMONTH(VB10,0)),31)","v":31},{"$f":"+IF(DAY(EOMONTH(VC10,0))<Simulador!$B$27,(Simulador!$B$27-DAY(EOMONTH(VC10,0)))+DAY(EOMONTH(VC10,0)),31)","v":31},{"$f":"+IF(DAY(EOMONTH(VD10,0))<Simulador!$B$27,(Simulador!$B$27-DAY(EOMONTH(VD10,0)))+DAY(EOMONTH(VD10,0)),31)","v":31},{"$f":"+IF(DAY(EOMONTH(VE10,0))<Simulador!$B$27,(Simulador!$B$27-DAY(EOMONTH(VE10,0)))+DAY(EOMONTH(VE10,0)),31)","v":31},{"$f":"+IF(DAY(EOMONTH(VF10,0))<Simulador!$B$27,(Simulador!$B$27-DAY(EOMONTH(VF10,0)))+DAY(EOMONTH(VF10,0)),31)","v":31},{"$f":"+IF(DAY(EOMONTH(VG10,0))<Simulador!$B$27,(Simulador!$B$27-DAY(EOMONTH(VG10,0)))+DAY(EOMONTH(VG10,0)),31)","v":31},{"$f":"+IF(DAY(EOMONTH(VH10,0))<Simulador!$B$27,(Simulador!$B$27-DAY(EOMONTH(VH10,0)))+DAY(EOMONTH(VH10,0)),31)","v":31},{"$f":"+IF(DAY(EOMONTH(VI10,0))<Simulador!$B$27,(Simulador!$B$27-DAY(EOMONTH(VI10,0)))+DAY(EOMONTH(VI10,0)),31)","v":31},{"$f":"+IF(DAY(EOMONTH(VJ10,0))<Simulador!$B$27,(Simulador!$B$27-DAY(EOMONTH(VJ10,0)))+DAY(EOMONTH(VJ10,0)),31)","v":31},{"$f":"+IF(DAY(EOMONTH(VK10,0))<Simulador!$B$27,(Simulador!$B$27-DAY(EOMONTH(VK10,0)))+DAY(EOMONTH(VK10,0)),31)","v":31},{"$f":"+IF(DAY(EOMONTH(VL10,0))<Simulador!$B$27,(Simulador!$B$27-DAY(EOMONTH(VL10,0)))+DAY(EOMONTH(VL10,0)),31)","v":31},{"$f":"+IF(DAY(EOMONTH(VM10,0))<Simulador!$B$27,(Simulador!$B$27-DAY(EOMONTH(VM10,0)))+DAY(EOMONTH(VM10,0)),31)","v":31},{"$f":"+IF(DAY(EOMONTH(VN10,0))<Simulador!$B$27,(Simulador!$B$27-DAY(EOMONTH(VN10,0)))+DAY(EOMONTH(VN10,0)),31)","v":31},{"$f":"+IF(DAY(EOMONTH(VO10,0))<Simulador!$B$27,(Simulador!$B$27-DAY(EOMONTH(VO10,0)))+DAY(EOMONTH(VO10,0)),31)","v":31},{"$f":"+IF(DAY(EOMONTH(VP10,0))<Simulador!$B$27,(Simulador!$B$27-DAY(EOMONTH(VP10,0)))+DAY(EOMONTH(VP10,0)),31)","v":31},{"$f":"+IF(DAY(EOMONTH(VQ10,0))<Simulador!$B$27,(Simulador!$B$27-DAY(EOMONTH(VQ10,0)))+DAY(EOMONTH(VQ10,0)),31)","v":31},{"$f":"+IF(DAY(EOMONTH(VR10,0))<Simulador!$B$27,(Simulador!$B$27-DAY(EOMONTH(VR10,0)))+DAY(EOMONTH(VR10,0)),31)","v":31},{"$f":"+IF(DAY(EOMONTH(VS10,0))<Simulador!$B$27,(Simulador!$B$27-DAY(EOMONTH(VS10,0)))+DAY(EOMONTH(VS10,0)),31)","v":31},{"$f":"+IF(DAY(EOMONTH(VT10,0))<Simulador!$B$27,(Simulador!$B$27-DAY(EOMONTH(VT10,0)))+DAY(EOMONTH(VT10,0)),31)","v":31},{"$f":"+IF(DAY(EOMONTH(VU10,0))<Simulador!$B$27,(Simulador!$B$27-DAY(EOMONTH(VU10,0)))+DAY(EOMONTH(VU10,0)),31)","v":31},{"$f":"+IF(DAY(EOMONTH(VV10,0))<Simulador!$B$27,(Simulador!$B$27-DAY(EOMONTH(VV10,0)))+DAY(EOMONTH(VV10,0)),31)","v":31},{"$f":"+IF(DAY(EOMONTH(VW10,0))<Simulador!$B$27,(Simulador!$B$27-DAY(EOMONTH(VW10,0)))+DAY(EOMONTH(VW10,0)),31)","v":31},{"$f":"+IF(DAY(EOMONTH(VX10,0))<Simulador!$B$27,(Simulador!$B$27-DAY(EOMONTH(VX10,0)))+DAY(EOMONTH(VX10,0)),31)","v":31},{"$f":"+IF(DAY(EOMONTH(VY10,0))<Simulador!$B$27,(Simulador!$B$27-DAY(EOMONTH(VY10,0)))+DAY(EOMONTH(VY10,0)),31)","v":31},{"$f":"+IF(DAY(EOMONTH(VZ10,0))<Simulador!$B$27,(Simulador!$B$27-DAY(EOMONTH(VZ10,0)))+DAY(EOMONTH(VZ10,0)),31)","v":31},{"$f":"+IF(DAY(EOMONTH(WA10,0))<Simulador!$B$27,(Simulador!$B$27-DAY(EOMONTH(WA10,0)))+DAY(EOMONTH(WA10,0)),31)","v":31},{"$f":"+IF(DAY(EOMONTH(WB10,0))<Simulador!$B$27,(Simulador!$B$27-DAY(EOMONTH(WB10,0)))+DAY(EOMONTH(WB10,0)),31)","v":31},{"$f":"+IF(DAY(EOMONTH(WC10,0))<Simulador!$B$27,(Simulador!$B$27-DAY(EOMONTH(WC10,0)))+DAY(EOMONTH(WC10,0)),31)","v":31},{"$f":"+IF(DAY(EOMONTH(WD10,0))<Simulador!$B$27,(Simulador!$B$27-DAY(EOMONTH(WD10,0)))+DAY(EOMONTH(WD10,0)),31)","v":31},{"$f":"+IF(DAY(EOMONTH(WE10,0))<Simulador!$B$27,(Simulador!$B$27-DAY(EOMONTH(WE10,0)))+DAY(EOMONTH(WE10,0)),31)","v":31},{"$f":"+IF(DAY(EOMONTH(WF10,0))<Simulador!$B$27,(Simulador!$B$27-DAY(EOMONTH(WF10,0)))+DAY(EOMONTH(WF10,0)),31)","v":31},{"$f":"+IF(DAY(EOMONTH(WG10,0))<Simulador!$B$27,(Simulador!$B$27-DAY(EOMONTH(WG10,0)))+DAY(EOMONTH(WG10,0)),31)","v":31},{"$f":"+IF(DAY(EOMONTH(WH10,0))<Simulador!$B$27,(Simulador!$B$27-DAY(EOMONTH(WH10,0)))+DAY(EOMONTH(WH10,0)),31)","v":31},{"$f":"+IF(DAY(EOMONTH(WI10,0))<Simulador!$B$27,(Simulador!$B$27-DAY(EOMONTH(WI10,0)))+DAY(EOMONTH(WI10,0)),31)","v":31},{"$f":"+IF(DAY(EOMONTH(WJ10,0))<Simulador!$B$27,(Simulador!$B$27-DAY(EOMONTH(WJ10,0)))+DAY(EOMONTH(WJ10,0)),31)","v":31},{"$f":"+IF(DAY(EOMONTH(WK10,0))<Simulador!$B$27,(Simulador!$B$27-DAY(EOMONTH(WK10,0)))+DAY(EOMONTH(WK10,0)),31)","v":31},{"$f":"+IF(DAY(EOMONTH(WL10,0))<Simulador!$B$27,(Simulador!$B$27-DAY(EOMONTH(WL10,0)))+DAY(EOMONTH(WL10,0)),31)","v":31},{"$f":"+IF(DAY(EOMONTH(WM10,0))<Simulador!$B$27,(Simulador!$B$27-DAY(EOMONTH(WM10,0)))+DAY(EOMONTH(WM10,0)),31)","v":31},{"$f":"+IF(DAY(EOMONTH(WN10,0))<Simulador!$B$27,(Simulador!$B$27-DAY(EOMONTH(WN10,0)))+DAY(EOMONTH(WN10,0)),31)","v":31},{"$f":"+IF(DAY(EOMONTH(WO10,0))<Simulador!$B$27,(Simulador!$B$27-DAY(EOMONTH(WO10,0)))+DAY(EOMONTH(WO10,0)),31)","v":31},{"$f":"+IF(DAY(EOMONTH(WP10,0))<Simulador!$B$27,(Simulador!$B$27-DAY(EOMONTH(WP10,0)))+DAY(EOMONTH(WP10,0)),31)","v":31},{"$f":"+IF(DAY(EOMONTH(WQ10,0))<Simulador!$B$27,(Simulador!$B$27-DAY(EOMONTH(WQ10,0)))+DAY(EOMONTH(WQ10,0)),31)","v":31},{"$f":"+IF(DAY(EOMONTH(WR10,0))<Simulador!$B$27,(Simulador!$B$27-DAY(EOMONTH(WR10,0)))+DAY(EOMONTH(WR10,0)),31)","v":31},{"$f":"+IF(DAY(EOMONTH(WS10,0))<Simulador!$B$27,(Simulador!$B$27-DAY(EOMONTH(WS10,0)))+DAY(EOMONTH(WS10,0)),31)","v":31},{"$f":"+IF(DAY(EOMONTH(WT10,0))<Simulador!$B$27,(Simulador!$B$27-DAY(EOMONTH(WT10,0)))+DAY(EOMONTH(WT10,0)),31)","v":31},{"$f":"+IF(DAY(EOMONTH(WU10,0))<Simulador!$B$27,(Simulador!$B$27-DAY(EOMONTH(WU10,0)))+DAY(EOMONTH(WU10,0)),31)","v":31},{"$f":"+IF(DAY(EOMONTH(WV10,0))<Simulador!$B$27,(Simulador!$B$27-DAY(EOMONTH(WV10,0)))+DAY(EOMONTH(WV10,0)),31)","v":31},{"$f":"+IF(DAY(EOMONTH(WW10,0))<Simulador!$B$27,(Simulador!$B$27-DAY(EOMONTH(WW10,0)))+DAY(EOMONTH(WW10,0)),31)","v":31},{"$f":"+IF(DAY(EOMONTH(WX10,0))<Simulador!$B$27,(Simulador!$B$27-DAY(EOMONTH(WX10,0)))+DAY(EOMONTH(WX10,0)),31)","v":31},{"$f":"+IF(DAY(EOMONTH(WY10,0))<Simulador!$B$27,(Simulador!$B$27-DAY(EOMONTH(WY10,0)))+DAY(EOMONTH(WY10,0)),31)","v":31},{"$f":"+IF(DAY(EOMONTH(WZ10,0))<Simulador!$B$27,(Simulador!$B$27-DAY(EOMONTH(WZ10,0)))+DAY(EOMONTH(WZ10,0)),31)","v":31},{"$f":"+IF(DAY(EOMONTH(XA10,0))<Simulador!$B$27,(Simulador!$B$27-DAY(EOMONTH(XA10,0)))+DAY(EOMONTH(XA10,0)),31)","v":31},{"$f":"+IF(DAY(EOMONTH(XB10,0))<Simulador!$B$27,(Simulador!$B$27-DAY(EOMONTH(XB10,0)))+DAY(EOMONTH(XB10,0)),31)","v":31},{"$f":"+IF(DAY(EOMONTH(XC10,0))<Simulador!$B$27,(Simulador!$B$27-DAY(EOMONTH(XC10,0)))+DAY(EOMONTH(XC10,0)),31)","v":31},{"$f":"+IF(DAY(EOMONTH(XD10,0))<Simulador!$B$27,(Simulador!$B$27-DAY(EOMONTH(XD10,0)))+DAY(EOMONTH(XD10,0)),31)","v":31},{"$f":"+IF(DAY(EOMONTH(XE10,0))<Simulador!$B$27,(Simulador!$B$27-DAY(EOMONTH(XE10,0)))+DAY(EOMONTH(XE10,0)),31)","v":31},{"$f":"+IF(DAY(EOMONTH(XF10,0))<Simulador!$B$27,(Simulador!$B$27-DAY(EOMONTH(XF10,0)))+DAY(EOMONTH(XF10,0)),31)","v":31},{"$f":"+IF(DAY(EOMONTH(XG10,0))<Simulador!$B$27,(Simulador!$B$27-DAY(EOMONTH(XG10,0)))+DAY(EOMONTH(XG10,0)),31)","v":31},{"$f":"+IF(DAY(EOMONTH(XH10,0))<Simulador!$B$27,(Simulador!$B$27-DAY(EOMONTH(XH10,0)))+DAY(EOMONTH(XH10,0)),31)","v":31},{"$f":"+IF(DAY(EOMONTH(XI10,0))<Simulador!$B$27,(Simulador!$B$27-DAY(EOMONTH(XI10,0)))+DAY(EOMONTH(XI10,0)),31)","v":31},{"$f":"+IF(DAY(EOMONTH(XJ10,0))<Simulador!$B$27,(Simulador!$B$27-DAY(EOMONTH(XJ10,0)))+DAY(EOMONTH(XJ10,0)),31)","v":31},{"$f":"+IF(DAY(EOMONTH(XK10,0))<Simulador!$B$27,(Simulador!$B$27-DAY(EOMONTH(XK10,0)))+DAY(EOMONTH(XK10,0)),31)","v":31},{"$f":"+IF(DAY(EOMONTH(XL10,0))<Simulador!$B$27,(Simulador!$B$27-DAY(EOMONTH(XL10,0)))+DAY(EOMONTH(XL10,0)),31)","v":31},{"$f":"+IF(DAY(EOMONTH(XM10,0))<Simulador!$B$27,(Simulador!$B$27-DAY(EOMONTH(XM10,0)))+DAY(EOMONTH(XM10,0)),31)","v":31},{"$f":"+IF(DAY(EOMONTH(XN10,0))<Simulador!$B$27,(Simulador!$B$27-DAY(EOMONTH(XN10,0)))+DAY(EOMONTH(XN10,0)),31)","v":31},{"$f":"+IF(DAY(EOMONTH(XO10,0))<Simulador!$B$27,(Simulador!$B$27-DAY(EOMONTH(XO10,0)))+DAY(EOMONTH(XO10,0)),31)","v":31},{"$f":"+IF(DAY(EOMONTH(XP10,0))<Simulador!$B$27,(Simulador!$B$27-DAY(EOMONTH(XP10,0)))+DAY(EOMONTH(XP10,0)),31)","v":31},{"$f":"+IF(DAY(EOMONTH(XQ10,0))<Simulador!$B$27,(Simulador!$B$27-DAY(EOMONTH(XQ10,0)))+DAY(EOMONTH(XQ10,0)),31)","v":31},{"$f":"+IF(DAY(EOMONTH(XR10,0))<Simulador!$B$27,(Simulador!$B$27-DAY(EOMONTH(XR10,0)))+DAY(EOMONTH(XR10,0)),31)","v":31},{"$f":"+IF(DAY(EOMONTH(XS10,0))<Simulador!$B$27,(Simulador!$B$27-DAY(EOMONTH(XS10,0)))+DAY(EOMONTH(XS10,0)),31)","v":31},{"$f":"+IF(DAY(EOMONTH(XT10,0))<Simulador!$B$27,(Simulador!$B$27-DAY(EOMONTH(XT10,0)))+DAY(EOMONTH(XT10,0)),31)","v":31},{"$f":"+IF(DAY(EOMONTH(XU10,0))<Simulador!$B$27,(Simulador!$B$27-DAY(EOMONTH(XU10,0)))+DAY(EOMONTH(XU10,0)),31)","v":31},{"$f":"+IF(DAY(EOMONTH(XV10,0))<Simulador!$B$27,(Simulador!$B$27-DAY(EOMONTH(XV10,0)))+DAY(EOMONTH(XV10,0)),31)","v":31},{"$f":"+IF(DAY(EOMONTH(XW10,0))<Simulador!$B$27,(Simulador!$B$27-DAY(EOMONTH(XW10,0)))+DAY(EOMONTH(XW10,0)),31)","v":31},{"$f":"+IF(DAY(EOMONTH(XX10,0))<Simulador!$B$27,(Simulador!$B$27-DAY(EOMONTH(XX10,0)))+DAY(EOMONTH(XX10,0)),31)","v":31},{"$f":"+IF(DAY(EOMONTH(XY10,0))<Simulador!$B$27,(Simulador!$B$27-DAY(EOMONTH(XY10,0)))+DAY(EOMONTH(XY10,0)),31)","v":31},{"$f":"+IF(DAY(EOMONTH(XZ10,0))<Simulador!$B$27,(Simulador!$B$27-DAY(EOMONTH(XZ10,0)))+DAY(EOMONTH(XZ10,0)),31)","v":31},{"$f":"+IF(DAY(EOMONTH(YA10,0))<Simulador!$B$27,(Simulador!$B$27-DAY(EOMONTH(YA10,0)))+DAY(EOMONTH(YA10,0)),31)","v":31},{"$f":"+IF(DAY(EOMONTH(YB10,0))<Simulador!$B$27,(Simulador!$B$27-DAY(EOMONTH(YB10,0)))+DAY(EOMONTH(YB10,0)),31)","v":31},{"$f":"+IF(DAY(EOMONTH(YC10,0))<Simulador!$B$27,(Simulador!$B$27-DAY(EOMONTH(YC10,0)))+DAY(EOMONTH(YC10,0)),31)","v":31},{"$f":"+IF(DAY(EOMONTH(YD10,0))<Simulador!$B$27,(Simulador!$B$27-DAY(EOMONTH(YD10,0)))+DAY(EOMONTH(YD10,0)),31)","v":31},{"$f":"+IF(DAY(EOMONTH(YE10,0))<Simulador!$B$27,(Simulador!$B$27-DAY(EOMONTH(YE10,0)))+DAY(EOMONTH(YE10,0)),31)","v":31},{"$f":"+IF(DAY(EOMONTH(YF10,0))<Simulador!$B$27,(Simulador!$B$27-DAY(EOMONTH(YF10,0)))+DAY(EOMONTH(YF10,0)),31)","v":31},{"$f":"+IF(DAY(EOMONTH(YG10,0))<Simulador!$B$27,(Simulador!$B$27-DAY(EOMONTH(YG10,0)))+DAY(EOMONTH(YG10,0)),31)","v":31},{"$f":"+IF(DAY(EOMONTH(YH10,0))<Simulador!$B$27,(Simulador!$B$27-DAY(EOMONTH(YH10,0)))+DAY(EOMONTH(YH10,0)),31)","v":31},{"$f":"+IF(DAY(EOMONTH(YI10,0))<Simulador!$B$27,(Simulador!$B$27-DAY(EOMONTH(YI10,0)))+DAY(EOMONTH(YI10,0)),31)","v":31},{"$f":"+IF(DAY(EOMONTH(YJ10,0))<Simulador!$B$27,(Simulador!$B$27-DAY(EOMONTH(YJ10,0)))+DAY(EOMONTH(YJ10,0)),31)","v":31},{"$f":"+IF(DAY(EOMONTH(YK10,0))<Simulador!$B$27,(Simulador!$B$27-DAY(EOMONTH(YK10,0)))+DAY(EOMONTH(YK10,0)),31)","v":31},{"$f":"+IF(DAY(EOMONTH(YL10,0))<Simulador!$B$27,(Simulador!$B$27-DAY(EOMONTH(YL10,0)))+DAY(EOMONTH(YL10,0)),31)","v":31},{"$f":"+IF(DAY(EOMONTH(YM10,0))<Simulador!$B$27,(Simulador!$B$27-DAY(EOMONTH(YM10,0)))+DAY(EOMONTH(YM10,0)),31)","v":31},{"$f":"+IF(DAY(EOMONTH(YN10,0))<Simulador!$B$27,(Simulador!$B$27-DAY(EOMONTH(YN10,0)))+DAY(EOMONTH(YN10,0)),31)","v":31},{"$f":"+IF(DAY(EOMONTH(YO10,0))<Simulador!$B$27,(Simulador!$B$27-DAY(EOMONTH(YO10,0)))+DAY(EOMONTH(YO10,0)),31)","v":31},{"$f":"+IF(DAY(EOMONTH(YP10,0))<Simulador!$B$27,(Simulador!$B$27-DAY(EOMONTH(YP10,0)))+DAY(EOMONTH(YP10,0)),31)","v":31},{"$f":"+IF(DAY(EOMONTH(YQ10,0))<Simulador!$B$27,(Simulador!$B$27-DAY(EOMONTH(YQ10,0)))+DAY(EOMONTH(YQ10,0)),31)","v":31},{"$f":"+IF(DAY(EOMONTH(YR10,0))<Simulador!$B$27,(Simulador!$B$27-DAY(EOMONTH(YR10,0)))+DAY(EOMONTH(YR10,0)),31)","v":31},{"$f":"+IF(DAY(EOMONTH(YS10,0))<Simulador!$B$27,(Simulador!$B$27-DAY(EOMONTH(YS10,0)))+DAY(EOMONTH(YS10,0)),31)","v":31},{"$f":"+IF(DAY(EOMONTH(YT10,0))<Simulador!$B$27,(Simulador!$B$27-DAY(EOMONTH(YT10,0)))+DAY(EOMONTH(YT10,0)),31)","v":31},{"$f":"+IF(DAY(EOMONTH(YU10,0))<Simulador!$B$27,(Simulador!$B$27-DAY(EOMONTH(YU10,0)))+DAY(EOMONTH(YU10,0)),31)","v":31},{"$f":"+IF(DAY(EOMONTH(YV10,0))<Simulador!$B$27,(Simulador!$B$27-DAY(EOMONTH(YV10,0)))+DAY(EOMONTH(YV10,0)),31)","v":31},{"$f":"+IF(DAY(EOMONTH(YW10,0))<Simulador!$B$27,(Simulador!$B$27-DAY(EOMONTH(YW10,0)))+DAY(EOMONTH(YW10,0)),31)","v":31},{"$f":"+IF(DAY(EOMONTH(YX10,0))<Simulador!$B$27,(Simulador!$B$27-DAY(EOMONTH(YX10,0)))+DAY(EOMONTH(YX10,0)),31)","v":31},{"$f":"+IF(DAY(EOMONTH(YY10,0))<Simulador!$B$27,(Simulador!$B$27-DAY(EOMONTH(YY10,0)))+DAY(EOMONTH(YY10,0)),31)","v":31},{"$f":"+IF(DAY(EOMONTH(YZ10,0))<Simulador!$B$27,(Simulador!$B$27-DAY(EOMONTH(YZ10,0)))+DAY(EOMONTH(YZ10,0)),31)","v":31},{"$f":"+IF(DAY(EOMONTH(ZA10,0))<Simulador!$B$27,(Simulador!$B$27-DAY(EOMONTH(ZA10,0)))+DAY(EOMONTH(ZA10,0)),31)","v":31},{"$f":"+IF(DAY(EOMONTH(ZB10,0))<Simulador!$B$27,(Simulador!$B$27-DAY(EOMONTH(ZB10,0)))+DAY(EOMONTH(ZB10,0)),31)","v":31},{"$f":"+IF(DAY(EOMONTH(ZC10,0))<Simulador!$B$27,(Simulador!$B$27-DAY(EOMONTH(ZC10,0)))+DAY(EOMONTH(ZC10,0)),31)","v":31},{"$f":"+IF(DAY(EOMONTH(ZD10,0))<Simulador!$B$27,(Simulador!$B$27-DAY(EOMONTH(ZD10,0)))+DAY(EOMONTH(ZD10,0)),31)","v":31},{"$f":"+IF(DAY(EOMONTH(ZE10,0))<Simulador!$B$27,(Simulador!$B$27-DAY(EOMONTH(ZE10,0)))+DAY(EOMONTH(ZE10,0)),31)","v":31},{"$f":"+IF(DAY(EOMONTH(ZF10,0))<Simulador!$B$27,(Simulador!$B$27-DAY(EOMONTH(ZF10,0)))+DAY(EOMONTH(ZF10,0)),31)","v":31},{"$f":"+IF(DAY(EOMONTH(ZG10,0))<Simulador!$B$27,(Simulador!$B$27-DAY(EOMONTH(ZG10,0)))+DAY(EOMONTH(ZG10,0)),31)","v":31},{"$f":"+IF(DAY(EOMONTH(ZH10,0))<Simulador!$B$27,(Simulador!$B$27-DAY(EOMONTH(ZH10,0)))+DAY(EOMONTH(ZH10,0)),31)","v":31},{"$f":"+IF(DAY(EOMONTH(ZI10,0))<Simulador!$B$27,(Simulador!$B$27-DAY(EOMONTH(ZI10,0)))+DAY(EOMONTH(ZI10,0)),31)","v":31},{"$f":"+IF(DAY(EOMONTH(ZJ10,0))<Simulador!$B$27,(Simulador!$B$27-DAY(EOMONTH(ZJ10,0)))+DAY(EOMONTH(ZJ10,0)),31)","v":31},{"$f":"+IF(DAY(EOMONTH(ZK10,0))<Simulador!$B$27,(Simulador!$B$27-DAY(EOMONTH(ZK10,0)))+DAY(EOMONTH(ZK10,0)),31)","v":31},{"$f":"+IF(DAY(EOMONTH(ZL10,0))<Simulador!$B$27,(Simulador!$B$27-DAY(EOMONTH(ZL10,0)))+DAY(EOMONTH(ZL10,0)),31)","v":31},{"$f":"+IF(DAY(EOMONTH(ZM10,0))<Simulador!$B$27,(Simulador!$B$27-DAY(EOMONTH(ZM10,0)))+DAY(EOMONTH(ZM10,0)),31)","v":31},{"$f":"+IF(DAY(EOMONTH(ZN10,0))<Simulador!$B$27,(Simulador!$B$27-DAY(EOMONTH(ZN10,0)))+DAY(EOMONTH(ZN10,0)),31)","v":31},{"$f":"+IF(DAY(EOMONTH(ZO10,0))<Simulador!$B$27,(Simulador!$B$27-DAY(EOMONTH(ZO10,0)))+DAY(EOMONTH(ZO10,0)),31)","v":31},{"$f":"+IF(DAY(EOMONTH(ZP10,0))<Simulador!$B$27,(Simulador!$B$27-DAY(EOMONTH(ZP10,0)))+DAY(EOMONTH(ZP10,0)),31)","v":31},{"$f":"+IF(DAY(EOMONTH(ZQ10,0))<Simulador!$B$27,(Simulador!$B$27-DAY(EOMONTH(ZQ10,0)))+DAY(EOMONTH(ZQ10,0)),31)","v":31},{"$f":"+IF(DAY(EOMONTH(ZR10,0))<Simulador!$B$27,(Simulador!$B$27-DAY(EOMONTH(ZR10,0)))+DAY(EOMONTH(ZR10,0)),31)","v":31},{"$f":"+IF(DAY(EOMONTH(ZS10,0))<Simulador!$B$27,(Simulador!$B$27-DAY(EOMONTH(ZS10,0)))+DAY(EOMONTH(ZS10,0)),31)","v":31},{"$f":"+IF(DAY(EOMONTH(ZT10,0))<Simulador!$B$27,(Simulador!$B$27-DAY(EOMONTH(ZT10,0)))+DAY(EOMONTH(ZT10,0)),31)","v":31},{"$f":"+IF(DAY(EOMONTH(ZU10,0))<Simulador!$B$27,(Simulador!$B$27-DAY(EOMONTH(ZU10,0)))+DAY(EOMONTH(ZU10,0)),31)","v":31},{"$f":"+IF(DAY(EOMONTH(ZV10,0))<Simulador!$B$27,(Simulador!$B$27-DAY(EOMONTH(ZV10,0)))+DAY(EOMONTH(ZV10,0)),31)","v":31},{"$f":"+IF(DAY(EOMONTH(ZW10,0))<Simulador!$B$27,(Simulador!$B$27-DAY(EOMONTH(ZW10,0)))+DAY(EOMONTH(ZW10,0)),31)","v":31},{"$f":"+IF(DAY(EOMONTH(ZX10,0))<Simulador!$B$27,(Simulador!$B$27-DAY(EOMONTH(ZX10,0)))+DAY(EOMONTH(ZX10,0)),31)","v":31},{"$f":"+IF(DAY(EOMONTH(ZY10,0))<Simulador!$B$27,(Simulador!$B$27-DAY(EOMONTH(ZY10,0)))+DAY(EOMONTH(ZY10,0)),31)","v":31},{"$f":"+IF(DAY(EOMONTH(ZZ10,0))<Simulador!$B$27,(Simulador!$B$27-DAY(EOMONTH(ZZ10,0)))+DAY(EOMONTH(ZZ10,0)),31)","v":31},{"$f":"+IF(DAY(EOMONTH(AAA10,0))<Simulador!$B$27,(Simulador!$B$27-DAY(EOMONTH(AAA10,0)))+DAY(EOMONTH(AAA10,0)),31)","v":31},{"$f":"+IF(DAY(EOMONTH(AAB10,0))<Simulador!$B$27,(Simulador!$B$27-DAY(EOMONTH(AAB10,0)))+DAY(EOMONTH(AAB10,0)),31)","v":31},{"$f":"+IF(DAY(EOMONTH(AAC10,0))<Simulador!$B$27,(Simulador!$B$27-DAY(EOMONTH(AAC10,0)))+DAY(EOMONTH(AAC10,0)),31)","v":31},{"$f":"+IF(DAY(EOMONTH(AAD10,0))<Simulador!$B$27,(Simulador!$B$27-DAY(EOMONTH(AAD10,0)))+DAY(EOMONTH(AAD10,0)),31)","v":31},{"$f":"+IF(DAY(EOMONTH(AAE10,0))<Simulador!$B$27,(Simulador!$B$27-DAY(EOMONTH(AAE10,0)))+DAY(EOMONTH(AAE10,0)),31)","v":31},{"$f":"+IF(DAY(EOMONTH(AAF10,0))<Simulador!$B$27,(Simulador!$B$27-DAY(EOMONTH(AAF10,0)))+DAY(EOMONTH(AAF10,0)),31)","v":31},{"$f":"+IF(DAY(EOMONTH(AAG10,0))<Simulador!$B$27,(Simulador!$B$27-DAY(EOMONTH(AAG10,0)))+DAY(EOMONTH(AAG10,0)),31)","v":31},{"$f":"+IF(DAY(EOMONTH(AAH10,0))<Simulador!$B$27,(Simulador!$B$27-DAY(EOMONTH(AAH10,0)))+DAY(EOMONTH(AAH10,0)),31)","v":31},{"$f":"+IF(DAY(EOMONTH(AAI10,0))<Simulador!$B$27,(Simulador!$B$27-DAY(EOMONTH(AAI10,0)))+DAY(EOMONTH(AAI10,0)),31)","v":31},{"$f":"+IF(DAY(EOMONTH(AAJ10,0))<Simulador!$B$27,(Simulador!$B$27-DAY(EOMONTH(AAJ10,0)))+DAY(EOMONTH(AAJ10,0)),31)","v":31},{"$f":"+IF(DAY(EOMONTH(AAK10,0))<Simulador!$B$27,(Simulador!$B$27-DAY(EOMONTH(AAK10,0)))+DAY(EOMONTH(AAK10,0)),31)","v":31},{"$f":"+IF(DAY(EOMONTH(AAL10,0))<Simulador!$B$27,(Simulador!$B$27-DAY(EOMONTH(AAL10,0)))+DAY(EOMONTH(AAL10,0)),31)","v":31},{"$f":"+IF(DAY(EOMONTH(AAM10,0))<Simulador!$B$27,(Simulador!$B$27-DAY(EOMONTH(AAM10,0)))+DAY(EOMONTH(AAM10,0)),31)","v":31},{"$f":"+IF(DAY(EOMONTH(AAN10,0))<Simulador!$B$27,(Simulador!$B$27-DAY(EOMONTH(AAN10,0)))+DAY(EOMONTH(AAN10,0)),31)","v":31},{"$f":"+IF(DAY(EOMONTH(AAO10,0))<Simulador!$B$27,(Simulador!$B$27-DAY(EOMONTH(AAO10,0)))+DAY(EOMONTH(AAO10,0)),31)","v":31},{"$f":"+IF(DAY(EOMONTH(AAP10,0))<Simulador!$B$27,(Simulador!$B$27-DAY(EOMONTH(AAP10,0)))+DAY(EOMONTH(AAP10,0)),31)","v":31},{"$f":"+IF(DAY(EOMONTH(AAQ10,0))<Simulador!$B$27,(Simulador!$B$27-DAY(EOMONTH(AAQ10,0)))+DAY(EOMONTH(AAQ10,0)),31)","v":31},{"$f":"+IF(DAY(EOMONTH(AAR10,0))<Simulador!$B$27,(Simulador!$B$27-DAY(EOMONTH(AAR10,0)))+DAY(EOMONTH(AAR10,0)),31)","v":31},{"$f":"+IF(DAY(EOMONTH(AAS10,0))<Simulador!$B$27,(Simulador!$B$27-DAY(EOMONTH(AAS10,0)))+DAY(EOMONTH(AAS10,0)),31)","v":31},{"$f":"+IF(DAY(EOMONTH(AAT10,0))<Simulador!$B$27,(Simulador!$B$27-DAY(EOMONTH(AAT10,0)))+DAY(EOMONTH(AAT10,0)),31)","v":31}]
[null,"Fecha",{"$f":"+Simulador!C36","v":"2025-07-20"},{"$f":"+C10+1","v":"2025-07-21"},"2025-07-22","2025-07-23","2025-07-24","2025-07-25","2025-07-26","2025-07-27","2025-07-28","2025-07-29","2025-07-30","2025-07-31","2025-08-01","2025-08-02","2025-08-03","2025-08-04","2025-08-05","2025-08-06","2025-08-07","2025-08-08","2025-08-09","2025-08-10","2025-08-11","2025-08-12","2025-08-13","2025-08-14","2025-08-15","2025-08-16","2025-08-17","2025-08-18","2025-08-19","2025-08-20","2025-08-21","2025-08-22","2025-08-23","2025-08-24","2025-08-25","2025-08-26","2025-08-27","2025-08-28","2025-08-29","2025-08-30","2025-08-31","2025-09-01","2025-09-02","2025-09-03","2025-09-04","2025-09-05","2025-09-06","2025-09-07","2025-09-08","2025-09-09","2025-09-10","2025-09-11","2025-09-12","2025-09-13","2025-09-14","2025-09-15","2025-09-16","2025-09-17","2025-09-18","2025-09-19","2025-09-20","2025-09-21","2025-09-22",{"$f":"+BO10+1","v":"2025-09-23"},"2025-09-24","2025-09-25","2025-09-26","2025-09-27","2025-09-28","2025-09-29","2025-09-30","2025-10-01","2025-10-02","2025-10-03","2025-10-04","2025-10-05","2025-10-06","2025-10-07","2025-10-08","2025-10-09","2025-10-10","2025-10-11","2025-10-12","2025-10-13","2025-10-14","2025-10-15","2025-10-16","2025-10-17","2025-10-18","2025-10-19","2025-10-20","2025-10-21","2025-10-22","2025-10-23","2025-10-24","2025-10-25","2025-10-26","2025-10-27","2025-10-28","2025-10-29","2025-10-30","2025-10-31","2025-11-01","2025-11-02","2025-11-03","2025-11-04","2025-11-05","2025-11-06","2025-11-07","2025-11-08","2025-11-09","2025-11-10","2025-11-11","2025-11-12","2025-11-13","2025-11-14","2025-11-15","2025-11-16","2025-11-17","2025-11-18","2025-11-19","2025-11-20","2025-11-21","2025-11-22","2025-11-23","2025-11-24","2025-11-25",{"$f":"+EA10+1","v":"2025-11-26"},"2025-11-27","2025-11-28","2025-11-29","2025-11-30","2025-12-01","2025-12-02","2025-12-03","2025-12-04","2025-12-05","2025-12-06","2025-12-07","2025-12-08","2025-12-09","2025-12-10","2025-12-11","2025-12-12","2025-12-13","2025-12-14","2025-12-15","2025-12-16","2025-12-17","2025-12-18","2025-12-19","2025-12-20","2025-12-21","2025-12-22","2025-12-23","2025-12-24","2025-12-25","2025-12-26","2025-12-27","2025-12-28","2025-12-29","2025-12-30","2025-12-31","2026-01-01","2026-01-02","2026-01-03","2026-01-04","2026-01-05","2026-01-06","2026-01-07","2026-01-08","2026-01-09","2026-01-10","2026-01-11","2026-01-12","2026-01-13","2026-01-14","2026-01-15","2026-01-16","2026-01-17","2026-01-18","2026-01-19","2026-01-20","2026-01-21","2026-01-22","2026-01-23","2026-01-24","2026-01-25","2026-01-26","2026-01-27","2026-01-28",{"$f":"+GM10+1","v":"2026-01-29"},"2026-01-30","2026-01-31","2026-02-01","2026-02-02","2026-02-03","2026-02-04","2026-02-05","2026-02-06","2026-02-07","2026-02-08","2026-02-09","2026-02-10","2026-02-11","2026-02-12","2026-02-13","2026-02-14","2026-02-15","2026-02-16","2026-02-17","2026-02-18","2026-02-19","2026-02-20","2026-02-21","2026-02-22","2026-02-23","2026-02-24","2026-02-25","2026-02-26","2026-02-27","2026-02-28","2026-03-01","2026-03-02","2026-03-03","2026-03-04","2026-03-05","2026-03-06","2026-03-07","2026-03-08","2026-03-09","2026-03-10","2026-03-11","2026-03-12","2026-03-13","2026-03-14","2026-03-15","2026-03-16","2026-03-17","2026-03-18","2026-03-19","2026-03-20","2026-03-21","2026-03-22","2026-03-23","2026-03-24","2026-03-25","2026-03-26","2026-03-27","2026-03-28","2026-03-29","2026-03-30","2026-03-31","2026-04-01","2026-04-02",{"$f":"+IY10+1","v":"2026-04-03"},"2026-04-04","2026-04-05","2026-04-06","2026-04-07","2026-04-08","2026-04-09","2026-04-10","2026-04-11","2026-04-12","2026-04-13","2026-04-14","2026-04-15","2026-04-16","2026-04-17","2026-04-18","2026-04-19","2026-04-20","2026-04-21","2026-04-22","2026-04-23","2026-04-24","2026-04-25","2026-04-26","2026-04-27","2026-04-28","2026-04-29","2026-04-30","2026-05-01","2026-05-02","2026-05-03","2026-05-04","2026-05-05","2026-05-06","2026-05-07","2026-05-08","2026-05-09","2026-05-10","2026-05-11","2026-05-12","2026-05-13","2026-05-14","2026-05-15","2026-05-16","2026-05-17","2026-05-18","2026-05-19","2026-05-20","2026-05-21","2026-05-22","2026-05-23","2026-05-24","2026-05-25","2026-05-26","2026-05-27","2026-05-28","2026-05-29","2026-05-30","2026-05-31","2026-06-01","2026-06-02","2026-06-03","2026-06-04","2026-06-05",{"$f":"+LK10+1","v":"2026-06-06"},"2026-06-07","2026-06-08","2026-06-09","2026-06-10","2026-06-11","2026-06-12","2026-06-13","2026-06-14","2026-06-15","2026-06-16","2026-06-17","2026-06-18","2026-06-19","2026-06-20","2026-06-21","2026-06-22","2026-06-23","2026-06-24","2026-06-25","2026-06-26","2026-06-27","2026-06-28","2026-06-29","2026-06-30","2026-07-01","2026-07-02","2026-07-03","2026-07-04","2026-07-05","2026-07-06","2026-07-07","2026-07-08","2026-07-09","2026-07-10","2026-07-11","2026-07-12","2026-07-13","2026-07-14","2026-07-15","2026-07-16","2026-07-17","2026-07-18","2026-07-19","2026-07-20","2026-07-21","2026-07-22","2026-07-23","2026-07-24","2026-07-25","2026-07-26","2026-07-27","2026-07-28","2026-07-29","2026-07-30","2026-07-31","2026-08-01","2026-08-02","2026-08-03","2026-08-04","2026-08-05","2026-08-06","2026-08-07","2026-08-08",{"$f":"+NW10+1","v":"2026-08-09"},"2026-08-10","2026-08-11","2026-08-12","2026-08-13","2026-08-14","2026-08-15","2026-08-16","2026-08-17","2026-08-18","2026-08-19","2026-08-20","2026-08-21","2026-08-22","2026-08-23","2026-08-24","2026-08-25","2026-08-26","2026-08-27","2026-08-28","2026-08-29","2026-08-30","2026-08-31","2026-09-01","2026-09-02","2026-09-03","2026-09-04","2026-09-05","2026-09-06","2026-09-07","2026-09-08","2026-09-09","2026-09-10","2026-09-11","2026-09-12","2026-09-13","2026-09-14","2026-09-15","2026-09-16","2026-09-17","2026-09-18","2026-09-19","2026-09-20","2026-09-21","2026-09-22","2026-09-23","2026-09-24","2026-09-25","2026-09-26","2026-09-27","2026-09-28","2026-09-29","2026-09-30","2026-10-01","2026-10-02","2026-10-03","2026-10-04","2026-10-05","2026-10-06","2026-10-07","2026-10-08","2026-10-09","2026-10-10","2026-10-11",{"$f":"+QI10+1","v":"2026-10-12"},"2026-10-13","2026-10-14","2026-10-15","2026-10-16","2026-10-17","2026-10-18","2026-10-19","2026-10-20","2026-10-21","2026-10-22","2026-10-23","2026-10-24","2026-10-25","2026-10-26","2026-10-27","2026-10-28","2026-10-29","2026-10-30","2026-10-31","2026-11-01","2026-11-02","2026-11-03","2026-11-04","2026-11-05","2026-11-06","2026-11-07","2026-11-08","2026-11-09","2026-11-10","2026-11-11","2026-11-12","2026-11-13","2026-11-14","2026-11-15","2026-11-16","2026-11-17","2026-11-18","2026-11-19","2026-11-20","2026-11-21","2026-11-22","2026-11-23","2026-11-24","2026-11-25","2026-11-26","2026-11-27","2026-11-28","2026-11-29","2026-11-30","2026-12-01","2026-12-02","2026-12-03","2026-12-04","2026-12-05","2026-12-06","2026-12-07","2026-12-08","2026-12-09","2026-12-10","2026-12-11","2026-12-12","2026-12-13","2026-12-14",{"$f":"+SU10+1","v":"2026-12-15"},"2026-12-16","2026-12-17","2026-12-18","2026-12-19","2026-12-20","2026-12-21","2026-12-22","2026-12-23","2026-12-24","2026-12-25","2026-12-26","2026-12-27","2026-12-28","2026-12-29","2026-12-30","2026-12-31","2027-01-01","2027-01-02","2027-01-03","2027-01-04","2027-01-05","2027-01-06","2027-01-07","2027-01-08","2027-01-09","2027-01-10","2027-01-11","2027-01-12","2027-01-13","2027-01-14","2027-01-15","2027-01-16","2027-01-17","2027-01-18","2027-01-19","2027-01-20","2027-01-21","2027-01-22","2027-01-23","2027-01-24","2027-01-25","2027-01-26","2027-01-27","2027-01-28","2027-01-29","2027-01-30","2027-01-31","2027-02-01","2027-02-02","2027-02-03","2027-02-04","2027-02-05","2027-02-06","2027-02-07","2027-02-08","2027-02-09","2027-02-10","2027-02-11","2027-02-12","2027-02-13","2027-02-14","2027-02-15","2027-02-16",{"$f":"+VG10+1","v":"2027-02-17"},"2027-02-18","2027-02-19","2027-02-20","2027-02-21","2027-02-22","2027-02-23","2027-02-24","2027-02-25","2027-02-26","2027-02-27","2027-02-28","2027-03-01","2027-03-02","2027-03-03","2027-03-04","2027-03-05","2027-03-06","2027-03-07","2027-03-08","2027-03-09","2027-03-10","2027-03-11","2027-03-12","2027-03-13","2027-03-14","2027-03-15","2027-03-16","2027-03-17","2027-03-18","2027-03-19","2027-03-20","2027-03-21","2027-03-22","2027-03-23","2027-03-24","2027-03-25","2027-03-26","2027-03-27","2027-03-28","2027-03-29","2027-03-30","2027-03-31","2027-04-01","2027-04-02","2027-04-03","2027-04-04","2027-04-05","2027-04-06","2027-04-07","2027-04-08","2027-04-09","2027-04-10","2027-04-11","2027-04-12","2027-04-13","2027-04-14","2027-04-15","2027-04-16","2027-04-17","2027-04-18","2027-04-19","2027-04-20","2027-04-21",{"$f":"+XS10+1","v":"2027-04-22"},"2027-04-23","2027-04-24","2027-04-25","2027-04-26","2027-04-27","2027-04-28","2027-04-29","2027-04-30","2027-05-01","2027-05-02","2027-05-03","2027-05-04","2027-05-05","2027-05-06","2027-05-07","2027-05-08","2027-05-09","2027-05-10","2027-05-11","2027-05-12","2027-05-13","2027-05-14","2027-05-15","2027-05-16","2027-05-17","2027-05-18","2027-05-19","2027-05-20","2027-05-21","2027-05-22","2027-05-23","2027-05-24","2027-05-25","2027-05-26","2027-05-27","2027-05-28","2027-05-29","2027-05-30","2027-05-31","2027-06-01","2027-06-02","2027-06-03","2027-06-04","2027-06-05","2027-06-06","2027-06-07","2027-06-08","2027-06-09","2027-06-10","2027-06-11","2027-06-12","2027-06-13","2027-06-14","2027-06-15","2027-06-16","2027-06-17","2027-06-18","2027-06-19","2027-06-20","2027-06-21","2027-06-22","2027-06-23","2027-06-24",{"$f":"+AAE10+1","v":"2027-06-25"},"2027-06-26","2027-06-27","2027-06-28","2027-06-29","2027-06-30","2027-07-01","2027-07-02","2027-07-03","2027-07-04","2027-07-05","2027-07-06","2027-07-07","2027-07-08","2027-07-09","2027-07-10"]
[null,"Día Laborable",{"$f":"IF(WEEKDAY(C10,2)=1,\"Lunes\",\n  IF(WEEKDAY(C10,2)=2,\"Martes\",\n  IF(WEEKDAY(C10,2)=3,\"Miércoles\",\n  IF(WEEKDAY(C10,2)=4,\"Jueves\",\n  IF(WEEKDAY(C10,2)=5,\"Viernes\",\n  IF(WEEKDAY(C10,2)=6,\"Sábado\",\n  IF(WEEKDAY(C10,2)=7,\"Domingo\",\"Revisar\")))))))","v":"Domingo"},"Lunes","Martes","Miércoles","Jueves","Viernes","Sábado","Domingo","Lunes","Martes","Miércoles","Jueves","Viernes","Sábado","Domingo","Lunes","Martes","Miércoles","Jueves","Viernes","Sábado","Domingo","Lunes","Martes","Miércoles","Jueves","Viernes","Sábado","Domingo","Lunes","Martes","Miércoles","Jueves","Viernes","Sábado","Domingo","Lunes","Martes","Miércoles","Jueves","Viernes","Sábado","Domingo","Lunes","Martes","Miércoles","Jueves","Viernes","Sábado","Domingo","Lunes","Martes","Miércoles","Jueves","Viernes","Sábado","Domingo","Lunes","Martes","Miércoles","Jueves","Viernes","Sábado","Domingo",{"$f":"IF(WEEKDAY(BO10,2)=1,\"Lunes\",\n  IF(WEEKDAY(BO10,2)=2,\"Martes\",\n  IF(WEEKDAY(BO10,2)=3,\"Miércoles\",\n  IF(WEEKDAY(BO10,2)=4,\"Jueves\",\n  IF(WEEKDAY(BO10,2)=5,\"Viernes\",\n  IF(WEEKDAY(BO10,2)=6,\"Sábado\",\n  IF(WEEKDAY(BO10,2)=7,\"Domingo\",\"Revisar\")))))))","v":"Lunes"},"Martes","Miércoles","Jueves","Viernes","Sábado","Domingo","Lunes","Martes","Miércoles","Jueves","Viernes","Sábado","Domingo","Lunes","Martes","Miércoles","Jueves","Viernes","Sábado","Domingo","Lunes","Martes","Miércoles","Jueves","Viernes","Sábado","Domingo","Lunes","Martes","Miércoles","Jueves","Viernes","Sábado","Domingo","Lunes","Martes","Miércoles","Jueves","Viernes","Sábado","Domingo","Lunes","Martes","Miércoles","Jueves","Viernes","Sábado","Domingo","Lunes","Martes","Miércoles","Jueves","Viernes","Sábado","Domingo","Lunes","Martes","Miércoles","Jueves","Viernes","Sábado","Domingo","Lunes",{"$f":"IF(WEEKDAY(EA10,2)=1,\"Lunes\",\n  IF(WEEKDAY(EA10,2)=2,\"Martes\",\n  IF(WEEKDAY(EA10,2)=3,\"Miércoles\",\n  IF(WEEKDAY(EA10,2)=4,\"Jueves\",\n  IF(WEEKDAY(EA10,2)=5,\"Viernes\",\n  IF(WEEKDAY(EA10,2)=6,\"Sábado\",\n  IF(WEEKDAY(EA10,2)=7,\"Domingo\",\"Revisar\")))))))","v":"Martes"},"Miércoles","Jueves","Viernes","Sábado","Domingo","Lunes","Martes","Miércoles","Jueves","Viernes","Sábado","Domingo","Lunes","Martes","Miércoles","Jueves","Viernes","Sábado","Domingo","Lunes","Martes","Miércoles","Jueves","Viernes","Sábado","Domingo","Lunes","Martes","Miércoles","Jueves","Viernes","Sábado","Domingo","Lunes","Martes","Miércoles","Jueves","Viernes","Sábado","Domingo","Lunes","Martes","Miércoles","Jueves","Viernes","Sábado","Domingo","Lunes","Martes","Miércoles","Jueves","Viernes","Sábado","Domingo","Lunes","Martes","Miércoles","Jueves","Viernes","Sábado","Domingo","Lunes","Martes",{"$f":"IF(WEEKDAY(GM10,2)=1,\"Lunes\",\n  IF(WEEKDAY(GM10,2)=2,\"Martes\",\n  IF(WEEKDAY(GM10,2)=3,\"Miércoles\",\n  IF(WEEKDAY(GM10,2)=4,\"Jueves\",\n  IF(WEEKDAY(GM10,2)=5,\"Viernes\",\n  IF(WEEKDAY(GM10,2)=6,\"Sábado\",\n  IF(WEEKDAY(GM10,2)=7,\"Domingo\",\"Revisar\")))))))","v":"Miércoles"},"Jueves","Viernes","Sábado","Domingo","Lunes","Martes","Miércoles","Jueves","Viernes","Sábado","Domingo","Lunes","Martes","Miércoles","Jueves","Viernes","Sábado","Domingo","Lunes","Martes","Miércoles","Jueves","Viernes","Sábado","Domingo","Lunes","Martes","Miércoles","Jueves","Viernes","Sábado","Domingo","Lunes","Martes","Miércoles","Jueves","Viernes","Sábado","Domingo","Lunes","Martes","Miércoles","Jueves","Viernes","Sábado","Domingo","Lunes","Martes","Miércoles","Jueves","Viernes","Sábado","Domingo","Lunes","Martes","Miércoles","Jueves","Viernes","Sábado","Domingo","Lunes","Martes","Miércoles",{"$f":"IF(WEEKDAY(IY10,2)=1,\"Lunes\",\n  IF(WEEKDAY(IY10,2)=2,\"Martes\",\n  IF(WEEKDAY(IY10,2)=3,\"Miércoles\",\n  IF(WEEKDAY(IY10,2)=4,\"Jueves\",\n  IF(WEEKDAY(IY10,2)=5,\"Viernes\",\n  IF(WEEKDAY(IY10,2)=6,\"Sábado\",\n  IF(WEEKDAY(IY10,2)=7,\"Domingo\",\"Revisar\")))))))","v":"Jueves"},"Viernes","Sábado","Domingo","Lunes","Martes","Miércoles","Jueves","Viernes","Sábado","Domingo","Lunes","Martes","Miércoles","Jueves","Viernes","Sábado","Domingo","Lunes","Martes","Miércoles","Jueves","Viernes","Sábado","Domingo","Lunes","Martes","Miércoles","Jueves","Viernes","Sábado","Domingo","Lunes","Martes","Miércoles","Jueves","Viernes","Sábado","Domingo","Lunes","Martes","Miércoles","Jueves","Viernes","Sábado","Domingo","Lunes","Martes","Miércoles","Jueves","Viernes","Sábado","Domingo","Lunes","Martes","Miércoles","Jueves","Viernes","Sábado","Domingo","Lunes","Martes","Miércoles","Jueves",{"$f":"IF(WEEKDAY(LK10,2)=1,\"Lunes\",\n  IF(WEEKDAY(LK10,2)=2,\"Martes\",\n  IF(WEEKDAY(LK10,2)=3,\"Miércoles\",\n  IF(WEEKDAY(LK10,2)=4,\"Jueves\",\n  IF(WEEKDAY(LK10,2)=5,\"Viernes\",\n  IF(WEEKDAY(LK10,2)=6,\"Sábado\",\n  IF(WEEKDAY(LK10,2)=7,\"Domingo\",\"Revisar\")))))))","v":"Viernes"},"Sábado","Domingo","Lunes","Martes","Miércoles","Jueves","Viernes","Sábado","Domingo","Lunes","Martes","Miércoles","Jueves","Viernes","Sábado","Domingo","Lunes","Martes","Miércoles","Jueves","Viernes","Sábado","Domingo","Lunes","Martes","Miércoles","Jueves","Viernes","Sábado","Domingo","Lunes","Martes","Miércoles","Jueves","Viernes","Sábado","Domingo","Lunes","Martes","Miércoles","Jueves","Viernes","Sábado","Domingo","Lunes","Martes","Miércoles","Jueves","Viernes","Sábado","Domingo","Lunes","Martes","Miércoles","Jueves","Viernes","Sábado","Domingo","Lunes","Martes","Miércoles","Jueves","Viernes",{"$f":"IF(WEEKDAY(NW10,2)=1,\"Lunes\",\n  IF(WEEKDAY(NW10,2)=2,\"Martes\",\n  IF(WEEKDAY(NW10,2)=3,\"Miércoles\",\n  IF(WEEKDAY(NW10,2)=4,\"Jueves\",\n  IF(WEEKDAY(NW10,2)=5,\"Viernes\",\n  IF(WEEKDAY(NW10,2)=6,\"Sábado\",\n  IF(WEEKDAY(NW10,2)=7,\"Domingo\",\"Revisar\")))))))","v":"Sábado"},"Domingo","Lunes","Martes","Miércoles","Jueves","Viernes","Sábado","Domingo","Lunes","Martes","Miércoles","Jueves","Viernes","Sábado","Domingo","Lunes","Martes","Miércoles","Jueves","Viernes","Sábado","Domingo","Lunes","Martes","Miércoles","Jueves","Viernes","Sábado","Domingo","Lunes","Martes","Miércoles","Jueves","Viernes","Sábado","Domingo","Lunes","Martes","Miércoles","Jueves","Viernes","Sábado","Domingo","Lunes","Martes","Miércoles","Jueves","Viernes","Sábado","Domingo","Lunes","Martes","Miércoles","Jueves","Viernes","Sábado","Domingo","Lunes","Martes","Miércoles","Jueves","Viernes","Sábado",{"$f":"IF(WEEKDAY(QI10,2)=1,\"Lunes\",\n  IF(WEEKDAY(QI10,2)=2,\"Martes\",\n  IF(WEEKDAY(QI10,2)=3,\"Miércoles\",\n  IF(WEEKDAY(QI10,2)=4,\"Jueves\",\n  IF(WEEKDAY(QI10,2)=5,\"Viernes\",\n  IF(WEEKDAY(QI10,2)=6,\"Sábado\",\n  IF(WEEKDAY(QI10,2)=7,\"Domingo\",\"Revisar\")))))))","v":"Domingo"},"Lunes","Martes","Miércoles","Jueves","Viernes","Sábado","Domingo","Lunes","Martes","Miércoles","Jueves","Viernes","Sábado","Domingo","Lunes","Martes","Miércoles","Jueves","Viernes","Sábado","Domingo","Lunes","Martes","Miércoles","Jueves","Viernes","Sábado","Domingo","Lunes","Martes","Miércoles","Jueves","Viernes","Sábado","Domingo","Lunes","Martes","Miércoles","Jueves","Viernes","Sábado","Domingo","Lunes","Martes","Miércoles","Jueves","Viernes","Sábado","Domingo","Lunes","Martes","Miércoles","Jueves","Viernes","Sábado","Domingo","Lunes","Martes","Miércoles","Jueves","Viernes","Sábado","Domingo",{"$f":"IF(WEEKDAY(SU10,2)=1,\"Lunes\",\n  IF(WEEKDAY(SU10,2)=2,\"Martes\",\n  IF(WEEKDAY(SU10,2)=3,\"Miércoles\",\n  IF(WEEKDAY(SU10,2)=4,\"Jueves\",\n  IF(WEEKDAY(SU10,2)=5,\"Viernes\",\n  IF(WEEKDAY(SU10,2)=6,\"Sábado\",\n  IF(WEEKDAY(SU10,2)=7,\"Domingo\",\"Revisar\")))))))","v":"Lunes"},"Martes","Miércoles","Jueves","Viernes","Sábado","Domingo","Lunes","Martes","Miércoles","Jueves","Viernes","Sábado","Domingo","Lunes","Martes","Miércoles","Jueves","Viernes","Sábado","Domingo","Lunes","Martes","Miércoles","Jueves","Viernes","Sábado","Domingo","Lunes","Martes","Miércoles","Jueves","Viernes","Sábado","Domingo","Lunes","Martes","Miércoles","Jueves","Viernes","Sábado","Domingo","Lunes","Martes","Miércoles","Jueves","Viernes","Sábado","Domingo","Lunes","Martes","Miércoles","Jueves","Viernes","Sábado","Domingo","Lunes","Martes","Miércoles","Jueves","Viernes","Sábado","Domingo","Lunes",{"$f":"IF(WEEKDAY(VG10,2)=1,\"Lunes\",\n  IF(WEEKDAY(VG10,2)=2,\"Martes\",\n  IF(WEEKDAY(VG10,2)=3,\"Miércoles\",\n  IF(WEEKDAY(VG10,2)=4,\"Jueves\",\n  IF(WEEKDAY(VG10,2)=5,\"Viernes\",\n  IF(WEEKDAY(VG10,2)=6,\"Sábado\",\n  IF(WEEKDAY(VG10,2)=7,\"Domingo\",\"Revisar\")))))))","v":"Martes"},"Miércoles","Jueves","Viernes","Sábado","Domingo","Lunes","Martes","Miércoles","Jueves","Viernes","Sábado","Domingo","Lunes","Martes","Miércoles","Jueves","Viernes","Sábado","Domingo","Lunes","Martes","Miércoles","Jueves","Viernes","Sábado","Domingo","Lunes","Martes","Miércoles","Jueves","Viernes","Sábado","Domingo","Lunes","Martes","Miércoles","Jueves","Viernes","Sábado","Domingo","Lunes","Martes","Miércoles","Jueves","Viernes","Sábado","Domingo","Lunes","Martes","Miércoles","Jueves","Viernes","Sábado","Domingo","Lunes","Martes","Miércoles","Jueves","Viernes","Sábado","Domingo","Lunes","Martes",{"$f":"IF(WEEKDAY(XS10,2)=1,\"Lunes\",\n  IF(WEEKDAY(XS10,2)=2,\"Martes\",\n  IF(WEEKDAY(XS10,2)=3,\"Miércoles\",\n  IF(WEEKDAY(XS10,2)=4,\"Jueves\",\n  IF(WEEKDAY(XS10,2)=5,\"Viernes\",\n  IF(WEEKDAY(XS10,2)=6,\"Sábado\",\n  IF(WEEKDAY(XS10,2)=7,\"Domingo\",\"Revisar\")))))))","v":"Miércoles"},"Jueves","Viernes","Sábado","Domingo","Lunes","Martes","Miércoles","Jueves","Viernes","Sábado","Domingo","Lunes","Martes","Miércoles","Jueves","Viernes","Sábado","Domingo","Lunes","Martes","Miércoles","Jueves","Viernes","Sábado","Domingo","Lunes","Martes","Miércoles","Jueves","Viernes","Sábado","Domingo","Lunes","Martes","Miércoles","Jueves","Viernes","Sábado","Domingo","Lunes","Martes","Miércoles","Jueves","Viernes","Sábado","Domingo","Lunes","Martes","Miércoles","Jueves","Viernes","Sábado","Domingo","Lunes","Martes","Miércoles","Jueves","Viernes","Sábado","Domingo","Lunes","Martes","Miércoles",{"$f":"IF(WEEKDAY(AAE10,2)=1,\"Lunes\",\n  IF(WEEKDAY(AAE10,2)=2,\"Martes\",\n  IF(WEEKDAY(AAE10,2)=3,\"Miércoles\",\n  IF(WEEKDAY(AAE10,2)=4,\"Jueves\",\n  IF(WEEKDAY(AAE10,2)=5,\"Viernes\",\n  IF(WEEKDAY(AAE10,2)=6,\"Sábado\",\n  IF(WEEKDAY(AAE10,2)=7,\"Domingo\",\"Revisar\")))))))","v":"Jueves"},"Viernes","Sábado","Domingo","Lunes","Martes","Miércoles","Jueves","Viernes","Sábado","Domingo","Lunes","Martes","Miércoles","Jueves","Viernes","Sábado"]
[null,"Día Festivo",{"$f":"+_xlfn.XLOOKUP(C10,Rangos!$B$22:$B$67,Rangos!$C$22:$C$67,\"\")","v":""},{"$f":"+_xlfn.XLOOKUP(D10,Rangos!$B$22:$B$67,Rangos!$C$22:$C$67,\"\")","v":""},{"$f":"+_xlfn.XLOOKUP(E10,Rangos!$B$22:$B$67,Rangos!$C$22:$C$67,\"\")","v":""},{"$f":"+_xlfn.XLOOKUP(F10,Rangos!$B$22:$B$67,Rangos!$C$22:$C$67,\"\")","v":""},{"$f":"+_xlfn.XLOOKUP(G10,Rangos!$B$22:$B$67,Rangos!$C$22:$C$67,\"\")","v":""},{"$f":"+_xlfn.XLOOKUP(H10,Rangos!$B$22:$B$67,Rangos!$C$22:$C$67,\"\")","v":""},{"$f":"+_xlfn.XLOOKUP(I10,Rangos!$B$22:$B$67,Rangos!$C$22:$C$67,\"\")","v":""},{"$f":"+_xlfn.XLOOKUP(J10,Rangos!$B$22:$B$67,Rangos!$C$22:$C$67,\"\")","v":""},{"$f":"+_xlfn.XLOOKUP(K10,Rangos!$B$22:$B$67,Rangos!$C$22:$C$67,\"\")","v":""},{"$f":"+_xlfn.XLOOKUP(L10,Rangos!$B$22:$B$67,Rangos!$C$22:$C$67,\"\")","v":""},{"$f":"+_xlfn.XLOOKUP(M10,Rangos!$B$22:$B$67,Rangos!$C$22:$C$67,\"\")","v":""},{"$f":"+_xlfn.XLOOKUP(N10,Rangos!$B$22:$B$67,Rangos!$C$22:$C$67,\"\")","v":""},{"$f":"+_xlfn.XLOOKUP(O10,Rangos!$B$22:$B$67,Rangos!$C$22:$C$67,\"\")","v":""},{"$f":"+_xlfn.XLOOKUP(P10,Rangos!$B$22:$B$67,Rangos!$C$22:$C$67,\"\")","v":""},{"$f":"+_xlfn.XLOOKUP(Q10,Rangos!$B$22:$B$67,Rangos!$C$22:$C$67,\"\")","v":""},{"$f":"+_xlfn.XLOOKUP(R10,Rangos!$B$22:$B$67,Rangos!$C$22:$C$67,\"\")","v":""},{"$f":"+_xlfn.XLOOKUP(S10,Rangos!$B$22:$B$67,Rangos!$C$22:$C$67,\"\")","v":""},{"$f":"+_xlfn.XLOOKUP(T10,Rangos!$B$22:$B$67,Rangos!$C$22:$C$67,\"\")","v":""},{"$f":"+_xlfn.XLOOKUP(U10,Rangos!$B$22:$B$67,Rangos!$C$22:$C$67,\"\")","v":""},{"$f":"+_xlfn.XLOOKUP(V10,Rangos!$B$22:$B$67,Rangos!$C$22:$C$67,\"\")","v":""},{"$f":"+_xlfn.XLOOKUP(W10,Rangos!$B$22:$B$67,Rangos!$C$22:$C$67,\"\")","v":""},{"$f":"+_xlfn.XLOOKUP(X10,Rangos!$B$22:$B$67,Rangos!$C$22:$C$67,\"\")","v":""},{"$f":"+_xlfn.XLOOKUP(Y10,Rangos!$B$22:$B$67,Rangos!$C$22:$C$67,\"\")","v":"Feriado"},{"$f":"+_xlfn.XLOOKUP(Z10,Rangos!$B$22:$B$67,Rangos!$C$22:$C$67,\"\")","v":""},{"$f":"+_xlfn.XLOOKUP(AA10,Rangos!$B$22:$B$67,Rangos!$C$22:$C$67,\"\")","v":""},{"$f":"+_xlfn.XLOOKUP(AB10,Rangos!$B$22:$B$67,Rangos!$C$22:$C$67,\"\")","v":""},{"$f":"+_xlfn.XLOOKUP(AC10,Rangos!$B$22:$B$67,Rangos!$C$22:$C$67,\"\")","v":""},{"$f":"+_xlfn.XLOOKUP(AD10,Rangos!$B$22:$B$67,Rangos!$C$22:$C$67,\"\")","v":""},{"$f":"+_xlfn.XLOOKUP(AE10,Rangos!$B$22:$B$67,Rangos!$C$22:$C$67,\"\")","v":""},{"$f":"+_xlfn.XLOOKUP(AF10,Rangos!$B$22:$B$67,Rangos!$C$22:$C$67,\"\")","v":""},{"$f":"+_xlfn.XLOOKUP(AG10,Rangos!$B$22:$B$67,Rangos!$C$22:$C$67,\"\")","v":""},{"$f":"+_xlfn.XLOOKUP(AH10,Rangos!$B$22:$B$67,Rangos!$C$22:$C$67,\"\")","v":""},{"$f":"+_xlfn.XLOOKUP(AI10,Rangos!$B$22:$B$67,Rangos!$C$22:$C$67,\"\")","v":""},{"$f":"+_xlfn.XLOOKUP(AJ10,Rangos!$B$22:$B$67,Rangos!$C$22:$C$67,\"\")","v":""},{"$f":"+_xlfn.XLOOKUP(AK10,Rangos!$B$22:$B$67,Rangos!$C$22:$C$67,\"\")","v":""},{"$f":"+_xlfn.XLOOKUP(AL10,Rangos!$B$22:$B$67,Rangos!$C$22:$C$67,\"\")","v":""},{"$f":"+_xlfn.XLOOKUP(AM10,Rangos!$B$22:$B$67,Rangos!$C$22:$C$67,\"\")","v":""},{"$f":"+_xlfn.XLOOKUP(AN10,Rangos!$B$22:$B$67,Rangos!$C$22:$C$67,\"\")","v":""},{"$f":"+_xlfn.XLOOKUP(AO10,Rangos!$B$22:$B$67,Rangos!$C$22:$C$67,\"\")","v":""},{"$f":"+_xlfn.XLOOKUP(AP10,Rangos!$B$22:$B$67,Rangos!$C$22:$C$67,\"\")","v":""},{"$f":"+_xlfn.XLOOKUP(AQ10,Rangos!$B$22:$B$67,Rangos!$C$22:$C$67,\"\")","v":""},{"$f":"+_xlfn.XLOOKUP(AR10,Rangos!$B$22:$B$67,Rangos!$C$22:$C$67,\"\")","v":""},{"$f":"+_xlfn.XLOOKUP(AS10,Rangos!$B$22:$B$67,Rangos!$C$22:$C$67,\"\")","v":""},{"$f":"+_xlfn.XLOOKUP(AT10,Rangos!$B$22:$B$67,Rangos!$C$22:$C$67,\"\")","v":""},{"$f":"+_xlfn.XLOOKUP(AU10,Rangos!$B$22:$B$67,Rangos!$C$22:$C$67,\"\")","v":""},{"$f":"+_xlfn.XLOOKUP(AV10,Rangos!$B$22:$B$67,Rangos!$C$22:$C$67,\"\")","v":""},{"$f":"+_xlfn.XLOOKUP(AW10,Rangos!$B$22:$B$67,Rangos!$C$22:$C$67,\"\")","v":""},{"$f":"+_xlfn.XLOOKUP(AX10,Rangos!$B$22:$B$67,Rangos!$C$22:$C$67,\"\")","v":""},{"$f":"+_xlfn.XLOOKUP(AY10,Rangos!$B$22:$B$67,Rangos!$C$22:$C$67,\"\")","v":""},{"$f":"+_xlfn.XLOOKUP(AZ10,Rangos!$B$22:$B$67,Rangos!$C$22:$C$67,\"\")","v":""},{"$f":"+_xlfn.XLOOKUP(BA10,Rangos!$B$22:$B$67,Rangos!$C$22:$C$67,\"\")","v":""},{"$f":"+_xlfn.XLOOKUP(BB10,Rangos!$B$22:$B$67,Rangos!$C$22:$C$67,\"\")","v":""},{"$f":"+_xlfn.XLOOKUP(BC10,Rangos!$B$22:$B$67,Rangos!$C$22:$C$67,\"\")","v":""},{"$f":"+_xlfn.XLOOKUP(BD10,Rangos!$B$22:$B$67,Rangos!$C$22:$C$67,\"\")","v":""},{"$f":"+_xlfn.XLOOKUP(BE10,Rangos!$B$22:$B$67,Rangos!$C$22:$C$67,\"\")","v":""},{"$f":"+_xlfn.XLOOKUP(BF10,Rangos!$B$22:$B$67,Rangos!$C$22:$C$67,\"\")","v":""},{"$f":"+_xlfn.XLOOKUP(BG10,Rangos!$B$22:$B$67,Rangos!$C$22:$C$67,\"\")","v":""},{"$f":"+_xlfn.XLOOKUP(BH10,Rangos!$B$22:$B$67,Rangos!$C$22:$C$67,\"\")","v":""},{"$f":"+_xlfn.XLOOKUP(BI10,Rangos!$B$22:$B$67,Rangos!$C$22:$C$67,\"\")","v":""},{"$f":"+_xlfn.XLOOKUP(BJ10,Rangos!$B$22:$B$67,Rangos!$C$22:$C$67,\"\")","v":""},{"$f":"+_xlfn.XLOOKUP(BK10,Rangos!$B$22:$B$67,Rangos!$C$22:$C$67,\"\")","v":""},{"$f":"+_xlfn.XLOOKUP(BL10,Rangos!$B$22:$B$67,Rangos!$C$22:$C$67,\"\")","v":""},{"$f":"+_xlfn.XLOOKUP(BM10,Rangos!$B$22:$B$67,Rangos!$C$22:$C$67,\"\")","v":""},{"$f":"+_xlfn.XLOOKUP(BN10,Rangos!$B$22:$B$67,Rangos!$C$22:$C$67,\"\")","v":""},{"$f":"+_xlfn.XLOOKUP(BO10,Rangos!$B$22:$B$67,Rangos!$C$22:$C$67,\"\")","v":""},{"$f":"+_xlfn.XLOOKUP(BP10,Rangos!$B$22:$B$67,Rangos!$C$22:$C$67,\"\")","v":""},{"$f":"+_xlfn.XLOOKUP(BQ10,Rangos!$B$22:$B$67,Rangos!$C$22:$C$67,\"\")","v":""},{"$f":"+_xlfn.XLOOKUP(BR10,Rangos!$B$22:$B$67,Rangos!$C$22:$C$67,\"\")","v":""},{"$f":"+_xlfn.XLOOKUP(BS10,Rangos!$B$22:$B$67,Rangos!$C$22:$C$67,\"\")","v":""},{"$f":"+_xlfn.XLOOKUP(BT10,Rangos!$B$22:$B$67,Rangos!$C$22:$C$67,\"\")","v":""},{"$f":"+_xlfn.XLOOKUP(BU10,Rangos!$B$22:$B$67,Rangos!$C$22:$C$67,\"\")","v":""},{"$f":"+_xlfn.XLOOKUP(BV10,Rangos!$B$22:$B$67,Rangos!$C$22:$C$67,\"\")","v":""},{"$f":"+_xlfn.XLOOKUP(BW10,Rangos!$B$22:$B$67,Rangos!$C$22:$C$67,\"\")","v":""},{"$f":"+_xlfn.XLOOKUP(BX10,Rangos!$B$22:$B$67,Rangos!$C$22:$C$67,\"\")","v":""},{"$f":"+_xlfn.XLOOKUP(BY10,Rangos!$B$22:$B$67,Rangos!$C$22:$C$67,\"\")","v":""},{"$f":"+_xlfn.XLOOKUP(BZ10,Rangos!$B$22:$B$67,Rangos!$C$22:$C$67,\"\")","v":""},{"$f":"+_xlfn.XLOOKUP(CA10,Rangos!$B$22:$B$67,Rangos!$C$22:$C$67,\"\")","v":""},{"$f":"+_xlfn.XLOOKUP(CB10,Rangos!$B$22:$B$67,Rangos!$C$22:$C$67,\"\")","v":""},{"$f":"+_xlfn.XLOOKUP(CC10,Rangos!$B$22:$B$67,Rangos!$C$22:$C$67,\"\")","v":""},{"$f":"+_xlfn.XLOOKUP(CD10,Rangos!$B$22:$B$67,Rangos!$C$22:$C$67,\"\")","v":""},{"$f":"+_xlfn.XLOOKUP(CE10,Rangos!$B$22:$B$67,Rangos!$C$22:$C$67,\"\")","v":""},{"$f":"+_xlfn.XLOOKUP(CF10,Rangos!$B$22:$B$67,Rangos!$C$22:$C$67,\"\")","v":""},{"$f":"+_xlfn.XLOOKUP(CG10,Rangos!$B$22:$B$67,Rangos!$C$22:$C$67,\"\")","v":"Feriado"},{"$f":"+_xlfn.XLOOKUP(CH10,Rangos!$B$22:$B$67,Rangos!$C$22:$C$67,\"\")","v":""},{"$f":"+_xlfn.XLOOKUP(CI10,Rangos!$B$22:$B$67,Rangos!$C$22:$C$67,\"\")","v":""},{"$f":"+_xlfn.XLOOKUP(CJ10,Rangos!$B$22:$B$67,Rangos!$C$22:$C$67,\"\")","v":""},{"$f":"+_xlfn.XLOOKUP(CK10,Rangos!$B$22:$B$67,Rangos!$C$22:$C$67,\"\")","v":""},{"$f":"+_xlfn.XLOOKUP(CL10,Rangos!$B$22:$B$67,Rangos!$C$22:$C$67,\"\")","v":""},{"$f":"+_xlfn.XLOOKUP(CM10,Rangos!$B$22:$B$67,Rangos!$C$22:$C$67,\"\")","v":""},{"$f":"+_xlfn.XLOOKUP(CN10,Rangos!$B$22:$B$67,Rangos!$C$22:$C$67,\"\")","v":""},{"$f":"+_xlfn.XLOOKUP(CO10,Rangos!$B$22:$B$67,Rangos!$C$22:$C$67,\"\")","v":""},{"$f":"+_xlfn.XLOOKUP(CP10,Rangos!$B$22:$B$67,Rangos!$C$22:$C$67,\"\")","v":""},{"$f":"+_xlfn.XLOOKUP(CQ10,Rangos!$B$22:$B$67,Rangos!$C$22:$C$67,\"\")","v":""},{"$f":"+_xlfn.XLOOKUP(CR10,Rangos!$B$22:$B$67,Rangos!$C$22:$C$67,\"\")","v":""},{"$f":"+_xlfn.XLOOKUP(CS10,Rangos!$B$22:$B$67,Rangos!$C$22:$C$67,\"\")","v":""},{"$f":"+_xlfn.XLOOKUP(CT10,Rangos!$B$22:$B$67,Rangos!$C$22:$C$67,\"\")","v":""},{"$f":"+_xlfn.XLOOKUP(CU10,Rangos!$B$22:$B$67,Rangos!$C$22:$C$67,\"\")","v":""},{"$f":"+_xlfn.XLOOKUP(CV10,Rangos!$B$22:$B$67,Rangos!$C$22:$C$67,\"\")","v":""},{"$f":"+_xlfn.XLOOKUP(CW10,Rangos!$B$22:$B$67,Rangos!$C$22:$C$67,\"\")","v":""},{"$f":"+_xlfn.XLOOKUP(CX10,Rangos!$B$22:$B$67,Rangos!$C$22:$C$67,\"\")","v":""},{"$f":"+_xlfn.XLOOKUP(CY10,Rangos!$B$22:$B$67,Rangos!$C$22:$C$67,\"\")","v":""},{"$f":"+_xlfn.XLOOKUP(CZ10,Rangos!$B$22:$B$67,Rangos!$C$22:$C$67,\"\")","v":""},{"$f":"+_xlfn.XLOOKUP(DA10,Rangos!$B$22:$B$67,Rangos!$C$22:$C$67,\"\")","v":""},{"$f":"+_xlfn.XLOOKUP(DB10,Rangos!$B$22:$B$67,Rangos!$C$22:$C$67,\"\")","v":""},{"$f":"+_xlfn.XLOOKUP(DC10,Rangos!$B$22:$B$67,Rangos!$C$22:$C$67,\"\")","v":""},{"$f":"+_xlfn.XLOOKUP(DD10,Rangos!$B$22:$B$67,Rangos!$C$22:$C$67,\"\")","v":""},{"$f":"+_xlfn.XLOOKUP(DE10,Rangos!$B$22:$B$67,Rangos!$C$22:$C$67,\"\")","v":"Feriado"},{"$f":"+_xlfn.XLOOKUP(DF10,Rangos!$B$22:$B$67,Rangos!$C$22:$C$67,\"\")","v":""},{"$f":"+_xlfn.XLOOKUP(DG10,Rangos!$B$22:$B$67,Rangos!$C$22:$C$67,\"\")","v":""},{"$f":"+_xlfn.XLOOKUP(DH10,Rangos!$B$22:$B$67,Rangos!$C$22:$C$67,\"\")","v":""},{"$f":"+_xlfn.XLOOKUP(DI10,Rangos!$B$22:$B$67,Rangos!$C$22:$C$67,\"\")","v":""},{"$f":"+_xlfn.XLOOKUP(DJ10,Rangos!$B$22:$B$67,Rangos!$C$22:$C$67,\"\")","v":""},{"$f":"+_xlfn.XLOOKUP(DK10,Rangos!$B$22:$B$67,Rangos!$C$22:$C$67,\"\")","v":""},{"$f":"+_xlfn.XLOOKUP(DL10,Rangos!$B$22:$B$67,Rangos!$C$22:$C$67,\"\")","v":""},{"$f":"+_xlfn.XLOOKUP(DM10,Rangos!$B$22:$B$67,Rangos!$C$22:$C$67,\"\")","v":""},{"$f":"+_xlfn.XLOOKUP(DN10,Rangos!$B$22:$B$67,Rangos!$C$22:$C$67,\"\")","v":""},{"$f":"+_xlfn.XLOOKUP(DO10,Rangos!$B$22:$B$67,Rangos!$C$22:$C$67,\"\")","v":""},{"$f":"+_xlfn.XLOOKUP(DP10,Rangos!$B$22:$B$67,Rangos!$C$22:$C$67,\"\")","v":""},{"$f":"+_xlfn.XLOOKUP(DQ10,Rangos!$B$22:$B$67,Rangos!$C$22:$C$67,\"\")","v":""},{"$f":"+_xlfn.XLOOKUP(DR10,Rangos!$B$22:$B$67,Rangos!$C$22:$C$67,\"\")","v":""},{"$f":"+_xlfn.XLOOKUP(DS10,Rangos!$B$22:$B$67,Rangos!$C$22:$C$67,\"\")","v":""},{"$f":"+_xlfn.XLOOKUP(DT10,Rangos!$B$22:$B$67,Rangos!$C$22:$C$67,\"\")","v":""},{"$f":"+_xlfn.XLOOKUP(DU10,Rangos!$B$22:$B$67,Rangos!$C$22:$C$67,\"\")","v":""},{"$f":"+_xlfn.XLOOKUP(DV10,Rangos!$B$22:$B$67,Rangos!$C$22:$C$67,\"\")","v":""},{"$f":"+_xlfn.XLOOKUP(DW10,Rangos!$B$22:$B$67,Rangos!$C$22:$C$67,\"\")","v":""},{"$f":"+_xlfn.XLOOKUP(DX10,Rangos!$B$22:$B$67,Rangos!$C$22:$C$67,\"\")","v":""},{"$f":"+_xlfn.XLOOKUP(DY10,Rangos!$B$22:$B$67,Rangos!$C$22:$C$67,\"\")","v":""},{"$f":"+_xlfn.XLOOKUP(DZ10,Rangos!$B$22:$B$67,Rangos!$C$22:$C$67,\"\")","v":""},{"$f":"+_xlfn.XLOOKUP(EA10,Rangos!$B$22:$B$67,Rangos!$C$22:$C$67,\"\")","v":""},{"$f":"+_xlfn.XLOOKUP(EB10,Rangos!$B$22:$B$67,Rangos!$C$22:$C$67,\"\")","v":""},{"$f":"+_xlfn.XLOOKUP(EC10,Rangos!$B$22:$B$67,Rangos!$C$22:$C$67,\"\")","v":""},{"$f":"+_xlfn.XLOOKUP(ED10,Rangos!$B$22:$B$67,Rangos!$C$22:$C$67,\"\")","v":""},{"$f":"+_xlfn.XLOOKUP(EE10,Rangos!$B$22:$B$67,Rangos!$C$22:$C$67,\"\")","v":""},{"$f":"+_xlfn.XLOOKUP(EF10,Rangos!$B$22:$B$67,Rangos!$C$22:$C$67,\"\")","v":""},{"$f":"+_xlfn.XLOOKUP(EG10,Rangos!$B$22:$B$67,Rangos!$C$22:$C$67,\"\")","v":""},{"$f":"+_xlfn.XLOOKUP(EH10,Rangos!$B$22:$B$67,Rangos!$C$22:$C$67,\"\")","v":""},{"$f":"+_xlfn.XLOOKUP(EI10,Rangos!$B$22:$B$67,Rangos!$C$22:$C$67,\"\")","v":""},{"$f":"+_xlfn.XLOOKUP(EJ10,Rangos!$B$22:$B$67,Rangos!$C$22:$C$67,\"\")","v":""},{"$f":"+_xlfn.XLOOKUP(EK10,Rangos!$B$22:$B$67,Rangos!$C$22:$C$67,\"\")","v":""},{"$f":"+_xlfn.XLOOKUP(EL10,Rangos!$B$22:$B$67,Rangos!$C$22:$C$67,\"\")","v":""},{"$f":"+_xlfn.XLOOKUP(EM10,Rangos!$B$22:$B$67,Rangos!$C$22:$C$67,\"\")","v":""},{"$f":"+_xlfn.XLOOKUP(EN10,Rangos!$B$22:$B$67,Rangos!$C$22:$C$67,\"\")","v":""},{"$f":"+_xlfn.XLOOKUP(EO10,Rangos!$B$22:$B$67,Rangos!$C$22:$C$67,\"\")","v":""},{"$f":"+_xlfn.XLOOKUP(EP10,Rangos!$B$22:$B$67,Rangos!$C$22:$C$67,\"\")","v":""},{"$f":"+_xlfn.XLOOKUP(EQ10,Rangos!$B$22:$B$67,Rangos!$C$22:$C$67,\"\")","v":""},{"$f":"+_xlfn.XLOOKUP(ER10,Rangos!$B$22:$B$67,Rangos!$C$22:$C$67,\"\")","v":""},{"$f":"+_xlfn.XLOOKUP(ES10,Rangos!$B$22:$B$67,Rangos!$C$22:$C$67,\"\")","v":""},{"$f":"+_xlfn.XLOOKUP(ET10,Rangos!$B$22:$B$67,Rangos!$C$22:$C$67,\"\")","v":""},{"$f":"+_xlfn.XLOOKUP(EU10,Rangos!$B$22:$B$67,Rangos!$C$22:$C$67,\"\")","v":""},{"$f":"+_xlfn.XLOOKUP(EV10,Rangos!$B$22:$B$67,Rangos!$C$22:$C$67,\"\")","v":""},{"$f":"+_xlfn.XLOOKUP(EW10,Rangos!$B$22:$B$67,Rangos!$C$22:$C$67,\"\")","v":""},{"$f":"+_xlfn.XLOOKUP(EX10,Rangos!$B$22:$B$67,Rangos!$C$22:$C$67,\"\")","v":""},{"$f":"+_xlfn.XLOOKUP(EY10,Rangos!$B$22:$B$67,Rangos!$C$22:$C$67,\"\")","v":""},{"$f":"+_xlfn.XLOOKUP(EZ10,Rangos!$B$22:$B$67,Rangos!$C$22:$C$67,\"\")","v":""},{"$f":"+_xlfn.XLOOKUP(FA10,Rangos!$B$22:$B$67,Rangos!$C$22:$C$67,\"\")","v":""},{"$f":"+_xlfn.XLOOKUP(FB10,Rangos!$B$22:$B$67,Rangos!$C$22:$C$67,\"\")","v":""},{"$f":"+_xlfn.XLOOKUP(FC10,Rangos!$B$22:$B$67,Rangos!$C$22:$C$67,\"\")","v":""},{"$f":"+_xlfn.XLOOKUP(FD10,Rangos!$B$22:$B$67,Rangos!$C$22:$C$67,\"\")","v":""},{"$f":"+_xlfn.XLOOKUP(FE10,Rangos!$B$22:$B$67,Rangos!$C$22:$C$67,\"\")","v":"Feriado"},{"$f":"+_xlfn.XLOOKUP(FF10,Rangos!$B$22:$B$67,Rangos!$C$22:$C$67,\"\")","v":""},{"$f":"+_xlfn.XLOOKUP(FG10,Rangos!$B$22:$B$67,Rangos!$C$22:$C$67,\"\")","v":""},{"$f":"+_xlfn.XLOOKUP(FH10,Rangos!$B$22:$B$67,Rangos!$C$22:$C$67,\"\")","v":""},{"$f":"+_xlfn.XLOOKUP(FI10,Rangos!$B$22:$B$67,Rangos!$C$22:$C$67,\"\")","v":""},{"$f":"+_xlfn.XLOOKUP(FJ10,Rangos!$B$22:$B$67,Rangos!$C$22:$C$67,\"\")","v":""},{"$f":"+_xlfn.XLOOKUP(FK10,Rangos!$B$22:$B$67,Rangos!$C$22:$C$67,\"\")","v":"Feriado"},{"$f":"+_xlfn.XLOOKUP(FL10,Rangos!$B$22:$B$67,Rangos!$C$22:$C$67,\"\")","v":"Feriado"},{"$f":"+_xlfn.XLOOKUP(FM10,Rangos!$B$22:$B$67,Rangos!$C$22:$C$67,\"\")","v":""},{"$f":"+_xlfn.XLOOKUP(FN10,Rangos!$B$22:$B$67,Rangos!$C$22:$C$67,\"\")","v":""},{"$f":"+_xlfn.XLOOKUP(FO10,Rangos!$B$22:$B$67,Rangos!$C$22:$C$67,\"\")","v":""},{"$f":"+_xlfn.XLOOKUP(FP10,Rangos!$B$22:$B$67,Rangos!$C$22:$C$67,\"\")","v":""},{"$f":"+_xlfn.XLOOKUP(FQ10,Rangos!$B$22:$B$67,Rangos!$C$22:$C$67,\"\")","v":""},{"$f":"+_xlfn.XLOOKUP(FR10,Rangos!$B$22:$B$67,Rangos!$C$22:$C$67,\"\")","v":""},{"$f":"+_xlfn.XLOOKUP(FS10,Rangos!$B$22:$B$67,Rangos!$C$22:$C$67,\"\")","v":""},{"$f":"+_xlfn.XLOOKUP(FT10,Rangos!$B$22:$B$67,Rangos!$C$22:$C$67,\"\")","v":""},{"$f":"+_xlfn.XLOOKUP(FU10,Rangos!$B$22:$B$67,Rangos!$C$22:$C$67,\"\")","v":""},{"$f":"+_xlfn.XLOOKUP(FV10,Rangos!$B$22:$B$67,Rangos!$C$22:$C$67,\"\")","v":""},{"$f":"+_xlfn.XLOOKUP(FW10,Rangos!$B$22:$B$67,Rangos!$C$22:$C$67,\"\")","v":""},{"$f":"+_xlfn.XLOOKUP(FX10,Rangos!$B$22:$B$67,Rangos!$C$22:$C$67,\"\")","v":""},{"$f":"+_xlfn.XLOOKUP(FY10,Rangos!$B$22:$B$67,Rangos!$C$22:$C$67,\"\")","v":""},{"$f":"+_xlfn.XLOOKUP(FZ10,Rangos!$B$22:$B$67,Rangos!$C$22:$C$67,\"\")","v":""},{"$f":"+_xlfn.XLOOKUP(GA10,Rangos!$B$22:$B$67,Rangos!$C$22:$C$67,\"\")","v":""},{"$f":"+_xlfn.XLOOKUP(GB10,Rangos!$B$22:$B$67,Rangos!$C$22:$C$67,\"\")","v":""},{"$f":"+_xlfn.XLOOKUP(GC10,Rangos!$B$22:$B$67,Rangos!$C$22:$C$67,\"\")","v":""},{"$f":"+_xlfn.XLOOKUP(GD10,Rangos!$B$22:$B$67,Rangos!$C$22:$C$67,\"\")","v":""},{"$f":"+_xlfn.XLOOKUP(GE10,Rangos!$B$22:$B$67,Rangos!$C$22:$C$67,\"\")","v":""},{"$f":"+_xlfn.XLOOKUP(GF10,Rangos!$B$22:$B$67,Rangos!$C$22:$C$67,\"\")","v":""},{"$f":"+_xlfn.XLOOKUP(GG10,Rangos!$B$22:$B$67,Rangos!$C$22:$C$67,\"\")","v":""},{"$f":"+_xlfn.XLOOKUP(GH10,Rangos!$B$22:$B$67,Rangos!$C$22:$C$67,\"\")","v":""},{"$f":"+_xlfn.XLOOKUP(GI10,Rangos!$B$22:$B$67,Rangos!$C$22:$C$67,\"\")","v":""},{"$f":"+_xlfn.XLOOKUP(GJ10,Rangos!$B$22:$B$67,Rangos!$C$22:$C$67,\"\")","v":""},{"$f":"+_xlfn.XLOOKUP(GK10,Rangos!$B$22:$B$67,Rangos!$C$22:$C$67,\"\")","v":""},{"$f":"+_xlfn.XLOOKUP(GL10,Rangos!$B$22:$B$67,Rangos!$C$22:$C$67,\"\")","v":""},{"$f":"+_xlfn.XLOOKUP(GM10,Rangos!$B$22:$B$67,Rangos!$C$22:$C$67,\"\")","v":""},{"$f":"+_xlfn.XLOOKUP(GN10,Rangos!$B$22:$B$67,Rangos!$C$22:$C$67,\"\")","v":""},{"$f":"+_xlfn.XLOOKUP(GO10,Rangos!$B$22:$B$67,Rangos!$C$22:$C$67,\"\")","v":""},{"$f":"+_xlfn.XLOOKUP(GP10,Rangos!$B$22:$B$67,Rangos!$C$22:$C$67,\"\")","v":""},{"$f":"+_xlfn.XLOOKUP(GQ10,Rangos!$B$22:$B$67,Rangos!$C$22:$C$67,\"\")","v":""},{"$f":"+_xlfn.XLOOKUP(GR10,Rangos!$B$22:$B$67,Rangos!$C$22:$C$67,\"\")","v":""},{"$f":"+_xlfn.XLOOKUP(GS10,Rangos!$B$22:$B$67,Rangos!$C$22:$C$67,\"\")","v":""},{"$f":"+_xlfn.XLOOKUP(GT10,Rangos!$B$22:$B$67,Rangos!$C$22:$C$67,\"\")","v":""},{"$f":"+_xlfn.XLOOKUP(GU10,Rangos!$B$22:$B$67,Rangos!$C$22:$C$67,\"\")","v":""},{"$f":"+_xlfn.XLOOKUP(GV10,Rangos!$B$22:$B$67,Rangos!$C$22:$C$67,\"\")","v":""},{"$f":"+_xlfn.XLOOKUP(GW10,Rangos!$B$22:$B$67,Rangos!$C$22:$C$67,\"\")","v":""},{"$f":"+_xlfn.XLOOKUP(GX10,Rangos!$B$22:$B$67,Rangos!$C$22:$C$67,\"\")","v":""},{"$f":"+_xlfn.XLOOKUP(GY10,Rangos!$B$22:$B$67,Rangos!$C$22:$C$67,\"\")","v":""},{"$f":"+_xlfn.XLOOKUP(GZ10,Rangos!$B$22:$B$67,Rangos!$C$22:$C$67,\"\")","v":""},{"$f":"+_xlfn.XLOOKUP(HA10,Rangos!$B$22:$B$67,Rangos!$C$22:$C$67,\"\")","v":""},{"$f":"+_xlfn.XLOOKUP(HB10,Rangos!$B$22:$B$67,Rangos!$C$22:$C$67,\"\")","v":""},{"$f":"+_xlfn.XLOOKUP(HC10,Rangos!$B$22:$B$67,Rangos!$C$22:$C$67,\"\")","v":""},{"$f":"+_xlfn.XLOOKUP(HD10,Rangos!$B$22:$B$67,Rangos!$C$22:$C$67,\"\")","v":""},{"$f":"+_xlfn.XLOOKUP(HE10,Rangos!$B$22:$B$67,Rangos!$C$22:$C$67,\"\")","v":""},{"$f":"+_xlfn.XLOOKUP(HF10,Rangos!$B$22:$B$67,Rangos!$C$22:$C$67,\"\")","v":"Feriado"},{"$f":"+_xlfn.XLOOKUP(HG10,Rangos!$B$22:$B$67,Rangos!$C$22:$C$67,\"\")","v":"Feriado"},{"$f":"+_xlfn.XLOOKUP(HH10,Rangos!$B$22:$B$67,Rangos!$C$22:$C$67,\"\")","v":""},{"$f":"+_xlfn.XLOOKUP(HI10,Rangos!$B$22:$B$67,Rangos!$C$22:$C$67,\"\")","v":""},{"$f":"+_xlfn.XLOOKUP(HJ10,Rangos!$B$22:$B$67,Rangos!$C$22:$C$67,\"\")","v":""},{"$f":"+_xlfn.XLOOKUP(HK10,Rangos!$B$22:$B$67,Rangos!$C$22:$C$67,\"\")","v":""},{"$f":"+_xlfn.XLOOKUP(HL10,Rangos!$B$22:$B$67,Rangos!$C$22:$C$67,\"\")","v":""},{"$f":"+_xlfn.XLOOKUP(HM10,Rangos!$B$22:$B$67,Rangos!$C$22:$C$67,\"\")","v":""},{"$f":"+_xlfn.XLOOKUP(HN10,Rangos!$B$22:$B$67,Rangos!$C$22:$C$67,\"\")","v":""},{"$f":"+_xlfn.XLOOKUP(HO10,Rangos!$B$22:$B$67,Rangos!$C$22:$C$67,\"\")","v":""},{"$f":"+_xlfn.XLOOKUP(HP10,Rangos!$B$22:$B$67,Rangos!$C$22:$C$67,\"\")","v":""},{"$f":"+_xlfn.XLOOKUP(HQ10,Rangos!$B$22:$B$67,Rangos!$C$22:$C$67,\"\")","v":""},{"$f":"+_xlfn.XLOOKUP(HR10,Rangos!$B$22:$B$67,Rangos!$C$22:$C$67,\"\")","v":""},{"$f":"+_xlfn.XLOOKUP(HS10,Rangos!$B$22:$B$67,Rangos!$C$22:$C$67,\"\")","v":""},{"$f":"+_xlfn.XLOOKUP(HT10,Rangos!$B$22:$B$67,Rangos!$C$22:$C$67,\"\")","v":""},{"$f":"+_xlfn.XLOOKUP(HU10,Rangos!$B$22:$B$67,Rangos!$C$22:$C$67,\"\")","v":""},{"$f":"+_xlfn.XLOOKUP(HV10,Rangos!$B$22:$B$67,Rangos!$C$22:$C$67,\"\")","v":""},{"$f":"+_xlfn.XLOOKUP(HW10,Rangos!$B$22:$B$67,Rangos!$C$22:$C$67,\"\")","v":""},{"$f":"+_xlfn.XLOOKUP(HX10,Rangos!$B$22:$B$67,Rangos!$C$22:$C$67,\"\")","v":""},{"$f":"+_xlfn.XLOOKUP(HY10,Rangos!$B$22:$B$67,Rangos!$C$22:$C$67,\"\")","v":""},{"$f":"+_xlfn.XLOOKUP(HZ10,Rangos!$B$22:$B$67,Rangos!$C$22:$C$67,\"\")","v":""},{"$f":"+_xlfn.XLOOKUP(IA10,Rangos!$B$22:$B$67,Rangos!$C$22:$C$67,\"\")","v":""},{"$f":"+_xlfn.XLOOKUP(IB10,Rangos!$B$22:$B$67,Rangos!$C$22:$C$67,\"\")","v":""},{"$f":"+_xlfn.XLOOKUP(IC10,Rangos!$B$22:$B$67,Rangos!$C$22:$C$67,\"\")","v":""},{"$f":"+_xlfn.XLOOKUP(ID10,Rangos!$B$22:$B$67,Rangos!$C$22:$C$67,\"\")","v":""},{"$f":"+_xlfn.XLOOKUP(IE10,Rangos!$B$22:$B$67,Rangos!$C$22:$C$67,\"\")","v":""},{"$f":"+_xlfn.XLOOKUP(IF10,Rangos!$B$22:$B$67,Rangos!$C$22:$C$67,\"\")","v":""},{"$f":"+_xlfn.XLOOKUP(IG10,Rangos!$B$22:$B$67,Rangos!$C$22:$C$67,\"\")","v":""},{"$f":"+_xlfn.XLOOKUP(IH10,Rangos!$B$22:$B$67,Rangos!$C$22:$C$67,\"\")","v":""},{"$f":"+_xlfn.XLOOKUP(II10,Rangos!$B$22:$B$67,Rangos!$C$22:$C$67,\"\")","v":""},{"$f":"+_xlfn.XLOOKUP(IJ10,Rangos!$B$22:$B$67,Rangos!$C$22:$C$67,\"\")","v":""},{"$f":"+_xlfn.XLOOKUP(IK10,Rangos!$B$22:$B$67,Rangos!$C$22:$C$67,\"\")","v":""},{"$f":"+_xlfn.XLOOKUP(IL10,Rangos!$B$22:$B$67,Rangos!$C$22:$C$67,\"\")","v":""},{"$f":"+_xlfn.XLOOKUP(IM10,Rangos!$B$22:$B$67,Rangos!$C$22:$C$67,\"\")","v":""},{"$f":"+_xlfn.XLOOKUP(IN10,Rangos!$B$22:$B$67,Rangos!$C$22:$C$67,\"\")","v":""},{"$f":"+_xlfn.XLOOKUP(IO10,Rangos!$B$22:$B$67,Rangos!$C$22:$C$67,\"\")","v":""},{"$f":"+_xlfn.XLOOKUP(IP10,Rangos!$B$22:$B$67,Rangos!$C$22:$C$67,\"\")","v":""},{"$f":"+_xlfn.XLOOKUP(IQ10,Rangos!$B$22:$B$67,Rangos!$C$22:$C$67,\"\")","v":""},{"$f":"+_xlfn.XLOOKUP(IR10,Rangos!$B$22:$B$67,Rangos!$C$22:$C$67,\"\")","v":""},{"$f":"+_xlfn.XLOOKUP(IS10,Rangos!$B$22:$B$67,Rangos!$C$22:$C$67,\"\")","v":""},{"$f":"+_xlfn.XLOOKUP(IT10,Rangos!$B$22:$B$67,Rangos!$C$22:$C$67,\"\")","v":""},{"$f":"+_xlfn.XLOOKUP(IU10,Rangos!$B$22:$B$67,Rangos!$C$22:$C$67,\"\")","v":""},{"$f":"+_xlfn.XLOOKUP(IV10,Rangos!$B$22:$B$67,Rangos!$C$22:$C$67,\"\")","v":""},{"$f":"+_xlfn.XLOOKUP(IW10,Rangos!$B$22:$B$67,Rangos!$C$22:$C$67,\"\")","v":""},{"$f":"+_xlfn.XLOOKUP(IX10,Rangos!$B$22:$B$67,Rangos!$C$22:$C$67,\"\")","v":""},{"$f":"+_xlfn.XLOOKUP(IY10,Rangos!$B$22:$B$67,Rangos!$C$22:$C$67,\"\")","v":""},{"$f":"+_xlfn.XLOOKUP(IZ10,Rangos!$B$22:$B$67,Rangos!$C$22:$C$67,\"\")","v":"Feriado"},{"$f":"+_xlfn.XLOOKUP(JA10,Rangos!$B$22:$B$67,Rangos!$C$22:$C$67,\"\")","v":""},{"$f":"+_xlfn.XLOOKUP(JB10,Rangos!$B$22:$B$67,Rangos!$C$22:$C$67,\"\")","v":""},{"$f":"+_xlfn.XLOOKUP(JC10,Rangos!$B$22:$B$67,Rangos!$C$22:$C$67,\"\")","v":""},{"$f":"+_xlfn.XLOOKUP(JD10,Rangos!$B$22:$B$67,Rangos!$C$22:$C$67,\"\")","v":""},{"$f":"+_xlfn.XLOOKUP(JE10,Rangos!$B$22:$B$67,Rangos!$C$22:$C$67,\"\")","v":""},{"$f":"+_xlfn.XLOOKUP(JF10,Rangos!$B$22:$B$67,Rangos!$C$22:$C$67,\"\")","v":""},{"$f":"+_xlfn.XLOOKUP(JG10,Rangos!$B$22:$B$67,Rangos!$C$22:$C$67,\"\")","v":""},{"$f":"+_xlfn.XLOOKUP(JH10,Rangos!$B$22:$B$67,Rangos!$C$22:$C$67,\"\")","v":""},{"$f":"+_xlfn.XLOOKUP(JI10,Rangos!$B$22:$B$67,Rangos!$C$22:$C$67,\"\")","v":""},{"$f":"+_xlfn.XLOOKUP(JJ10,Rangos!$B$22:$B$67,Rangos!$C$22:$C$67,\"\")","v":""},{"$f":"+_xlfn.XLOOKUP(JK10,Rangos!$B$22:$B$67,Rangos!$C$22:$C$67,\"\")","v":""},{"$f":"+_xlfn.XLOOKUP(JL10,Rangos!$B$22:$B$67,Rangos!$C$22:$C$67,\"\")","v":""},{"$f":"+_xlfn.XLOOKUP(JM10,Rangos!$B$22:$B$67,Rangos!$C$22:$C$67,\"\")","v":""},{"$f":"+_xlfn.XLOOKUP(JN10,Rangos!$B$22:$B$67,Rangos!$C$22:$C$67,\"\")","v":""},{"$f":"+_xlfn.XLOOKUP(JO10,Rangos!$B$22:$B$67,Rangos!$C$22:$C$67,\"\")","v":""},{"$f":"+_xlfn.XLOOKUP(JP10,Rangos!$B$22:$B$67,Rangos!$C$22:$C$67,\"\")","v":""},{"$f":"+_xlfn.XLOOKUP(JQ10,Rangos!$B$22:$B$67,Rangos!$C$22:$C$67,\"\")","v":""},{"$f":"+_xlfn.XLOOKUP(JR10,Rangos!$B$22:$B$67,Rangos!$C$22:$C$67,\"\")","v":""},{"$f":"+_xlfn.XLOOKUP(JS10,Rangos!$B$22:$B$67,Rangos!$C$22:$C$67,\"\")","v":""},{"$f":"+_xlfn.XLOOKUP(JT10,Rangos!$B$22:$B$67,Rangos!$C$22:$C$67,\"\")","v":""},{"$f":"+_xlfn.XLOOKUP(JU10,Rangos!$B$22:$B$67,Rangos!$C$22:$C$67,\"\")","v":""},{"$f":"+_xlfn.XLOOKUP(JV10,Rangos!$B$22:$B$67,Rangos!$C$22:$C$67,\"\")","v":""},{"$f":"+_xlfn.XLOOKUP(JW10,Rangos!$B$22:$B$67,Rangos!$C$22:$C$67,\"\")","v":""},{"$f":"+_xlfn.XLOOKUP(JX10,Rangos!$B$22:$B$67,Rangos!$C$22:$C$67,\"\")","v":""},{"$f":"+_xlfn.XLOOKUP(JY10,Rangos!$B$22:$B$67,Rangos!$C$22:$C$67,\"\")","v":""},{"$f":"+_xlfn.XLOOKUP(JZ10,Rangos!$B$22:$B$67,Rangos!$C$22:$C$67,\"\")","v":""},{"$f":"+_xlfn.XLOOKUP(KA10,Rangos!$B$22:$B$67,Rangos!$C$22:$C$67,\"\")","v":""},{"$f":"+_xlfn.XLOOKUP(KB10,Rangos!$B$22:$B$67,Rangos!$C$22:$C$67,\"\")","v":"Feriado"},{"$f":"+_xlfn.XLOOKUP(KC10,Rangos!$B$22:$B$67,Rangos!$C$22:$C$67,\"\")","v":""},{"$f":"+_xlfn.XLOOKUP(KD10,Rangos!$B$22:$B$67,Rangos!$C$22:$C$67,\"\")","v":""},{"$f":"+_xlfn.XLOOKUP(KE10,Rangos!$B$22:$B$67,Rangos!$C$22:$C$67,\"\")","v":""},{"$f":"+_xlfn.XLOOKUP(KF10,Rangos!$B$22:$B$67,Rangos!$C$22:$C$67,\"\")","v":""},{"$f":"+_xlfn.XLOOKUP(KG10,Rangos!$B$22:$B$67,Rangos!$C$22:$C$67,\"\")","v":""},{"$f":"+_xlfn.XLOOKUP(KH10,Rangos!$B$22:$B$67,Rangos!$C$22:$C$67,\"\")","v":""},{"$f":"+_xlfn.XLOOKUP(KI10,Rangos!$B$22:$B$67,Rangos!$C$22:$C$67,\"\")","v":""},{"$f":"+_xlfn.XLOOKUP(KJ10,Rangos!$B$22:$B$67,Rangos!$C$22:$C$67,\"\")","v":""},{"$f":"+_xlfn.XLOOKUP(KK10,Rangos!$B$22:$B$67,Rangos!$C$22:$C$67,\"\")","v":""},{"$f":"+_xlfn.XLOOKUP(KL10,Rangos!$B$22:$B$67,Rangos!$C$22:$C$67,\"\")","v":""},{"$f":"+_xlfn.XLOOKUP(KM10,Rangos!$B$22:$B$67,Rangos!$C$22:$C$67,\"\")","v":""},{"$f":"+_xlfn.XLOOKUP(KN10,Rangos!$B$22:$B$67,Rangos!$C$22:$C$67,\"\")","v":""},{"$f":"+_xlfn.XLOOKUP(KO10,Rangos!$B$22:$B$67,Rangos!$C$22:$C$67,\"\")","v":""},{"$f":"+_xlfn.XLOOKUP(KP10,Rangos!$B$22:$B$67,Rangos!$C$22:$C$67,\"\")","v":""},{"$f":"+_xlfn.XLOOKUP(KQ10,Rangos!$B$22:$B$67,Rangos!$C$22:$C$67,\"\")","v":""},{"$f":"+_xlfn.XLOOKUP(KR10,Rangos!$B$22:$B$67,Rangos!$C$22:$C$67,\"\")","v":""},{"$f":"+_xlfn.XLOOKUP(KS10,Rangos!$B$22:$B$67,Rangos!$C$22:$C$67,\"\")","v":""},{"$f":"+_xlfn.XLOOKUP(KT10,Rangos!$B$22:$B$67,Rangos!$C$22:$C$67,\"\")","v":""},{"$f":"+_xlfn.XLOOKUP(KU10,Rangos!$B$22:$B$67,Rangos!$C$22:$C$67,\"\")","v":""},{"$f":"+_xlfn.XLOOKUP(KV10,Rangos!$B$22:$B$67,Rangos!$C$22:$C$67,\"\")","v":""},{"$f":"+_xlfn.XLOOKUP(KW10,Rangos!$B$22:$B$67,Rangos!$C$22:$C$67,\"\")","v":""},{"$f":"+_xlfn.XLOOKUP(KX10,Rangos!$B$22:$B$67,Rangos!$C$22:$C$67,\"\")","v":""},{"$f":"+_xlfn.XLOOKUP(KY10,Rangos!$B$22:$B$67,Rangos!$C$22:$C$67,\"\")","v":""},{"$f":"+_xlfn.XLOOKUP(KZ10,Rangos!$B$22:$B$67,Rangos!$C$22:$C$67,\"\")","v":"Feriado"},{"$f":"+_xlfn.XLOOKUP(LA10,Rangos!$B$22:$B$67,Rangos!$C$22:$C$67,\"\")","v":""},{"$f":"+_xlfn.XLOOKUP(LB10,Rangos!$B$22:$B$67,Rangos!$C$22:$C$67,\"\")","v":""},{"$f":"+_xlfn.XLOOKUP(LC10,Rangos!$B$22:$B$67,Rangos!$C$22:$C$67,\"\")","v":""},{"$f":"+_xlfn.XLOOKUP(LD10,Rangos!$B$22:$B$67,Rangos!$C$22:$C$67,\"\")","v":""},{"$f":"+_xlfn.XLOOKUP(LE10,Rangos!$B$22:$B$67,Rangos!$C$22:$C$67,\"\")","v":""},{"$f":"+_xlfn.XLOOKUP(LF10,Rangos!$B$22:$B$67,Rangos!$C$22:$C$67,\"\")","v":""},{"$f":"+_xlfn.XLOOKUP(LG10,Rangos!$B$22:$B$67,Rangos!$C$22:$C$67,\"\")","v":""},{"$f":"+_xlfn.XLOOKUP(LH10,Rangos!$B$22:$B$67,Rangos!$C$22:$C$67,\"\")","v":""},{"$f":"+_xlfn.XLOOKUP(LI10,Rangos!$B$22:$B$67,Rangos!$C$22:$C$67,\"\")","v":""},{"$f":"+_xlfn.XLOOKUP(LJ10,Rangos!$B$22:$B$67,Rangos!$C$22:$C$67,\"\")","v":""},{"$f":"+_xlfn.XLOOKUP(LK10,Rangos!$B$22:$B$67,Rangos!$C$22:$C$67,\"\")","v":""},{"$f":"+_xlfn.XLOOKUP(LL10,Rangos!$B$22:$B$67,Rangos!$C$22:$C$67,\"\")","v":""},{"$f":"+_xlfn.XLOOKUP(LM10,Rangos!$B$22:$B$67,Rangos!$C$22:$C$67,\"\")","v":""},{"$f":"+_xlfn.XLOOKUP(LN10,Rangos!$B$22:$B$67,Rangos!$C$22:$C$67,\"\")","v":""},{"$f":"+_xlfn.XLOOKUP(LO10,Rangos!$B$22:$B$67,Rangos!$C$22:$C$67,\"\")","v":""},{"$f":"+_xlfn.XLOOKUP(LP10,Rangos!$B$22:$B$67,Rangos!$C$22:$C$67,\"\")","v":""},{"$f":"+_xlfn.XLOOKUP(LQ10,Rangos!$B$22:$B$67,Rangos!$C$22:$C$67,\"\")","v":""},{"$f":"+_xlfn.XLOOKUP(LR10,Rangos!$B$22:$B$67,Rangos!$C$22:$C$67,\"\")","v":""},{"$f":"+_xlfn.XLOOKUP(LS10,Rangos!$B$22:$B$67,Rangos!$C$22:$C$67,\"\")","v":""},{"$f":"+_xlfn.XLOOKUP(LT10,Rangos!$B$22:$B$67,Rangos!$C$22:$C$67,\"\")","v":""},{"$f":"+_xlfn.XLOOKUP(LU10,Rangos!$B$22:$B$67,Rangos!$C$22:$C$67,\"\")","v":""},{"$f":"+_xlfn.XLOOKUP(LV10,Rangos!$B$22:$B$67,Rangos!$C$22:$C$67,\"\")","v":""},{"$f":"+_xlfn.XLOOKUP(LW10,Rangos!$B$22:$B$67,Rangos!$C$22:$C$67,\"\")","v":""},{"$f":"+_xlfn.XLOOKUP(LX10,Rangos!$B$22:$B$67,Rangos!$C$22:$C$67,\"\")","v":""},{"$f":"+_xlfn.XLOOKUP(LY10,Rangos!$B$22:$B$67,Rangos!$C$22:$C$67,\"\")","v":""},{"$f":"+_xlfn.XLOOKUP(LZ10,Rangos!$B$22:$B$67,Rangos!$C$22:$C$67,\"\")","v":""},{"$f":"+_xlfn.XLOOKUP(MA10,Rangos!$B$22:$B$67,Rangos!$C$22:$C$67,\"\")","v":""},{"$f":"+_xlfn.XLOOKUP(MB10,Rangos!$B$22:$B$67,Rangos!$C$22:$C$67,\"\")","v":""},{"$f":"+_xlfn.XLOOKUP(MC10,Rangos!$B$22:$B$67,Rangos!$C$22:$C$67,\"\")","v":""},{"$f":"+_xlfn.XLOOKUP(MD10,Rangos!$B$22:$B$67,Rangos!$C$22:$C$67,\"\")","v":""},{"$f":"+_xlfn.XLOOKUP(ME10,Rangos!$B$22:$B$67,Rangos!$C$22:$C$67,\"\")","v":""},{"$f":"+_xlfn.XLOOKUP(MF10,Rangos!$B$22:$B$67,Rangos!$C$22:$C$67,\"\")","v":""},{"$f":"+_xlfn.XLOOKUP(MG10,Rangos!$B$22:$B$67,Rangos!$C$22:$C$67,\"\")","v":""},{"$f":"+_xlfn.XLOOKUP(MH10,Rangos!$B$22:$B$67,Rangos!$C$22:$C$67,\"\")","v":""},{"$f":"+_xlfn.XLOOKUP(MI10,Rangos!$B$22:$B$67,Rangos!$C$22:$C$67,\"\")","v":""},{"$f":"+_xlfn.XLOOKUP(MJ10,Rangos!$B$22:$B$67,Rangos!$C$22:$C$67,\"\")","v":""},{"$f":"+_xlfn.XLOOKUP(MK10,Rangos!$B$22:$B$67,Rangos!$C$22:$C$67,\"\")","v":""},{"$f":"+_xlfn.XLOOKUP(ML10,Rangos!$B$22:$B$67,Rangos!$C$22:$C$67,\"\")","v":""},{"$f":"+_xlfn.XLOOKUP(MM10,Rangos!$B$22:$B$67,Rangos!$C$22:$C$67,\"\")","v":""},{"$f":"+_xlfn.XLOOKUP(MN10,Rangos!$B$22:$B$67,Rangos!$C$22:$C$67,\"\")","v":""},{"$f":"+_xlfn.XLOOKUP(MO10,Rangos!$B$22:$B$67,Rangos!$C$22:$C$67,\"\")","v":""},{"$f":"+_xlfn.XLOOKUP(MP10,Rangos!$B$22:$B$67,Rangos!$C$22:$C$67,\"\")","v":""},{"$f":"+_xlfn.XLOOKUP(MQ10,Rangos!$B$22:$B$67,Rangos!$C$22:$C$67,\"\")","v":""},{"$f":"+_xlfn.XLOOKUP(MR10,Rangos!$B$22:$B$67,Rangos!$C$22:$C$67,\"\")","v":""},{"$f":"+_xlfn.XLOOKUP(MS10,Rangos!$B$22:$B$67,Rangos!$C$22:$C$67,\"\")","v":""},{"$f":"+_xlfn.XLOOKUP(MT10,Rangos!$B$22:$B$67,Rangos!$C$22:$C$67,\"\")","v":""},{"$f":"+_xlfn.XLOOKUP(MU10,Rangos!$B$22:$B$67,Rangos!$C$22:$C$67,\"\")","v":""},{"$f":"+_xlfn.XLOOKUP(MV10,Rangos!$B$22:$B$67,Rangos!$C$22:$C$67,\"\")","v":""},{"$f":"+_xlfn.XLOOKUP(MW10,Rangos!$B$22:$B$67,Rangos!$C$22:$C$67,\"\")","v":""},{"$f":"+_xlfn.XLOOKUP(MX10,Rangos!$B$22:$B$67,Rangos!$C$22:$C$67,\"\")","v":""},{"$f":"+_xlfn.XLOOKUP(MY10,Rangos!$B$22:$B$67,Rangos!$C$22:$C$67,\"\")","v":""},{"$f":"+_xlfn.XLOOKUP(MZ10,Rangos!$B$22:$B$67,Rangos!$C$22:$C$67,\"\")","v":""},{"$f":"+_xlfn.XLOOKUP(NA10,Rangos!$B$22:$B$67,Rangos!$C$22:$C$67,\"\")","v":""},{"$f":"+_xlfn.XLOOKUP(NB10,Rangos!$B$22:$B$67,Rangos!$C$22:$C$67,\"\")","v":""},{"$f":"+_xlfn.XLOOKUP(NC10,Rangos!$B$22:$B$67,Rangos!$C$22:$C$67,\"\")","v":""},{"$f":"+_xlfn.XLOOKUP(ND10,Rangos!$B$22:$B$67,Rangos!$C$22:$C$67,\"\")","v":""},{"$f":"+_xlfn.XLOOKUP(NE10,Rangos!$B$22:$B$67,Rangos!$C$22:$C$67,\"\")","v":""},{"$f":"+_xlfn.XLOOKUP(NF10,Rangos!$B$22:$B$67,Rangos!$C$22:$C$67,\"\")","v":""},{"$f":"+_xlfn.XLOOKUP(NG10,Rangos!$B$22:$B$67,Rangos!$C$22:$C$67,\"\")","v":""},{"$f":"+_xlfn.XLOOKUP(NH10,Rangos!$B$22:$B$67,Rangos!$C$22:$C$67,\"\")","v":""},{"$f":"+_xlfn.XLOOKUP(NI10,Rangos!$B$22:$B$67,Rangos!$C$22:$C$67,\"\")","v":""},{"$f":"+_xlfn.XLOOKUP(NJ10,Rangos!$B$22:$B$67,Rangos!$C$22:$C$67,\"\")","v":""},{"$f":"+_xlfn.XLOOKUP(NK10,Rangos!$B$22:$B$67,Rangos!$C$22:$C$67,\"\")","v":""},{"$f":"+_xlfn.XLOOKUP(NL10,Rangos!$B$22:$B$67,Rangos!$C$22:$C$67,\"\")","v":""},{"$f":"+_xlfn.XLOOKUP(NM10,Rangos!$B$22:$B$67,Rangos!$C$22:$C$67,\"\")","v":""},{"$f":"+_xlfn.XLOOKUP(NN10,Rangos!$B$22:$B$67,Rangos!$C$22:$C$67,\"\")","v":""},{"$f":"+_xlfn.XLOOKUP(NO10,Rangos!$B$22:$B$67,Rangos!$C$22:$C$67,\"\")","v":""},{"$f":"+_xlfn.XLOOKUP(NP10,Rangos!$B$22:$B$67,Rangos!$C$22:$C$67,\"\")","v":""},{"$f":"+_xlfn.XLOOKUP(NQ10,Rangos!$B$22:$B$67,Rangos!$C$22:$C$67,\"\")","v":""},{"$f":"+_xlfn.XLOOKUP(NR10,Rangos!$B$22:$B$67,Rangos!$C$22:$C$67,\"\")","v":""},{"$f":"+_xlfn.XLOOKUP(NS10,Rangos!$B$22:$B$67,Rangos!$C$22:$C$67,\"\")","v":""},{"$f":"+_xlfn.XLOOKUP(NT10,Rangos!$B$22:$B$67,Rangos!$C$22:$C$67,\"\")","v":""},{"$f":"+_xlfn.XLOOKUP(NU10,Rangos!$B$22:$B$67,Rangos!$C$22:$C$67,\"\")","v":""},{"$f":"+_xlfn.XLOOKUP(NV10,Rangos!$B$22:$B$67,Rangos!$C$22:$C$67,\"\")","v":""},{"$f":"+_xlfn.XLOOKUP(NW10,Rangos!$B$22:$B$67,Rangos!$C$22:$C$67,\"\")","v":""},{"$f":"+_xlfn.XLOOKUP(NX10,Rangos!$B$22:$B$67,Rangos!$C$22:$C$67,\"\")","v":""},{"$f":"+_xlfn.XLOOKUP(NY10,Rangos!$B$22:$B$67,Rangos!$C$22:$C$67,\"\")","v":"Feriado"},{"$f":"+_xlfn.XLOOKUP(NZ10,Rangos!$B$22:$B$67,Rangos!$C$22:$C$67,\"\")","v":""},{"$f":"+_xlfn.XLOOKUP(OA10,Rangos!$B$22:$B$67,Rangos!$C$22:$C$67,\"\")","v":""},{"$f":"+_xlfn.XLOOKUP(OB10,Rangos!$B$22:$B$67,Rangos!$C$22:$C$67,\"\")","v":""},{"$f":"+_xlfn.XLOOKUP(OC10,Rangos!$B$22:$B$67,Rangos!$C$22:$C$67,\"\")","v":""},{"$f":"+_xlfn.XLOOKUP(OD10,Rangos!$B$22:$B$67,Rangos!$C$22:$C$67,\"\")","v":""},{"$f":"+_xlfn.XLOOKUP(OE10,Rangos!$B$22:$B$67,Rangos!$C$22:$C$67,\"\")","v":""},{"$f":"+_xlfn.XLOOKUP(OF10,Rangos!$B$22:$B$67,Rangos!$C$22:$C$67,\"\")","v":""},{"$f":"+_xlfn.XLOOKUP(OG10,Rangos!$B$22:$B$67,Rangos!$C$22:$C$67,\"\")","v":""},{"$f":"+_xlfn.XLOOKUP(OH10,Rangos!$B$22:$B$67,Rangos!$C$22:$C$67,\"\")","v":""},{"$f":"+_xlfn.XLOOKUP(OI10,Rangos!$B$22:$B$67,Rangos!$C$22:$C$67,\"\")","v":""},{"$f":"+_xlfn.XLOOKUP(OJ10,Rangos!$B$22:$B$67,Rangos!$C$22:$C$67,\"\")","v":""},{"$f":"+_xlfn.XLOOKUP(OK10,Rangos!$B$22:$B$67,Rangos!$C$22:$C$67,\"\")","v":""},{"$f":"+_xlfn.XLOOKUP(OL10,Rangos!$B$22:$B$67,Rangos!$C$22:$C$67,\"\")","v":""},{"$f":"+_xlfn.XLOOKUP(OM10,Rangos!$B$22:$B$67,Rangos!$C$22:$C$67,\"\")","v":""},{"$f":"+_xlfn.XLOOKUP(ON10,Rangos!$B$22:$B$67,Rangos!$C$22:$C$67,\"\")","v":""},{"$f":"+_xlfn.XLOOKUP(OO10,Rangos!$B$22:$B$67,Rangos!$C$22:$C$67,\"\")","v":""},{"$f":"+_xlfn.XLOOKUP(OP10,Rangos!$B$22:$B$67,Rangos!$C$22:$C$67,\"\")","v":""},{"$f":"+_xlfn.XLOOKUP(OQ10,Rangos!$B$22:$B$67,Rangos!$C$22:$C$67,\"\")","v":""},{"$f":"+_xlfn.XLOOKUP(OR10,Rangos!$B$22:$B$67,Rangos!$C$22:$C$67,\"\")","v":""},{"$f":"+_xlfn.XLOOKUP(OS10,Rangos!$B$22:$B$67,Rangos!$C$22:$C$67,\"\")","v":""},{"$f":"+_xlfn.XLOOKUP(OT10,Rangos!$B$22:$B$67,Rangos!$C$22:$C$67,\"\")","v":""},{"$f":"+_xlfn.XLOOKUP(OU10,Rangos!$B$22:$B$67,Rangos!$C$22:$C$67,\"\")","v":""},{"$f":"+_xlfn.XLOOKUP(OV10,Rangos!$B$22:$B$67,Rangos!$C$22:$C$67,\"\")","v":""},{"$f":"+_xlfn.XLOOKUP(OW10,Rangos!$B$22:$B$67,Rangos!$C$22:$C$67,\"\")","v":""},{"$f":"+_xlfn.XLOOKUP(OX10,Rangos!$B$22:$B$67,Rangos!$C$22:$C$67,\"\")","v":""},{"$f":"+_xlfn.XLOOKUP(OY10,Rangos!$B$22:$B$67,Rangos!$C$22:$C$67,\"\")","v":""},{"$f":"+_xlfn.XLOOKUP(OZ10,Rangos!$B$22:$B$67,Rangos!$C$22:$C$67,\"\")","v":""},{"$f":"+_xlfn.XLOOKUP(PA10,Rangos!$B$22:$B$67,Rangos!$C$22:$C$67,\"\")","v":""},{"$f":"+_xlfn.XLOOKUP(PB10,Rangos!$B$22:$B$67,Rangos!$C$22:$C$67,\"\")","v":""},{"$f":"+_xlfn.XLOOKUP(PC10,Rangos!$B$22:$B$67,Rangos!$C$22:$C$67,\"\")","v":""},{"$f":"+_xlfn.XLOOKUP(PD10,Rangos!$B$22:$B$67,Rangos!$C$22:$C$67,\"\")","v":""},{"$f":"+_xlfn.XLOOKUP(PE10,Rangos!$B$22:$B$67,Rangos!$C$22:$C$67,\"\")","v":""},{"$f":"+_xlfn.XLOOKUP(PF10,Rangos!$B$22:$B$67,Rangos!$C$22:$C$67,\"\")","v":""},{"$f":"+_xlfn.XLOOKUP(PG10,Rangos!$B$22:$B$67,Rangos!$C$22:$C$67,\"\")","v":""},{"$f":"+_xlfn.XLOOKUP(PH10,Rangos!$B$22:$B$67,Rangos!$C$22:$C$67,\"\")","v":""},{"$f":"+_xlfn.XLOOKUP(PI10,Rangos!$B$22:$B$67,Rangos!$C$22:$C$67,\"\")","v":""},{"$f":"+_xlfn.XLOOKUP(PJ10,Rangos!$B$22:$B$67,Rangos!$C$22:$C$67,\"\")","v":""},{"$f":"+_xlfn.XLOOKUP(PK10,Rangos!$B$22:$B$67,Rangos!$C$22:$C$67,\"\")","v":""},{"$f":"+_xlfn.XLOOKUP(PL10,Rangos!$B$22:$B$67,Rangos!$C$22:$C$67,\"\")","v":""},{"$f":"+_xlfn.XLOOKUP(PM10,Rangos!$B$22:$B$67,Rangos!$C$22:$C$67,\"\")","v":""},{"$f":"+_xlfn.XLOOKUP(PN10,Rangos!$B$22:$B$67,Rangos!$C$22:$C$67,\"\")","v":""},{"$f":"+_xlfn.XLOOKUP(PO10,Rangos!$B$22:$B$67,Rangos!$C$22:$C$67,\"\")","v":""},{"$f":"+_xlfn.XLOOKUP(PP10,Rangos!$B$22:$B$67,Rangos!$C$22:$C$67,\"\")","v":""},{"$f":"+_xlfn.XLOOKUP(PQ10,Rangos!$B$22:$B$67,Rangos!$C$22:$C$67,\"\")","v":""},{"$f":"+_xlfn.XLOOKUP(PR10,Rangos!$B$22:$B$67,Rangos!$C$22:$C$67,\"\")","v":""},{"$f":"+_xlfn.XLOOKUP(PS10,Rangos!$B$22:$B$67,Rangos!$C$22:$C$67,\"\")","v":""},{"$f":"+_xlfn.XLOOKUP(PT10,Rangos!$B$22:$B$67,Rangos!$C$22:$C$67,\"\")","v":""},{"$f":"+_xlfn.XLOOKUP(PU10,Rangos!$B$22:$B$67,Rangos!$C$22:$C$67,\"\")","v":""},{"$f":"+_xlfn.XLOOKUP(PV10,Rangos!$B$22:$B$67,Rangos!$C$22:$C$67,\"\")","v":""},{"$f":"+_xlfn.XLOOKUP(PW10,Rangos!$B$22:$B$67,Rangos!$C$22:$C$67,\"\")","v":""},{"$f":"+_xlfn.XLOOKUP(PX10,Rangos!$B$22:$B$67,Rangos!$C$22:$C$67,\"\")","v":""},{"$f":"+_xlfn.XLOOKUP(PY10,Rangos!$B$22:$B$67,Rangos!$C$22:$C$67,\"\")","v":""},{"$f":"+_xlfn.XLOOKUP(PZ10,Rangos!$B$22:$B$67,Rangos!$C$22:$C$67,\"\")","v":""},{"$f":"+_xlfn.XLOOKUP(QA10,Rangos!$B$22:$B$67,Rangos!$C$22:$C$67,\"\")","v":""},{"$f":"+_xlfn.XLOOKUP(QB10,Rangos!$B$22:$B$67,Rangos!$C$22:$C$67,\"\")","v":""},{"$f":"+_xlfn.XLOOKUP(QC10,Rangos!$B$22:$B$67,Rangos!$C$22:$C$67,\"\")","v":""},{"$f":"+_xlfn.XLOOKUP(QD10,Rangos!$B$22:$B$67,Rangos!$C$22:$C$67,\"\")","v":""},{"$f":"+_xlfn.XLOOKUP(QE10,Rangos!$B$22:$B$67,Rangos!$C$22:$C$67,\"\")","v":""},{"$f":"+_xlfn.XLOOKUP(QF10,Rangos!$B$22:$B$67,Rangos!$C$22:$C$67,\"\")","v":""},{"$f":"+_xlfn.XLOOKUP(QG10,Rangos!$B$22:$B$67,Rangos!$C$22:$C$67,\"\")","v":"Feriado"},{"$f":"+_xlfn.XLOOKUP(QH10,Rangos!$B$22:$B$67,Rangos!$C$22:$C$67,\"\")","v":""},{"$f":"+_xlfn.XLOOKUP(QI10,Rangos!$B$22:$B$67,Rangos!$C$22:$C$67,\"\")","v":""},{"$f":"+_xlfn.XLOOKUP(QJ10,Rangos!$B$22:$B$67,Rangos!$C$22:$C$67,\"\")","v":""},{"$f":"+_xlfn.XLOOKUP(QK10,Rangos!$B$22:$B$67,Rangos!$C$22:$C$67,\"\")","v":""},{"$f":"+_xlfn.XLOOKUP(QL10,Rangos!$B$22:$B$67,Rangos!$C$22:$C$67,\"\")","v":""},{"$f":"+_xlfn.XLOOKUP(QM10,Rangos!$B$22:$B$67,Rangos!$C$22:$C$67,\"\")","v":""},{"$f":"+_xlfn.XLOOKUP(QN10,Rangos!$B$22:$B$67,Rangos!$C$22:$C$67,\"\")","v":""},{"$f":"+_xlfn.XLOOKUP(QO10,Rangos!$B$22:$B$67,Rangos!$C$22:$C$67,\"\")","v":""},{"$f":"+_xlfn.XLOOKUP(QP10,Rangos!$B$22:$B$67,Rangos!$C$22:$C$67,\"\")","v":""},{"$f":"+_xlfn.XLOOKUP(QQ10,Rangos!$B$22:$B$67,Rangos!$C$22:$C$67,\"\")","v":""},{"$f":"+_xlfn.XLOOKUP(QR10,Rangos!$B$22:$B$67,Rangos!$C$22:$C$67,\"\")","v":""},{"$f":"+_xlfn.XLOOKUP(QS10,Rangos!$B$22:$B$67,Rangos!$C$22:$C$67,\"\")","v":""},{"$f":"+_xlfn.XLOOKUP(QT10,Rangos!$B$22:$B$67,Rangos!$C$22:$C$67,\"\")","v":""},{"$f":"+_xlfn.XLOOKUP(QU10,Rangos!$B$22:$B$67,Rangos!$C$22:$C$67,\"\")","v":""},{"$f":"+_xlfn.XLOOKUP(QV10,Rangos!$B$22:$B$67,Rangos!$C$22:$C$67,\"\")","v":""},{"$f":"+_xlfn.XLOOKUP(QW10,Rangos!$B$22:$B$67,Rangos!$C$22:$C$67,\"\")","v":""},{"$f":"+_xlfn.XLOOKUP(QX10,Rangos!$B$22:$B$67,Rangos!$C$22:$C$67,\"\")","v":""},{"$f":"+_xlfn.XLOOKUP(QY10,Rangos!$B$22:$B$67,Rangos!$C$22:$C$67,\"\")","v":""},{"$f":"+_xlfn.XLOOKUP(QZ10,Rangos!$B$22:$B$67,Rangos!$C$22:$C$67,\"\")","v":""},{"$f":"+_xlfn.XLOOKUP(RA10,Rangos!$B$22:$B$67,Rangos!$C$22:$C$67,\"\")","v":""},{"$f":"+_xlfn.XLOOKUP(RB10,Rangos!$B$22:$B$67,Rangos!$C$22:$C$67,\"\")","v":""},{"$f":"+_xlfn.XLOOKUP(RC10,Rangos!$B$22:$B$67,Rangos!$C$22:$C$67,\"\")","v":""},{"$f":"+_xlfn.XLOOKUP(RD10,Rangos!$B$22:$B$67,Rangos!$C$22:$C$67,\"\")","v":""},{"$f":"+_xlfn.XLOOKUP(RE10,Rangos!$B$22:$B$67,Rangos!$C$22:$C$67,\"\")","v":"Feriado"},{"$f":"+_xlfn.XLOOKUP(RF10,Rangos!$B$22:$B$67,Rangos!$C$22:$C$67,\"\")","v":"Feriado"},{"$f":"+_xlfn.XLOOKUP(RG10,Rangos!$B$22:$B$67,Rangos!$C$22:$C$67,\"\")","v":""},{"$f":"+_xlfn.XLOOKUP(RH10,Rangos!$B$22:$B$67,Rangos!$C$22:$C$67,\"\")","v":""},{"$f":"+_xlfn.XLOOKUP(RI10,Rangos!$B$22:$B$67,Rangos!$C$22:$C$67,\"\")","v":""},{"$f":"+_xlfn.XLOOKUP(RJ10,Rangos!$B$22:$B$67,Rangos!$C$22:$C$67,\"\")","v":""},{"$f":"+_xlfn.XLOOKUP(RK10,Rangos!$B$22:$B$67,Rangos!$C$22:$C$67,\"\")","v":""},{"$f":"+_xlfn.XLOOKUP(RL10,Rangos!$B$22:$B$67,Rangos!$C$22:$C$67,\"\")","v":""},{"$f":"+_xlfn.XLOOKUP(RM10,Rangos!$B$22:$B$67,Rangos!$C$22:$C$67,\"\")","v":""},{"$f":"+_xlfn.XLOOKUP(RN10,Rangos!$B$22:$B$67,Rangos!$C$22:$C$67,\"\")","v":""},{"$f":"+_xlfn.XLOOKUP(RO10,Rangos!$B$22:$B$67,Rangos!$C$22:$C$67,\"\")","v":""},{"$f":"+_xlfn.XLOOKUP(RP10,Rangos!$B$22:$B$67,Rangos!$C$22:$C$67,\"\")","v":""},{"$f":"+_xlfn.XLOOKUP(RQ10,Rangos!$B$22:$B$67,Rangos!$C$22:$C$67,\"\")","v":""},{"$f":"+_xlfn.XLOOKUP(RR10,Rangos!$B$22:$B$67,Rangos!$C$22:$C$67,\"\")","v":""},{"$f":"+_xlfn.XLOOKUP(RS10,Rangos!$B$22:$B$67,Rangos!$C$22:$C$67,\"\")","v":""},{"$f":"+_xlfn.XLOOKUP(RT10,Rangos!$B$22:$B$67,Rangos!$C$22:$C$67,\"\")","v":""},{"$f":"+_xlfn.XLOOKUP(RU10,Rangos!$B$22:$B$67,Rangos!$C$22:$C$67,\"\")","v":""},{"$f":"+_xlfn.XLOOKUP(RV10,Rangos!$B$22:$B$67,Rangos!$C$22:$C$67,\"\")","v":""},{"$f":"+_xlfn.XLOOKUP(RW10,Rangos!$B$22:$B$67,Rangos!$C$22:$C$67,\"\")","v":""},{"$f":"+_xlfn.XLOOKUP(RX10,Rangos!$B$22:$B$67,Rangos!$C$22:$C$67,\"\")","v":""},{"$f":"+_xlfn.XLOOKUP(RY10,Rangos!$B$22:$B$67,Rangos!$C$22:$C$67,\"\")","v":""},{"$f":"+_xlfn.XLOOKUP(RZ10,Rangos!$B$22:$B$67,Rangos!$C$22:$C$67,\"\")","v":""},{"$f":"+_xlfn.XLOOKUP(SA10,Rangos!$B$22:$B$67,Rangos!$C$22:$C$67,\"\")","v":""},{"$f":"+_xlfn.XLOOKUP(SB10,Rangos!$B$22:$B$67,Rangos!$C$22:$C$67,\"\")","v":""},{"$f":"+_xlfn.XLOOKUP(SC10,Rangos!$B$22:$B$67,Rangos!$C$22:$C$67,\"\")","v":""},{"$f":"+_xlfn.XLOOKUP(SD10,Rangos!$B$22:$B$67,Rangos!$C$22:$C$67,\"\")","v":""},{"$f":"+_xlfn.XLOOKUP(SE10,Rangos!$B$22:$B$67,Rangos!$C$22:$C$67,\"\")","v":""},{"$f":"+_xlfn.XLOOKUP(SF10,Rangos!$B$22:$B$67,Rangos!$C$22:$C$67,\"\")","v":""},{"$f":"+_xlfn.XLOOKUP(SG10,Rangos!$B$22:$B$67,Rangos!$C$22:$C$67,\"\")","v":""},{"$f":"+_xlfn.XLOOKUP(SH10,Rangos!$B$22:$B$67,Rangos!$C$22:$C$67,\"\")","v":""},{"$f":"+_xlfn.XLOOKUP(SI10,Rangos!$B$22:$B$67,Rangos!$C$22:$C$67,\"\")","v":""},{"$f":"+_xlfn.XLOOKUP(SJ10,Rangos!$B$22:$B$67,Rangos!$C$22:$C$67,\"\")","v":""},{"$f":"+_xlfn.XLOOKUP(SK10,Rangos!$B$22:$B$67,Rangos!$C$22:$C$67,\"\")","v":""},{"$f":"+_xlfn.XLOOKUP(SL10,Rangos!$B$22:$B$67,Rangos!$C$22:$C$67,\"\")","v":""},{"$f":"+_xlfn.XLOOKUP(SM10,Rangos!$B$22:$B$67,Rangos!$C$22:$C$67,\"\")","v":""},{"$f":"+_xlfn.XLOOKUP(SN10,Rangos!$B$22:$B$67,Rangos!$C$22:$C$67,\"\")","v":""},{"$f":"+_xlfn.XLOOKUP(SO10,Rangos!$B$22:$B$67,Rangos!$C$22:$C$67,\"\")","v":""},{"$f":"+_xlfn.XLOOKUP(SP10,Rangos!$B$22:$B$67,Rangos!$C$22:$C$67,\"\")","v":""},{"$f":"+_xlfn.XLOOKUP(SQ10,Rangos!$B$22:$B$67,Rangos!$C$22:$C$67,\"\")","v":""},{"$f":"+_xlfn.XLOOKUP(SR10,Rangos!$B$22:$B$67,Rangos!$C$22:$C$67,\"\")","v":""},{"$f":"+_xlfn.XLOOKUP(SS10,Rangos!$B$22:$B$67,Rangos!$C$22:$C$67,\"\")","v":""},{"$f":"+_xlfn.XLOOKUP(ST10,Rangos!$B$22:$B$67,Rangos!$C$22:$C$67,\"\")","v":""},{"$f":"+_xlfn.XLOOKUP(SU10,Rangos!$B$22:$B$67,Rangos!$C$22:$C$67,\"\")","v":""},{"$f":"+_xlfn.XLOOKUP(SV10,Rangos!$B$22:$B$67,Rangos!$C$22:$C$67,\"\")","v":""},{"$f":"+_xlfn.XLOOKUP(SW10,Rangos!$B$22:$B$67,Rangos!$C$22:$C$67,\"\")","v":""},{"$f":"+_xlfn.XLOOKUP(SX10,Rangos!$B$22:$B$67,Rangos!$C$22:$C$67,\"\")","v":""},{"$f":"+_xlfn.XLOOKUP(SY10,Rangos!$B$22:$B$67,Rangos!$C$22:$C$67,\"\")","v":""},{"$f":"+_xlfn.XLOOKUP(SZ10,Rangos!$B$22:$B$67,Rangos!$C$22:$C$67,\"\")","v":""},{"$f":"+_xlfn.XLOOKUP(TA10,Rangos!$B$22:$B$67,Rangos!$C$22:$C$67,\"\")","v":""},{"$f":"+_xlfn.XLOOKUP(TB10,Rangos!$B$22:$B$67,Rangos!$C$22:$C$67,\"\")","v":""},{"$f":"+_xlfn.XLOOKUP(TC10,Rangos!$B$22:$B$67,Rangos!$C$22:$C$67,\"\")","v":""},{"$f":"+_xlfn.XLOOKUP(TD10,Rangos!$B$22:$B$67,Rangos!$C$22:$C$67,\"\")","v":""},{"$f":"+_xlfn.XLOOKUP(TE10,Rangos!$B$22:$B$67,Rangos!$C$22:$C$67,\"\")","v":""},{"$f":"+_xlfn.XLOOKUP(TF10,Rangos!$B$22:$B$67,Rangos!$C$22:$C$67,\"\")","v":"Feriado"},{"$f":"+_xlfn.XLOOKUP(TG10,Rangos!$B$22:$B$67,Rangos!$C$22:$C$67,\"\")","v":""},{"$f":"+_xlfn.XLOOKUP(TH10,Rangos!$B$22:$B$67,Rangos!$C$22:$C$67,\"\")","v":""},{"$f":"+_xlfn.XLOOKUP(TI10,Rangos!$B$22:$B$67,Rangos!$C$22:$C$67,\"\")","v":""},{"$f":"+_xlfn.XLOOKUP(TJ10,Rangos!$B$22:$B$67,Rangos!$C$22:$C$67,\"\")","v":""},{"$f":"+_xlfn.XLOOKUP(TK10,Rangos!$B$22:$B$67,Rangos!$C$22:$C$67,\"\")","v":""},{"$f":"+_xlfn.XLOOKUP(TL10,Rangos!$B$22:$B$67,Rangos!$C$22:$C$67,\"\")","v":"Feriado"},{"$f":"+_xlfn.XLOOKUP(TM10,Rangos!$B$22:$B$67,Rangos!$C$22:$C$67,\"\")","v":"Feriado"},{"$f":"+_xlfn.XLOOKUP(TN10,Rangos!$B$22:$B$67,Rangos!$C$22:$C$67,\"\")","v":""},{"$f":"+_xlfn.XLOOKUP(TO10,Rangos!$B$22:$B$67,Rangos!$C$22:$C$67,\"\")","v":""},{"$f":"+_xlfn.XLOOKUP(TP10,Rangos!$B$22:$B$67,Rangos!$C$22:$C$67,\"\")","v":""},{"$f":"+_xlfn.XLOOKUP(TQ10,Rangos!$B$22:$B$67,Rangos!$C$22:$C$67,\"\")","v":""},{"$f":"+_xlfn.XLOOKUP(TR10,Rangos!$B$22:$B$67,Rangos!$C$22:$C$67,\"\")","v":""},{"$f":"+_xlfn.XLOOKUP(TS10,Rangos!$B$22:$B$67,Rangos!$C$22:$C$67,\"\")","v":""},{"$f":"+_xlfn.XLOOKUP(TT10,Rangos!$B$22:$B$67,Rangos!$C$22:$C$67,\"\")","v":""},{"$f":"+_xlfn.XLOOKUP(TU10,Rangos!$B$22:$B$67,Rangos!$C$22:$C$67,\"\")","v":""},{"$f":"+_xlfn.XLOOKUP(TV10,Rangos!$B$22:$B$67,Rangos!$C$22:$C$67,\"\")","v":""},{"$f":"+_xlfn.XLOOKUP(TW10,Rangos!$B$22:$B$67,Rangos!$C$22:$C$67,\"\")","v":""},{"$f":"+_xlfn.XLOOKUP(TX10,Rangos!$B$22:$B$67,Rangos!$C$22:$C$67,\"\")","v":""},{"$f":"+_xlfn.XLOOKUP(TY10,Rangos!$B$22:$B$67,Rangos!$C$22:$C$67,\"\")","v":""},{"$f":"+_xlfn.XLOOKUP(TZ10,Rangos!$B$22:$B$67,Rangos!$C$22:$C$67,\"\")","v":""},{"$f":"+_xlfn.XLOOKUP(UA10,Rangos!$B$22:$B$67,Rangos!$C$22:$C$67,\"\")","v":""},{"$f":"+_xlfn.XLOOKUP(UB10,Rangos!$B$22:$B$67,Rangos!$C$22:$C$67,\"\")","v":""},{"$f":"+_xlfn.XLOOKUP(UC10,Rangos!$B$22:$B$67,Rangos!$C$22:$C$67,\"\")","v":""},{"$f":"+_xlfn.XLOOKUP(UD10,Rangos!$B$22:$B$67,Rangos!$C$22:$C$67,\"\")","v":""},{"$f":"+_xlfn.XLOOKUP(UE10,Rangos!$B$22:$B$67,Rangos!$C$22:$C$67,\"\")","v":""},{"$f":"+_xlfn.XLOOKUP(UF10,Rangos!$B$22:$B$67,Rangos!$C$22:$C$67,\"\")","v":""},{"$f":"+_xlfn.XLOOKUP(UG10,Rangos!$B$22:$B$67,Rangos!$C$22:$C$67,\"\")","v":""},{"$f":"+_xlfn.XLOOKUP(UH10,Rangos!$B$22:$B$67,Rangos!$C$22:$C$67,\"\")","v":""},{"$f":"+_xlfn.XLOOKUP(UI10,Rangos!$B$22:$B$67,Rangos!$C$22:$C$67,\"\")","v":""},{"$f":"+_xlfn.XLOOKUP(UJ10,Rangos!$B$22:$B$67,Rangos!$C$22:$C$67,\"\")","v":""},{"$f":"+_xlfn.XLOOKUP(UK10,Rangos!$B$22:$B$67,Rangos!$C$22:$C$67,\"\")","v":""},{"$f":"+_xlfn.XLOOKUP(UL10,Rangos!$B$22:$B$67,Rangos!$C$22:$C$67,\"\")","v":""},{"$f":"+_xlfn.XLOOKUP(UM10,Rangos!$B$22:$B$67,Rangos!$C$22:$C$67,\"\")","v":""},{"$f":"+_xlfn.XLOOKUP(UN10,Rangos!$B$22:$B$67,Rangos!$C$22:$C$67,\"\")","v":""},{"$f":"+_xlfn.XLOOKUP(UO10,Rangos!$B$22:$B$67,Rangos!$C$22:$C$67,\"\")","v":""},{"$f":"+_xlfn.XLOOKUP(UP10,Rangos!$B$22:$B$67,Rangos!$C$22:$C$67,\"\")","v":""},{"$f":"+_xlfn.XLOOKUP(UQ10,Rangos!$B$22:$B$67,Rangos!$C$22:$C$67,\"\")","v":""},{"$f":"+_xlfn.XLOOKUP(UR10,Rangos!$B$22:$B$67,Rangos!$C$22:$C$67,\"\")","v":""},{"$f":"+_xlfn.XLOOKUP(US10,Rangos!$B$22:$B$67,Rangos!$C$22:$C$67,\"\")","v":""},{"$f":"+_xlfn.XLOOKUP(UT10,Rangos!$B$22:$B$67,Rangos!$C$22:$C$67,\"\")","v":""},{"$f":"+_xlfn.XLOOKUP(UU10,Rangos!$B$22:$B$67,Rangos!$C$22:$C$67,\"\")","v":""},{"$f":"+_xlfn.XLOOKUP(UV10,Rangos!$B$22:$B$67,Rangos!$C$22:$C$67,\"\")","v":""},{"$f":"+_xlfn.XLOOKUP(UW10,Rangos!$B$22:$B$67,Rangos!$C$22:$C$67,\"\")","v":""},{"$f":"+_xlfn.XLOOKUP(UX10,Rangos!$B$22:$B$67,Rangos!$C$22:$C$67,\"\")","v":""},{"$f":"+_xlfn.XLOOKUP(UY10,Rangos!$B$22:$B$67,Rangos!$C$22:$C$67,\"\")","v":"Feriado"},{"$f":"+_xlfn.XLOOKUP(UZ10,Rangos!$B$22:$B$67,Rangos!$C$22:$C$67,\"\")","v":"Feriado"},{"$f":"+_xlfn.XLOOKUP(VA10,Rangos!$B$22:$B$67,Rangos!$C$22:$C$67,\"\")","v":""},{"$f":"+_xlfn.XLOOKUP(VB10,Rangos!$B$22:$B$67,Rangos!$C$22:$C$67,\"\")","v":""},{"$f":"+_xlfn.XLOOKUP(VC10,Rangos!$B$22:$B$67,Rangos!$C$22:$C$67,\"\")","v":""},{"$f":"+_xlfn.XLOOKUP(VD10,Rangos!$B$22:$B$67,Rangos!$C$22:$C$67,\"\")","v":""},{"$f":"+_xlfn.XLOOKUP(VE10,Rangos!$B$22:$B$67,Rangos!$C$22:$C$67,\"\")","v":""},{"$f":"+_xlfn.XLOOKUP(VF10,Rangos!$B$22:$B$67,Rangos!$C$22:$C$67,\"\")","v":""},{"$f":"+_xlfn.XLOOKUP(VG10,Rangos!$B$22:$B$67,Rangos!$C$22:$C$67,\"\")","v":""},{"$f":"+_xlfn.XLOOKUP(VH10,Rangos!$B$22:$B$67,Rangos!$C$22:$C$67,\"\")","v":""},{"$f":"+_xlfn.XLOOKUP(VI10,Rangos!$B$22:$B$67,Rangos!$C$22:$C$67,\"\")","v":""},{"$f":"+_xlfn.XLOOKUP(VJ10,Rangos!$B$22:$B$67,Rangos!$C$22:$C$67,\"\")","v":""},{"$f":"+_xlfn.XLOOKUP(VK10,Rangos!$B$22:$B$67,Rangos!$C$22:$C$67,\"\")","v":""},{"$f":"+_xlfn.XLOOKUP(VL10,Rangos!$B$22:$B$67,Rangos!$C$22:$C$67,\"\")","v":""},{"$f":"+_xlfn.XLOOKUP(VM10,Rangos!$B$22:$B$67,Rangos!$C$22:$C$67,\"\")","v":""},{"$f":"+_xlfn.XLOOKUP(VN10,Rangos!$B$22:$B$67,Rangos!$C$22:$C$67,\"\")","v":""},{"$f":"+_xlfn.XLOOKUP(VO10,Rangos!$B$22:$B$67,Rangos!$C$22:$C$67,\"\")","v":""},{"$f":"+_xlfn.XLOOKUP(VP10,Rangos!$B$22:$B$67,Rangos!$C$22:$C$67,\"\")","v":""},{"$f":"+_xlfn.XLOOKUP(VQ10,Rangos!$B$22:$B$67,Rangos!$C$22:$C$67,\"\")","v":""},{"$f":"+_xlfn.XLOOKUP(VR10,Rangos!$B$22:$B$67,Rangos!$C$22:$C$67,\"\")","v":""},{"$f":"+_xlfn.XLOOKUP(VS10,Rangos!$B$22:$B$67,Rangos!$C$22:$C$67,\"\")","v":""},{"$f":"+_xlfn.XLOOKUP(VT10,Rangos!$B$22:$B$67,Rangos!$C$22:$C$67,\"\")","v":""},{"$f":"+_xlfn.XLOOKUP(VU10,Rangos!$B$22:$B$67,Rangos!$C$22:$C$67,\"\")","v":""},{"$f":"+_xlfn.XLOOKUP(VV10,Rangos!$B$22:$B$67,Rangos!$C$22:$C$67,\"\")","v":""},{"$f":"+_xlfn.XLOOKUP(VW10,Rangos!$B$22:$B$67,Rangos!$C$22:$C$67,\"\")","v":""},{"$f":"+_xlfn.XLOOKUP(VX10,Rangos!$B$22:$B$67,Rangos!$C$22:$C$67,\"\")","v":""},{"$f":"+_xlfn.XLOOKUP(VY10,Rangos!$B$22:$B$67,Rangos!$C$22:$C$67,\"\")","v":""},{"$f":"+_xlfn.XLOOKUP(VZ10,Rangos!$B$22:$B$67,Rangos!$C$22:$C$67,\"\")","v":""},{"$f":"+_xlfn.XLOOKUP(WA10,Rangos!$B$22:$B$67,Rangos!$C$22:$C$67,\"\")","v":""},{"$f":"+_xlfn.XLOOKUP(WB10,Rangos!$B$22:$B$67,Rangos!$C$22:$C$67,\"\")","v":""},{"$f":"+_xlfn.XLOOKUP(WC10,Rangos!$B$22:$B$67,Rangos!$C$22:$C$67,\"\")","v":""},{"$f":"+_xlfn.XLOOKUP(WD10,Rangos!$B$22:$B$67,Rangos!$C$22:$C$67,\"\")","v":""},{"$f":"+_xlfn.XLOOKUP(WE10,Rangos!$B$22:$B$67,Rangos!$C$22:$C$67,\"\")","v":""},{"$f":"+_xlfn.XLOOKUP(WF10,Rangos!$B$22:$B$67,Rangos!$C$22:$C$67,\"\")","v":""},{"$f":"+_xlfn.XLOOKUP(WG10,Rangos!$B$22:$B$67,Rangos!$C$22:$C$67,\"\")","v":""},{"$f":"+_xlfn.XLOOKUP(WH10,Rangos!$B$22:$B$67,Rangos!$C$22:$C$67,\"\")","v":""},{"$f":"+_xlfn.XLOOKUP(WI10,Rangos!$B$22:$B$67,Rangos!$C$22:$C$67,\"\")","v":""},{"$f":"+_xlfn.XLOOKUP(WJ10,Rangos!$B$22:$B$67,Rangos!$C$22:$C$67,\"\")","v":""},{"$f":"+_xlfn.XLOOKUP(WK10,Rangos!$B$22:$B$67,Rangos!$C$22:$C$67,\"\")","v":""},{"$f":"+_xlfn.XLOOKUP(WL10,Rangos!$B$22:$B$67,Rangos!$C$22:$C$67,\"\")","v":""},{"$f":"+_xlfn.XLOOKUP(WM10,Rangos!$B$22:$B$67,Rangos!$C$22:$C$67,\"\")","v":""},{"$f":"+_xlfn.XLOOKUP(WN10,Rangos!$B$22:$B$67,Rangos!$C$22:$C$67,\"\")","v":""},{"$f":"+_xlfn.XLOOKUP(WO10,Rangos!$B$22:$B$67,Rangos!$C$22:$C$67,\"\")","v":""},{"$f":"+_xlfn.XLOOKUP(WP10,Rangos!$B$22:$B$67,Rangos!$C$22:$C$67,\"\")","v":""},{"$f":"+_xlfn.XLOOKUP(WQ10,Rangos!$B$22:$B$67,Rangos!$C$22:$C$67,\"\")","v":""},{"$f":"+_xlfn.XLOOKUP(WR10,Rangos!$B$22:$B$67,Rangos!$C$22:$C$67,\"\")","v":""},{"$f":"+_xlfn.XLOOKUP(WS10,Rangos!$B$22:$B$67,Rangos!$C$22:$C$67,\"\")","v":"Feriado"},{"$f":"+_xlfn.XLOOKUP(WT10,Rangos!$B$22:$B$67,Rangos!$C$22:$C$67,\"\")","v":""},{"$f":"+_xlfn.XLOOKUP(WU10,Rangos!$B$22:$B$67,Rangos!$C$22:$C$67,\"\")","v":""},{"$f":"+_xlfn.XLOOKUP(WV10,Rangos!$B$22:$B$67,Rangos!$C$22:$C$67,\"\")","v":""},{"$f":"+_xlfn.XLOOKUP(WW10,Rangos!$B$22:$B$67,Rangos!$C$22:$C$67,\"\")","v":""},{"$f":"+_xlfn.XLOOKUP(WX10,Rangos!$B$22:$B$67,Rangos!$C$22:$C$67,\"\")","v":""},{"$f":"+_xlfn.XLOOKUP(WY10,Rangos!$B$22:$B$67,Rangos!$C$22:$C$67,\"\")","v":""},{"$f":"+_xlfn.XLOOKUP(WZ10,Rangos!$B$22:$B$67,Rangos!$C$22:$C$67,\"\")","v":""},{"$f":"+_xlfn.XLOOKUP(XA10,Rangos!$B$22:$B$67,Rangos!$C$22:$C$67,\"\")","v":""},{"$f":"+_xlfn.XLOOKUP(XB10,Rangos!$B$22:$B$67,Rangos!$C$22:$C$67,\"\")","v":""},{"$f":"+_xlfn.XLOOKUP(XC10,Rangos!$B$22:$B$67,Rangos!$C$22:$C$67,\"\")","v":""},{"$f":"+_xlfn.XLOOKUP(XD10,Rangos!$B$22:$B$67,Rangos!$C$22:$C$67,\"\")","v":""},{"$f":"+_xlfn.XLOOKUP(XE10,Rangos!$B$22:$B$67,Rangos!$C$22:$C$67,\"\")","v":""},{"$f":"+_xlfn.XLOOKUP(XF10,Rangos!$B$22:$B$67,Rangos!$C$22:$C$67,\"\")","v":""},{"$f":"+_xlfn.XLOOKUP(XG10,Rangos!$B$22:$B$67,Rangos!$C$22:$C$67,\"\")","v":""},{"$f":"+_xlfn.XLOOKUP(XH10,Rangos!$B$22:$B$67,Rangos!$C$22:$C$67,\"\")","v":""},{"$f":"+_xlfn.XLOOKUP(XI10,Rangos!$B$22:$B$67,Rangos!$C$22:$C$67,\"\")","v":""},{"$f":"+_xlfn.XLOOKUP(XJ10,Rangos!$B$22:$B$67,Rangos!$C$22:$C$67,\"\")","v":""},{"$f":"+_xlfn.XLOOKUP(XK10,Rangos!$B$22:$B$67,Rangos!$C$22:$C$67,\"\")","v":""},{"$f":"+_xlfn.XLOOKUP(XL10,Rangos!$B$22:$B$67,Rangos!$C$22:$C$67,\"\")","v":""},{"$f":"+_xlfn.XLOOKUP(XM10,Rangos!$B$22:$B$67,Rangos!$C$22:$C$67,\"\")","v":""},{"$f":"+_xlfn.XLOOKUP(XN10,Rangos!$B$22:$B$67,Rangos!$C$22:$C$67,\"\")","v":""},{"$f":"+_xlfn.XLOOKUP(XO10,Rangos!$B$22:$B$67,Rangos!$C$22:$C$67,\"\")","v":""},{"$f":"+_xlfn.XLOOKUP(XP10,Rangos!$B$22:$B$67,Rangos!$C$22:$C$67,\"\")","v":""},{"$f":"+_xlfn.XLOOKUP(XQ10,Rangos!$B$22:$B$67,Rangos!$C$22:$C$67,\"\")","v":""},{"$f":"+_xlfn.XLOOKUP(XR10,Rangos!$B$22:$B$67,Rangos!$C$22:$C$67,\"\")","v":""},{"$f":"+_xlfn.XLOOKUP(XS10,Rangos!$B$22:$B$67,Rangos!$C$22:$C$67,\"\")","v":""},{"$f":"+_xlfn.XLOOKUP(XT10,Rangos!$B$22:$B$67,Rangos!$C$22:$C$67,\"\")","v":""},{"$f":"+_xlfn.XLOOKUP(XU10,Rangos!$B$22:$B$67,Rangos!$C$22:$C$67,\"\")","v":""},{"$f":"+_xlfn.XLOOKUP(XV10,Rangos!$B$22:$B$67,Rangos!$C$22:$C$67,\"\")","v":""},{"$f":"+_xlfn.XLOOKUP(XW10,Rangos!$B$22:$B$67,Rangos!$C$22:$C$67,\"\")","v":""},{"$f":"+_xlfn.XLOOKUP(XX10,Rangos!$B$22:$B$67,Rangos!$C$22:$C$67,\"\")","v":""},{"$f":"+_xlfn.XLOOKUP(XY10,Rangos!$B$22:$B$67,Rangos!$C$22:$C$67,\"\")","v":""},{"$f":"+_xlfn.XLOOKUP(XZ10,Rangos!$B$22:$B$67,Rangos!$C$22:$C$67,\"\")","v":""},{"$f":"+_xlfn.XLOOKUP(YA10,Rangos!$B$22:$B$67,Rangos!$C$22:$C$67,\"\")","v":""},{"$f":"+_xlfn.XLOOKUP(YB10,Rangos!$B$22:$B$67,Rangos!$C$22:$C$67,\"\")","v":"Feriado"},{"$f":"+_xlfn.XLOOKUP(YC10,Rangos!$B$22:$B$67,Rangos!$C$22:$C$67,\"\")","v":""},{"$f":"+_xlfn.XLOOKUP(YD10,Rangos!$B$22:$B$67,Rangos!$C$22:$C$67,\"\")","v":""},{"$f":"+_xlfn.XLOOKUP(YE10,Rangos!$B$22:$B$67,Rangos!$C$22:$C$67,\"\")","v":""},{"$f":"+_xlfn.XLOOKUP(YF10,Rangos!$B$22:$B$67,Rangos!$C$22:$C$67,\"\")","v":""},{"$f":"+_xlfn.XLOOKUP(YG10,Rangos!$B$22:$B$67,Rangos!$C$22:$C$67,\"\")","v":""},{"$f":"+_xlfn.XLOOKUP(YH10,Rangos!$B$22:$B$67,Rangos!$C$22:$C$67,\"\")","v":""},{"$f":"+_xlfn.XLOOKUP(YI10,Rangos!$B$22:$B$67,Rangos!$C$22:$C$67,\"\")","v":""},{"$f":"+_xlfn.XLOOKUP(YJ10,Rangos!$B$22:$B$67,Rangos!$C$22:$C$67,\"\")","v":""},{"$f":"+_xlfn.XLOOKUP(YK10,Rangos!$B$22:$B$67,Rangos!$C$22:$C$67,\"\")","v":""},{"$f":"+_xlfn.XLOOKUP(YL10,Rangos!$B$22:$B$67,Rangos!$C$22:$C$67,\"\")","v":""},{"$f":"+_xlfn.XLOOKUP(YM10,Rangos!$B$22:$B$67,Rangos!$C$22:$C$67,\"\")","v":""},{"$f":"+_xlfn.XLOOKUP(YN10,Rangos!$B$22:$B$67,Rangos!$C$22:$C$67,\"\")","v":""},{"$f":"+_xlfn.XLOOKUP(YO10,Rangos!$B$22:$B$67,Rangos!$C$22:$C$67,\"\")","v":""},{"$f":"+_xlfn.XLOOKUP(YP10,Rangos!$B$22:$B$67,Rangos!$C$22:$C$67,\"\")","v":""},{"$f":"+_xlfn.XLOOKUP(YQ10,Rangos!$B$22:$B$67,Rangos!$C$22:$C$67,\"\")","v":""},{"$f":"+_xlfn.XLOOKUP(YR10,Rangos!$B$22:$B$67,Rangos!$C$22:$C$67,\"\")","v":""},{"$f":"+_xlfn.XLOOKUP(YS10,Rangos!$B$22:$B$67,Rangos!$C$22:$C$67,\"\")","v":""},{"$f":"+_xlfn.XLOOKUP(YT10,Rangos!$B$22:$B$67,Rangos!$C$22:$C$67,\"\")","v":""},{"$f":"+_xlfn.XLOOKUP(YU10,Rangos!$B$22:$B$67,Rangos!$C$22:$C$67,\"\")","v":""},{"$f":"+_xlfn.XLOOKUP(YV10,Rangos!$B$22:$B$67,Rangos!$C$22:$C$67,\"\")","v":""},{"$f":"+_xlfn.XLOOKUP(YW10,Rangos!$B$22:$B$67,Rangos!$C$22:$C$67,\"\")","v":""},{"$f":"+_xlfn.XLOOKUP(YX10,Rangos!$B$22:$B$67,Rangos!$C$22:$C$67,\"\")","v":""},{"$f":"+_xlfn.XLOOKUP(YY10,Rangos!$B$22:$B$67,Rangos!$C$22:$C$67,\"\")","v":""},{"$f":"+_xlfn.XLOOKUP(YZ10,Rangos!$B$22:$B$67,Rangos!$C$22:$C$67,\"\")","v":"Feriado"},{"$f":"+_xlfn.XLOOKUP(ZA10,Rangos!$B$22:$B$67,Rangos!$C$22:$C$67,\"\")","v":""},{"$f":"+_xlfn.XLOOKUP(ZB10,Rangos!$B$22:$B$67,Rangos!$C$22:$C$67,\"\")","v":""},{"$f":"+_xlfn.XLOOKUP(ZC10,Rangos!$B$22:$B$67,Rangos!$C$22:$C$67,\"\")","v":""},{"$f":"+_xlfn.XLOOKUP(ZD10,Rangos!$B$22:$B$67,Rangos!$C$22:$C$67,\"\")","v":""},{"$f":"+_xlfn.XLOOKUP(ZE10,Rangos!$B$22:$B$67,Rangos!$C$22:$C$67,\"\")","v":""},{"$f":"+_xlfn.XLOOKUP(ZF10,Rangos!$B$22:$B$67,Rangos!$C$22:$C$67,\"\")","v":""},{"$f":"+_xlfn.XLOOKUP(ZG10,Rangos!$B$22:$B$67,Rangos!$C$22:$C$67,\"\")","v":""},{"$f":"+_xlfn.XLOOKUP(ZH10,Rangos!$B$22:$B$67,Rangos!$C$22:$C$67,\"\")","v":""},{"$f":"+_xlfn.XLOOKUP(ZI10,Rangos!$B$22:$B$67,Rangos!$C$22:$C$67,\"\")","v":""},{"$f":"+_xlfn.XLOOKUP(ZJ10,Rangos!$B$22:$B$67,Rangos!$C$22:$C$67,\"\")","v":""},{"$f":"+_xlfn.XLOOKUP(ZK10,Rangos!$B$22:$B$67,Rangos!$C$22:$C$67,\"\")","v":""},{"$f":"+_xlfn.XLOOKUP(ZL10,Rangos!$B$22:$B$67,Rangos!$C$22:$C$67,\"\")","v":""},{"$f":"+_xlfn.XLOOKUP(ZM10,Rangos!$B$22:$B$67,Rangos!$C$22:$C$67,\"\")","v":""},{"$f":"+_xlfn.XLOOKUP(ZN10,Rangos!$B$22:$B$67,Rangos!$C$22:$C$67,\"\")","v":""},{"$f":"+_xlfn.XLOOKUP(ZO10,Rangos!$B$22:$B$67,Rangos!$C$22:$C$67,\"\")","v":""},{"$f":"+_xlfn.XLOOKUP(ZP10,Rangos!$B$22:$B$67,Rangos!$C$22:$C$67,\"\")","v":""},{"$f":"+_xlfn.XLOOKUP(ZQ10,Rangos!$B$22:$B$67,Rangos!$C$22:$C$67,\"\")","v":""},{"$f":"+_xlfn.XLOOKUP(ZR10,Rangos!$B$22:$B$67,Rangos!$C$22:$C$67,\"\")","v":""},{"$f":"+_xlfn.XLOOKUP(ZS10,Rangos!$B$22:$B$67,Rangos!$C$22:$C$67,\"\")","v":""},{"$f":"+_xlfn.XLOOKUP(ZT10,Rangos!$B$22:$B$67,Rangos!$C$22:$C$67,\"\")","v":""},{"$f":"+_xlfn.XLOOKUP(ZU10,Rangos!$B$22:$B$67,Rangos!$C$22:$C$67,\"\")","v":""},{"$f":"+_xlfn.XLOOKUP(ZV10,Rangos!$B$22:$B$67,Rangos!$C$22:$C$67,\"\")","v":""},{"$f":"+_xlfn.XLOOKUP(ZW10,Rangos!$B$22:$B$67,Rangos!$C$22:$C$67,\"\")","v":""},{"$f":"+_xlfn.XLOOKUP(ZX10,Rangos!$B$22:$B$67,Rangos!$C$22:$C$67,\"\")","v":""},{"$f":"+_xlfn.XLOOKUP(ZY10,Rangos!$B$22:$B$67,Rangos!$C$22:$C$67,\"\")","v":""},{"$f":"+_xlfn.XLOOKUP(ZZ10,Rangos!$B$22:$B$67,Rangos!$C$22:$C$67,\"\")","v":""},{"$f":"+_xlfn.XLOOKUP(AAA10,Rangos!$B$22:$B$67,Rangos!$C$22:$C$67,\"\")","v":""},{"$f":"+_xlfn.XLOOKUP(AAB10,Rangos!$B$22:$B$67,Rangos!$C$22:$C$67,\"\")","v":""},{"$f":"+_xlfn.XLOOKUP(AAC10,Rangos!$B$22:$B$67,Rangos!$C$22:$C$67,\"\")","v":""},{"$f":"+_xlfn.XLOOKUP(AAD10,Rangos!$B$22:$B$67,Rangos!$C$22:$C$67,\"\")","v":""},{"$f":"+_xlfn.XLOOKUP(AAE10,Rangos!$B$22:$B$67,Rangos!$C$22:$C$67,\"\")","v":""},{"$f":"+_xlfn.XLOOKUP(AAF10,Rangos!$B$22:$B$67,Rangos!$C$22:$C$67,\"\")","v":""},{"$f":"+_xlfn.XLOOKUP(AAG10,Rangos!$B$22:$B$67,Rangos!$C$22:$C$67,\"\")","v":""},{"$f":"+_xlfn.XLOOKUP(AAH10,Rangos!$B$22:$B$67,Rangos!$C$22:$C$67,\"\")","v":""},{"$f":"+_xlfn.XLOOKUP(AAI10,Rangos!$B$22:$B$67,Rangos!$C$22:$C$67,\"\")","v":""},{"$f":"+_xlfn.XLOOKUP(AAJ10,Rangos!$B$22:$B$67,Rangos!$C$22:$C$67,\"\")","v":""},{"$f":"+_xlfn.XLOOKUP(AAK10,Rangos!$B$22:$B$67,Rangos!$C$22:$C$67,\"\")","v":""},{"$f":"+_xlfn.XLOOKUP(AAL10,Rangos!$B$22:$B$67,Rangos!$C$22:$C$67,\"\")","v":""},{"$f":"+_xlfn.XLOOKUP(AAM10,Rangos!$B$22:$B$67,Rangos!$C$22:$C$67,\"\")","v":""},{"$f":"+_xlfn.XLOOKUP(AAN10,Rangos!$B$22:$B$67,Rangos!$C$22:$C$67,\"\")","v":""},{"$f":"+_xlfn.XLOOKUP(AAO10,Rangos!$B$22:$B$67,Rangos!$C$22:$C$67,\"\")","v":""},{"$f":"+_xlfn.XLOOKUP(AAP10,Rangos!$B$22:$B$67,Rangos!$C$22:$C$67,\"\")","v":""},{"$f":"+_xlfn.XLOOKUP(AAQ10,Rangos!$B$22:$B$67,Rangos!$C$22:$C$67,\"\")","v":""},{"$f":"+_xlfn.XLOOKUP(AAR10,Rangos!$B$22:$B$67,Rangos!$C$22:$C$67,\"\")","v":""},{"$f":"+_xlfn.XLOOKUP(AAS10,Rangos!$B$22:$B$67,Rangos!$C$22:$C$67,\"\")","v":""},{"$f":"+_xlfn.XLOOKUP(AAT10,Rangos!$B$22:$B$67,Rangos!$C$22:$C$67,\"\")","v":""},{"$f":"+_xlfn.XLOOKUP(AAU10,Rangos!$B$22:$B$67,Rangos!$C$22:$C$67,\"\")","v":""}]
[null,"¿Es laborable?",{"$f":"IF(OR(C11=\"Sábado\",C11=\"Domingo\",C12=\"Feriado\"),\"No\",\"Sí\")","v":"No"},"Sí","Sí","Sí","Sí","Sí","No","No","Sí","Sí","Sí","Sí","Sí","No","No","Sí","Sí","Sí","Sí","Sí","No","No","No","Sí","Sí","Sí","Sí","No","No","Sí","Sí","Sí","Sí","Sí","No","No","Sí","Sí","Sí","Sí","Sí","No","No","Sí","Sí","Sí","Sí","Sí","No","No","Sí","Sí","Sí","Sí","Sí","No","No","Sí","Sí","Sí","Sí","Sí","No","No",{"$f":"IF(OR(BO11=\"Sábado\",BO11=\"Domingo\",BO12=\"Feriado\"),\"No\",\"Sí\")","v":"Sí"},"Sí","Sí","Sí","Sí","No","No","Sí","Sí","Sí","Sí","Sí","No","No","Sí","Sí","Sí","Sí","No","No","No","Sí","Sí","Sí","Sí","Sí","No","No","Sí","Sí","Sí","Sí","Sí","No","No","Sí","Sí","Sí","Sí","Sí","No","No","No","Sí","Sí","Sí","Sí","No","No","Sí","Sí","Sí","Sí","Sí","No","No","Sí","Sí","Sí","Sí","Sí","No","No","Sí",{"$f":"IF(OR(EA11=\"Sábado\",EA11=\"Domingo\",EA12=\"Feriado\"),\"No\",\"Sí\")","v":"Sí"},"Sí","Sí","Sí","No","No","Sí","Sí","Sí","Sí","Sí","No","No","Sí","Sí","Sí","Sí","Sí","No","No","Sí","Sí","Sí","Sí","Sí","No","No","Sí","Sí","Sí","No","Sí","No","No","Sí","Sí","No","No","Sí","No","No","Sí","Sí","Sí","Sí","Sí","No","No","Sí","Sí","Sí","Sí","Sí","No","No","Sí","Sí","Sí","Sí","Sí","No","No","Sí","Sí",{"$f":"IF(OR(GM11=\"Sábado\",GM11=\"Domingo\",GM12=\"Feriado\"),\"No\",\"Sí\")","v":"Sí"},"Sí","Sí","No","No","Sí","Sí","Sí","Sí","Sí","No","No","Sí","Sí","Sí","Sí","Sí","No","No","No","No","Sí","Sí","Sí","No","No","Sí","Sí","Sí","Sí","Sí","No","No","Sí","Sí","Sí","Sí","Sí","No","No","Sí","Sí","Sí","Sí","Sí","No","No","Sí","Sí","Sí","Sí","Sí","No","No","Sí","Sí","Sí","Sí","Sí","No","No","Sí","Sí","Sí",{"$f":"IF(OR(IY11=\"Sábado\",IY11=\"Domingo\",IY12=\"Feriado\"),\"No\",\"Sí\")","v":"Sí"},"No","No","No","Sí","Sí","Sí","Sí","Sí","No","No","Sí","Sí","Sí","Sí","Sí","No","No","Sí","Sí","Sí","Sí","Sí","No","No","Sí","Sí","Sí","Sí","No","No","No","Sí","Sí","Sí","Sí","Sí","No","No","Sí","Sí","Sí","Sí","Sí","No","No","Sí","Sí","Sí","Sí","Sí","No","No","No","Sí","Sí","Sí","Sí","No","No","Sí","Sí","Sí","Sí",{"$f":"IF(OR(LK11=\"Sábado\",LK11=\"Domingo\",LK12=\"Feriado\"),\"No\",\"Sí\")","v":"Sí"},"No","No","Sí","Sí","Sí","Sí","Sí","No","No","Sí","Sí","Sí","Sí","Sí","No","No","Sí","Sí","Sí","Sí","Sí","No","No","Sí","Sí","Sí","Sí","Sí","No","No","Sí","Sí","Sí","Sí","Sí","No","No","Sí","Sí","Sí","Sí","Sí","No","No","Sí","Sí","Sí","Sí","Sí","No","No","Sí","Sí","Sí","Sí","Sí","No","No","Sí","Sí","Sí","Sí","Sí",{"$f":"IF(OR(NW11=\"Sábado\",NW11=\"Domingo\",NW12=\"Feriado\"),\"No\",\"Sí\")","v":"No"},"No","No","Sí","Sí","Sí","Sí","No","No","Sí","Sí","Sí","Sí","Sí","No","No","Sí","Sí","Sí","Sí","Sí","No","No","Sí","Sí","Sí","Sí","Sí","No","No","Sí","Sí","Sí","Sí","Sí","No","No","Sí","Sí","Sí","Sí","Sí","No","No","Sí","Sí","Sí","Sí","Sí","No","No","Sí","Sí","Sí","Sí","Sí","No","No","Sí","Sí","Sí","Sí","No","No",{"$f":"IF(OR(QI11=\"Sábado\",QI11=\"Domingo\",QI12=\"Feriado\"),\"No\",\"Sí\")","v":"No"},"Sí","Sí","Sí","Sí","Sí","No","No","Sí","Sí","Sí","Sí","Sí","No","No","Sí","Sí","Sí","Sí","Sí","No","No","No","No","Sí","Sí","Sí","No","No","Sí","Sí","Sí","Sí","Sí","No","No","Sí","Sí","Sí","Sí","Sí","No","No","Sí","Sí","Sí","Sí","Sí","No","No","Sí","Sí","Sí","Sí","Sí","No","No","Sí","Sí","Sí","Sí","Sí","No","No",{"$f":"IF(OR(SU11=\"Sábado\",SU11=\"Domingo\",SU12=\"Feriado\"),\"No\",\"Sí\")","v":"Sí"},"Sí","Sí","Sí","Sí","No","No","Sí","Sí","Sí","Sí","No","No","No","Sí","Sí","Sí","No","No","No","No","Sí","Sí","Sí","Sí","Sí","No","No","Sí","Sí","Sí","Sí","Sí","No","No","Sí","Sí","Sí","Sí","Sí","No","No","Sí","Sí","Sí","Sí","Sí","No","No","Sí","Sí","Sí","Sí","Sí","No","No","No","No","Sí","Sí","Sí","No","No","Sí",{"$f":"IF(OR(VG11=\"Sábado\",VG11=\"Domingo\",VG12=\"Feriado\"),\"No\",\"Sí\")","v":"Sí"},"Sí","Sí","Sí","No","No","Sí","Sí","Sí","Sí","Sí","No","No","Sí","Sí","Sí","Sí","Sí","No","No","Sí","Sí","Sí","Sí","Sí","No","No","Sí","Sí","Sí","Sí","Sí","No","No","Sí","Sí","Sí","Sí","No","No","No","Sí","Sí","Sí","Sí","Sí","No","No","Sí","Sí","Sí","Sí","Sí","No","No","Sí","Sí","Sí","Sí","Sí","No","No","Sí","Sí",{"$f":"IF(OR(XS11=\"Sábado\",XS11=\"Domingo\",XS12=\"Feriado\"),\"No\",\"Sí\")","v":"Sí"},"Sí","Sí","No","No","Sí","Sí","Sí","Sí","No","No","No","Sí","Sí","Sí","Sí","Sí","No","No","Sí","Sí","Sí","Sí","Sí","No","No","Sí","Sí","Sí","Sí","Sí","No","No","No","Sí","Sí","Sí","Sí","No","No","Sí","Sí","Sí","Sí","Sí","No","No","Sí","Sí","Sí","Sí","Sí","No","No","Sí","Sí","Sí","Sí","Sí","No","No","Sí","Sí","Sí",{"$f":"IF(OR(AAE11=\"Sábado\",AAE11=\"Domingo\",AAE12=\"Feriado\"),\"No\",\"Sí\")","v":"Sí"},"Sí","No","No","Sí","Sí","Sí","Sí","Sí","No","No","Sí","Sí","Sí","Sí","Sí","No"]
[null,"Último día laborable del mes",{"$f":"+IF(\nAND(C13=\"Sí\",WORKDAY.INTL(EOMONTH(C10,0)+1,-1,1,Rangos!$B$22:$B$79)=C10),\"Sí\",\"No\")","v":"No"},{"$f":"+IF(\nAND(D13=\"Sí\",WORKDAY.INTL(EOMONTH(D10,0)+1,-1,1,Rangos!$B$22:$B$79)=D10),\"Sí\",\"No\")","v":"No"},{"$f":"+IF(\nAND(E13=\"Sí\",WORKDAY.INTL(EOMONTH(E10,0)+1,-1,1,Rangos!$B$22:$B$79)=E10),\"Sí\",\"No\")","v":"No"},{"$f":"+IF(\nAND(F13=\"Sí\",WORKDAY.INTL(EOMONTH(F10,0)+1,-1,1,Rangos!$B$22:$B$79)=F10),\"Sí\",\"No\")","v":"No"},{"$f":"+IF(\nAND(G13=\"Sí\",WORKDAY.INTL(EOMONTH(G10,0)+1,-1,1,Rangos!$B$22:$B$79)=G10),\"Sí\",\"No\")","v":"No"},{"$f":"+IF(\nAND(H13=\"Sí\",WORKDAY.INTL(EOMONTH(H10,0)+1,-1,1,Rangos!$B$22:$B$79)=H10),\"Sí\",\"No\")","v":"No"},{"$f":"+IF(\nAND(I13=\"Sí\",WORKDAY.INTL(EOMONTH(I10,0)+1,-1,1,Rangos!$B$22:$B$79)=I10),\"Sí\",\"No\")","v":"No"},{"$f":"+IF(\nAND(J13=\"Sí\",WORKDAY.INTL(EOMONTH(J10,0)+1,-1,1,Rangos!$B$22:$B$79)=J10),\"Sí\",\"No\")","v":"No"},{"$f":"+IF(\nAND(K13=\"Sí\",WORKDAY.INTL(EOMONTH(K10,0)+1,-1,1,Rangos!$B$22:$B$79)=K10),\"Sí\",\"No\")","v":"No"},{"$f":"+IF(\nAND(L13=\"Sí\",WORKDAY.INTL(EOMONTH(L10,0)+1,-1,1,Rangos!$B$22:$B$79)=L10),\"Sí\",\"No\")","v":"No"},{"$f":"+IF(\nAND(M13=\"Sí\",WORKDAY.INTL(EOMONTH(M10,0)+1,-1,1,Rangos!$B$22:$B$79)=M10),\"Sí\",\"No\")","v":"No"},{"$f":"+IF(\nAND(N13=\"Sí\",WORKDAY.INTL(EOMONTH(N10,0)+1,-1,1,Rangos!$B$22:$B$79)=N10),\"Sí\",\"No\")","v":"Sí"},{"$f":"+IF(\nAND(O13=\"Sí\",WORKDAY.INTL(EOMONTH(O10,0)+1,-1,1,Rangos!$B$22:$B$79)=O10),\"Sí\",\"No\")","v":"No"},{"$f":"+IF(\nAND(P13=\"Sí\",WORKDAY.INTL(EOMONTH(P10,0)+1,-1,1,Rangos!$B$22:$B$79)=P10),\"Sí\",\"No\")","v":"No"},{"$f":"+IF(\nAND(Q13=\"Sí\",WORKDAY.INTL(EOMONTH(Q10,0)+1,-1,1,Rangos!$B$22:$B$79)=Q10),\"Sí\",\"No\")","v":"No"},{"$f":"+IF(\nAND(R13=\"Sí\",WORKDAY.INTL(EOMONTH(R10,0)+1,-1,1,Rangos!$B$22:$B$79)=R10),\"Sí\",\"No\")","v":"No"},{"$f":"+IF(\nAND(S13=\"Sí\",WORKDAY.INTL(EOMONTH(S10,0)+1,-1,1,Rangos!$B$22:$B$79)=S10),\"Sí\",\"No\")","v":"No"},{"$f":"+IF(\nAND(T13=\"Sí\",WORKDAY.INTL(EOMONTH(T10,0)+1,-1,1,Rangos!$B$22:$B$79)=T10),\"Sí\",\"No\")","v":"No"},{"$f":"+IF(\nAND(U13=\"Sí\",WORKDAY.INTL(EOMONTH(U10,0)+1,-1,1,Rangos!$B$22:$B$79)=U10),\"Sí\",\"No\")","v":"No"},{"$f":"+IF(\nAND(V13=\"Sí\",WORKDAY.INTL(EOMONTH(V10,0)+1,-1,1,Rangos!$B$22:$B$79)=V10),\"Sí\",\"No\")","v":"No"},{"$f":"+IF(\nAND(W13=\"Sí\",WORKDAY.INTL(EOMONTH(W10,0)+1,-1,1,Rangos!$B$22:$B$79)=W10),\"Sí\",\"No\")","v":"No"},{"$f":"+IF(\nAND(X13=\"Sí\",WORKDAY.INTL(EOMONTH(X10,0)+1,-1,1,Rangos!$B$22:$B$79)=X10),\"Sí\",\"No\")","v":"No"},{"$f":"+IF(\nAND(Y13=\"Sí\",WORKDAY.INTL(EOMONTH(Y10,0)+1,-1,1,Rangos!$B$22:$B$79)=Y10),\"Sí\",\"No\")","v":"No"},{"$f":"+IF(\nAND(Z13=\"Sí\",WORKDAY.INTL(EOMONTH(Z10,0)+1,-1,1,Rangos!$B$22:$B$79)=Z10),\"Sí\",\"No\")","v":"No"},{"$f":"+IF(\nAND(AA13=\"Sí\",WORKDAY.INTL(EOMONTH(AA10,0)+1,-1,1,Rangos!$B$22:$B$79)=AA10),\"Sí\",\"No\")","v":"No"},{"$f":"+IF(\nAND(AB13=\"Sí\",WORKDAY.INTL(EOMONTH(AB10,0)+1,-1,1,Rangos!$B$22:$B$79)=AB10),\"Sí\",\"No\")","v":"No"},{"$f":"+IF(\nAND(AC13=\"Sí\",WORKDAY.INTL(EOMONTH(AC10,0)+1,-1,1,Rangos!$B$22:$B$79)=AC10),\"Sí\",\"No\")","v":"No"},{"$f":"+IF(\nAND(AD13=\"Sí\",WORKDAY.INTL(EOMONTH(AD10,0)+1,-1,1,Rangos!$B$22:$B$79)=AD10),\"Sí\",\"No\")","v":"No"},{"$f":"+IF(\nAND(AE13=\"Sí\",WORKDAY.INTL(EOMONTH(AE10,0)+1,-1,1,Rangos!$B$22:$B$79)=AE10),\"Sí\",\"No\")","v":"No"},{"$f":"+IF(\nAND(AF13=\"Sí\",WORKDAY.INTL(EOMONTH(AF10,0)+1,-1,1,Rangos!$B$22:$B$79)=AF10),\"Sí\",\"No\")","v":"No"},{"$f":"+IF(\nAND(AG13=\"Sí\",WORKDAY.INTL(EOMONTH(AG10,0)+1,-1,1,Rangos!$B$22:$B$79)=AG10),\"Sí\",\"No\")","v":"No"},{"$f":"+IF(\nAND(AH13=\"Sí\",WORKDAY.INTL(EOMONTH(AH10,0)+1,-1,1,Rangos!$B$22:$B$79)=AH10),\"Sí\",\"No\")","v":"No"},{"$f":"+IF(\nAND(AI13=\"Sí\",WORKDAY.INTL(EOMONTH(AI10,0)+1,-1,1,Rangos!$B$22:$B$79)=AI10),\"Sí\",\"No\")","v":"No"},{"$f":"+IF(\nAND(AJ13=\"Sí\",WORKDAY.INTL(EOMONTH(AJ10,0)+1,-1,1,Rangos!$B$22:$B$79)=AJ10),\"Sí\",\"No\")","v":"No"},{"$f":"+IF(\nAND(AK13=\"Sí\",WORKDAY.INTL(EOMONTH(AK10,0)+1,-1,1,Rangos!$B$22:$B$79)=AK10),\"Sí\",\"No\")","v":"No"},{"$f":"+IF(\nAND(AL13=\"Sí\",WORKDAY.INTL(EOMONTH(AL10,0)+1,-1,1,Rangos!$B$22:$B$79)=AL10),\"Sí\",\"No\")","v":"No"},{"$f":"+IF(\nAND(AM13=\"Sí\",WORKDAY.INTL(EOMONTH(AM10,0)+1,-1,1,Rangos!$B$22:$B$79)=AM10),\"Sí\",\"No\")","v":"No"},{"$f":"+IF(\nAND(AN13=\"Sí\",WORKDAY.INTL(EOMONTH(AN10,0)+1,-1,1,Rangos!$B$22:$B$79)=AN10),\"Sí\",\"No\")","v":"No"},{"$f":"+IF(\nAND(AO13=\"Sí\",WORKDAY.INTL(EOMONTH(AO10,0)+1,-1,1,Rangos!$B$22:$B$79)=AO10),\"Sí\",\"No\")","v":"No"},{"$f":"+IF(\nAND(AP13=\"Sí\",WORKDAY.INTL(EOMONTH(AP10,0)+1,-1,1,Rangos!$B$22:$B$79)=AP10),\"Sí\",\"No\")","v":"No"},{"$f":"+IF(\nAND(AQ13=\"Sí\",WORKDAY.INTL(EOMONTH(AQ10,0)+1,-1,1,Rangos!$B$22:$B$79)=AQ10),\"Sí\",\"No\")","v":"Sí"},{"$f":"+IF(\nAND(AR13=\"Sí\",WORKDAY.INTL(EOMONTH(AR10,0)+1,-1,1,Rangos!$B$22:$B$79)=AR10),\"Sí\",\"No\")","v":"No"},{"$f":"+IF(\nAND(AS13=\"Sí\",WORKDAY.INTL(EOMONTH(AS10,0)+1,-1,1,Rangos!$B$22:$B$79)=AS10),\"Sí\",\"No\")","v":"No"},{"$f":"+IF(\nAND(AT13=\"Sí\",WORKDAY.INTL(EOMONTH(AT10,0)+1,-1,1,Rangos!$B$22:$B$79)=AT10),\"Sí\",\"No\")","v":"No"},{"$f":"+IF(\nAND(AU13=\"Sí\",WORKDAY.INTL(EOMONTH(AU10,0)+1,-1,1,Rangos!$B$22:$B$79)=AU10),\"Sí\",\"No\")","v":"No"},{"$f":"+IF(\nAND(AV13=\"Sí\",WORKDAY.INTL(EOMONTH(AV10,0)+1,-1,1,Rangos!$B$22:$B$79)=AV10),\"Sí\",\"No\")","v":"No"},{"$f":"+IF(\nAND(AW13=\"Sí\",WORKDAY.INTL(EOMONTH(AW10,0)+1,-1,1,Rangos!$B$22:$B$79)=AW10),\"Sí\",\"No\")","v":"No"},{"$f":"+IF(\nAND(AX13=\"Sí\",WORKDAY.INTL(EOMONTH(AX10,0)+1,-1,1,Rangos!$B$22:$B$79)=AX10),\"Sí\",\"No\")","v":"No"},{"$f":"+IF(\nAND(AY13=\"Sí\",WORKDAY.INTL(EOMONTH(AY10,0)+1,-1,1,Rangos!$B$22:$B$79)=AY10),\"Sí\",\"No\")","v":"No"},{"$f":"+IF(\nAND(AZ13=\"Sí\",WORKDAY.INTL(EOMONTH(AZ10,0)+1,-1,1,Rangos!$B$22:$B$79)=AZ10),\"Sí\",\"No\")","v":"No"},{"$f":"+IF(\nAND(BA13=\"Sí\",WORKDAY.INTL(EOMONTH(BA10,0)+1,-1,1,Rangos!$B$22:$B$79)=BA10),\"Sí\",\"No\")","v":"No"},{"$f":"+IF(\nAND(BB13=\"Sí\",WORKDAY.INTL(EOMONTH(BB10,0)+1,-1,1,Rangos!$B$22:$B$79)=BB10),\"Sí\",\"No\")","v":"No"},{"$f":"+IF(\nAND(BC13=\"Sí\",WORKDAY.INTL(EOMONTH(BC10,0)+1,-1,1,Rangos!$B$22:$B$79)=BC10),\"Sí\",\"No\")","v":"No"},{"$f":"+IF(\nAND(BD13=\"Sí\",WORKDAY.INTL(EOMONTH(BD10,0)+1,-1,1,Rangos!$B$22:$B$79)=BD10),\"Sí\",\"No\")","v":"No"},{"$f":"+IF(\nAND(BE13=\"Sí\",WORKDAY.INTL(EOMONTH(BE10,0)+1,-1,1,Rangos!$B$22:$B$79)=BE10),\"Sí\",\"No\")","v":"No"},{"$f":"+IF(\nAND(BF13=\"Sí\",WORKDAY.INTL(EOMONTH(BF10,0)+1,-1,1,Rangos!$B$22:$B$79)=BF10),\"Sí\",\"No\")","v":"No"},{"$f":"+IF(\nAND(BG13=\"Sí\",WORKDAY.INTL(EOMONTH(BG10,0)+1,-1,1,Rangos!$B$22:$B$79)=BG10),\"Sí\",\"No\")","v":"No"},{"$f":"+IF(\nAND(BH13=\"Sí\",WORKDAY.INTL(EOMONTH(BH10,0)+1,-1,1,Rangos!$B$22:$B$79)=BH10),\"Sí\",\"No\")","v":"No"},{"$f":"+IF(\nAND(BI13=\"Sí\",WORKDAY.INTL(EOMONTH(BI10,0)+1,-1,1,Rangos!$B$22:$B$79)=BI10),\"Sí\",\"No\")","v":"No"},{"$f":"+IF(\nAND(BJ13=\"Sí\",WORKDAY.INTL(EOMONTH(BJ10,0)+1,-1,1,Rangos!$B$22:$B$79)=BJ10),\"Sí\",\"No\")","v":"No"},{"$f":"+IF(\nAND(BK13=\"Sí\",WORKDAY.INTL(EOMONTH(BK10,0)+1,-1,1,Rangos!$B$22:$B$79)=BK10),\"Sí\",\"No\")","v":"No"},{"$f":"+IF(\nAND(BL13=\"Sí\",WORKDAY.INTL(EOMONTH(BL10,0)+1,-1,1,Rangos!$B$22:$B$79)=BL10),\"Sí\",\"No\")","v":"No"},{"$f":"+IF(\nAND(BM13=\"Sí\",WORKDAY.INTL(EOMONTH(BM10,0)+1,-1,1,Rangos!$B$22:$B$79)=BM10),\"Sí\",\"No\")","v":"No"},{"$f":"+IF(\nAND(BN13=\"Sí\",WORKDAY.INTL(EOMONTH(BN10,0)+1,-1,1,Rangos!$B$22:$B$79)=BN10),\"Sí\",\"No\")","v":"No"},{"$f":"+IF(\nAND(BO13=\"Sí\",WORKDAY.INTL(EOMONTH(BO10,0)+1,-1,1,Rangos!$B$22:$B$79)=BO10),\"Sí\",\"No\")","v":"No"},{"$f":"+IF(\nAND(BP13=\"Sí\",WORKDAY.INTL(EOMONTH(BP10,0)+1,-1,1,Rangos!$B$22:$B$79)=BP10),\"Sí\",\"No\")","v":"No"},{"$f":"+IF(\nAND(BQ13=\"Sí\",WORKDAY.INTL(EOMONTH(BQ10,0)+1,-1,1,Rangos!$B$22:$B$79)=BQ10),\"Sí\",\"No\")","v":"No"},{"$f":"+IF(\nAND(BR13=\"Sí\",WORKDAY.INTL(EOMONTH(BR10,0)+1,-1,1,Rangos!$B$22:$B$79)=BR10),\"Sí\",\"No\")","v":"No"},{"$f":"+IF(\nAND(BS13=\"Sí\",WORKDAY.INTL(EOMONTH(BS10,0)+1,-1,1,Rangos!$B$22:$B$79)=BS10),\"Sí\",\"No\")","v":"No"},{"$f":"+IF(\nAND(BT13=\"Sí\",WORKDAY.INTL(EOMONTH(BT10,0)+1,-1,1,Rangos!$B$22:$B$79)=BT10),\"Sí\",\"No\")","v":"No"},{"$f":"+IF(\nAND(BU13=\"Sí\",WORKDAY.INTL(EOMONTH(BU10,0)+1,-1,1,Rangos!$B$22:$B$79)=BU10),\"Sí\",\"No\")","v":"No"},{"$f":"+IF(\nAND(BV13=\"Sí\",WORKDAY.INTL(EOMONTH(BV10,0)+1,-1,1,Rangos!$B$22:$B$79)=BV10),\"Sí\",\"No\")","v":"No"},{"$f":"+IF(\nAND(BW13=\"Sí\",WORKDAY.INTL(EOMONTH(BW10,0)+1,-1,1,Rangos!$B$22:$B$79)=BW10),\"Sí\",\"No\")","v":"Sí"},{"$f":"+IF(\nAND(BX13=\"Sí\",WORKDAY.INTL(EOMONTH(BX10,0)+1,-1,1,Rangos!$B$22:$B$79)=BX10),\"Sí\",\"No\")","v":"No"},{"$f":"+IF(\nAND(BY13=\"Sí\",WORKDAY.INTL(EOMONTH(BY10,0)+1,-1,1,Rangos!$B$22:$B$79)=BY10),\"Sí\",\"No\")","v":"No"},{"$f":"+IF(\nAND(BZ13=\"Sí\",WORKDAY.INTL(EOMONTH(BZ10,0)+1,-1,1,Rangos!$B$22:$B$79)=BZ10),\"Sí\",\"No\")","v":"No"},{"$f":"+IF(\nAND(CA13=\"Sí\",WORKDAY.INTL(EOMONTH(CA10,0)+1,-1,1,Rangos!$B$22:$B$79)=CA10),\"Sí\",\"No\")","v":"No"},{"$f":"+IF(\nAND(CB13=\"Sí\",WORKDAY.INTL(EOMONTH(CB10,0)+1,-1,1,Rangos!$B$22:$B$79)=CB10),\"Sí\",\"No\")","v":"No"},{"$f":"+IF(\nAND(CC13=\"Sí\",WORKDAY.INTL(EOMONTH(CC10,0)+1,-1,1,Rangos!$B$22:$B$79)=CC10),\"Sí\",\"No\")","v":"No"},{"$f":"+IF(\nAND(CD13=\"Sí\",WORKDAY.INTL(EOMONTH(CD10,0)+1,-1,1,Rangos!$B$22:$B$79)=CD10),\"Sí\",\"No\")","v":"No"},{"$f":"+IF(\nAND(CE13=\"Sí\",WORKDAY.INTL(EOMONTH(CE10,0)+1,-1,1,Rangos!$B$22:$B$79)=CE10),\"Sí\",\"No\")","v":"No"},{"$f":"+IF(\nAND(CF13=\"Sí\",WORKDAY.INTL(EOMONTH(CF10,0)+1,-1,1,Rangos!$B$22:$B$79)=CF10),\"Sí\",\"No\")","v":"No"},{"$f":"+IF(\nAND(CG13=\"Sí\",WORKDAY.INTL(EOMONTH(CG10,0)+1,-1,1,Rangos!$B$22:$B$79)=CG10),\"Sí\",\"No\")","v":"No"},{"$f":"+IF(\nAND(CH13=\"Sí\",WORKDAY.INTL(EOMONTH(CH10,0)+1,-1,1,Rangos!$B$22:$B$79)=CH10),\"Sí\",\"No\")","v":"No"},{"$f":"+IF(\nAND(CI13=\"Sí\",WORKDAY.INTL(EOMONTH(CI10,0)+1,-1,1,Rangos!$B$22:$B$79)=CI10),\"Sí\",\"No\")","v":"No"},{"$f":"+IF(\nAND(CJ13=\"Sí\",WORKDAY.INTL(EOMONTH(CJ10,0)+1,-1,1,Rangos!$B$22:$B$79)=CJ10),\"Sí\",\"No\")","v":"No"},{"$f":"+IF(\nAND(CK13=\"Sí\",WORKDAY.INTL(EOMONTH(CK10,0)+1,-1,1,Rangos!$B$22:$B$79)=CK10),\"Sí\",\"No\")","v":"No"},{"$f":"+IF(\nAND(CL13=\"Sí\",WORKDAY.INTL(EOMONTH(CL10,0)+1,-1,1,Rangos!$B$22:$B$79)=CL10),\"Sí\",\"No\")","v":"No"},{"$f":"+IF(\nAND(CM13=\"Sí\",WORKDAY.INTL(EOMONTH(CM10,0)+1,-1,1,Rangos!$B$22:$B$79)=CM10),\"Sí\",\"No\")","v":"No"},{"$f":"+IF(\nAND(CN13=\"Sí\",WORKDAY.INTL(EOMONTH(CN10,0)+1,-1,1,Rangos!$B$22:$B$79)=CN10),\"Sí\",\"No\")","v":"No"},{"$f":"+IF(\nAND(CO13=\"Sí\",WORKDAY.INTL(EOMONTH(CO10,0)+1,-1,1,Rangos!$B$22:$B$79)=CO10),\"Sí\",\"No\")","v":"No"},{"$f":"+IF(\nAND(CP13=\"Sí\",WORKDAY.INTL(EOMONTH(CP10,0)+1,-1,1,Rangos!$B$22:$B$79)=CP10),\"Sí\",\"No\")","v":"No"},{"$f":"+IF(\nAND(CQ13=\"Sí\",WORKDAY.INTL(EOMONTH(CQ10,0)+1,-1,1,Rangos!$B$22:$B$79)=CQ10),\"Sí\",\"No\")","v":"No"},{"$f":"+IF(\nAND(CR13=\"Sí\",WORKDAY.INTL(EOMONTH(CR10,0)+1,-1,1,Rangos!$B$22:$B$79)=CR10),\"Sí\",\"No\")","v":"No"},{"$f":"+IF(\nAND(CS13=\"Sí\",WORKDAY.INTL(EOMONTH(CS10,0)+1,-1,1,Rangos!$B$22:$B$79)=CS10),\"Sí\",\"No\")","v":"No"},{"$f":"+IF(\nAND(CT13=\"Sí\",WORKDAY.INTL(EOMONTH(CT10,0)+1,-1,1,Rangos!$B$22:$B$79)=CT10),\"Sí\",\"No\")","v":"No"},{"$f":"+IF(\nAND(CU13=\"Sí\",WORKDAY.INTL(EOMONTH(CU10,0)+1,-1,1,Rangos!$B$22:$B$79)=CU10),\"Sí\",\"No\")","v":"No"},{"$f":"+IF(\nAND(CV13=\"Sí\",WORKDAY.INTL(EOMONTH(CV10,0)+1,-1,1,Rangos!$B$22:$B$79)=CV10),\"Sí\",\"No\")","v":"No"},{"$f":"+IF(\nAND(CW13=\"Sí\",WORKDAY.INTL(EOMONTH(CW10,0)+1,-1,1,Rangos!$B$22:$B$79)=CW10),\"Sí\",\"No\")","v":"No"},{"$f":"+IF(\nAND(CX13=\"Sí\",WORKDAY.INTL(EOMONTH(CX10,0)+1,-1,1,Rangos!$B$22:$B$79)=CX10),\"Sí\",\"No\")","v":"No"},{"$f":"+IF(\nAND(CY13=\"Sí\",WORKDAY.INTL(EOMONTH(CY10,0)+1,-1,1,Rangos!$B$22:$B$79)=CY10),\"Sí\",\"No\")","v":"No"},{"$f":"+IF(\nAND(CZ13=\"Sí\",WORKDAY.INTL(EOMONTH(CZ10,0)+1,-1,1,Rangos!$B$22:$B$79)=CZ10),\"Sí\",\"No\")","v":"No"},{"$f":"+IF(\nAND(DA13=\"Sí\",WORKDAY.INTL(EOMONTH(DA10,0)+1,-1,1,Rangos!$B$22:$B$79)=DA10),\"Sí\",\"No\")","v":"No"},{"$f":"+IF(\nAND(DB13=\"Sí\",WORKDAY.INTL(EOMONTH(DB10,0)+1,-1,1,Rangos!$B$22:$B$79)=DB10),\"Sí\",\"No\")","v":"Sí"},{"$f":"+IF(\nAND(DC13=\"Sí\",WORKDAY.INTL(EOMONTH(DC10,0)+1,-1,1,Rangos!$B$22:$B$79)=DC10),\"Sí\",\"No\")","v":"No"},{"$f":"+IF(\nAND(DD13=\"Sí\",WORKDAY.INTL(EOMONTH(DD10,0)+1,-1,1,Rangos!$B$22:$B$79)=DD10),\"Sí\",\"No\")","v":"No"},{"$f":"+IF(\nAND(DE13=\"Sí\",WORKDAY.INTL(EOMONTH(DE10,0)+1,-1,1,Rangos!$B$22:$B$79)=DE10),\"Sí\",\"No\")","v":"No"},{"$f":"+IF(\nAND(DF13=\"Sí\",WORKDAY.INTL(EOMONTH(DF10,0)+1,-1,1,Rangos!$B$22:$B$79)=DF10),\"Sí\",\"No\")","v":"No"},{"$f":"+IF(\nAND(DG13=\"Sí\",WORKDAY.INTL(EOMONTH(DG10,0)+1,-1,1,Rangos!$B$22:$B$79)=DG10),\"Sí\",\"No\")","v":"No"},{"$f":"+IF(\nAND(DH13=\"Sí\",WORKDAY.INTL(EOMONTH(DH10,0)+1,-1,1,Rangos!$B$22:$B$79)=DH10),\"Sí\",\"No\")","v":"No"},{"$f":"+IF(\nAND(DI13=\"Sí\",WORKDAY.INTL(EOMONTH(DI10,0)+1,-1,1,Rangos!$B$22:$B$79)=DI10),\"Sí\",\"No\")","v":"No"},{"$f":"+IF(\nAND(DJ13=\"Sí\",WORKDAY.INTL(EOMONTH(DJ10,0)+1,-1,1,Rangos!$B$22:$B$79)=DJ10),\"Sí\",\"No\")","v":"No"},{"$f":"+IF(\nAND(DK13=\"Sí\",WORKDAY.INTL(EOMONTH(DK10,0)+1,-1,1,Rangos!$B$22:$B$79)=DK10),\"Sí\",\"No\")","v":"No"},{"$f":"+IF(\nAND(DL13=\"Sí\",WORKDAY.INTL(EOMONTH(DL10,0)+1,-1,1,Rangos!$B$22:$B$79)=DL10),\"Sí\",\"No\")","v":"No"},{"$f":"+IF(\nAND(DM13=\"Sí\",WORKDAY.INTL(EOMONTH(DM10,0)+1,-1,1,Rangos!$B$22:$B$79)=DM10),\"Sí\",\"No\")","v":"No"},{"$f":"+IF(\nAND(DN13=\"Sí\",WORKDAY.INTL(EOMONTH(DN10,0)+1,-1,1,Rangos!$B$22:$B$79)=DN10),\"Sí\",\"No\")","v":"No"},{"$f":"+IF(\nAND(DO13=\"Sí\",WORKDAY.INTL(EOMONTH(DO10,0)+1,-1,1,Rangos!$B$22:$B$79)=DO10),\"Sí\",\"No\")","v":"No"},{"$f":"+IF(\nAND(DP13=\"Sí\",WORKDAY.INTL(EOMONTH(DP10,0)+1,-1,1,Rangos!$B$22:$B$79)=DP10),\"Sí\",\"No\")","v":"No"},{"$f":"+IF(\nAND(DQ13=\"Sí\",WORKDAY.INTL(EOMONTH(DQ10,0)+1,-1,1,Rangos!$B$22:$B$79)=DQ10),\"Sí\",\"No\")","v":"No"},{"$f":"+IF(\nAND(DR13=\"Sí\",WORKDAY.INTL(EOMONTH(DR10,0)+1,-1,1,Rangos!$B$22:$B$79)=DR10),\"Sí\",\"No\")","v":"No"},{"$f":"+IF(\nAND(DS13=\"Sí\",WORKDAY.INTL(EOMONTH(DS10,0)+1,-1,1,Rangos!$B$22:$B$79)=DS10),\"Sí\",\"No\")","v":"No"},{"$f":"+IF(\nAND(DT13=\"Sí\",WORKDAY.INTL(EOMONTH(DT10,0)+1,-1,1,Rangos!$B$22:$B$79)=DT10),\"Sí\",\"No\")","v":"No"},{"$f":"+IF(\nAND(DU13=\"Sí\",WORKDAY.INTL(EOMONTH(DU10,0)+1,-1,1,Rangos!$B$22:$B$79)=DU10),\"Sí\",\"No\")","v":"No"},{"$f":"+IF(\nAND(DV13=\"Sí\",WORKDAY.INTL(EOMONTH(DV10,0)+1,-1,1,Rangos!$B$22:$B$79)=DV10),\"Sí\",\"No\")","v":"No"},{"$f":"+IF(\nAND(DW13=\"Sí\",WORKDAY.INTL(EOMONTH(DW10,0)+1,-1,1,Rangos!$B$22:$B$79)=DW10),\"Sí\",\"No\")","v":"No"},{"$f":"+IF(\nAND(DX13=\"Sí\",WORKDAY.INTL(EOMONTH(DX10,0)+1,-1,1,Rangos!$B$22:$B$79)=DX10),\"Sí\",\"No\")","v":"No"},{"$f":"+IF(\nAND(DY13=\"Sí\",WORKDAY.INTL(EOMONTH(DY10,0)+1,-1,1,Rangos!$B$22:$B$79)=DY10),\"Sí\",\"No\")","v":"No"},{"$f":"+IF(\nAND(DZ13=\"Sí\",WORKDAY.INTL(EOMONTH(DZ10,0)+1,-1,1,Rangos!$B$22:$B$79)=DZ10),\"Sí\",\"No\")","v":"No"},{"$f":"+IF(\nAND(EA13=\"Sí\",WORKDAY.INTL(EOMONTH(EA10,0)+1,-1,1,Rangos!$B$22:$B$79)=EA10),\"Sí\",\"No\")","v":"No"},{"$f":"+IF(\nAND(EB13=\"Sí\",WORKDAY.INTL(EOMONTH(EB10,0)+1,-1,1,Rangos!$B$22:$B$79)=EB10),\"Sí\",\"No\")","v":"No"},{"$f":"+IF(\nAND(EC13=\"Sí\",WORKDAY.INTL(EOMONTH(EC10,0)+1,-1,1,Rangos!$B$22:$B$79)=EC10),\"Sí\",\"No\")","v":"No"},{"$f":"+IF(\nAND(ED13=\"Sí\",WORKDAY.INTL(EOMONTH(ED10,0)+1,-1,1,Rangos!$B$22:$B$79)=ED10),\"Sí\",\"No\")","v":"Sí"},{"$f":"+IF(\nAND(EE13=\"Sí\",WORKDAY.INTL(EOMONTH(EE10,0)+1,-1,1,Rangos!$B$22:$B$79)=EE10),\"Sí\",\"No\")","v":"No"},{"$f":"+IF(\nAND(EF13=\"Sí\",WORKDAY.INTL(EOMONTH(EF10,0)+1,-1,1,Rangos!$B$22:$B$79)=EF10),\"Sí\",\"No\")","v":"No"},{"$f":"+IF(\nAND(EG13=\"Sí\",WORKDAY.INTL(EOMONTH(EG10,0)+1,-1,1,Rangos!$B$22:$B$79)=EG10),\"Sí\",\"No\")","v":"No"},{"$f":"+IF(\nAND(EH13=\"Sí\",WORKDAY.INTL(EOMONTH(EH10,0)+1,-1,1,Rangos!$B$22:$B$79)=EH10),\"Sí\",\"No\")","v":"No"},{"$f":"+IF(\nAND(EI13=\"Sí\",WORKDAY.INTL(EOMONTH(EI10,0)+1,-1,1,Rangos!$B$22:$B$79)=EI10),\"Sí\",\"No\")","v":"No"},{"$f":"+IF(\nAND(EJ13=\"Sí\",WORKDAY.INTL(EOMONTH(EJ10,0)+1,-1,1,Rangos!$B$22:$B$79)=EJ10),\"Sí\",\"No\")","v":"No"},{"$f":"+IF(\nAND(EK13=\"Sí\",WORKDAY.INTL(EOMONTH(EK10,0)+1,-1,1,Rangos!$B$22:$B$79)=EK10),\"Sí\",\"No\")","v":"No"},{"$f":"+IF(\nAND(EL13=\"Sí\",WORKDAY.INTL(EOMONTH(EL10,0)+1,-1,1,Rangos!$B$22:$B$79)=EL10),\"Sí\",\"No\")","v":"No"},{"$f":"+IF(\nAND(EM13=\"Sí\",WORKDAY.INTL(EOMONTH(EM10,0)+1,-1,1,Rangos!$B$22:$B$79)=EM10),\"Sí\",\"No\")","v":"No"},{"$f":"+IF(\nAND(EN13=\"Sí\",WORKDAY.INTL(EOMONTH(EN10,0)+1,-1,1,Rangos!$B$22:$B$79)=EN10),\"Sí\",\"No\")","v":"No"},{"$f":"+IF(\nAND(EO13=\"Sí\",WORKDAY.INTL(EOMONTH(EO10,0)+1,-1,1,Rangos!$B$22:$B$79)=EO10),\"Sí\",\"No\")","v":"No"},{"$f":"+IF(\nAND(EP13=\"Sí\",WORKDAY.INTL(EOMONTH(EP10,0)+1,-1,1,Rangos!$B$22:$B$79)=EP10),\"Sí\",\"No\")","v":"No"},{"$f":"+IF(\nAND(EQ13=\"Sí\",WORKDAY.INTL(EOMONTH(EQ10,0)+1,-1,1,Rangos!$B$22:$B$79)=EQ10),\"Sí\",\"No\")","v":"No"},{"$f":"+IF(\nAND(ER13=\"Sí\",WORKDAY.INTL(EOMONTH(ER10,0)+1,-1,1,Rangos!$B$22:$B$79)=ER10),\"Sí\",\"No\")","v":"No"},{"$f":"+IF(\nAND(ES13=\"Sí\",WORKDAY.INTL(EOMONTH(ES10,0)+1,-1,1,Rangos!$B$22:$B$79)=ES10),\"Sí\",\"No\")","v":"No"},{"$f":"+IF(\nAND(ET13=\"Sí\",WORKDAY.INTL(EOMONTH(ET10,0)+1,-1,1,Rangos!$B$22:$B$79)=ET10),\"Sí\",\"No\")","v":"No"},{"$f":"+IF(\nAND(EU13=\"Sí\",WORKDAY.INTL(EOMONTH(EU10,0)+1,-1,1,Rangos!$B$22:$B$79)=EU10),\"Sí\",\"No\")","v":"No"},{"$f":"+IF(\nAND(EV13=\"Sí\",WORKDAY.INTL(EOMONTH(EV10,0)+1,-1,1,Rangos!$B$22:$B$79)=EV10),\"Sí\",\"No\")","v":"No"},{"$f":"+IF(\nAND(EW13=\"Sí\",WORKDAY.INTL(EOMONTH(EW10,0)+1,-1,1,Rangos!$B$22:$B$79)=EW10),\"Sí\",\"No\")","v":"No"},{"$f":"+IF(\nAND(EX13=\"Sí\",WORKDAY.INTL(EOMONTH(EX10,0)+1,-1,1,Rangos!$B$22:$B$79)=EX10),\"Sí\",\"No\")","v":"No"},{"$f":"+IF(\nAND(EY13=\"Sí\",WORKDAY.INTL(EOMONTH(EY10,0)+1,-1,1,Rangos!$B$22:$B$79)=EY10),\"Sí\",\"No\")","v":"No"},{"$f":"+IF(\nAND(EZ13=\"Sí\",WORKDAY.INTL(EOMONTH(EZ10,0)+1,-1,1,Rangos!$B$22:$B$79)=EZ10),\"Sí\",\"No\")","v":"No"},{"$f":"+IF(\nAND(FA13=\"Sí\",WORKDAY.INTL(EOMONTH(FA10,0)+1,-1,1,Rangos!$B$22:$B$79)=FA10),\"Sí\",\"No\")","v":"No"},{"$f":"+IF(\nAND(FB13=\"Sí\",WORKDAY.INTL(EOMONTH(FB10,0)+1,-1,1,Rangos!$B$22:$B$79)=FB10),\"Sí\",\"No\")","v":"No"},{"$f":"+IF(\nAND(FC13=\"Sí\",WORKDAY.INTL(EOMONTH(FC10,0)+1,-1,1,Rangos!$B$22:$B$79)=FC10),\"Sí\",\"No\")","v":"No"},{"$f":"+IF(\nAND(FD13=\"Sí\",WORKDAY.INTL(EOMONTH(FD10,0)+1,-1,1,Rangos!$B$22:$B$79)=FD10),\"Sí\",\"No\")","v":"No"},{"$f":"+IF(\nAND(FE13=\"Sí\",WORKDAY.INTL(EOMONTH(FE10,0)+1,-1,1,Rangos!$B$22:$B$79)=FE10),\"Sí\",\"No\")","v":"No"},{"$f":"+IF(\nAND(FF13=\"Sí\",WORKDAY.INTL(EOMONTH(FF10,0)+1,-1,1,Rangos!$B$22:$B$79)=FF10),\"Sí\",\"No\")","v":"No"},{"$f":"+IF(\nAND(FG13=\"Sí\",WORKDAY.INTL(EOMONTH(FG10,0)+1,-1,1,Rangos!$B$22:$B$79)=FG10),\"Sí\",\"No\")","v":"No"},{"$f":"+IF(\nAND(FH13=\"Sí\",WORKDAY.INTL(EOMONTH(FH10,0)+1,-1,1,Rangos!$B$22:$B$79)=FH10),\"Sí\",\"No\")","v":"No"},{"$f":"+IF(\nAND(FI13=\"Sí\",WORKDAY.INTL(EOMONTH(FI10,0)+1,-1,1,Rangos!$B$22:$B$79)=FI10),\"Sí\",\"No\")","v":"No"},{"$f":"+IF(\nAND(FJ13=\"Sí\",WORKDAY.INTL(EOMONTH(FJ10,0)+1,-1,1,Rangos!$B$22:$B$79)=FJ10),\"Sí\",\"No\")","v":"Sí"},{"$f":"+IF(\nAND(FK13=\"Sí\",WORKDAY.INTL(EOMONTH(FK10,0)+1,-1,1,Rangos!$B$22:$B$79)=FK10),\"Sí\",\"No\")","v":"No"},{"$f":"+IF(\nAND(FL13=\"Sí\",WORKDAY.INTL(EOMONTH(FL10,0)+1,-1,1,Rangos!$B$22:$B$79)=FL10),\"Sí\",\"No\")","v":"No"},{"$f":"+IF(\nAND(FM13=\"Sí\",WORKDAY.INTL(EOMONTH(FM10,0)+1,-1,1,Rangos!$B$22:$B$79)=FM10),\"Sí\",\"No\")","v":"No"},{"$f":"+IF(\nAND(FN13=\"Sí\",WORKDAY.INTL(EOMONTH(FN10,0)+1,-1,1,Rangos!$B$22:$B$79)=FN10),\"Sí\",\"No\")","v":"No"},{"$f":"+IF(\nAND(FO13=\"Sí\",WORKDAY.INTL(EOMONTH(FO10,0)+1,-1,1,Rangos!$B$22:$B$79)=FO10),\"Sí\",\"No\")","v":"No"},{"$f":"+IF(\nAND(FP13=\"Sí\",WORKDAY.INTL(EOMONTH(FP10,0)+1,-1,1,Rangos!$B$22:$B$79)=FP10),\"Sí\",\"No\")","v":"No"},{"$f":"+IF(\nAND(FQ13=\"Sí\",WORKDAY.INTL(EOMONTH(FQ10,0)+1,-1,1,Rangos!$B$22:$B$79)=FQ10),\"Sí\",\"No\")","v":"No"},{"$f":"+IF(\nAND(FR13=\"Sí\",WORKDAY.INTL(EOMONTH(FR10,0)+1,-1,1,Rangos!$B$22:$B$79)=FR10),\"Sí\",\"No\")","v":"No"},{"$f":"+IF(\nAND(FS13=\"Sí\",WORKDAY.INTL(EOMONTH(FS10,0)+1,-1,1,Rangos!$B$22:$B$79)=FS10),\"Sí\",\"No\")","v":"No"},{"$f":"+IF(\nAND(FT13=\"Sí\",WORKDAY.INTL(EOMONTH(FT10,0)+1,-1,1,Rangos!$B$22:$B$79)=FT10),\"Sí\",\"No\")","v":"No"},{"$f":"+IF(\nAND(FU13=\"Sí\",WORKDAY.INTL(EOMONTH(FU10,0)+1,-1,1,Rangos!$B$22:$B$79)=FU10),\"Sí\",\"No\")","v":"No"},{"$f":"+IF(\nAND(FV13=\"Sí\",WORKDAY.INTL(EOMONTH(FV10,0)+1,-1,1,Rangos!$B$22:$B$79)=FV10),\"Sí\",\"No\")","v":"No"},{"$f":"+IF(\nAND(FW13=\"Sí\",WORKDAY.INTL(EOMONTH(FW10,0)+1,-1,1,Rangos!$B$22:$B$79)=FW10),\"Sí\",\"No\")","v":"No"},{"$f":"+IF(\nAND(FX13=\"Sí\",WORKDAY.INTL(EOMONTH(FX10,0)+1,-1,1,Rangos!$B$22:$B$79)=FX10),\"Sí\",\"No\")","v":"No"},{"$f":"+IF(\nAND(FY13=\"Sí\",WORKDAY.INTL(EOMONTH(FY10,0)+1,-1,1,Rangos!$B$22:$B$79)=FY10),\"Sí\",\"No\")","v":"No"},{"$f":"+IF(\nAND(FZ13=\"Sí\",WORKDAY.INTL(EOMONTH(FZ10,0)+1,-1,1,Rangos!$B$22:$B$79)=FZ10),\"Sí\",\"No\")","v":"No"},{"$f":"+IF(\nAND(GA13=\"Sí\",WORKDAY.INTL(EOMONTH(GA10,0)+1,-1,1,Rangos!$B$22:$B$79)=GA10),\"Sí\",\"No\")","v":"No"},{"$f":"+IF(\nAND(GB13=\"Sí\",WORKDAY.INTL(EOMONTH(GB10,0)+1,-1,1,Rangos!$B$22:$B$79)=GB10),\"Sí\",\"No\")","v":"No"},{"$f":"+IF(\nAND(GC13=\"Sí\",WORKDAY.INTL(EOMONTH(GC10,0)+1,-1,1,Rangos!$B$22:$B$79)=GC10),\"Sí\",\"No\")","v":"No"},{"$f":"+IF(\nAND(GD13=\"Sí\",WORKDAY.INTL(EOMONTH(GD10,0)+1,-1,1,Rangos!$B$22:$B$79)=GD10),\"Sí\",\"No\")","v":"No"},{"$f":"+IF(\nAND(GE13=\"Sí\",WORKDAY.INTL(EOMONTH(GE10,0)+1,-1,1,Rangos!$B$22:$B$79)=GE10),\"Sí\",\"No\")","v":"No"},{"$f":"+IF(\nAND(GF13=\"Sí\",WORKDAY.INTL(EOMONTH(GF10,0)+1,-1,1,Rangos!$B$22:$B$79)=GF10),\"Sí\",\"No\")","v":"No"},{"$f":"+IF(\nAND(GG13=\"Sí\",WORKDAY.INTL(EOMONTH(GG10,0)+1,-1,1,Rangos!$B$22:$B$79)=GG10),\"Sí\",\"No\")","v":"No"},{"$f":"+IF(\nAND(GH13=\"Sí\",WORKDAY.INTL(EOMONTH(GH10,0)+1,-1,1,Rangos!$B$22:$B$79)=GH10),\"Sí\",\"No\")","v":"No"},{"$f":"+IF(\nAND(GI13=\"Sí\",WORKDAY.INTL(EOMONTH(GI10,0)+1,-1,1,Rangos!$B$22:$B$79)=GI10),\"Sí\",\"No\")","v":"No"},{"$f":"+IF(\nAND(GJ13=\"Sí\",WORKDAY.INTL(EOMONTH(GJ10,0)+1,-1,1,Rangos!$B$22:$B$79)=GJ10),\"Sí\",\"No\")","v":"No"},{"$f":"+IF(\nAND(GK13=\"Sí\",WORKDAY.INTL(EOMONTH(GK10,0)+1,-1,1,Rangos!$B$22:$B$79)=GK10),\"Sí\",\"No\")","v":"No"},{"$f":"+IF(\nAND(GL13=\"Sí\",WORKDAY.INTL(EOMONTH(GL10,0)+1,-1,1,Rangos!$B$22:$B$79)=GL10),\"Sí\",\"No\")","v":"No"},{"$f":"+IF(\nAND(GM13=\"Sí\",WORKDAY.INTL(EOMONTH(GM10,0)+1,-1,1,Rangos!$B$22:$B$79)=GM10),\"Sí\",\"No\")","v":"No"},{"$f":"+IF(\nAND(GN13=\"Sí\",WORKDAY.INTL(EOMONTH(GN10,0)+1,-1,1,Rangos!$B$22:$B$79)=GN10),\"Sí\",\"No\")","v":"No"},{"$f":"+IF(\nAND(GO13=\"Sí\",WORKDAY.INTL(EOMONTH(GO10,0)+1,-1,1,Rangos!$B$22:$B$79)=GO10),\"Sí\",\"No\")","v":"Sí"},{"$f":"+IF(\nAND(GP13=\"Sí\",WORKDAY.INTL(EOMONTH(GP10,0)+1,-1,1,Rangos!$B$22:$B$79)=GP10),\"Sí\",\"No\")","v":"No"},{"$f":"+IF(\nAND(GQ13=\"Sí\",WORKDAY.INTL(EOMONTH(GQ10,0)+1,-1,1,Rangos!$B$22:$B$79)=GQ10),\"Sí\",\"No\")","v":"No"},{"$f":"+IF(\nAND(GR13=\"Sí\",WORKDAY.INTL(EOMONTH(GR10,0)+1,-1,1,Rangos!$B$22:$B$79)=GR10),\"Sí\",\"No\")","v":"No"},{"$f":"+IF(\nAND(GS13=\"Sí\",WORKDAY.INTL(EOMONTH(GS10,0)+1,-1,1,Rangos!$B$22:$B$79)=GS10),\"Sí\",\"No\")","v":"No"},{"$f":"+IF(\nAND(GT13=\"Sí\",WORKDAY.INTL(EOMONTH(GT10,0)+1,-1,1,Rangos!$B$22:$B$79)=GT10),\"Sí\",\"No\")","v":"No"},{"$f":"+IF(\nAND(GU13=\"Sí\",WORKDAY.INTL(EOMONTH(GU10,0)+1,-1,1,Rangos!$B$22:$B$79)=GU10),\"Sí\",\"No\")","v":"No"},{"$f":"+IF(\nAND(GV13=\"Sí\",WORKDAY.INTL(EOMONTH(GV10,0)+1,-1,1,Rangos!$B$22:$B$79)=GV10),\"Sí\",\"No\")","v":"No"},{"$f":"+IF(\nAND(GW13=\"Sí\",WORKDAY.INTL(EOMONTH(GW10,0)+1,-1,1,Rangos!$B$22:$B$79)=GW10),\"Sí\",\"No\")","v":"No"},{"$f":"+IF(\nAND(GX13=\"Sí\",WORKDAY.INTL(EOMONTH(GX10,0)+1,-1,1,Rangos!$B$22:$B$79)=GX10),\"Sí\",\"No\")","v":"No"},{"$f":"+IF(\nAND(GY13=\"Sí\",WORKDAY.INTL(EOMONTH(GY10,0)+1,-1,1,Rangos!$B$22:$B$79)=GY10),\"Sí\",\"No\")","v":"No"},{"$f":"+IF(\nAND(GZ13=\"Sí\",WORKDAY.INTL(EOMONTH(GZ10,0)+1,-1,1,Rangos!$B$22:$B$79)=GZ10),\"Sí\",\"No\")","v":"No"},{"$f":"+IF(\nAND(HA13=\"Sí\",WORKDAY.INTL(EOMONTH(HA10,0)+1,-1,1,Rangos!$B$22:$B$79)=HA10),\"Sí\",\"No\")","v":"No"},{"$f":"+IF(\nAND(HB13=\"Sí\",WORKDAY.INTL(EOMONTH(HB10,0)+1,-1,1,Rangos!$B$22:$B$79)=HB10),\"Sí\",\"No\")","v":"No"},{"$f":"+IF(\nAND(HC13=\"Sí\",WORKDAY.INTL(EOMONTH(HC10,0)+1,-1,1,Rangos!$B$22:$B$79)=HC10),\"Sí\",\"No\")","v":"No"},{"$f":"+IF(\nAND(HD13=\"Sí\",WORKDAY.INTL(EOMONTH(HD10,0)+1,-1,1,Rangos!$B$22:$B$79)=HD10),\"Sí\",\"No\")","v":"No"},{"$f":"+IF(\nAND(HE13=\"Sí\",WORKDAY.INTL(EOMONTH(HE10,0)+1,-1,1,Rangos!$B$22:$B$79)=HE10),\"Sí\",\"No\")","v":"No"},{"$f":"+IF(\nAND(HF13=\"Sí\",WORKDAY.INTL(EOMONTH(HF10,0)+1,-1,1,Rangos!$B$22:$B$79)=HF10),\"Sí\",\"No\")","v":"No"},{"$f":"+IF(\nAND(HG13=\"Sí\",WORKDAY.INTL(EOMONTH(HG10,0)+1,-1,1,Rangos!$B$22:$B$79)=HG10),\"Sí\",\"No\")","v":"No"},{"$f":"+IF(\nAND(HH13=\"Sí\",WORKDAY.INTL(EOMONTH(HH10,0)+1,-1,1,Rangos!$B$22:$B$79)=HH10),\"Sí\",\"No\")","v":"No"},{"$f":"+IF(\nAND(HI13=\"Sí\",WORKDAY.INTL(EOMONTH(HI10,0)+1,-1,1,Rangos!$B$22:$B$79)=HI10),\"Sí\",\"No\")","v":"No"},{"$f":"+IF(\nAND(HJ13=\"Sí\",WORKDAY.INTL(EOMONTH(HJ10,0)+1,-1,1,Rangos!$B$22:$B$79)=HJ10),\"Sí\",\"No\")","v":"No"},{"$f":"+IF(\nAND(HK13=\"Sí\",WORKDAY.INTL(EOMONTH(HK10,0)+1,-1,1,Rangos!$B$22:$B$79)=HK10),\"Sí\",\"No\")","v":"No"},{"$f":"+IF(\nAND(HL13=\"Sí\",WORKDAY.INTL(EOMONTH(HL10,0)+1,-1,1,Rangos!$B$22:$B$79)=HL10),\"Sí\",\"No\")","v":"No"},{"$f":"+IF(\nAND(HM13=\"Sí\",WORKDAY.INTL(EOMONTH(HM10,0)+1,-1,1,Rangos!$B$22:$B$79)=HM10),\"Sí\",\"No\")","v":"No"},{"$f":"+IF(\nAND(HN13=\"Sí\",WORKDAY.INTL(EOMONTH(HN10,0)+1,-1,1,Rangos!$B$22:$B$79)=HN10),\"Sí\",\"No\")","v":"No"},{"$f":"+IF(\nAND(HO13=\"Sí\",WORKDAY.INTL(EOMONTH(HO10,0)+1,-1,1,Rangos!$B$22:$B$79)=HO10),\"Sí\",\"No\")","v":"No"},{"$f":"+IF(\nAND(HP13=\"Sí\",WORKDAY.INTL(EOMONTH(HP10,0)+1,-1,1,Rangos!$B$22:$B$79)=HP10),\"Sí\",\"No\")","v":"No"},{"$f":"+IF(\nAND(HQ13=\"Sí\",WORKDAY.INTL(EOMONTH(HQ10,0)+1,-1,1,Rangos!$B$22:$B$79)=HQ10),\"Sí\",\"No\")","v":"Sí"},{"$f":"+IF(\nAND(HR13=\"Sí\",WORKDAY.INTL(EOMONTH(HR10,0)+1,-1,1,Rangos!$B$22:$B$79)=HR10),\"Sí\",\"No\")","v":"No"},{"$f":"+IF(\nAND(HS13=\"Sí\",WORKDAY.INTL(EOMONTH(HS10,0)+1,-1,1,Rangos!$B$22:$B$79)=HS10),\"Sí\",\"No\")","v":"No"},{"$f":"+IF(\nAND(HT13=\"Sí\",WORKDAY.INTL(EOMONTH(HT10,0)+1,-1,1,Rangos!$B$22:$B$79)=HT10),\"Sí\",\"No\")","v":"No"},{"$f":"+IF(\nAND(HU13=\"Sí\",WORKDAY.INTL(EOMONTH(HU10,0)+1,-1,1,Rangos!$B$22:$B$79)=HU10),\"Sí\",\"No\")","v":"No"},{"$f":"+IF(\nAND(HV13=\"Sí\",WORKDAY.INTL(EOMONTH(HV10,0)+1,-1,1,Rangos!$B$22:$B$79)=HV10),\"Sí\",\"No\")","v":"No"},{"$f":"+IF(\nAND(HW13=\"Sí\",WORKDAY.INTL(EOMONTH(HW10,0)+1,-1,1,Rangos!$B$22:$B$79)=HW10),\"Sí\",\"No\")","v":"No"},{"$f":"+IF(\nAND(HX13=\"Sí\",WORKDAY.INTL(EOMONTH(HX10,0)+1,-1,1,Rangos!$B$22:$B$79)=HX10),\"Sí\",\"No\")","v":"No"},{"$f":"+IF(\nAND(HY13=\"Sí\",WORKDAY.INTL(EOMONTH(HY10,0)+1,-1,1,Rangos!$B$22:$B$79)=HY10),\"Sí\",\"No\")","v":"No"},{"$f":"+IF(\nAND(HZ13=\"Sí\",WORKDAY.INTL(EOMONTH(HZ10,0)+1,-1,1,Rangos!$B$22:$B$79)=HZ10),\"Sí\",\"No\")","v":"No"},{"$f":"+IF(\nAND(IA13=\"Sí\",WORKDAY.INTL(EOMONTH(IA10,0)+1,-1,1,Rangos!$B$22:$B$79)=IA10),\"Sí\",\"No\")","v":"No"},{"$f":"+IF(\nAND(IB13=\"Sí\",WORKDAY.INTL(EOMONTH(IB10,0)+1,-1,1,Rangos!$B$22:$B$79)=IB10),\"Sí\",\"No\")","v":"No"},{"$f":"+IF(\nAND(IC13=\"Sí\",WORKDAY.INTL(EOMONTH(IC10,0)+1,-1,1,Rangos!$B$22:$B$79)=IC10),\"Sí\",\"No\")","v":"No"},{"$f":"+IF(\nAND(ID13=\"Sí\",WORKDAY.INTL(EOMONTH(ID10,0)+1,-1,1,Rangos!$B$22:$B$79)=ID10),\"Sí\",\"No\")","v":"No"},{"$f":"+IF(\nAND(IE13=\"Sí\",WORKDAY.INTL(EOMONTH(IE10,0)+1,-1,1,Rangos!$B$22:$B$79)=IE10),\"Sí\",\"No\")","v":"No"},{"$f":"+IF(\nAND(IF13=\"Sí\",WORKDAY.INTL(EOMONTH(IF10,0)+1,-1,1,Rangos!$B$22:$B$79)=IF10),\"Sí\",\"No\")","v":"No"},{"$f":"+IF(\nAND(IG13=\"Sí\",WORKDAY.INTL(EOMONTH(IG10,0)+1,-1,1,Rangos!$B$22:$B$79)=IG10),\"Sí\",\"No\")","v":"No"},{"$f":"+IF(\nAND(IH13=\"Sí\",WORKDAY.INTL(EOMONTH(IH10,0)+1,-1,1,Rangos!$B$22:$B$79)=IH10),\"Sí\",\"No\")","v":"No"},{"$f":"+IF(\nAND(II13=\"Sí\",WORKDAY.INTL(EOMONTH(II10,0)+1,-1,1,Rangos!$B$22:$B$79)=II10),\"Sí\",\"No\")","v":"No"},{"$f":"+IF(\nAND(IJ13=\"Sí\",WORKDAY.INTL(EOMONTH(IJ10,0)+1,-1,1,Rangos!$B$22:$B$79)=IJ10),\"Sí\",\"No\")","v":"No"},{"$f":"+IF(\nAND(IK13=\"Sí\",WORKDAY.INTL(EOMONTH(IK10,0)+1,-1,1,Rangos!$B$22:$B$79)=IK10),\"Sí\",\"No\")","v":"No"},{"$f":"+IF(\nAND(IL13=\"Sí\",WORKDAY.INTL(EOMONTH(IL10,0)+1,-1,1,Rangos!$B$22:$B$79)=IL10),\"Sí\",\"No\")","v":"No"},{"$f":"+IF(\nAND(IM13=\"Sí\",WORKDAY.INTL(EOMONTH(IM10,0)+1,-1,1,Rangos!$B$22:$B$79)=IM10),\"Sí\",\"No\")","v":"No"},{"$f":"+IF(\nAND(IN13=\"Sí\",WORKDAY.INTL(EOMONTH(IN10,0)+1,-1,1,Rangos!$B$22:$B$79)=IN10),\"Sí\",\"No\")","v":"No"},{"$f":"+IF(\nAND(IO13=\"Sí\",WORKDAY.INTL(EOMONTH(IO10,0)+1,-1,1,Rangos!$B$22:$B$79)=IO10),\"Sí\",\"No\")","v":"No"},{"$f":"+IF(\nAND(IP13=\"Sí\",WORKDAY.INTL(EOMONTH(IP10,0)+1,-1,1,Rangos!$B$22:$B$79)=IP10),\"Sí\",\"No\")","v":"No"},{"$f":"+IF(\nAND(IQ13=\"Sí\",WORKDAY.INTL(EOMONTH(IQ10,0)+1,-1,1,Rangos!$B$22:$B$79)=IQ10),\"Sí\",\"No\")","v":"No"},{"$f":"+IF(\nAND(IR13=\"Sí\",WORKDAY.INTL(EOMONTH(IR10,0)+1,-1,1,Rangos!$B$22:$B$79)=IR10),\"Sí\",\"No\")","v":"No"},{"$f":"+IF(\nAND(IS13=\"Sí\",WORKDAY.INTL(EOMONTH(IS10,0)+1,-1,1,Rangos!$B$22:$B$79)=IS10),\"Sí\",\"No\")","v":"No"},{"$f":"+IF(\nAND(IT13=\"Sí\",WORKDAY.INTL(EOMONTH(IT10,0)+1,-1,1,Rangos!$B$22:$B$79)=IT10),\"Sí\",\"No\")","v":"No"},{"$f":"+IF(\nAND(IU13=\"Sí\",WORKDAY.INTL(EOMONTH(IU10,0)+1,-1,1,Rangos!$B$22:$B$79)=IU10),\"Sí\",\"No\")","v":"No"},{"$f":"+IF(\nAND(IV13=\"Sí\",WORKDAY.INTL(EOMONTH(IV10,0)+1,-1,1,Rangos!$B$22:$B$79)=IV10),\"Sí\",\"No\")","v":"No"},{"$f":"+IF(\nAND(IW13=\"Sí\",WORKDAY.INTL(EOMONTH(IW10,0)+1,-1,1,Rangos!$B$22:$B$79)=IW10),\"Sí\",\"No\")","v":"Sí"},{"$f":"+IF(\nAND(IX13=\"Sí\",WORKDAY.INTL(EOMONTH(IX10,0)+1,-1,1,Rangos!$B$22:$B$79)=IX10),\"Sí\",\"No\")","v":"No"},{"$f":"+IF(\nAND(IY13=\"Sí\",WORKDAY.INTL(EOMONTH(IY10,0)+1,-1,1,Rangos!$B$22:$B$79)=IY10),\"Sí\",\"No\")","v":"No"},{"$f":"+IF(\nAND(IZ13=\"Sí\",WORKDAY.INTL(EOMONTH(IZ10,0)+1,-1,1,Rangos!$B$22:$B$79)=IZ10),\"Sí\",\"No\")","v":"No"},{"$f":"+IF(\nAND(JA13=\"Sí\",WORKDAY.INTL(EOMONTH(JA10,0)+1,-1,1,Rangos!$B$22:$B$79)=JA10),\"Sí\",\"No\")","v":"No"},{"$f":"+IF(\nAND(JB13=\"Sí\",WORKDAY.INTL(EOMONTH(JB10,0)+1,-1,1,Rangos!$B$22:$B$79)=JB10),\"Sí\",\"No\")","v":"No"},{"$f":"+IF(\nAND(JC13=\"Sí\",WORKDAY.INTL(EOMONTH(JC10,0)+1,-1,1,Rangos!$B$22:$B$79)=JC10),\"Sí\",\"No\")","v":"No"},{"$f":"+IF(\nAND(JD13=\"Sí\",WORKDAY.INTL(EOMONTH(JD10,0)+1,-1,1,Rangos!$B$22:$B$79)=JD10),\"Sí\",\"No\")","v":"No"},{"$f":"+IF(\nAND(JE13=\"Sí\",WORKDAY.INTL(EOMONTH(JE10,0)+1,-1,1,Rangos!$B$22:$B$79)=JE10),\"Sí\",\"No\")","v":"No"},{"$f":"+IF(\nAND(JF13=\"Sí\",WORKDAY.INTL(EOMONTH(JF10,0)+1,-1,1,Rangos!$B$22:$B$79)=JF10),\"Sí\",\"No\")","v":"No"},{"$f":"+IF(\nAND(JG13=\"Sí\",WORKDAY.INTL(EOMONTH(JG10,0)+1,-1,1,Rangos!$B$22:$B$79)=JG10),\"Sí\",\"No\")","v":"No"},{"$f":"+IF(\nAND(JH13=\"Sí\",WORKDAY.INTL(EOMONTH(JH10,0)+1,-1,1,Rangos!$B$22:$B$79)=JH10),\"Sí\",\"No\")","v":"No"},{"$f":"+IF(\nAND(JI13=\"Sí\",WORKDAY.INTL(EOMONTH(JI10,0)+1,-1,1,Rangos!$B$22:$B$79)=JI10),\"Sí\",\"No\")","v":"No"},{"$f":"+IF(\nAND(JJ13=\"Sí\",WORKDAY.INTL(EOMONTH(JJ10,0)+1,-1,1,Rangos!$B$22:$B$79)=JJ10),\"Sí\",\"No\")","v":"No"},{"$f":"+IF(\nAND(JK13=\"Sí\",WORKDAY.INTL(EOMONTH(JK10,0)+1,-1,1,Rangos!$B$22:$B$79)=JK10),\"Sí\",\"No\")","v":"No"},{"$f":"+IF(\nAND(JL13=\"Sí\",WORKDAY.INTL(EOMONTH(JL10,0)+1,-1,1,Rangos!$B$22:$B$79)=JL10),\"Sí\",\"No\")","v":"No"},{"$f":"+IF(\nAND(JM13=\"Sí\",WORKDAY.INTL(EOMONTH(JM10,0)+1,-1,1,Rangos!$B$22:$B$79)=JM10),\"Sí\",\"No\")","v":"No"},{"$f":"+IF(\nAND(JN13=\"Sí\",WORKDAY.INTL(EOMONTH(JN10,0)+1,-1,1,Rangos!$B$22:$B$79)=JN10),\"Sí\",\"No\")","v":"No"},{"$f":"+IF(\nAND(JO13=\"Sí\",WORKDAY.INTL(EOMONTH(JO10,0)+1,-1,1,Rangos!$B$22:$B$79)=JO10),\"Sí\",\"No\")","v":"No"},{"$f":"+IF(\nAND(JP13=\"Sí\",WORKDAY.INTL(EOMONTH(JP10,0)+1,-1,1,Rangos!$B$22:$B$79)=JP10),\"Sí\",\"No\")","v":"No"},{"$f":"+IF(\nAND(JQ13=\"Sí\",WORKDAY.INTL(EOMONTH(JQ10,0)+1,-1,1,Rangos!$B$22:$B$79)=JQ10),\"Sí\",\"No\")","v":"No"},{"$f":"+IF(\nAND(JR13=\"Sí\",WORKDAY.INTL(EOMONTH(JR10,0)+1,-1,1,Rangos!$B$22:$B$79)=JR10),\"Sí\",\"No\")","v":"No"},{"$f":"+IF(\nAND(JS13=\"Sí\",WORKDAY.INTL(EOMONTH(JS10,0)+1,-1,1,Rangos!$B$22:$B$79)=JS10),\"Sí\",\"No\")","v":"No"},{"$f":"+IF(\nAND(JT13=\"Sí\",WORKDAY.INTL(EOMONTH(JT10,0)+1,-1,1,Rangos!$B$22:$B$79)=JT10),\"Sí\",\"No\")","v":"No"},{"$f":"+IF(\nAND(JU13=\"Sí\",WORKDAY.INTL(EOMONTH(JU10,0)+1,-1,1,Rangos!$B$22:$B$79)=JU10),\"Sí\",\"No\")","v":"No"},{"$f":"+IF(\nAND(JV13=\"Sí\",WORKDAY.INTL(EOMONTH(JV10,0)+1,-1,1,Rangos!$B$22:$B$79)=JV10),\"Sí\",\"No\")","v":"No"},{"$f":"+IF(\nAND(JW13=\"Sí\",WORKDAY.INTL(EOMONTH(JW10,0)+1,-1,1,Rangos!$B$22:$B$79)=JW10),\"Sí\",\"No\")","v":"No"},{"$f":"+IF(\nAND(JX13=\"Sí\",WORKDAY.INTL(EOMONTH(JX10,0)+1,-1,1,Rangos!$B$22:$B$79)=JX10),\"Sí\",\"No\")","v":"No"},{"$f":"+IF(\nAND(JY13=\"Sí\",WORKDAY.INTL(EOMONTH(JY10,0)+1,-1,1,Rangos!$B$22:$B$79)=JY10),\"Sí\",\"No\")","v":"No"},{"$f":"+IF(\nAND(JZ13=\"Sí\",WORKDAY.INTL(EOMONTH(JZ10,0)+1,-1,1,Rangos!$B$22:$B$79)=JZ10),\"Sí\",\"No\")","v":"No"},{"$f":"+IF(\nAND(KA13=\"Sí\",WORKDAY.INTL(EOMONTH(KA10,0)+1,-1,1,Rangos!$B$22:$B$79)=KA10),\"Sí\",\"No\")","v":"Sí"},{"$f":"+IF(\nAND(KB13=\"Sí\",WORKDAY.INTL(EOMONTH(KB10,0)+1,-1,1,Rangos!$B$22:$B$79)=KB10),\"Sí\",\"No\")","v":"No"},{"$f":"+IF(\nAND(KC13=\"Sí\",WORKDAY.INTL(EOMONTH(KC10,0)+1,-1,1,Rangos!$B$22:$B$79)=KC10),\"Sí\",\"No\")","v":"No"},{"$f":"+IF(\nAND(KD13=\"Sí\",WORKDAY.INTL(EOMONTH(KD10,0)+1,-1,1,Rangos!$B$22:$B$79)=KD10),\"Sí\",\"No\")","v":"No"},{"$f":"+IF(\nAND(KE13=\"Sí\",WORKDAY.INTL(EOMONTH(KE10,0)+1,-1,1,Rangos!$B$22:$B$79)=KE10),\"Sí\",\"No\")","v":"No"},{"$f":"+IF(\nAND(KF13=\"Sí\",WORKDAY.INTL(EOMONTH(KF10,0)+1,-1,1,Rangos!$B$22:$B$79)=KF10),\"Sí\",\"No\")","v":"No"},{"$f":"+IF(\nAND(KG13=\"Sí\",WORKDAY.INTL(EOMONTH(KG10,0)+1,-1,1,Rangos!$B$22:$B$79)=KG10),\"Sí\",\"No\")","v":"No"},{"$f":"+IF(\nAND(KH13=\"Sí\",WORKDAY.INTL(EOMONTH(KH10,0)+1,-1,1,Rangos!$B$22:$B$79)=KH10),\"Sí\",\"No\")","v":"No"},{"$f":"+IF(\nAND(KI13=\"Sí\",WORKDAY.INTL(EOMONTH(KI10,0)+1,-1,1,Rangos!$B$22:$B$79)=KI10),\"Sí\",\"No\")","v":"No"},{"$f":"+IF(\nAND(KJ13=\"Sí\",WORKDAY.INTL(EOMONTH(KJ10,0)+1,-1,1,Rangos!$B$22:$B$79)=KJ10),\"Sí\",\"No\")","v":"No"},{"$f":"+IF(\nAND(KK13=\"Sí\",WORKDAY.INTL(EOMONTH(KK10,0)+1,-1,1,Rangos!$B$22:$B$79)=KK10),\"Sí\",\"No\")","v":"No"},{"$f":"+IF(\nAND(KL13=\"Sí\",WORKDAY.INTL(EOMONTH(KL10,0)+1,-1,1,Rangos!$B$22:$B$79)=KL10),\"Sí\",\"No\")","v":"No"},{"$f":"+IF(\nAND(KM13=\"Sí\",WORKDAY.INTL(EOMONTH(KM10,0)+1,-1,1,Rangos!$B$22:$B$79)=KM10),\"Sí\",\"No\")","v":"No"},{"$f":"+IF(\nAND(KN13=\"Sí\",WORKDAY.INTL(EOMONTH(KN10,0)+1,-1,1,Rangos!$B$22:$B$79)=KN10),\"Sí\",\"No\")","v":"No"},{"$f":"+IF(\nAND(KO13=\"Sí\",WORKDAY.INTL(EOMONTH(KO10,0)+1,-1,1,Rangos!$B$22:$B$79)=KO10),\"Sí\",\"No\")","v":"No"},{"$f":"+IF(\nAND(KP13=\"Sí\",WORKDAY.INTL(EOMONTH(KP10,0)+1,-1,1,Rangos!$B$22:$B$79)=KP10),\"Sí\",\"No\")","v":"No"},{"$f":"+IF(\nAND(KQ13=\"Sí\",WORKDAY.INTL(EOMONTH(KQ10,0)+1,-1,1,Rangos!$B$22:$B$79)=KQ10),\"Sí\",\"No\")","v":"No"},{"$f":"+IF(\nAND(KR13=\"Sí\",WORKDAY.INTL(EOMONTH(KR10,0)+1,-1,1,Rangos!$B$22:$B$79)=KR10),\"Sí\",\"No\")","v":"No"},{"$f":"+IF(\nAND(KS13=\"Sí\",WORKDAY.INTL(EOMONTH(KS10,0)+1,-1,1,Rangos!$B$22:$B$79)=KS10),\"Sí\",\"No\")","v":"No"},{"$f":"+IF(\nAND(KT13=\"Sí\",WORKDAY.INTL(EOMONTH(KT10,0)+1,-1,1,Rangos!$B$22:$B$79)=KT10),\"Sí\",\"No\")","v":"No"},{"$f":"+IF(\nAND(KU13=\"Sí\",WORKDAY.INTL(EOMONTH(KU10,0)+1,-1,1,Rangos!$B$22:$B$79)=KU10),\"Sí\",\"No\")","v":"No"},{"$f":"+IF(\nAND(KV13=\"Sí\",WORKDAY.INTL(EOMONTH(KV10,0)+1,-1,1,Rangos!$B$22:$B$79)=KV10),\"Sí\",\"No\")","v":"No"},{"$f":"+IF(\nAND(KW13=\"Sí\",WORKDAY.INTL(EOMONTH(KW10,0)+1,-1,1,Rangos!$B$22:$B$79)=KW10),\"Sí\",\"No\")","v":"No"},{"$f":"+IF(\nAND(KX13=\"Sí\",WORKDAY.INTL(EOMONTH(KX10,0)+1,-1,1,Rangos!$B$22:$B$79)=KX10),\"Sí\",\"No\")","v":"No"},{"$f":"+IF(\nAND(KY13=\"Sí\",WORKDAY.INTL(EOMONTH(KY10,0)+1,-1,1,Rangos!$B$22:$B$79)=KY10),\"Sí\",\"No\")","v":"No"},{"$f":"+IF(\nAND(KZ13=\"Sí\",WORKDAY.INTL(EOMONTH(KZ10,0)+1,-1,1,Rangos!$B$22:$B$79)=KZ10),\"Sí\",\"No\")","v":"No"},{"$f":"+IF(\nAND(LA13=\"Sí\",WORKDAY.INTL(EOMONTH(LA10,0)+1,-1,1,Rangos!$B$22:$B$79)=LA10),\"Sí\",\"No\")","v":"No"},{"$f":"+IF(\nAND(LB13=\"Sí\",WORKDAY.INTL(EOMONTH(LB10,0)+1,-1,1,Rangos!$B$22:$B$79)=LB10),\"Sí\",\"No\")","v":"No"},{"$f":"+IF(\nAND(LC13=\"Sí\",WORKDAY.INTL(EOMONTH(LC10,0)+1,-1,1,Rangos!$B$22:$B$79)=LC10),\"Sí\",\"No\")","v":"No"},{"$f":"+IF(\nAND(LD13=\"Sí\",WORKDAY.INTL(EOMONTH(LD10,0)+1,-1,1,Rangos!$B$22:$B$79)=LD10),\"Sí\",\"No\")","v":"Sí"},{"$f":"+IF(\nAND(LE13=\"Sí\",WORKDAY.INTL(EOMONTH(LE10,0)+1,-1,1,Rangos!$B$22:$B$79)=LE10),\"Sí\",\"No\")","v":"No"},{"$f":"+IF(\nAND(LF13=\"Sí\",WORKDAY.INTL(EOMONTH(LF10,0)+1,-1,1,Rangos!$B$22:$B$79)=LF10),\"Sí\",\"No\")","v":"No"},{"$f":"+IF(\nAND(LG13=\"Sí\",WORKDAY.INTL(EOMONTH(LG10,0)+1,-1,1,Rangos!$B$22:$B$79)=LG10),\"Sí\",\"No\")","v":"No"},{"$f":"+IF(\nAND(LH13=\"Sí\",WORKDAY.INTL(EOMONTH(LH10,0)+1,-1,1,Rangos!$B$22:$B$79)=LH10),\"Sí\",\"No\")","v":"No"},{"$f":"+IF(\nAND(LI13=\"Sí\",WORKDAY.INTL(EOMONTH(LI10,0)+1,-1,1,Rangos!$B$22:$B$79)=LI10),\"Sí\",\"No\")","v":"No"},{"$f":"+IF(\nAND(LJ13=\"Sí\",WORKDAY.INTL(EOMONTH(LJ10,0)+1,-1,1,Rangos!$B$22:$B$79)=LJ10),\"Sí\",\"No\")","v":"No"},{"$f":"+IF(\nAND(LK13=\"Sí\",WORKDAY.INTL(EOMONTH(LK10,0)+1,-1,1,Rangos!$B$22:$B$79)=LK10),\"Sí\",\"No\")","v":"No"},{"$f":"+IF(\nAND(LL13=\"Sí\",WORKDAY.INTL(EOMONTH(LL10,0)+1,-1,1,Rangos!$B$22:$B$79)=LL10),\"Sí\",\"No\")","v":"No"},{"$f":"+IF(\nAND(LM13=\"Sí\",WORKDAY.INTL(EOMONTH(LM10,0)+1,-1,1,Rangos!$B$22:$B$79)=LM10),\"Sí\",\"No\")","v":"No"},{"$f":"+IF(\nAND(LN13=\"Sí\",WORKDAY.INTL(EOMONTH(LN10,0)+1,-1,1,Rangos!$B$22:$B$79)=LN10),\"Sí\",\"No\")","v":"No"},{"$f":"+IF(\nAND(LO13=\"Sí\",WORKDAY.INTL(EOMONTH(LO10,0)+1,-1,1,Rangos!$B$22:$B$79)=LO10),\"Sí\",\"No\")","v":"No"},{"$f":"+IF(\nAND(LP13=\"Sí\",WORKDAY.INTL(EOMONTH(LP10,0)+1,-1,1,Rangos!$B$22:$B$79)=LP10),\"Sí\",\"No\")","v":"No"},{"$f":"+IF(\nAND(LQ13=\"Sí\",WORKDAY.INTL(EOMONTH(LQ10,0)+1,-1,1,Rangos!$B$22:$B$79)=LQ10),\"Sí\",\"No\")","v":"No"},{"$f":"+IF(\nAND(LR13=\"Sí\",WORKDAY.INTL(EOMONTH(LR10,0)+1,-1,1,Rangos!$B$22:$B$79)=LR10),\"Sí\",\"No\")","v":"No"},{"$f":"+IF(\nAND(LS13=\"Sí\",WORKDAY.INTL(EOMONTH(LS10,0)+1,-1,1,Rangos!$B$22:$B$79)=LS10),\"Sí\",\"No\")","v":"No"},{"$f":"+IF(\nAND(LT13=\"Sí\",WORKDAY.INTL(EOMONTH(LT10,0)+1,-1,1,Rangos!$B$22:$B$79)=LT10),\"Sí\",\"No\")","v":"No"},{"$f":"+IF(\nAND(LU13=\"Sí\",WORKDAY.INTL(EOMONTH(LU10,0)+1,-1,1,Rangos!$B$22:$B$79)=LU10),\"Sí\",\"No\")","v":"No"},{"$f":"+IF(\nAND(LV13=\"Sí\",WORKDAY.INTL(EOMONTH(LV10,0)+1,-1,1,Rangos!$B$22:$B$79)=LV10),\"Sí\",\"No\")","v":"No"},{"$f":"+IF(\nAND(LW13=\"Sí\",WORKDAY.INTL(EOMONTH(LW10,0)+1,-1,1,Rangos!$B$22:$B$79)=LW10),\"Sí\",\"No\")","v":"No"},{"$f":"+IF(\nAND(LX13=\"Sí\",WORKDAY.INTL(EOMONTH(LX10,0)+1,-1,1,Rangos!$B$22:$B$79)=LX10),\"Sí\",\"No\")","v":"No"},{"$f":"+IF(\nAND(LY13=\"Sí\",WORKDAY.INTL(EOMONTH(LY10,0)+1,-1,1,Rangos!$B$22:$B$79)=LY10),\"Sí\",\"No\")","v":"No"},{"$f":"+IF(\nAND(LZ13=\"Sí\",WORKDAY.INTL(EOMONTH(LZ10,0)+1,-1,1,Rangos!$B$22:$B$79)=LZ10),\"Sí\",\"No\")","v":"No"},{"$f":"+IF(\nAND(MA13=\"Sí\",WORKDAY.INTL(EOMONTH(MA10,0)+1,-1,1,Rangos!$B$22:$B$79)=MA10),\"Sí\",\"No\")","v":"No"},{"$f":"+IF(\nAND(MB13=\"Sí\",WORKDAY.INTL(EOMONTH(MB10,0)+1,-1,1,Rangos!$B$22:$B$79)=MB10),\"Sí\",\"No\")","v":"No"},{"$f":"+IF(\nAND(MC13=\"Sí\",WORKDAY.INTL(EOMONTH(MC10,0)+1,-1,1,Rangos!$B$22:$B$79)=MC10),\"Sí\",\"No\")","v":"No"},{"$f":"+IF(\nAND(MD13=\"Sí\",WORKDAY.INTL(EOMONTH(MD10,0)+1,-1,1,Rangos!$B$22:$B$79)=MD10),\"Sí\",\"No\")","v":"No"},{"$f":"+IF(\nAND(ME13=\"Sí\",WORKDAY.INTL(EOMONTH(ME10,0)+1,-1,1,Rangos!$B$22:$B$79)=ME10),\"Sí\",\"No\")","v":"No"},{"$f":"+IF(\nAND(MF13=\"Sí\",WORKDAY.INTL(EOMONTH(MF10,0)+1,-1,1,Rangos!$B$22:$B$79)=MF10),\"Sí\",\"No\")","v":"No"},{"$f":"+IF(\nAND(MG13=\"Sí\",WORKDAY.INTL(EOMONTH(MG10,0)+1,-1,1,Rangos!$B$22:$B$79)=MG10),\"Sí\",\"No\")","v":"No"},{"$f":"+IF(\nAND(MH13=\"Sí\",WORKDAY.INTL(EOMONTH(MH10,0)+1,-1,1,Rangos!$B$22:$B$79)=MH10),\"Sí\",\"No\")","v":"No"},{"$f":"+IF(\nAND(MI13=\"Sí\",WORKDAY.INTL(EOMONTH(MI10,0)+1,-1,1,Rangos!$B$22:$B$79)=MI10),\"Sí\",\"No\")","v":"No"},{"$f":"+IF(\nAND(MJ13=\"Sí\",WORKDAY.INTL(EOMONTH(MJ10,0)+1,-1,1,Rangos!$B$22:$B$79)=MJ10),\"Sí\",\"No\")","v":"Sí"},{"$f":"+IF(\nAND(MK13=\"Sí\",WORKDAY.INTL(EOMONTH(MK10,0)+1,-1,1,Rangos!$B$22:$B$79)=MK10),\"Sí\",\"No\")","v":"No"},{"$f":"+IF(\nAND(ML13=\"Sí\",WORKDAY.INTL(EOMONTH(ML10,0)+1,-1,1,Rangos!$B$22:$B$79)=ML10),\"Sí\",\"No\")","v":"No"},{"$f":"+IF(\nAND(MM13=\"Sí\",WORKDAY.INTL(EOMONTH(MM10,0)+1,-1,1,Rangos!$B$22:$B$79)=MM10),\"Sí\",\"No\")","v":"No"},{"$f":"+IF(\nAND(MN13=\"Sí\",WORKDAY.INTL(EOMONTH(MN10,0)+1,-1,1,Rangos!$B$22:$B$79)=MN10),\"Sí\",\"No\")","v":"No"},{"$f":"+IF(\nAND(MO13=\"Sí\",WORKDAY.INTL(EOMONTH(MO10,0)+1,-1,1,Rangos!$B$22:$B$79)=MO10),\"Sí\",\"No\")","v":"No"},{"$f":"+IF(\nAND(MP13=\"Sí\",WORKDAY.INTL(EOMONTH(MP10,0)+1,-1,1,Rangos!$B$22:$B$79)=MP10),\"Sí\",\"No\")","v":"No"},{"$f":"+IF(\nAND(MQ13=\"Sí\",WORKDAY.INTL(EOMONTH(MQ10,0)+1,-1,1,Rangos!$B$22:$B$79)=MQ10),\"Sí\",\"No\")","v":"No"},{"$f":"+IF(\nAND(MR13=\"Sí\",WORKDAY.INTL(EOMONTH(MR10,0)+1,-1,1,Rangos!$B$22:$B$79)=MR10),\"Sí\",\"No\")","v":"No"},{"$f":"+IF(\nAND(MS13=\"Sí\",WORKDAY.INTL(EOMONTH(MS10,0)+1,-1,1,Rangos!$B$22:$B$79)=MS10),\"Sí\",\"No\")","v":"No"},{"$f":"+IF(\nAND(MT13=\"Sí\",WORKDAY.INTL(EOMONTH(MT10,0)+1,-1,1,Rangos!$B$22:$B$79)=MT10),\"Sí\",\"No\")","v":"No"},{"$f":"+IF(\nAND(MU13=\"Sí\",WORKDAY.INTL(EOMONTH(MU10,0)+1,-1,1,Rangos!$B$22:$B$79)=MU10),\"Sí\",\"No\")","v":"No"},{"$f":"+IF(\nAND(MV13=\"Sí\",WORKDAY.INTL(EOMONTH(MV10,0)+1,-1,1,Rangos!$B$22:$B$79)=MV10),\"Sí\",\"No\")","v":"No"},{"$f":"+IF(\nAND(MW13=\"Sí\",WORKDAY.INTL(EOMONTH(MW10,0)+1,-1,1,Rangos!$B$22:$B$79)=MW10),\"Sí\",\"No\")","v":"No"},{"$f":"+IF(\nAND(MX13=\"Sí\",WORKDAY.INTL(EOMONTH(MX10,0)+1,-1,1,Rangos!$B$22:$B$79)=MX10),\"Sí\",\"No\")","v":"No"},{"$f":"+IF(\nAND(MY13=\"Sí\",WORKDAY.INTL(EOMONTH(MY10,0)+1,-1,1,Rangos!$B$22:$B$79)=MY10),\"Sí\",\"No\")","v":"No"},{"$f":"+IF(\nAND(MZ13=\"Sí\",WORKDAY.INTL(EOMONTH(MZ10,0)+1,-1,1,Rangos!$B$22:$B$79)=MZ10),\"Sí\",\"No\")","v":"No"},{"$f":"+IF(\nAND(NA13=\"Sí\",WORKDAY.INTL(EOMONTH(NA10,0)+1,-1,1,Rangos!$B$22:$B$79)=NA10),\"Sí\",\"No\")","v":"No"},{"$f":"+IF(\nAND(NB13=\"Sí\",WORKDAY.INTL(EOMONTH(NB10,0)+1,-1,1,Rangos!$B$22:$B$79)=NB10),\"Sí\",\"No\")","v":"No"},{"$f":"+IF(\nAND(NC13=\"Sí\",WORKDAY.INTL(EOMONTH(NC10,0)+1,-1,1,Rangos!$B$22:$B$79)=NC10),\"Sí\",\"No\")","v":"No"},{"$f":"+IF(\nAND(ND13=\"Sí\",WORKDAY.INTL(EOMONTH(ND10,0)+1,-1,1,Rangos!$B$22:$B$79)=ND10),\"Sí\",\"No\")","v":"No"},{"$f":"+IF(\nAND(NE13=\"Sí\",WORKDAY.INTL(EOMONTH(NE10,0)+1,-1,1,Rangos!$B$22:$B$79)=NE10),\"Sí\",\"No\")","v":"No"},{"$f":"+IF(\nAND(NF13=\"Sí\",WORKDAY.INTL(EOMONTH(NF10,0)+1,-1,1,Rangos!$B$22:$B$79)=NF10),\"Sí\",\"No\")","v":"No"},{"$f":"+IF(\nAND(NG13=\"Sí\",WORKDAY.INTL(EOMONTH(NG10,0)+1,-1,1,Rangos!$B$22:$B$79)=NG10),\"Sí\",\"No\")","v":"No"},{"$f":"+IF(\nAND(NH13=\"Sí\",WORKDAY.INTL(EOMONTH(NH10,0)+1,-1,1,Rangos!$B$22:$B$79)=NH10),\"Sí\",\"No\")","v":"No"},{"$f":"+IF(\nAND(NI13=\"Sí\",WORKDAY.INTL(EOMONTH(NI10,0)+1,-1,1,Rangos!$B$22:$B$79)=NI10),\"Sí\",\"No\")","v":"No"},{"$f":"+IF(\nAND(NJ13=\"Sí\",WORKDAY.INTL(EOMONTH(NJ10,0)+1,-1,1,Rangos!$B$22:$B$79)=NJ10),\"Sí\",\"No\")","v":"No"},{"$f":"+IF(\nAND(NK13=\"Sí\",WORKDAY.INTL(EOMONTH(NK10,0)+1,-1,1,Rangos!$B$22:$B$79)=NK10),\"Sí\",\"No\")","v":"No"},{"$f":"+IF(\nAND(NL13=\"Sí\",WORKDAY.INTL(EOMONTH(NL10,0)+1,-1,1,Rangos!$B$22:$B$79)=NL10),\"Sí\",\"No\")","v":"No"},{"$f":"+IF(\nAND(NM13=\"Sí\",WORKDAY.INTL(EOMONTH(NM10,0)+1,-1,1,Rangos!$B$22:$B$79)=NM10),\"Sí\",\"No\")","v":"No"},{"$f":"+IF(\nAND(NN13=\"Sí\",WORKDAY.INTL(EOMONTH(NN10,0)+1,-1,1,Rangos!$B$22:$B$79)=NN10),\"Sí\",\"No\")","v":"No"},{"$f":"+IF(\nAND(NO13=\"Sí\",WORKDAY.INTL(EOMONTH(NO10,0)+1,-1,1,Rangos!$B$22:$B$79)=NO10),\"Sí\",\"No\")","v":"Sí"},{"$f":"+IF(\nAND(NP13=\"Sí\",WORKDAY.INTL(EOMONTH(NP10,0)+1,-1,1,Rangos!$B$22:$B$79)=NP10),\"Sí\",\"No\")","v":"No"},{"$f":"+IF(\nAND(NQ13=\"Sí\",WORKDAY.INTL(EOMONTH(NQ10,0)+1,-1,1,Rangos!$B$22:$B$79)=NQ10),\"Sí\",\"No\")","v":"No"},{"$f":"+IF(\nAND(NR13=\"Sí\",WORKDAY.INTL(EOMONTH(NR10,0)+1,-1,1,Rangos!$B$22:$B$79)=NR10),\"Sí\",\"No\")","v":"No"},{"$f":"+IF(\nAND(NS13=\"Sí\",WORKDAY.INTL(EOMONTH(NS10,0)+1,-1,1,Rangos!$B$22:$B$79)=NS10),\"Sí\",\"No\")","v":"No"},{"$f":"+IF(\nAND(NT13=\"Sí\",WORKDAY.INTL(EOMONTH(NT10,0)+1,-1,1,Rangos!$B$22:$B$79)=NT10),\"Sí\",\"No\")","v":"No"},{"$f":"+IF(\nAND(NU13=\"Sí\",WORKDAY.INTL(EOMONTH(NU10,0)+1,-1,1,Rangos!$B$22:$B$79)=NU10),\"Sí\",\"No\")","v":"No"},{"$f":"+IF(\nAND(NV13=\"Sí\",WORKDAY.INTL(EOMONTH(NV10,0)+1,-1,1,Rangos!$B$22:$B$79)=NV10),\"Sí\",\"No\")","v":"No"},{"$f":"+IF(\nAND(NW13=\"Sí\",WORKDAY.INTL(EOMONTH(NW10,0)+1,-1,1,Rangos!$B$22:$B$79)=NW10),\"Sí\",\"No\")","v":"No"},{"$f":"+IF(\nAND(NX13=\"Sí\",WORKDAY.INTL(EOMONTH(NX10,0)+1,-1,1,Rangos!$B$22:$B$79)=NX10),\"Sí\",\"No\")","v":"No"},{"$f":"+IF(\nAND(NY13=\"Sí\",WORKDAY.INTL(EOMONTH(NY10,0)+1,-1,1,Rangos!$B$22:$B$79)=NY10),\"Sí\",\"No\")","v":"No"},{"$f":"+IF(\nAND(NZ13=\"Sí\",WORKDAY.INTL(EOMONTH(NZ10,0)+1,-1,1,Rangos!$B$22:$B$79)=NZ10),\"Sí\",\"No\")","v":"No"},{"$f":"+IF(\nAND(OA13=\"Sí\",WORKDAY.INTL(EOMONTH(OA10,0)+1,-1,1,Rangos!$B$22:$B$79)=OA10),\"Sí\",\"No\")","v":"No"},{"$f":"+IF(\nAND(OB13=\"Sí\",WORKDAY.INTL(EOMONTH(OB10,0)+1,-1,1,Rangos!$B$22:$B$79)=OB10),\"Sí\",\"No\")","v":"No"},{"$f":"+IF(\nAND(OC13=\"Sí\",WORKDAY.INTL(EOMONTH(OC10,0)+1,-1,1,Rangos!$B$22:$B$79)=OC10),\"Sí\",\"No\")","v":"No"},{"$f":"+IF(\nAND(OD13=\"Sí\",WORKDAY.INTL(EOMONTH(OD10,0)+1,-1,1,Rangos!$B$22:$B$79)=OD10),\"Sí\",\"No\")","v":"No"},{"$f":"+IF(\nAND(OE13=\"Sí\",WORKDAY.INTL(EOMONTH(OE10,0)+1,-1,1,Rangos!$B$22:$B$79)=OE10),\"Sí\",\"No\")","v":"No"},{"$f":"+IF(\nAND(OF13=\"Sí\",WORKDAY.INTL(EOMONTH(OF10,0)+1,-1,1,Rangos!$B$22:$B$79)=OF10),\"Sí\",\"No\")","v":"No"},{"$f":"+IF(\nAND(OG13=\"Sí\",WORKDAY.INTL(EOMONTH(OG10,0)+1,-1,1,Rangos!$B$22:$B$79)=OG10),\"Sí\",\"No\")","v":"No"},{"$f":"+IF(\nAND(OH13=\"Sí\",WORKDAY.INTL(EOMONTH(OH10,0)+1,-1,1,Rangos!$B$22:$B$79)=OH10),\"Sí\",\"No\")","v":"No"},{"$f":"+IF(\nAND(OI13=\"Sí\",WORKDAY.INTL(EOMONTH(OI10,0)+1,-1,1,Rangos!$B$22:$B$79)=OI10),\"Sí\",\"No\")","v":"No"},{"$f":"+IF(\nAND(OJ13=\"Sí\",WORKDAY.INTL(EOMONTH(OJ10,0)+1,-1,1,Rangos!$B$22:$B$79)=OJ10),\"Sí\",\"No\")","v":"No"},{"$f":"+IF(\nAND(OK13=\"Sí\",WORKDAY.INTL(EOMONTH(OK10,0)+1,-1,1,Rangos!$B$22:$B$79)=OK10),\"Sí\",\"No\")","v":"No"},{"$f":"+IF(\nAND(OL13=\"Sí\",WORKDAY.INTL(EOMONTH(OL10,0)+1,-1,1,Rangos!$B$22:$B$79)=OL10),\"Sí\",\"No\")","v":"No"},{"$f":"+IF(\nAND(OM13=\"Sí\",WORKDAY.INTL(EOMONTH(OM10,0)+1,-1,1,Rangos!$B$22:$B$79)=OM10),\"Sí\",\"No\")","v":"No"},{"$f":"+IF(\nAND(ON13=\"Sí\",WORKDAY.INTL(EOMONTH(ON10,0)+1,-1,1,Rangos!$B$22:$B$79)=ON10),\"Sí\",\"No\")","v":"No"},{"$f":"+IF(\nAND(OO13=\"Sí\",WORKDAY.INTL(EOMONTH(OO10,0)+1,-1,1,Rangos!$B$22:$B$79)=OO10),\"Sí\",\"No\")","v":"No"},{"$f":"+IF(\nAND(OP13=\"Sí\",WORKDAY.INTL(EOMONTH(OP10,0)+1,-1,1,Rangos!$B$22:$B$79)=OP10),\"Sí\",\"No\")","v":"No"},{"$f":"+IF(\nAND(OQ13=\"Sí\",WORKDAY.INTL(EOMONTH(OQ10,0)+1,-1,1,Rangos!$B$22:$B$79)=OQ10),\"Sí\",\"No\")","v":"No"},{"$f":"+IF(\nAND(OR13=\"Sí\",WORKDAY.INTL(EOMONTH(OR10,0)+1,-1,1,Rangos!$B$22:$B$79)=OR10),\"Sí\",\"No\")","v":"No"},{"$f":"+IF(\nAND(OS13=\"Sí\",WORKDAY.INTL(EOMONTH(OS10,0)+1,-1,1,Rangos!$B$22:$B$79)=OS10),\"Sí\",\"No\")","v":"No"},{"$f":"+IF(\nAND(OT13=\"Sí\",WORKDAY.INTL(EOMONTH(OT10,0)+1,-1,1,Rangos!$B$22:$B$79)=OT10),\"Sí\",\"No\")","v":"Sí"},{"$f":"+IF(\nAND(OU13=\"Sí\",WORKDAY.INTL(EOMONTH(OU10,0)+1,-1,1,Rangos!$B$22:$B$79)=OU10),\"Sí\",\"No\")","v":"No"},{"$f":"+IF(\nAND(OV13=\"Sí\",WORKDAY.INTL(EOMONTH(OV10,0)+1,-1,1,Rangos!$B$22:$B$79)=OV10),\"Sí\",\"No\")","v":"No"},{"$f":"+IF(\nAND(OW13=\"Sí\",WORKDAY.INTL(EOMONTH(OW10,0)+1,-1,1,Rangos!$B$22:$B$79)=OW10),\"Sí\",\"No\")","v":"No"},{"$f":"+IF(\nAND(OX13=\"Sí\",WORKDAY.INTL(EOMONTH(OX10,0)+1,-1,1,Rangos!$B$22:$B$79)=OX10),\"Sí\",\"No\")","v":"No"},{"$f":"+IF(\nAND(OY13=\"Sí\",WORKDAY.INTL(EOMONTH(OY10,0)+1,-1,1,Rangos!$B$22:$B$79)=OY10),\"Sí\",\"No\")","v":"No"},{"$f":"+IF(\nAND(OZ13=\"Sí\",WORKDAY.INTL(EOMONTH(OZ10,0)+1,-1,1,Rangos!$B$22:$B$79)=OZ10),\"Sí\",\"No\")","v":"No"},{"$f":"+IF(\nAND(PA13=\"Sí\",WORKDAY.INTL(EOMONTH(PA10,0)+1,-1,1,Rangos!$B$22:$B$79)=PA10),\"Sí\",\"No\")","v":"No"},{"$f":"+IF(\nAND(PB13=\"Sí\",WORKDAY.INTL(EOMONTH(PB10,0)+1,-1,1,Rangos!$B$22:$B$79)=PB10),\"Sí\",\"No\")","v":"No"},{"$f":"+IF(\nAND(PC13=\"Sí\",WORKDAY.INTL(EOMONTH(PC10,0)+1,-1,1,Rangos!$B$22:$B$79)=PC10),\"Sí\",\"No\")","v":"No"},{"$f":"+IF(\nAND(PD13=\"Sí\",WORKDAY.INTL(EOMONTH(PD10,0)+1,-1,1,Rangos!$B$22:$B$79)=PD10),\"Sí\",\"No\")","v":"No"},{"$f":"+IF(\nAND(PE13=\"Sí\",WORKDAY.INTL(EOMONTH(PE10,0)+1,-1,1,Rangos!$B$22:$B$79)=PE10),\"Sí\",\"No\")","v":"No"},{"$f":"+IF(\nAND(PF13=\"Sí\",WORKDAY.INTL(EOMONTH(PF10,0)+1,-1,1,Rangos!$B$22:$B$79)=PF10),\"Sí\",\"No\")","v":"No"},{"$f":"+IF(\nAND(PG13=\"Sí\",WORKDAY.INTL(EOMONTH(PG10,0)+1,-1,1,Rangos!$B$22:$B$79)=PG10),\"Sí\",\"No\")","v":"No"},{"$f":"+IF(\nAND(PH13=\"Sí\",WORKDAY.INTL(EOMONTH(PH10,0)+1,-1,1,Rangos!$B$22:$B$79)=PH10),\"Sí\",\"No\")","v":"No"},{"$f":"+IF(\nAND(PI13=\"Sí\",WORKDAY.INTL(EOMONTH(PI10,0)+1,-1,1,Rangos!$B$22:$B$79)=PI10),\"Sí\",\"No\")","v":"No"},{"$f":"+IF(\nAND(PJ13=\"Sí\",WORKDAY.INTL(EOMONTH(PJ10,0)+1,-1,1,Rangos!$B$22:$B$79)=PJ10),\"Sí\",\"No\")","v":"No"},{"$f":"+IF(\nAND(PK13=\"Sí\",WORKDAY.INTL(EOMONTH(PK10,0)+1,-1,1,Rangos!$B$22:$B$79)=PK10),\"Sí\",\"No\")","v":"No"},{"$f":"+IF(\nAND(PL13=\"Sí\",WORKDAY.INTL(EOMONTH(PL10,0)+1,-1,1,Rangos!$B$22:$B$79)=PL10),\"Sí\",\"No\")","v":"No"},{"$f":"+IF(\nAND(PM13=\"Sí\",WORKDAY.INTL(EOMONTH(PM10,0)+1,-1,1,Rangos!$B$22:$B$79)=PM10),\"Sí\",\"No\")","v":"No"},{"$f":"+IF(\nAND(PN13=\"Sí\",WORKDAY.INTL(EOMONTH(PN10,0)+1,-1,1,Rangos!$B$22:$B$79)=PN10),\"Sí\",\"No\")","v":"No"},{"$f":"+IF(\nAND(PO13=\"Sí\",WORKDAY.INTL(EOMONTH(PO10,0)+1,-1,1,Rangos!$B$22:$B$79)=PO10),\"Sí\",\"No\")","v":"No"},{"$f":"+IF(\nAND(PP13=\"Sí\",WORKDAY.INTL(EOMONTH(PP10,0)+1,-1,1,Rangos!$B$22:$B$79)=PP10),\"Sí\",\"No\")","v":"No"},{"$f":"+IF(\nAND(PQ13=\"Sí\",WORKDAY.INTL(EOMONTH(PQ10,0)+1,-1,1,Rangos!$B$22:$B$79)=PQ10),\"Sí\",\"No\")","v":"No"},{"$f":"+IF(\nAND(PR13=\"Sí\",WORKDAY.INTL(EOMONTH(PR10,0)+1,-1,1,Rangos!$B$22:$B$79)=PR10),\"Sí\",\"No\")","v":"No"},{"$f":"+IF(\nAND(PS13=\"Sí\",WORKDAY.INTL(EOMONTH(PS10,0)+1,-1,1,Rangos!$B$22:$B$79)=PS10),\"Sí\",\"No\")","v":"No"},{"$f":"+IF(\nAND(PT13=\"Sí\",WORKDAY.INTL(EOMONTH(PT10,0)+1,-1,1,Rangos!$B$22:$B$79)=PT10),\"Sí\",\"No\")","v":"No"},{"$f":"+IF(\nAND(PU13=\"Sí\",WORKDAY.INTL(EOMONTH(PU10,0)+1,-1,1,Rangos!$B$22:$B$79)=PU10),\"Sí\",\"No\")","v":"No"},{"$f":"+IF(\nAND(PV13=\"Sí\",WORKDAY.INTL(EOMONTH(PV10,0)+1,-1,1,Rangos!$B$22:$B$79)=PV10),\"Sí\",\"No\")","v":"No"},{"$f":"+IF(\nAND(PW13=\"Sí\",WORKDAY.INTL(EOMONTH(PW10,0)+1,-1,1,Rangos!$B$22:$B$79)=PW10),\"Sí\",\"No\")","v":"No"},{"$f":"+IF(\nAND(PX13=\"Sí\",WORKDAY.INTL(EOMONTH(PX10,0)+1,-1,1,Rangos!$B$22:$B$79)=PX10),\"Sí\",\"No\")","v":"Sí"},{"$f":"+IF(\nAND(PY13=\"Sí\",WORKDAY.INTL(EOMONTH(PY10,0)+1,-1,1,Rangos!$B$22:$B$79)=PY10),\"Sí\",\"No\")","v":"No"},{"$f":"+IF(\nAND(PZ13=\"Sí\",WORKDAY.INTL(EOMONTH(PZ10,0)+1,-1,1,Rangos!$B$22:$B$79)=PZ10),\"Sí\",\"No\")","v":"No"},{"$f":"+IF(\nAND(QA13=\"Sí\",WORKDAY.INTL(EOMONTH(QA10,0)+1,-1,1,Rangos!$B$22:$B$79)=QA10),\"Sí\",\"No\")","v":"No"},{"$f":"+IF(\nAND(QB13=\"Sí\",WORKDAY.INTL(EOMONTH(QB10,0)+1,-1,1,Rangos!$B$22:$B$79)=QB10),\"Sí\",\"No\")","v":"No"},{"$f":"+IF(\nAND(QC13=\"Sí\",WORKDAY.INTL(EOMONTH(QC10,0)+1,-1,1,Rangos!$B$22:$B$79)=QC10),\"Sí\",\"No\")","v":"No"},{"$f":"+IF(\nAND(QD13=\"Sí\",WORKDAY.INTL(EOMONTH(QD10,0)+1,-1,1,Rangos!$B$22:$B$79)=QD10),\"Sí\",\"No\")","v":"No"},{"$f":"+IF(\nAND(QE13=\"Sí\",WORKDAY.INTL(EOMONTH(QE10,0)+1,-1,1,Rangos!$B$22:$B$79)=QE10),\"Sí\",\"No\")","v":"No"},{"$f":"+IF(\nAND(QF13=\"Sí\",WORKDAY.INTL(EOMONTH(QF10,0)+1,-1,1,Rangos!$B$22:$B$79)=QF10),\"Sí\",\"No\")","v":"No"},{"$f":"+IF(\nAND(QG13=\"Sí\",WORKDAY.INTL(EOMONTH(QG10,0)+1,-1,1,Rangos!$B$22:$B$79)=QG10),\"Sí\",\"No\")","v":"No"},{"$f":"+IF(\nAND(QH13=\"Sí\",WORKDAY.INTL(EOMONTH(QH10,0)+1,-1,1,Rangos!$B$22:$B$79)=QH10),\"Sí\",\"No\")","v":"No"},{"$f":"+IF(\nAND(QI13=\"Sí\",WORKDAY.INTL(EOMONTH(QI10,0)+1,-1,1,Rangos!$B$22:$B$79)=QI10),\"Sí\",\"No\")","v":"No"},{"$f":"+IF(\nAND(QJ13=\"Sí\",WORKDAY.INTL(EOMONTH(QJ10,0)+1,-1,1,Rangos!$B$22:$B$79)=QJ10),\"Sí\",\"No\")","v":"No"},{"$f":"+IF(\nAND(QK13=\"Sí\",WORKDAY.INTL(EOMONTH(QK10,0)+1,-1,1,Rangos!$B$22:$B$79)=QK10),\"Sí\",\"No\")","v":"No"},{"$f":"+IF(\nAND(QL13=\"Sí\",WORKDAY.INTL(EOMONTH(QL10,0)+1,-1,1,Rangos!$B$22:$B$79)=QL10),\"Sí\",\"No\")","v":"No"},{"$f":"+IF(\nAND(QM13=\"Sí\",WORKDAY.INTL(EOMONTH(QM10,0)+1,-1,1,Rangos!$B$22:$B$79)=QM10),\"Sí\",\"No\")","v":"No"},{"$f":"+IF(\nAND(QN13=\"Sí\",WORKDAY.INTL(EOMONTH(QN10,0)+1,-1,1,Rangos!$B$22:$B$79)=QN10),\"Sí\",\"No\")","v":"No"},{"$f":"+IF(\nAND(QO13=\"Sí\",WORKDAY.INTL(EOMONTH(QO10,0)+1,-1,1,Rangos!$B$22:$B$79)=QO10),\"Sí\",\"No\")","v":"No"},{"$f":"+IF(\nAND(QP13=\"Sí\",WORKDAY.INTL(EOMONTH(QP10,0)+1,-1,1,Rangos!$B$22:$B$79)=QP10),\"Sí\",\"No\")","v":"No"},{"$f":"+IF(\nAND(QQ13=\"Sí\",WORKDAY.INTL(EOMONTH(QQ10,0)+1,-1,1,Rangos!$B$22:$B$79)=QQ10),\"Sí\",\"No\")","v":"No"},{"$f":"+IF(\nAND(QR13=\"Sí\",WORKDAY.INTL(EOMONTH(QR10,0)+1,-1,1,Rangos!$B$22:$B$79)=QR10),\"Sí\",\"No\")","v":"No"},{"$f":"+IF(\nAND(QS13=\"Sí\",WORKDAY.INTL(EOMONTH(QS10,0)+1,-1,1,Rangos!$B$22:$B$79)=QS10),\"Sí\",\"No\")","v":"No"},{"$f":"+IF(\nAND(QT13=\"Sí\",WORKDAY.INTL(EOMONTH(QT10,0)+1,-1,1,Rangos!$B$22:$B$79)=QT10),\"Sí\",\"No\")","v":"No"},{"$f":"+IF(\nAND(QU13=\"Sí\",WORKDAY.INTL(EOMONTH(QU10,0)+1,-1,1,Rangos!$B$22:$B$79)=QU10),\"Sí\",\"No\")","v":"No"},{"$f":"+IF(\nAND(QV13=\"Sí\",WORKDAY.INTL(EOMONTH(QV10,0)+1,-1,1,Rangos!$B$22:$B$79)=QV10),\"Sí\",\"No\")","v":"No"},{"$f":"+IF(\nAND(QW13=\"Sí\",WORKDAY.INTL(EOMONTH(QW10,0)+1,-1,1,Rangos!$B$22:$B$79)=QW10),\"Sí\",\"No\")","v":"No"},{"$f":"+IF(\nAND(QX13=\"Sí\",WORKDAY.INTL(EOMONTH(QX10,0)+1,-1,1,Rangos!$B$22:$B$79)=QX10),\"Sí\",\"No\")","v":"No"},{"$f":"+IF(\nAND(QY13=\"Sí\",WORKDAY.INTL(EOMONTH(QY10,0)+1,-1,1,Rangos!$B$22:$B$79)=QY10),\"Sí\",\"No\")","v":"No"},{"$f":"+IF(\nAND(QZ13=\"Sí\",WORKDAY.INTL(EOMONTH(QZ10,0)+1,-1,1,Rangos!$B$22:$B$79)=QZ10),\"Sí\",\"No\")","v":"No"},{"$f":"+IF(\nAND(RA13=\"Sí\",WORKDAY.INTL(EOMONTH(RA10,0)+1,-1,1,Rangos!$B$22:$B$79)=RA10),\"Sí\",\"No\")","v":"No"},{"$f":"+IF(\nAND(RB13=\"Sí\",WORKDAY.INTL(EOMONTH(RB10,0)+1,-1,1,Rangos!$B$22:$B$79)=RB10),\"Sí\",\"No\")","v":"Sí"},{"$f":"+IF(\nAND(RC13=\"Sí\",WORKDAY.INTL(EOMONTH(RC10,0)+1,-1,1,Rangos!$B$22:$B$79)=RC10),\"Sí\",\"No\")","v":"No"},{"$f":"+IF(\nAND(RD13=\"Sí\",WORKDAY.INTL(EOMONTH(RD10,0)+1,-1,1,Rangos!$B$22:$B$79)=RD10),\"Sí\",\"No\")","v":"No"},{"$f":"+IF(\nAND(RE13=\"Sí\",WORKDAY.INTL(EOMONTH(RE10,0)+1,-1,1,Rangos!$B$22:$B$79)=RE10),\"Sí\",\"No\")","v":"No"},{"$f":"+IF(\nAND(RF13=\"Sí\",WORKDAY.INTL(EOMONTH(RF10,0)+1,-1,1,Rangos!$B$22:$B$79)=RF10),\"Sí\",\"No\")","v":"No"},{"$f":"+IF(\nAND(RG13=\"Sí\",WORKDAY.INTL(EOMONTH(RG10,0)+1,-1,1,Rangos!$B$22:$B$79)=RG10),\"Sí\",\"No\")","v":"No"},{"$f":"+IF(\nAND(RH13=\"Sí\",WORKDAY.INTL(EOMONTH(RH10,0)+1,-1,1,Rangos!$B$22:$B$79)=RH10),\"Sí\",\"No\")","v":"No"},{"$f":"+IF(\nAND(RI13=\"Sí\",WORKDAY.INTL(EOMONTH(RI10,0)+1,-1,1,Rangos!$B$22:$B$79)=RI10),\"Sí\",\"No\")","v":"No"},{"$f":"+IF(\nAND(RJ13=\"Sí\",WORKDAY.INTL(EOMONTH(RJ10,0)+1,-1,1,Rangos!$B$22:$B$79)=RJ10),\"Sí\",\"No\")","v":"No"},{"$f":"+IF(\nAND(RK13=\"Sí\",WORKDAY.INTL(EOMONTH(RK10,0)+1,-1,1,Rangos!$B$22:$B$79)=RK10),\"Sí\",\"No\")","v":"No"},{"$f":"+IF(\nAND(RL13=\"Sí\",WORKDAY.INTL(EOMONTH(RL10,0)+1,-1,1,Rangos!$B$22:$B$79)=RL10),\"Sí\",\"No\")","v":"No"},{"$f":"+IF(\nAND(RM13=\"Sí\",WORKDAY.INTL(EOMONTH(RM10,0)+1,-1,1,Rangos!$B$22:$B$79)=RM10),\"Sí\",\"No\")","v":"No"},{"$f":"+IF(\nAND(RN13=\"Sí\",WORKDAY.INTL(EOMONTH(RN10,0)+1,-1,1,Rangos!$B$22:$B$79)=RN10),\"Sí\",\"No\")","v":"No"},{"$f":"+IF(\nAND(RO13=\"Sí\",WORKDAY.INTL(EOMONTH(RO10,0)+1,-1,1,Rangos!$B$22:$B$79)=RO10),\"Sí\",\"No\")","v":"No"},{"$f":"+IF(\nAND(RP13=\"Sí\",WORKDAY.INTL(EOMONTH(RP10,0)+1,-1,1,Rangos!$B$22:$B$79)=RP10),\"Sí\",\"No\")","v":"No"},{"$f":"+IF(\nAND(RQ13=\"Sí\",WORKDAY.INTL(EOMONTH(RQ10,0)+1,-1,1,Rangos!$B$22:$B$79)=RQ10),\"Sí\",\"No\")","v":"No"},{"$f":"+IF(\nAND(RR13=\"Sí\",WORKDAY.INTL(EOMONTH(RR10,0)+1,-1,1,Rangos!$B$22:$B$79)=RR10),\"Sí\",\"No\")","v":"No"},{"$f":"+IF(\nAND(RS13=\"Sí\",WORKDAY.INTL(EOMONTH(RS10,0)+1,-1,1,Rangos!$B$22:$B$79)=RS10),\"Sí\",\"No\")","v":"No"},{"$f":"+IF(\nAND(RT13=\"Sí\",WORKDAY.INTL(EOMONTH(RT10,0)+1,-1,1,Rangos!$B$22:$B$79)=RT10),\"Sí\",\"No\")","v":"No"},{"$f":"+IF(\nAND(RU13=\"Sí\",WORKDAY.INTL(EOMONTH(RU10,0)+1,-1,1,Rangos!$B$22:$B$79)=RU10),\"Sí\",\"No\")","v":"No"},{"$f":"+IF(\nAND(RV13=\"Sí\",WORKDAY.INTL(EOMONTH(RV10,0)+1,-1,1,Rangos!$B$22:$B$79)=RV10),\"Sí\",\"No\")","v":"No"},{"$f":"+IF(\nAND(RW13=\"Sí\",WORKDAY.INTL(EOMONTH(RW10,0)+1,-1,1,Rangos!$B$22:$B$79)=RW10),\"Sí\",\"No\")","v":"No"},{"$f":"+IF(\nAND(RX13=\"Sí\",WORKDAY.INTL(EOMONTH(RX10,0)+1,-1,1,Rangos!$B$22:$B$79)=RX10),\"Sí\",\"No\")","v":"No"},{"$f":"+IF(\nAND(RY13=\"Sí\",WORKDAY.INTL(EOMONTH(RY10,0)+1,-1,1,Rangos!$B$22:$B$79)=RY10),\"Sí\",\"No\")","v":"No"},{"$f":"+IF(\nAND(RZ13=\"Sí\",WORKDAY.INTL(EOMONTH(RZ10,0)+1,-1,1,Rangos!$B$22:$B$79)=RZ10),\"Sí\",\"No\")","v":"No"},{"$f":"+IF(\nAND(SA13=\"Sí\",WORKDAY.INTL(EOMONTH(SA10,0)+1,-1,1,Rangos!$B$22:$B$79)=SA10),\"Sí\",\"No\")","v":"No"},{"$f":"+IF(\nAND(SB13=\"Sí\",WORKDAY.INTL(EOMONTH(SB10,0)+1,-1,1,Rangos!$B$22:$B$79)=SB10),\"Sí\",\"No\")","v":"No"},{"$f":"+IF(\nAND(SC13=\"Sí\",WORKDAY.INTL(EOMONTH(SC10,0)+1,-1,1,Rangos!$B$22:$B$79)=SC10),\"Sí\",\"No\")","v":"No"},{"$f":"+IF(\nAND(SD13=\"Sí\",WORKDAY.INTL(EOMONTH(SD10,0)+1,-1,1,Rangos!$B$22:$B$79)=SD10),\"Sí\",\"No\")","v":"No"},{"$f":"+IF(\nAND(SE13=\"Sí\",WORKDAY.INTL(EOMONTH(SE10,0)+1,-1,1,Rangos!$B$22:$B$79)=SE10),\"Sí\",\"No\")","v":"No"},{"$f":"+IF(\nAND(SF13=\"Sí\",WORKDAY.INTL(EOMONTH(SF10,0)+1,-1,1,Rangos!$B$22:$B$79)=SF10),\"Sí\",\"No\")","v":"No"},{"$f":"+IF(\nAND(SG13=\"Sí\",WORKDAY.INTL(EOMONTH(SG10,0)+1,-1,1,Rangos!$B$22:$B$79)=SG10),\"Sí\",\"No\")","v":"Sí"},{"$f":"+IF(\nAND(SH13=\"Sí\",WORKDAY.INTL(EOMONTH(SH10,0)+1,-1,1,Rangos!$B$22:$B$79)=SH10),\"Sí\",\"No\")","v":"No"},{"$f":"+IF(\nAND(SI13=\"Sí\",WORKDAY.INTL(EOMONTH(SI10,0)+1,-1,1,Rangos!$B$22:$B$79)=SI10),\"Sí\",\"No\")","v":"No"},{"$f":"+IF(\nAND(SJ13=\"Sí\",WORKDAY.INTL(EOMONTH(SJ10,0)+1,-1,1,Rangos!$B$22:$B$79)=SJ10),\"Sí\",\"No\")","v":"No"},{"$f":"+IF(\nAND(SK13=\"Sí\",WORKDAY.INTL(EOMONTH(SK10,0)+1,-1,1,Rangos!$B$22:$B$79)=SK10),\"Sí\",\"No\")","v":"No"},{"$f":"+IF(\nAND(SL13=\"Sí\",WORKDAY.INTL(EOMONTH(SL10,0)+1,-1,1,Rangos!$B$22:$B$79)=SL10),\"Sí\",\"No\")","v":"No"},{"$f":"+IF(\nAND(SM13=\"Sí\",WORKDAY.INTL(EOMONTH(SM10,0)+1,-1,1,Rangos!$B$22:$B$79)=SM10),\"Sí\",\"No\")","v":"No"},{"$f":"+IF(\nAND(SN13=\"Sí\",WORKDAY.INTL(EOMONTH(SN10,0)+1,-1,1,Rangos!$B$22:$B$79)=SN10),\"Sí\",\"No\")","v":"No"},{"$f":"+IF(\nAND(SO13=\"Sí\",WORKDAY.INTL(EOMONTH(SO10,0)+1,-1,1,Rangos!$B$22:$B$79)=SO10),\"Sí\",\"No\")","v":"No"},{"$f":"+IF(\nAND(SP13=\"Sí\",WORKDAY.INTL(EOMONTH(SP10,0)+1,-1,1,Rangos!$B$22:$B$79)=SP10),\"Sí\",\"No\")","v":"No"},{"$f":"+IF(\nAND(SQ13=\"Sí\",WORKDAY.INTL(EOMONTH(SQ10,0)+1,-1,1,Rangos!$B$22:$B$79)=SQ10),\"Sí\",\"No\")","v":"No"},{"$f":"+IF(\nAND(SR13=\"Sí\",WORKDAY.INTL(EOMONTH(SR10,0)+1,-1,1,Rangos!$B$22:$B$79)=SR10),\"Sí\",\"No\")","v":"No"},{"$f":"+IF(\nAND(SS13=\"Sí\",WORKDAY.INTL(EOMONTH(SS10,0)+1,-1,1,Rangos!$B$22:$B$79)=SS10),\"Sí\",\"No\")","v":"No"},{"$f":"+IF(\nAND(ST13=\"Sí\",WORKDAY.INTL(EOMONTH(ST10,0)+1,-1,1,Rangos!$B$22:$B$79)=ST10),\"Sí\",\"No\")","v":"No"},{"$f":"+IF(\nAND(SU13=\"Sí\",WORKDAY.INTL(EOMONTH(SU10,0)+1,-1,1,Rangos!$B$22:$B$79)=SU10),\"Sí\",\"No\")","v":"No"},{"$f":"+IF(\nAND(SV13=\"Sí\",WORKDAY.INTL(EOMONTH(SV10,0)+1,-1,1,Rangos!$B$22:$B$79)=SV10),\"Sí\",\"No\")","v":"No"},{"$f":"+IF(\nAND(SW13=\"Sí\",WORKDAY.INTL(EOMONTH(SW10,0)+1,-1,1,Rangos!$B$22:$B$79)=SW10),\"Sí\",\"No\")","v":"No"},{"$f":"+IF(\nAND(SX13=\"Sí\",WORKDAY.INTL(EOMONTH(SX10,0)+1,-1,1,Rangos!$B$22:$B$79)=SX10),\"Sí\",\"No\")","v":"No"},{"$f":"+IF(\nAND(SY13=\"Sí\",WORKDAY.INTL(EOMONTH(SY10,0)+1,-1,1,Rangos!$B$22:$B$79)=SY10),\"Sí\",\"No\")","v":"No"},{"$f":"+IF(\nAND(SZ13=\"Sí\",WORKDAY.INTL(EOMONTH(SZ10,0)+1,-1,1,Rangos!$B$22:$B$79)=SZ10),\"Sí\",\"No\")","v":"No"},{"$f":"+IF(\nAND(TA13=\"Sí\",WORKDAY.INTL(EOMONTH(TA10,0)+1,-1,1,Rangos!$B$22:$B$79)=TA10),\"Sí\",\"No\")","v":"No"},{"$f":"+IF(\nAND(TB13=\"Sí\",WORKDAY.INTL(EOMONTH(TB10,0)+1,-1,1,Rangos!$B$22:$B$79)=TB10),\"Sí\",\"No\")","v":"No"},{"$f":"+IF(\nAND(TC13=\"Sí\",WORKDAY.INTL(EOMONTH(TC10,0)+1,-1,1,Rangos!$B$22:$B$79)=TC10),\"Sí\",\"No\")","v":"No"},{"$f":"+IF(\nAND(TD13=\"Sí\",WORKDAY.INTL(EOMONTH(TD10,0)+1,-1,1,Rangos!$B$22:$B$79)=TD10),\"Sí\",\"No\")","v":"No"},{"$f":"+IF(\nAND(TE13=\"Sí\",WORKDAY.INTL(EOMONTH(TE10,0)+1,-1,1,Rangos!$B$22:$B$79)=TE10),\"Sí\",\"No\")","v":"No"},{"$f":"+IF(\nAND(TF13=\"Sí\",WORKDAY.INTL(EOMONTH(TF10,0)+1,-1,1,Rangos!$B$22:$B$79)=TF10),\"Sí\",\"No\")","v":"No"},{"$f":"+IF(\nAND(TG13=\"Sí\",WORKDAY.INTL(EOMONTH(TG10,0)+1,-1,1,Rangos!$B$22:$B$79)=TG10),\"Sí\",\"No\")","v":"No"},{"$f":"+IF(\nAND(TH13=\"Sí\",WORKDAY.INTL(EOMONTH(TH10,0)+1,-1,1,Rangos!$B$22:$B$79)=TH10),\"Sí\",\"No\")","v":"No"},{"$f":"+IF(\nAND(TI13=\"Sí\",WORKDAY.INTL(EOMONTH(TI10,0)+1,-1,1,Rangos!$B$22:$B$79)=TI10),\"Sí\",\"No\")","v":"No"},{"$f":"+IF(\nAND(TJ13=\"Sí\",WORKDAY.INTL(EOMONTH(TJ10,0)+1,-1,1,Rangos!$B$22:$B$79)=TJ10),\"Sí\",\"No\")","v":"No"},{"$f":"+IF(\nAND(TK13=\"Sí\",WORKDAY.INTL(EOMONTH(TK10,0)+1,-1,1,Rangos!$B$22:$B$79)=TK10),\"Sí\",\"No\")","v":"Sí"},{"$f":"+IF(\nAND(TL13=\"Sí\",WORKDAY.INTL(EOMONTH(TL10,0)+1,-1,1,Rangos!$B$22:$B$79)=TL10),\"Sí\",\"No\")","v":"No"},{"$f":"+IF(\nAND(TM13=\"Sí\",WORKDAY.INTL(EOMONTH(TM10,0)+1,-1,1,Rangos!$B$22:$B$79)=TM10),\"Sí\",\"No\")","v":"No"},{"$f":"+IF(\nAND(TN13=\"Sí\",WORKDAY.INTL(EOMONTH(TN10,0)+1,-1,1,Rangos!$B$22:$B$79)=TN10),\"Sí\",\"No\")","v":"No"},{"$f":"+IF(\nAND(TO13=\"Sí\",WORKDAY.INTL(EOMONTH(TO10,0)+1,-1,1,Rangos!$B$22:$B$79)=TO10),\"Sí\",\"No\")","v":"No"},{"$f":"+IF(\nAND(TP13=\"Sí\",WORKDAY.INTL(EOMONTH(TP10,0)+1,-1,1,Rangos!$B$22:$B$79)=TP10),\"Sí\",\"No\")","v":"No"},{"$f":"+IF(\nAND(TQ13=\"Sí\",WORKDAY.INTL(EOMONTH(TQ10,0)+1,-1,1,Rangos!$B$22:$B$79)=TQ10),\"Sí\",\"No\")","v":"No"},{"$f":"+IF(\nAND(TR13=\"Sí\",WORKDAY.INTL(EOMONTH(TR10,0)+1,-1,1,Rangos!$B$22:$B$79)=TR10),\"Sí\",\"No\")","v":"No"},{"$f":"+IF(\nAND(TS13=\"Sí\",WORKDAY.INTL(EOMONTH(TS10,0)+1,-1,1,Rangos!$B$22:$B$79)=TS10),\"Sí\",\"No\")","v":"No"},{"$f":"+IF(\nAND(TT13=\"Sí\",WORKDAY.INTL(EOMONTH(TT10,0)+1,-1,1,Rangos!$B$22:$B$79)=TT10),\"Sí\",\"No\")","v":"No"},{"$f":"+IF(\nAND(TU13=\"Sí\",WORKDAY.INTL(EOMONTH(TU10,0)+1,-1,1,Rangos!$B$22:$B$79)=TU10),\"Sí\",\"No\")","v":"No"},{"$f":"+IF(\nAND(TV13=\"Sí\",WORKDAY.INTL(EOMONTH(TV10,0)+1,-1,1,Rangos!$B$22:$B$79)=TV10),\"Sí\",\"No\")","v":"No"},{"$f":"+IF(\nAND(TW13=\"Sí\",WORKDAY.INTL(EOMONTH(TW10,0)+1,-1,1,Rangos!$B$22:$B$79)=TW10),\"Sí\",\"No\")","v":"No"},{"$f":"+IF(\nAND(TX13=\"Sí\",WORKDAY.INTL(EOMONTH(TX10,0)+1,-1,1,Rangos!$B$22:$B$79)=TX10),\"Sí\",\"No\")","v":"No"},{"$f":"+IF(\nAND(TY13=\"Sí\",WORKDAY.INTL(EOMONTH(TY10,0)+1,-1,1,Rangos!$B$22:$B$79)=TY10),\"Sí\",\"No\")","v":"No"},{"$f":"+IF(\nAND(TZ13=\"Sí\",WORKDAY.INTL(EOMONTH(TZ10,0)+1,-1,1,Rangos!$B$22:$B$79)=TZ10),\"Sí\",\"No\")","v":"No"},{"$f":"+IF(\nAND(UA13=\"Sí\",WORKDAY.INTL(EOMONTH(UA10,0)+1,-1,1,Rangos!$B$22:$B$79)=UA10),\"Sí\",\"No\")","v":"No"},{"$f":"+IF(\nAND(UB13=\"Sí\",WORKDAY.INTL(EOMONTH(UB10,0)+1,-1,1,Rangos!$B$22:$B$79)=UB10),\"Sí\",\"No\")","v":"No"},{"$f":"+IF(\nAND(UC13=\"Sí\",WORKDAY.INTL(EOMONTH(UC10,0)+1,-1,1,Rangos!$B$22:$B$79)=UC10),\"Sí\",\"No\")","v":"No"},{"$f":"+IF(\nAND(UD13=\"Sí\",WORKDAY.INTL(EOMONTH(UD10,0)+1,-1,1,Rangos!$B$22:$B$79)=UD10),\"Sí\",\"No\")","v":"No"},{"$f":"+IF(\nAND(UE13=\"Sí\",WORKDAY.INTL(EOMONTH(UE10,0)+1,-1,1,Rangos!$B$22:$B$79)=UE10),\"Sí\",\"No\")","v":"No"},{"$f":"+IF(\nAND(UF13=\"Sí\",WORKDAY.INTL(EOMONTH(UF10,0)+1,-1,1,Rangos!$B$22:$B$79)=UF10),\"Sí\",\"No\")","v":"No"},{"$f":"+IF(\nAND(UG13=\"Sí\",WORKDAY.INTL(EOMONTH(UG10,0)+1,-1,1,Rangos!$B$22:$B$79)=UG10),\"Sí\",\"No\")","v":"No"},{"$f":"+IF(\nAND(UH13=\"Sí\",WORKDAY.INTL(EOMONTH(UH10,0)+1,-1,1,Rangos!$B$22:$B$79)=UH10),\"Sí\",\"No\")","v":"No"},{"$f":"+IF(\nAND(UI13=\"Sí\",WORKDAY.INTL(EOMONTH(UI10,0)+1,-1,1,Rangos!$B$22:$B$79)=UI10),\"Sí\",\"No\")","v":"No"},{"$f":"+IF(\nAND(UJ13=\"Sí\",WORKDAY.INTL(EOMONTH(UJ10,0)+1,-1,1,Rangos!$B$22:$B$79)=UJ10),\"Sí\",\"No\")","v":"No"},{"$f":"+IF(\nAND(UK13=\"Sí\",WORKDAY.INTL(EOMONTH(UK10,0)+1,-1,1,Rangos!$B$22:$B$79)=UK10),\"Sí\",\"No\")","v":"No"},{"$f":"+IF(\nAND(UL13=\"Sí\",WORKDAY.INTL(EOMONTH(UL10,0)+1,-1,1,Rangos!$B$22:$B$79)=UL10),\"Sí\",\"No\")","v":"No"},{"$f":"+IF(\nAND(UM13=\"Sí\",WORKDAY.INTL(EOMONTH(UM10,0)+1,-1,1,Rangos!$B$22:$B$79)=UM10),\"Sí\",\"No\")","v":"No"},{"$f":"+IF(\nAND(UN13=\"Sí\",WORKDAY.INTL(EOMONTH(UN10,0)+1,-1,1,Rangos!$B$22:$B$79)=UN10),\"Sí\",\"No\")","v":"No"},{"$f":"+IF(\nAND(UO13=\"Sí\",WORKDAY.INTL(EOMONTH(UO10,0)+1,-1,1,Rangos!$B$22:$B$79)=UO10),\"Sí\",\"No\")","v":"Sí"},{"$f":"+IF(\nAND(UP13=\"Sí\",WORKDAY.INTL(EOMONTH(UP10,0)+1,-1,1,Rangos!$B$22:$B$79)=UP10),\"Sí\",\"No\")","v":"No"},{"$f":"+IF(\nAND(UQ13=\"Sí\",WORKDAY.INTL(EOMONTH(UQ10,0)+1,-1,1,Rangos!$B$22:$B$79)=UQ10),\"Sí\",\"No\")","v":"No"},{"$f":"+IF(\nAND(UR13=\"Sí\",WORKDAY.INTL(EOMONTH(UR10,0)+1,-1,1,Rangos!$B$22:$B$79)=UR10),\"Sí\",\"No\")","v":"No"},{"$f":"+IF(\nAND(US13=\"Sí\",WORKDAY.INTL(EOMONTH(US10,0)+1,-1,1,Rangos!$B$22:$B$79)=US10),\"Sí\",\"No\")","v":"No"},{"$f":"+IF(\nAND(UT13=\"Sí\",WORKDAY.INTL(EOMONTH(UT10,0)+1,-1,1,Rangos!$B$22:$B$79)=UT10),\"Sí\",\"No\")","v":"No"},{"$f":"+IF(\nAND(UU13=\"Sí\",WORKDAY.INTL(EOMONTH(UU10,0)+1,-1,1,Rangos!$B$22:$B$79)=UU10),\"Sí\",\"No\")","v":"No"},{"$f":"+IF(\nAND(UV13=\"Sí\",WORKDAY.INTL(EOMONTH(UV10,0)+1,-1,1,Rangos!$B$22:$B$79)=UV10),\"Sí\",\"No\")","v":"No"},{"$f":"+IF(\nAND(UW13=\"Sí\",WORKDAY.INTL(EOMONTH(UW10,0)+1,-1,1,Rangos!$B$22:$B$79)=UW10),\"Sí\",\"No\")","v":"No"},{"$f":"+IF(\nAND(UX13=\"Sí\",WORKDAY.INTL(EOMONTH(UX10,0)+1,-1,1,Rangos!$B$22:$B$79)=UX10),\"Sí\",\"No\")","v":"No"},{"$f":"+IF(\nAND(UY13=\"Sí\",WORKDAY.INTL(EOMONTH(UY10,0)+1,-1,1,Rangos!$B$22:$B$79)=UY10),\"Sí\",\"No\")","v":"No"},{"$f":"+IF(\nAND(UZ13=\"Sí\",WORKDAY.INTL(EOMONTH(UZ10,0)+1,-1,1,Rangos!$B$22:$B$79)=UZ10),\"Sí\",\"No\")","v":"No"},{"$f":"+IF(\nAND(VA13=\"Sí\",WORKDAY.INTL(EOMONTH(VA10,0)+1,-1,1,Rangos!$B$22:$B$79)=VA10),\"Sí\",\"No\")","v":"No"},{"$f":"+IF(\nAND(VB13=\"Sí\",WORKDAY.INTL(EOMONTH(VB10,0)+1,-1,1,Rangos!$B$22:$B$79)=VB10),\"Sí\",\"No\")","v":"No"},{"$f":"+IF(\nAND(VC13=\"Sí\",WORKDAY.INTL(EOMONTH(VC10,0)+1,-1,1,Rangos!$B$22:$B$79)=VC10),\"Sí\",\"No\")","v":"No"},{"$f":"+IF(\nAND(VD13=\"Sí\",WORKDAY.INTL(EOMONTH(VD10,0)+1,-1,1,Rangos!$B$22:$B$79)=VD10),\"Sí\",\"No\")","v":"No"},{"$f":"+IF(\nAND(VE13=\"Sí\",WORKDAY.INTL(EOMONTH(VE10,0)+1,-1,1,Rangos!$B$22:$B$79)=VE10),\"Sí\",\"No\")","v":"No"},{"$f":"+IF(\nAND(VF13=\"Sí\",WORKDAY.INTL(EOMONTH(VF10,0)+1,-1,1,Rangos!$B$22:$B$79)=VF10),\"Sí\",\"No\")","v":"No"},{"$f":"+IF(\nAND(VG13=\"Sí\",WORKDAY.INTL(EOMONTH(VG10,0)+1,-1,1,Rangos!$B$22:$B$79)=VG10),\"Sí\",\"No\")","v":"No"},{"$f":"+IF(\nAND(VH13=\"Sí\",WORKDAY.INTL(EOMONTH(VH10,0)+1,-1,1,Rangos!$B$22:$B$79)=VH10),\"Sí\",\"No\")","v":"No"},{"$f":"+IF(\nAND(VI13=\"Sí\",WORKDAY.INTL(EOMONTH(VI10,0)+1,-1,1,Rangos!$B$22:$B$79)=VI10),\"Sí\",\"No\")","v":"No"},{"$f":"+IF(\nAND(VJ13=\"Sí\",WORKDAY.INTL(EOMONTH(VJ10,0)+1,-1,1,Rangos!$B$22:$B$79)=VJ10),\"Sí\",\"No\")","v":"No"},{"$f":"+IF(\nAND(VK13=\"Sí\",WORKDAY.INTL(EOMONTH(VK10,0)+1,-1,1,Rangos!$B$22:$B$79)=VK10),\"Sí\",\"No\")","v":"No"},{"$f":"+IF(\nAND(VL13=\"Sí\",WORKDAY.INTL(EOMONTH(VL10,0)+1,-1,1,Rangos!$B$22:$B$79)=VL10),\"Sí\",\"No\")","v":"No"},{"$f":"+IF(\nAND(VM13=\"Sí\",WORKDAY.INTL(EOMONTH(VM10,0)+1,-1,1,Rangos!$B$22:$B$79)=VM10),\"Sí\",\"No\")","v":"No"},{"$f":"+IF(\nAND(VN13=\"Sí\",WORKDAY.INTL(EOMONTH(VN10,0)+1,-1,1,Rangos!$B$22:$B$79)=VN10),\"Sí\",\"No\")","v":"No"},{"$f":"+IF(\nAND(VO13=\"Sí\",WORKDAY.INTL(EOMONTH(VO10,0)+1,-1,1,Rangos!$B$22:$B$79)=VO10),\"Sí\",\"No\")","v":"No"},{"$f":"+IF(\nAND(VP13=\"Sí\",WORKDAY.INTL(EOMONTH(VP10,0)+1,-1,1,Rangos!$B$22:$B$79)=VP10),\"Sí\",\"No\")","v":"No"},{"$f":"+IF(\nAND(VQ13=\"Sí\",WORKDAY.INTL(EOMONTH(VQ10,0)+1,-1,1,Rangos!$B$22:$B$79)=VQ10),\"Sí\",\"No\")","v":"Sí"},{"$f":"+IF(\nAND(VR13=\"Sí\",WORKDAY.INTL(EOMONTH(VR10,0)+1,-1,1,Rangos!$B$22:$B$79)=VR10),\"Sí\",\"No\")","v":"No"},{"$f":"+IF(\nAND(VS13=\"Sí\",WORKDAY.INTL(EOMONTH(VS10,0)+1,-1,1,Rangos!$B$22:$B$79)=VS10),\"Sí\",\"No\")","v":"No"},{"$f":"+IF(\nAND(VT13=\"Sí\",WORKDAY.INTL(EOMONTH(VT10,0)+1,-1,1,Rangos!$B$22:$B$79)=VT10),\"Sí\",\"No\")","v":"No"},{"$f":"+IF(\nAND(VU13=\"Sí\",WORKDAY.INTL(EOMONTH(VU10,0)+1,-1,1,Rangos!$B$22:$B$79)=VU10),\"Sí\",\"No\")","v":"No"},{"$f":"+IF(\nAND(VV13=\"Sí\",WORKDAY.INTL(EOMONTH(VV10,0)+1,-1,1,Rangos!$B$22:$B$79)=VV10),\"Sí\",\"No\")","v":"No"},{"$f":"+IF(\nAND(VW13=\"Sí\",WORKDAY.INTL(EOMONTH(VW10,0)+1,-1,1,Rangos!$B$22:$B$79)=VW10),\"Sí\",\"No\")","v":"No"},{"$f":"+IF(\nAND(VX13=\"Sí\",WORKDAY.INTL(EOMONTH(VX10,0)+1,-1,1,Rangos!$B$22:$B$79)=VX10),\"Sí\",\"No\")","v":"No"},{"$f":"+IF(\nAND(VY13=\"Sí\",WORKDAY.INTL(EOMONTH(VY10,0)+1,-1,1,Rangos!$B$22:$B$79)=VY10),\"Sí\",\"No\")","v":"No"},{"$f":"+IF(\nAND(VZ13=\"Sí\",WORKDAY.INTL(EOMONTH(VZ10,0)+1,-1,1,Rangos!$B$22:$B$79)=VZ10),\"Sí\",\"No\")","v":"No"},{"$f":"+IF(\nAND(WA13=\"Sí\",WORKDAY.INTL(EOMONTH(WA10,0)+1,-1,1,Rangos!$B$22:$B$79)=WA10),\"Sí\",\"No\")","v":"No"},{"$f":"+IF(\nAND(WB13=\"Sí\",WORKDAY.INTL(EOMONTH(WB10,0)+1,-1,1,Rangos!$B$22:$B$79)=WB10),\"Sí\",\"No\")","v":"No"},{"$f":"+IF(\nAND(WC13=\"Sí\",WORKDAY.INTL(EOMONTH(WC10,0)+1,-1,1,Rangos!$B$22:$B$79)=WC10),\"Sí\",\"No\")","v":"No"},{"$f":"+IF(\nAND(WD13=\"Sí\",WORKDAY.INTL(EOMONTH(WD10,0)+1,-1,1,Rangos!$B$22:$B$79)=WD10),\"Sí\",\"No\")","v":"No"},{"$f":"+IF(\nAND(WE13=\"Sí\",WORKDAY.INTL(EOMONTH(WE10,0)+1,-1,1,Rangos!$B$22:$B$79)=WE10),\"Sí\",\"No\")","v":"No"},{"$f":"+IF(\nAND(WF13=\"Sí\",WORKDAY.INTL(EOMONTH(WF10,0)+1,-1,1,Rangos!$B$22:$B$79)=WF10),\"Sí\",\"No\")","v":"No"},{"$f":"+IF(\nAND(WG13=\"Sí\",WORKDAY.INTL(EOMONTH(WG10,0)+1,-1,1,Rangos!$B$22:$B$79)=WG10),\"Sí\",\"No\")","v":"No"},{"$f":"+IF(\nAND(WH13=\"Sí\",WORKDAY.INTL(EOMONTH(WH10,0)+1,-1,1,Rangos!$B$22:$B$79)=WH10),\"Sí\",\"No\")","v":"No"},{"$f":"+IF(\nAND(WI13=\"Sí\",WORKDAY.INTL(EOMONTH(WI10,0)+1,-1,1,Rangos!$B$22:$B$79)=WI10),\"Sí\",\"No\")","v":"No"},{"$f":"+IF(\nAND(WJ13=\"Sí\",WORKDAY.INTL(EOMONTH(WJ10,0)+1,-1,1,Rangos!$B$22:$B$79)=WJ10),\"Sí\",\"No\")","v":"No"},{"$f":"+IF(\nAND(WK13=\"Sí\",WORKDAY.INTL(EOMONTH(WK10,0)+1,-1,1,Rangos!$B$22:$B$79)=WK10),\"Sí\",\"No\")","v":"No"},{"$f":"+IF(\nAND(WL13=\"Sí\",WORKDAY.INTL(EOMONTH(WL10,0)+1,-1,1,Rangos!$B$22:$B$79)=WL10),\"Sí\",\"No\")","v":"No"},{"$f":"+IF(\nAND(WM13=\"Sí\",WORKDAY.INTL(EOMONTH(WM10,0)+1,-1,1,Rangos!$B$22:$B$79)=WM10),\"Sí\",\"No\")","v":"No"},{"$f":"+IF(\nAND(WN13=\"Sí\",WORKDAY.INTL(EOMONTH(WN10,0)+1,-1,1,Rangos!$B$22:$B$79)=WN10),\"Sí\",\"No\")","v":"No"},{"$f":"+IF(\nAND(WO13=\"Sí\",WORKDAY.INTL(EOMONTH(WO10,0)+1,-1,1,Rangos!$B$22:$B$79)=WO10),\"Sí\",\"No\")","v":"No"},{"$f":"+IF(\nAND(WP13=\"Sí\",WORKDAY.INTL(EOMONTH(WP10,0)+1,-1,1,Rangos!$B$22:$B$79)=WP10),\"Sí\",\"No\")","v":"No"},{"$f":"+IF(\nAND(WQ13=\"Sí\",WORKDAY.INTL(EOMONTH(WQ10,0)+1,-1,1,Rangos!$B$22:$B$79)=WQ10),\"Sí\",\"No\")","v":"No"},{"$f":"+IF(\nAND(WR13=\"Sí\",WORKDAY.INTL(EOMONTH(WR10,0)+1,-1,1,Rangos!$B$22:$B$79)=WR10),\"Sí\",\"No\")","v":"No"},{"$f":"+IF(\nAND(WS13=\"Sí\",WORKDAY.INTL(EOMONTH(WS10,0)+1,-1,1,Rangos!$B$22:$B$79)=WS10),\"Sí\",\"No\")","v":"No"},{"$f":"+IF(\nAND(WT13=\"Sí\",WORKDAY.INTL(EOMONTH(WT10,0)+1,-1,1,Rangos!$B$22:$B$79)=WT10),\"Sí\",\"No\")","v":"No"},{"$f":"+IF(\nAND(WU13=\"Sí\",WORKDAY.INTL(EOMONTH(WU10,0)+1,-1,1,Rangos!$B$22:$B$79)=WU10),\"Sí\",\"No\")","v":"No"},{"$f":"+IF(\nAND(WV13=\"Sí\",WORKDAY.INTL(EOMONTH(WV10,0)+1,-1,1,Rangos!$B$22:$B$79)=WV10),\"Sí\",\"No\")","v":"No"},{"$f":"+IF(\nAND(WW13=\"Sí\",WORKDAY.INTL(EOMONTH(WW10,0)+1,-1,1,Rangos!$B$22:$B$79)=WW10),\"Sí\",\"No\")","v":"No"},{"$f":"+IF(\nAND(WX13=\"Sí\",WORKDAY.INTL(EOMONTH(WX10,0)+1,-1,1,Rangos!$B$22:$B$79)=WX10),\"Sí\",\"No\")","v":"Sí"},{"$f":"+IF(\nAND(WY13=\"Sí\",WORKDAY.INTL(EOMONTH(WY10,0)+1,-1,1,Rangos!$B$22:$B$79)=WY10),\"Sí\",\"No\")","v":"No"},{"$f":"+IF(\nAND(WZ13=\"Sí\",WORKDAY.INTL(EOMONTH(WZ10,0)+1,-1,1,Rangos!$B$22:$B$79)=WZ10),\"Sí\",\"No\")","v":"No"},{"$f":"+IF(\nAND(XA13=\"Sí\",WORKDAY.INTL(EOMONTH(XA10,0)+1,-1,1,Rangos!$B$22:$B$79)=XA10),\"Sí\",\"No\")","v":"No"},{"$f":"+IF(\nAND(XB13=\"Sí\",WORKDAY.INTL(EOMONTH(XB10,0)+1,-1,1,Rangos!$B$22:$B$79)=XB10),\"Sí\",\"No\")","v":"No"},{"$f":"+IF(\nAND(XC13=\"Sí\",WORKDAY.INTL(EOMONTH(XC10,0)+1,-1,1,Rangos!$B$22:$B$79)=XC10),\"Sí\",\"No\")","v":"No"},{"$f":"+IF(\nAND(XD13=\"Sí\",WORKDAY.INTL(EOMONTH(XD10,0)+1,-1,1,Rangos!$B$22:$B$79)=XD10),\"Sí\",\"No\")","v":"No"},{"$f":"+IF(\nAND(XE13=\"Sí\",WORKDAY.INTL(EOMONTH(XE10,0)+1,-1,1,Rangos!$B$22:$B$79)=XE10),\"Sí\",\"No\")","v":"No"},{"$f":"+IF(\nAND(XF13=\"Sí\",WORKDAY.INTL(EOMONTH(XF10,0)+1,-1,1,Rangos!$B$22:$B$79)=XF10),\"Sí\",\"No\")","v":"No"},{"$f":"+IF(\nAND(XG13=\"Sí\",WORKDAY.INTL(EOMONTH(XG10,0)+1,-1,1,Rangos!$B$22:$B$79)=XG10),\"Sí\",\"No\")","v":"No"},{"$f":"+IF(\nAND(XH13=\"Sí\",WORKDAY.INTL(EOMONTH(XH10,0)+1,-1,1,Rangos!$B$22:$B$79)=XH10),\"Sí\",\"No\")","v":"No"},{"$f":"+IF(\nAND(XI13=\"Sí\",WORKDAY.INTL(EOMONTH(XI10,0)+1,-1,1,Rangos!$B$22:$B$79)=XI10),\"Sí\",\"No\")","v":"No"},{"$f":"+IF(\nAND(XJ13=\"Sí\",WORKDAY.INTL(EOMONTH(XJ10,0)+1,-1,1,Rangos!$B$22:$B$79)=XJ10),\"Sí\",\"No\")","v":"No"},{"$f":"+IF(\nAND(XK13=\"Sí\",WORKDAY.INTL(EOMONTH(XK10,0)+1,-1,1,Rangos!$B$22:$B$79)=XK10),\"Sí\",\"No\")","v":"No"},{"$f":"+IF(\nAND(XL13=\"Sí\",WORKDAY.INTL(EOMONTH(XL10,0)+1,-1,1,Rangos!$B$22:$B$79)=XL10),\"Sí\",\"No\")","v":"No"},{"$f":"+IF(\nAND(XM13=\"Sí\",WORKDAY.INTL(EOMONTH(XM10,0)+1,-1,1,Rangos!$B$22:$B$79)=XM10),\"Sí\",\"No\")","v":"No"},{"$f":"+IF(\nAND(XN13=\"Sí\",WORKDAY.INTL(EOMONTH(XN10,0)+1,-1,1,Rangos!$B$22:$B$79)=XN10),\"Sí\",\"No\")","v":"No"},{"$f":"+IF(\nAND(XO13=\"Sí\",WORKDAY.INTL(EOMONTH(XO10,0)+1,-1,1,Rangos!$B$22:$B$79)=XO10),\"Sí\",\"No\")","v":"No"},{"$f":"+IF(\nAND(XP13=\"Sí\",WORKDAY.INTL(EOMONTH(XP10,0)+1,-1,1,Rangos!$B$22:$B$79)=XP10),\"Sí\",\"No\")","v":"No"},{"$f":"+IF(\nAND(XQ13=\"Sí\",WORKDAY.INTL(EOMONTH(XQ10,0)+1,-1,1,Rangos!$B$22:$B$79)=XQ10),\"Sí\",\"No\")","v":"No"},{"$f":"+IF(\nAND(XR13=\"Sí\",WORKDAY.INTL(EOMONTH(XR10,0)+1,-1,1,Rangos!$B$22:$B$79)=XR10),\"Sí\",\"No\")","v":"No"},{"$f":"+IF(\nAND(XS13=\"Sí\",WORKDAY.INTL(EOMONTH(XS10,0)+1,-1,1,Rangos!$B$22:$B$79)=XS10),\"Sí\",\"No\")","v":"No"},{"$f":"+IF(\nAND(XT13=\"Sí\",WORKDAY.INTL(EOMONTH(XT10,0)+1,-1,1,Rangos!$B$22:$B$79)=XT10),\"Sí\",\"No\")","v":"No"},{"$f":"+IF(\nAND(XU13=\"Sí\",WORKDAY.INTL(EOMONTH(XU10,0)+1,-1,1,Rangos!$B$22:$B$79)=XU10),\"Sí\",\"No\")","v":"No"},{"$f":"+IF(\nAND(XV13=\"Sí\",WORKDAY.INTL(EOMONTH(XV10,0)+1,-1,1,Rangos!$B$22:$B$79)=XV10),\"Sí\",\"No\")","v":"No"},{"$f":"+IF(\nAND(XW13=\"Sí\",WORKDAY.INTL(EOMONTH(XW10,0)+1,-1,1,Rangos!$B$22:$B$79)=XW10),\"Sí\",\"No\")","v":"No"},{"$f":"+IF(\nAND(XX13=\"Sí\",WORKDAY.INTL(EOMONTH(XX10,0)+1,-1,1,Rangos!$B$22:$B$79)=XX10),\"Sí\",\"No\")","v":"No"},{"$f":"+IF(\nAND(XY13=\"Sí\",WORKDAY.INTL(EOMONTH(XY10,0)+1,-1,1,Rangos!$B$22:$B$79)=XY10),\"Sí\",\"No\")","v":"No"},{"$f":"+IF(\nAND(XZ13=\"Sí\",WORKDAY.INTL(EOMONTH(XZ10,0)+1,-1,1,Rangos!$B$22:$B$79)=XZ10),\"Sí\",\"No\")","v":"No"},{"$f":"+IF(\nAND(YA13=\"Sí\",WORKDAY.INTL(EOMONTH(YA10,0)+1,-1,1,Rangos!$B$22:$B$79)=YA10),\"Sí\",\"No\")","v":"Sí"},{"$f":"+IF(\nAND(YB13=\"Sí\",WORKDAY.INTL(EOMONTH(YB10,0)+1,-1,1,Rangos!$B$22:$B$79)=YB10),\"Sí\",\"No\")","v":"No"},{"$f":"+IF(\nAND(YC13=\"Sí\",WORKDAY.INTL(EOMONTH(YC10,0)+1,-1,1,Rangos!$B$22:$B$79)=YC10),\"Sí\",\"No\")","v":"No"},{"$f":"+IF(\nAND(YD13=\"Sí\",WORKDAY.INTL(EOMONTH(YD10,0)+1,-1,1,Rangos!$B$22:$B$79)=YD10),\"Sí\",\"No\")","v":"No"},{"$f":"+IF(\nAND(YE13=\"Sí\",WORKDAY.INTL(EOMONTH(YE10,0)+1,-1,1,Rangos!$B$22:$B$79)=YE10),\"Sí\",\"No\")","v":"No"},{"$f":"+IF(\nAND(YF13=\"Sí\",WORKDAY.INTL(EOMONTH(YF10,0)+1,-1,1,Rangos!$B$22:$B$79)=YF10),\"Sí\",\"No\")","v":"No"},{"$f":"+IF(\nAND(YG13=\"Sí\",WORKDAY.INTL(EOMONTH(YG10,0)+1,-1,1,Rangos!$B$22:$B$79)=YG10),\"Sí\",\"No\")","v":"No"},{"$f":"+IF(\nAND(YH13=\"Sí\",WORKDAY.INTL(EOMONTH(YH10,0)+1,-1,1,Rangos!$B$22:$B$79)=YH10),\"Sí\",\"No\")","v":"No"},{"$f":"+IF(\nAND(YI13=\"Sí\",WORKDAY.INTL(EOMONTH(YI10,0)+1,-1,1,Rangos!$B$22:$B$79)=YI10),\"Sí\",\"No\")","v":"No"},{"$f":"+IF(\nAND(YJ13=\"Sí\",WORKDAY.INTL(EOMONTH(YJ10,0)+1,-1,1,Rangos!$B$22:$B$79)=YJ10),\"Sí\",\"No\")","v":"No"},{"$f":"+IF(\nAND(YK13=\"Sí\",WORKDAY.INTL(EOMONTH(YK10,0)+1,-1,1,Rangos!$B$22:$B$79)=YK10),\"Sí\",\"No\")","v":"No"},{"$f":"+IF(\nAND(YL13=\"Sí\",WORKDAY.INTL(EOMONTH(YL10,0)+1,-1,1,Rangos!$B$22:$B$79)=YL10),\"Sí\",\"No\")","v":"No"},{"$f":"+IF(\nAND(YM13=\"Sí\",WORKDAY.INTL(EOMONTH(YM10,0)+1,-1,1,Rangos!$B$22:$B$79)=YM10),\"Sí\",\"No\")","v":"No"},{"$f":"+IF(\nAND(YN13=\"Sí\",WORKDAY.INTL(EOMONTH(YN10,0)+1,-1,1,Rangos!$B$22:$B$79)=YN10),\"Sí\",\"No\")","v":"No"},{"$f":"+IF(\nAND(YO13=\"Sí\",WORKDAY.INTL(EOMONTH(YO10,0)+1,-1,1,Rangos!$B$22:$B$79)=YO10),\"Sí\",\"No\")","v":"No"},{"$f":"+IF(\nAND(YP13=\"Sí\",WORKDAY.INTL(EOMONTH(YP10,0)+1,-1,1,Rangos!$B$22:$B$79)=YP10),\"Sí\",\"No\")","v":"No"},{"$f":"+IF(\nAND(YQ13=\"Sí\",WORKDAY.INTL(EOMONTH(YQ10,0)+1,-1,1,Rangos!$B$22:$B$79)=YQ10),\"Sí\",\"No\")","v":"No"},{"$f":"+IF(\nAND(YR13=\"Sí\",WORKDAY.INTL(EOMONTH(YR10,0)+1,-1,1,Rangos!$B$22:$B$79)=YR10),\"Sí\",\"No\")","v":"No"},{"$f":"+IF(\nAND(YS13=\"Sí\",WORKDAY.INTL(EOMONTH(YS10,0)+1,-1,1,Rangos!$B$22:$B$79)=YS10),\"Sí\",\"No\")","v":"No"},{"$f":"+IF(\nAND(YT13=\"Sí\",WORKDAY.INTL(EOMONTH(YT10,0)+1,-1,1,Rangos!$B$22:$B$79)=YT10),\"Sí\",\"No\")","v":"No"},{"$f":"+IF(\nAND(YU13=\"Sí\",WORKDAY.INTL(EOMONTH(YU10,0)+1,-1,1,Rangos!$B$22:$B$79)=YU10),\"Sí\",\"No\")","v":"No"},{"$f":"+IF(\nAND(YV13=\"Sí\",WORKDAY.INTL(EOMONTH(YV10,0)+1,-1,1,Rangos!$B$22:$B$79)=YV10),\"Sí\",\"No\")","v":"No"},{"$f":"+IF(\nAND(YW13=\"Sí\",WORKDAY.INTL(EOMONTH(YW10,0)+1,-1,1,Rangos!$B$22:$B$79)=YW10),\"Sí\",\"No\")","v":"No"},{"$f":"+IF(\nAND(YX13=\"Sí\",WORKDAY.INTL(EOMONTH(YX10,0)+1,-1,1,Rangos!$B$22:$B$79)=YX10),\"Sí\",\"No\")","v":"No"},{"$f":"+IF(\nAND(YY13=\"Sí\",WORKDAY.INTL(EOMONTH(YY10,0)+1,-1,1,Rangos!$B$22:$B$79)=YY10),\"Sí\",\"No\")","v":"No"},{"$f":"+IF(\nAND(YZ13=\"Sí\",WORKDAY.INTL(EOMONTH(YZ10,0)+1,-1,1,Rangos!$B$22:$B$79)=YZ10),\"Sí\",\"No\")","v":"No"},{"$f":"+IF(\nAND(ZA13=\"Sí\",WORKDAY.INTL(EOMONTH(ZA10,0)+1,-1,1,Rangos!$B$22:$B$79)=ZA10),\"Sí\",\"No\")","v":"No"},{"$f":"+IF(\nAND(ZB13=\"Sí\",WORKDAY.INTL(EOMONTH(ZB10,0)+1,-1,1,Rangos!$B$22:$B$79)=ZB10),\"Sí\",\"No\")","v":"No"},{"$f":"+IF(\nAND(ZC13=\"Sí\",WORKDAY.INTL(EOMONTH(ZC10,0)+1,-1,1,Rangos!$B$22:$B$79)=ZC10),\"Sí\",\"No\")","v":"No"},{"$f":"+IF(\nAND(ZD13=\"Sí\",WORKDAY.INTL(EOMONTH(ZD10,0)+1,-1,1,Rangos!$B$22:$B$79)=ZD10),\"Sí\",\"No\")","v":"No"},{"$f":"+IF(\nAND(ZE13=\"Sí\",WORKDAY.INTL(EOMONTH(ZE10,0)+1,-1,1,Rangos!$B$22:$B$79)=ZE10),\"Sí\",\"No\")","v":"No"},{"$f":"+IF(\nAND(ZF13=\"Sí\",WORKDAY.INTL(EOMONTH(ZF10,0)+1,-1,1,Rangos!$B$22:$B$79)=ZF10),\"Sí\",\"No\")","v":"No"},{"$f":"+IF(\nAND(ZG13=\"Sí\",WORKDAY.INTL(EOMONTH(ZG10,0)+1,-1,1,Rangos!$B$22:$B$79)=ZG10),\"Sí\",\"No\")","v":"Sí"},{"$f":"+IF(\nAND(ZH13=\"Sí\",WORKDAY.INTL(EOMONTH(ZH10,0)+1,-1,1,Rangos!$B$22:$B$79)=ZH10),\"Sí\",\"No\")","v":"No"},{"$f":"+IF(\nAND(ZI13=\"Sí\",WORKDAY.INTL(EOMONTH(ZI10,0)+1,-1,1,Rangos!$B$22:$B$79)=ZI10),\"Sí\",\"No\")","v":"No"},{"$f":"+IF(\nAND(ZJ13=\"Sí\",WORKDAY.INTL(EOMONTH(ZJ10,0)+1,-1,1,Rangos!$B$22:$B$79)=ZJ10),\"Sí\",\"No\")","v":"No"},{"$f":"+IF(\nAND(ZK13=\"Sí\",WORKDAY.INTL(EOMONTH(ZK10,0)+1,-1,1,Rangos!$B$22:$B$79)=ZK10),\"Sí\",\"No\")","v":"No"},{"$f":"+IF(\nAND(ZL13=\"Sí\",WORKDAY.INTL(EOMONTH(ZL10,0)+1,-1,1,Rangos!$B$22:$B$79)=ZL10),\"Sí\",\"No\")","v":"No"},{"$f":"+IF(\nAND(ZM13=\"Sí\",WORKDAY.INTL(EOMONTH(ZM10,0)+1,-1,1,Rangos!$B$22:$B$79)=ZM10),\"Sí\",\"No\")","v":"No"},{"$f":"+IF(\nAND(ZN13=\"Sí\",WORKDAY.INTL(EOMONTH(ZN10,0)+1,-1,1,Rangos!$B$22:$B$79)=ZN10),\"Sí\",\"No\")","v":"No"},{"$f":"+IF(\nAND(ZO13=\"Sí\",WORKDAY.INTL(EOMONTH(ZO10,0)+1,-1,1,Rangos!$B$22:$B$79)=ZO10),\"Sí\",\"No\")","v":"No"},{"$f":"+IF(\nAND(ZP13=\"Sí\",WORKDAY.INTL(EOMONTH(ZP10,0)+1,-1,1,Rangos!$B$22:$B$79)=ZP10),\"Sí\",\"No\")","v":"No"},{"$f":"+IF(\nAND(ZQ13=\"Sí\",WORKDAY.INTL(EOMONTH(ZQ10,0)+1,-1,1,Rangos!$B$22:$B$79)=ZQ10),\"Sí\",\"No\")","v":"No"},{"$f":"+IF(\nAND(ZR13=\"Sí\",WORKDAY.INTL(EOMONTH(ZR10,0)+1,-1,1,Rangos!$B$22:$B$79)=ZR10),\"Sí\",\"No\")","v":"No"},{"$f":"+IF(\nAND(ZS13=\"Sí\",WORKDAY.INTL(EOMONTH(ZS10,0)+1,-1,1,Rangos!$B$22:$B$79)=ZS10),\"Sí\",\"No\")","v":"No"},{"$f":"+IF(\nAND(ZT13=\"Sí\",WORKDAY.INTL(EOMONTH(ZT10,0)+1,-1,1,Rangos!$B$22:$B$79)=ZT10),\"Sí\",\"No\")","v":"No"},{"$f":"+IF(\nAND(ZU13=\"Sí\",WORKDAY.INTL(EOMONTH(ZU10,0)+1,-1,1,Rangos!$B$22:$B$79)=ZU10),\"Sí\",\"No\")","v":"No"},{"$f":"+IF(\nAND(ZV13=\"Sí\",WORKDAY.INTL(EOMONTH(ZV10,0)+1,-1,1,Rangos!$B$22:$B$79)=ZV10),\"Sí\",\"No\")","v":"No"},{"$f":"+IF(\nAND(ZW13=\"Sí\",WORKDAY.INTL(EOMONTH(ZW10,0)+1,-1,1,Rangos!$B$22:$B$79)=ZW10),\"Sí\",\"No\")","v":"No"},{"$f":"+IF(\nAND(ZX13=\"Sí\",WORKDAY.INTL(EOMONTH(ZX10,0)+1,-1,1,Rangos!$B$22:$B$79)=ZX10),\"Sí\",\"No\")","v":"No"},{"$f":"+IF(\nAND(ZY13=\"Sí\",WORKDAY.INTL(EOMONTH(ZY10,0)+1,-1,1,Rangos!$B$22:$B$79)=ZY10),\"Sí\",\"No\")","v":"No"},{"$f":"+IF(\nAND(ZZ13=\"Sí\",WORKDAY.INTL(EOMONTH(ZZ10,0)+1,-1,1,Rangos!$B$22:$B$79)=ZZ10),\"Sí\",\"No\")","v":"No"},{"$f":"+IF(\nAND(AAA13=\"Sí\",WORKDAY.INTL(EOMONTH(AAA10,0)+1,-1,1,Rangos!$B$22:$B$79)=AAA10),\"Sí\",\"No\")","v":"No"},{"$f":"+IF(\nAND(AAB13=\"Sí\",WORKDAY.INTL(EOMONTH(AAB10,0)+1,-1,1,Rangos!$B$22:$B$79)=AAB10),\"Sí\",\"No\")","v":"No"},{"$f":"+IF(\nAND(AAC13=\"Sí\",WORKDAY.INTL(EOMONTH(AAC10,0)+1,-1,1,Rangos!$B$22:$B$79)=AAC10),\"Sí\",\"No\")","v":"No"},{"$f":"+IF(\nAND(AAD13=\"Sí\",WORKDAY.INTL(EOMONTH(AAD10,0)+1,-1,1,Rangos!$B$22:$B$79)=AAD10),\"Sí\",\"No\")","v":"No"},{"$f":"+IF(\nAND(AAE13=\"Sí\",WORKDAY.INTL(EOMONTH(AAE10,0)+1,-1,1,Rangos!$B$22:$B$79)=AAE10),\"Sí\",\"No\")","v":"No"},{"$f":"+IF(\nAND(AAF13=\"Sí\",WORKDAY.INTL(EOMONTH(AAF10,0)+1,-1,1,Rangos!$B$22:$B$79)=AAF10),\"Sí\",\"No\")","v":"No"},{"$f":"+IF(\nAND(AAG13=\"Sí\",WORKDAY.INTL(EOMONTH(AAG10,0)+1,-1,1,Rangos!$B$22:$B$79)=AAG10),\"Sí\",\"No\")","v":"No"},{"$f":"+IF(\nAND(AAH13=\"Sí\",WORKDAY.INTL(EOMONTH(AAH10,0)+1,-1,1,Rangos!$B$22:$B$79)=AAH10),\"Sí\",\"No\")","v":"No"},{"$f":"+IF(\nAND(AAI13=\"Sí\",WORKDAY.INTL(EOMONTH(AAI10,0)+1,-1,1,Rangos!$B$22:$B$79)=AAI10),\"Sí\",\"No\")","v":"No"},{"$f":"+IF(\nAND(AAJ13=\"Sí\",WORKDAY.INTL(EOMONTH(AAJ10,0)+1,-1,1,Rangos!$B$22:$B$79)=AAJ10),\"Sí\",\"No\")","v":"No"},{"$f":"+IF(\nAND(AAK13=\"Sí\",WORKDAY.INTL(EOMONTH(AAK10,0)+1,-1,1,Rangos!$B$22:$B$79)=AAK10),\"Sí\",\"No\")","v":"Sí"},{"$f":"+IF(\nAND(AAL13=\"Sí\",WORKDAY.INTL(EOMONTH(AAL10,0)+1,-1,1,Rangos!$B$22:$B$79)=AAL10),\"Sí\",\"No\")","v":"No"},{"$f":"+IF(\nAND(AAM13=\"Sí\",WORKDAY.INTL(EOMONTH(AAM10,0)+1,-1,1,Rangos!$B$22:$B$79)=AAM10),\"Sí\",\"No\")","v":"No"},{"$f":"+IF(\nAND(AAN13=\"Sí\",WORKDAY.INTL(EOMONTH(AAN10,0)+1,-1,1,Rangos!$B$22:$B$79)=AAN10),\"Sí\",\"No\")","v":"No"},{"$f":"+IF(\nAND(AAO13=\"Sí\",WORKDAY.INTL(EOMONTH(AAO10,0)+1,-1,1,Rangos!$B$22:$B$79)=AAO10),\"Sí\",\"No\")","v":"No"},{"$f":"+IF(\nAND(AAP13=\"Sí\",WORKDAY.INTL(EOMONTH(AAP10,0)+1,-1,1,Rangos!$B$22:$B$79)=AAP10),\"Sí\",\"No\")","v":"No"},{"$f":"+IF(\nAND(AAQ13=\"Sí\",WORKDAY.INTL(EOMONTH(AAQ10,0)+1,-1,1,Rangos!$B$22:$B$79)=AAQ10),\"Sí\",\"No\")","v":"No"},{"$f":"+IF(\nAND(AAR13=\"Sí\",WORKDAY.INTL(EOMONTH(AAR10,0)+1,-1,1,Rangos!$B$22:$B$79)=AAR10),\"Sí\",\"No\")","v":"No"},{"$f":"+IF(\nAND(AAS13=\"Sí\",WORKDAY.INTL(EOMONTH(AAS10,0)+1,-1,1,Rangos!$B$22:$B$79)=AAS10),\"Sí\",\"No\")","v":"No"},{"$f":"+IF(\nAND(AAT13=\"Sí\",WORKDAY.INTL(EOMONTH(AAT10,0)+1,-1,1,Rangos!$B$22:$B$79)=AAT10),\"Sí\",\"No\")","v":"No"},{"$f":"+IF(\nAND(AAU13=\"Sí\",WORKDAY.INTL(EOMONTH(AAU10,0)+1,-1,1,Rangos!$B$22:$B$79)=AAU10),\"Sí\",\"No\")","v":"No"}]
[null,"Día capitalizable",{"$f":"+IF(B14=\"Sí\",\"Sí\",\"No\")","v":"No"},"No","No","No","No","No","No","No","No","No","No","No","Sí","No","No","No","No","No","No","No","No","No","No","No","No","No","No","No","No","No","No","No","No","No","No","No","No","No","No","No","No","Sí","No","No","No","No","No","No","No","No","No","No","No","No","No","No","No","No","No","No","No","No","No","No",{"$f":"+IF(BN14=\"Sí\",\"Sí\",\"No\")","v":"No"},"No","No","No","No","No","No","No","No","Sí","No","No","No","No","No","No","No","No","No","No","No","No","No","No","No","No","No","No","No","No","No","No","No","No","No","No","No","No","No","No","Sí","No","No","No","No","No","No","No","No","No","No","No","No","No","No","No","No","No","No","No","No","No","No","No",{"$f":"+IF(DZ14=\"Sí\",\"Sí\",\"No\")","v":"No"},"No","No","No","Sí","No","No","No","No","No","No","No","No","No","No","No","No","No","No","No","No","No","No","No","No","No","No","No","No","No","No","No","No","No","No","No","Sí","No","No","No","No","No","No","No","No","No","No","No","No","No","No","No","No","No","No","No","No","No","No","No","No","No","No","No",{"$f":"+IF(GL14=\"Sí\",\"Sí\",\"No\")","v":"No"},"No","No","Sí","No","No","No","No","No","No","No","No","No","No","No","No","No","No","No","No","No","No","No","No","No","No","No","No","No","No","No","Sí","No","No","No","No","No","No","No","No","No","No","No","No","No","No","No","No","No","No","No","No","No","No","No","No","No","No","No","No","No","No","No","Sí",{"$f":"+IF(IX14=\"Sí\",\"Sí\",\"No\")","v":"No"},"No","No","No","No","No","No","No","No","No","No","No","No","No","No","No","No","No","No","No","No","No","No","No","No","No","No","No","No","Sí","No","No","No","No","No","No","No","No","No","No","No","No","No","No","No","No","No","No","No","No","No","No","No","No","No","No","No","No","Sí","No","No","No","No","No",{"$f":"+IF(LJ14=\"Sí\",\"Sí\",\"No\")","v":"No"},"No","No","No","No","No","No","No","No","No","No","No","No","No","No","No","No","No","No","No","No","No","No","No","No","No","Sí","No","No","No","No","No","No","No","No","No","No","No","No","No","No","No","No","No","No","No","No","No","No","No","No","No","No","No","No","No","No","Sí","No","No","No","No","No","No",{"$f":"+IF(NV14=\"Sí\",\"Sí\",\"No\")","v":"No"},"No","No","No","No","No","No","No","No","No","No","No","No","No","No","No","No","No","No","No","No","No","No","No","Sí","No","No","No","No","No","No","No","No","No","No","No","No","No","No","No","No","No","No","No","No","No","No","No","No","No","No","No","No","No","Sí","No","No","No","No","No","No","No","No","No",{"$f":"+IF(QH14=\"Sí\",\"Sí\",\"No\")","v":"No"},"No","No","No","No","No","No","No","No","No","No","No","No","No","No","No","No","No","No","No","Sí","No","No","No","No","No","No","No","No","No","No","No","No","No","No","No","No","No","No","No","No","No","No","No","No","No","No","No","No","No","No","Sí","No","No","No","No","No","No","No","No","No","No","No","No",{"$f":"+IF(ST14=\"Sí\",\"Sí\",\"No\")","v":"No"},"No","No","No","No","No","No","No","No","No","No","No","No","No","No","No","No","Sí","No","No","No","No","No","No","No","No","No","No","No","No","No","No","No","No","No","No","No","No","No","No","No","No","No","No","No","No","No","Sí","No","No","No","No","No","No","No","No","No","No","No","No","No","No","No","No",{"$f":"+IF(VF14=\"Sí\",\"Sí\",\"No\")","v":"No"},"No","No","No","No","No","No","No","No","No","No","Sí","No","No","No","No","No","No","No","No","No","No","No","No","No","No","No","No","No","No","No","No","No","No","No","No","No","No","No","No","No","No","No","No","Sí","No","No","No","No","No","No","No","No","No","No","No","No","No","No","No","No","No","No","No",{"$f":"+IF(XR14=\"Sí\",\"Sí\",\"No\")","v":"No"},"No","No","No","No","No","No","No","No","Sí","No","No","No","No","No","No","No","No","No","No","No","No","No","No","No","No","No","No","No","No","No","No","No","No","No","No","No","No","No","No","No","Sí","No","No","No","No","No","No","No","No","No","No","No","No","No","No","No","No","No","No","No","No","No","No",{"$f":"+IF(AAD14=\"Sí\",\"Sí\",\"No\")","v":"No"},"No","No","No","No","No","No","Sí","No","No","No","No","No","No","No","No","No"]
[null,"Día del mes",{"$f":"+DAY(C10)","v":20},21,22,23,24,25,26,27,28,29,30,31,1,2,3,4,5,6,7,8,9,10,11,12,13,14,15,16,17,18,19,20,21,22,23,24,25,26,27,28,29,30,31,1,2,3,4,5,6,7,8,9,10,11,12,13,14,15,16,17,18,19,20,21,{"$f":"+DAY(BO10)","v":22},23,24,25,26,27,28,29,30,1,2,3,4,5,6,7,8,9,10,11,12,13,14,15,16,17,18,19,20,21,22,23,24,25,26,27,28,29,30,31,1,2,3,4,5,6,7,8,9,10,11,12,13,14,15,16,17,18,19,20,21,22,23,24,{"$f":"+DAY(EA10)","v":25},26,27,28,29,30,1,2,3,4,5,6,7,8,9,10,11,12,13,14,15,16,17,18,19,20,21,22,23,24,25,26,27,28,29,30,31,1,2,3,4,5,6,7,8,9,10,11,12,13,14,15,16,17,18,19,20,21,22,23,24,25,26,27,{"$f":"+DAY(GM10)","v":28},29,30,31,1,2,3,4,5,6,7,8,9,10,11,12,13,14,15,16,17,18,19,20,21,22,23,24,25,26,27,28,1,2,3,4,5,6,7,8,9,10,11,12,13,14,15,16,17,18,19,20,21,22,23,24,25,26,27,28,29,30,31,1,{"$f":"+DAY(IY10)","v":2},3,4,5,6,7,8,9,10,11,12,13,14,15,16,17,18,19,20,21,22,23,24,25,26,27,28,29,30,1,2,3,4,5,6,7,8,9,10,11,12,13,14,15,16,17,18,19,20,21,22,23,24,25,26,27,28,29,30,31,1,2,3,4,{"$f":"+DAY(LK10)","v":5},6,7,8,9,10,11,12,13,14,15,16,17,18,19,20,21,22,23,24,25,26,27,28,29,30,1,2,3,4,5,6,7,8,9,10,11,12,13,14,15,16,17,18,19,20,21,22,23,24,25,26,27,28,29,30,31,1,2,3,4,5,6,7,{"$f":"+DAY(NW10)","v":8},9,10,11,12,13,14,15,16,17,18,19,20,21,22,23,24,25,26,27,28,29,30,31,1,2,3,4,5,6,7,8,9,10,11,12,13,14,15,16,17,18,19,20,21,22,23,24,25,26,27,28,29,30,1,2,3,4,5,6,7,8,9,10,{"$f":"+DAY(QI10)","v":11},12,13,14,15,16,17,18,19,20,21,22,23,24,25,26,27,28,29,30,31,1,2,3,4,5,6,7,8,9,10,11,12,13,14,15,16,17,18,19,20,21,22,23,24,25,26,27,28,29,30,1,2,3,4,5,6,7,8,9,10,11,12,13,{"$f":"+DAY(SU10)","v":14},15,16,17,18,19,20,21,22,23,24,25,26,27,28,29,30,31,1,2,3,4,5,6,7,8,9,10,11,12,13,14,15,16,17,18,19,20,21,22,23,24,25,26,27,28,29,30,31,1,2,3,4,5,6,7,8,9,10,11,12,13,14,15,{"$f":"+DAY(VG10)","v":16},17,18,19,20,21,22,23,24,25,26,27,28,1,2,3,4,5,6,7,8,9,10,11,12,13,14,15,16,17,18,19,20,21,22,23,24,25,26,27,28,29,30,31,1,2,3,4,5,6,7,8,9,10,11,12,13,14,15,16,17,18,19,20,{"$f":"+DAY(XS10)","v":21},22,23,24,25,26,27,28,29,30,1,2,3,4,5,6,7,8,9,10,11,12,13,14,15,16,17,18,19,20,21,22,23,24,25,26,27,28,29,30,31,1,2,3,4,5,6,7,8,9,10,11,12,13,14,15,16,17,18,19,20,21,22,23,{"$f":"+DAY(AAE10)","v":24},25,26,27,28,29,30,1,2,3,4,5,6,7,8,9,10]
[null,"Día del periodo",1,2,3,4,5,6,7,8,9,10,11,12,13,14,15,16,17,18,19,20,21,22,23,24,25,26,27,28,29,30,31,32,33,34,35,36,37,38,39,40,41,42,43,44,45,46,47,48,49,50,51,52,53,54,55,56,57,58,59,60,61,62,63,64,65,66,67,68,69,70,71,72,73,74,75,76,77,78,79,80,81,82,83,84,85,86,87,88,89,90,91,92,93,94,95,96,97,98,99,100,101,102,103,104,105,106,107,108,109,110,111,112,113,114,115,116,117,118,119,120,121,122,123,124,125,126,127,128,129,130,131,132,133,134,135,136,137,138,139,140,141,142,143,144,145,146,147,148,149,150,151,152,153,154,155,156,157,158,159,160,161,162,163,164,165,166,167,168,169,170,171,172,173,174,175,176,177,178,179,180,181,182,183,184,185,186,187,188,189,190,191,192,193,194,195,196,197,198,199,200,201,202,203,204,205,206,207,208,209,210,211,212,213,214,215,216,217,218,219,220,221,222,223,224,225,226,227,228,229,230,231,232,233,234,235,236,237,238,239,240,241,242,243,244,245,246,247,248,249,250,251,252,253,254,255,256,257,258,259,260,261,262,263,264,265,266,267,268,269,270,271,272,273,274,275,276,277,278,279,280,281,282,283,284,285,286,287,288,289,290,291,292,293,294,295,296,297,298,299,300,301,302,303,304,305,306,307,308,309,310,311,312,313,314,315,316,317,318,319,320,321,322,323,324,325,326,327,328,329,330,331,332,333,334,335,336,337,338,339,340,341,342,343,344,345,346,347,348,349,350,351,352,353,354,355,356,357,358,359,360,361,362,363,364,365,366,367,368,369,370,371,372,373,374,375,376,377,378,379,380,381,382,383,384,385,386,387,388,389,390,391,392,393,394,395,396,397,398,399,400,401,402,403,404,405,406,407,408,409,410,411,412,413,414,415,416,417,418,419,420,421,422,423,424,425,426,427,428,429,430,431,432,433,434,435,436,437,438,439,440,441,442,443,444,445,446,447,448,449,450,451,452,453,454,455,456,457,458,459,460,461,462,463,464,465,466,467,468,469,470,471,472,473,474,475,476,477,478,479,480,481,482,483,484,485,486,487,488,489,490,491,492,493,494,495,496,497,498,499,500,501,502,503,504,505,506,507,508,509,510,511,512,513,514,515,516,517,518,519,520,521,522,523,524,525,526,527,528,529,530,531,532,533,534,535,536,537,538,539,540,541,542,543,544,545,546,547,548,549,550,551,552,553,554,555,556,557,558,559,560,561,562,563,564,565,566,567,568,569,570,571,572,573,574,575,576,577,578,579,580,581,582,583,584,585,586,587,588,589,590,591,592,593,594,595,596,597,598,599,600,601,602,603,604,605,606,607,608,609,610,611,612,613,614,615,616,617,618,619,620,621,622,623,624,625,626,627,628,629,630,631,632,633,634,635,636,637,638,639,640,641,642,643,644,645,646,647,648,649,650,651,652,653,654,655,656,657,658,659,660,661,662,663,664,665,666,667,668,669,670,671,672,673,674,675,676,677,678,679,680,681,682,683,684,685,686,687,688,689,690,691,692,693,694,695,696,697,698,699,700,701,702,703,704,705,706,707,708,709,710,711,712,713,714,715,716,717,718,719,720,721]
[null,"Día de aporte ajustado",{"$f":"+IF(C10=EOMONTH(C10,0),IF(DAY(C10)=Simulador!$B$27,Simulador!$B$27,C9),DAY(C10))","v":20},{"$f":"+IF(D10=EOMONTH(D10,0),IF(DAY(D10)=Simulador!$B$27,Simulador!$B$27,D9),DAY(D10))","v":21},{"$f":"+IF(E10=EOMONTH(E10,0),IF(DAY(E10)=Simulador!$B$27,Simulador!$B$27,E9),DAY(E10))","v":22},{"$f":"+IF(F10=EOMONTH(F10,0),IF(DAY(F10)=Simulador!$B$27,Simulador!$B$27,F9),DAY(F10))","v":23},{"$f":"+IF(G10=EOMONTH(G10,0),IF(DAY(G10)=Simulador!$B$27,Simulador!$B$27,G9),DAY(G10))","v":24},{"$f":"+IF(H10=EOMONTH(H10,0),IF(DAY(H10)=Simulador!$B$27,Simulador!$B$27,H9),DAY(H10))","v":25},{"$f":"+IF(I10=EOMONTH(I10,0),IF(DAY(I10)=Simulador!$B$27,Simulador!$B$27,I9),DAY(I10))","v":26},{"$f":"+IF(J10=EOMONTH(J10,0),IF(DAY(J10)=Simulador!$B$27,Simulador!$B$27,J9),DAY(J10))","v":27},{"$f":"+IF(K10=EOMONTH(K10,0),IF(DAY(K10)=Simulador!$B$27,Simulador!$B$27,K9),DAY(K10))","v":28},{"$f":"+IF(L10=EOMONTH(L10,0),IF(DAY(L10)=Simulador!$B$27,Simulador!$B$27,L9),DAY(L10))","v":29},{"$f":"+IF(M10=EOMONTH(M10,0),IF(DAY(M10)=Simulador!$B$27,Simulador!$B$27,M9),DAY(M10))","v":30},{"$f":"+IF(N10=EOMONTH(N10,0),IF(DAY(N10)=Simulador!$B$27,Simulador!$B$27,N9),DAY(N10))","v":31},{"$f":"+IF(O10=EOMONTH(O10,0),IF(DAY(O10)=Simulador!$B$27,Simulador!$B$27,O9),DAY(O10))","v":1},{"$f":"+IF(P10=EOMONTH(P10,0),IF(DAY(P10)=Simulador!$B$27,Simulador!$B$27,P9),DAY(P10))","v":2},{"$f":"+IF(Q10=EOMONTH(Q10,0),IF(DAY(Q10)=Simulador!$B$27,Simulador!$B$27,Q9),DAY(Q10))","v":3},{"$f":"+IF(R10=EOMONTH(R10,0),IF(DAY(R10)=Simulador!$B$27,Simulador!$B$27,R9),DAY(R10))","v":4},{"$f":"+IF(S10=EOMONTH(S10,0),IF(DAY(S10)=Simulador!$B$27,Simulador!$B$27,S9),DAY(S10))","v":5},{"$f":"+IF(T10=EOMONTH(T10,0),IF(DAY(T10)=Simulador!$B$27,Simulador!$B$27,T9),DAY(T10))","v":6},{"$f":"+IF(U10=EOMONTH(U10,0),IF(DAY(U10)=Simulador!$B$27,Simulador!$B$27,U9),DAY(U10))","v":7},{"$f":"+IF(V10=EOMONTH(V10,0),IF(DAY(V10)=Simulador!$B$27,Simulador!$B$27,V9),DAY(V10))","v":8},{"$f":"+IF(W10=EOMONTH(W10,0),IF(DAY(W10)=Simulador!$B$27,Simulador!$B$27,W9),DAY(W10))","v":9},{"$f":"+IF(X10=EOMONTH(X10,0),IF(DAY(X10)=Simulador!$B$27,Simulador!$B$27,X9),DAY(X10))","v":10},{"$f":"+IF(Y10=EOMONTH(Y10,0),IF(DAY(Y10)=Simulador!$B$27,Simulador!$B$27,Y9),DAY(Y10))","v":11},{"$f":"+IF(Z10=EOMONTH(Z10,0),IF(DAY(Z10)=Simulador!$B$27,Simulador!$B$27,Z9),DAY(Z10))","v":12},{"$f":"+IF(AA10=EOMONTH(AA10,0),IF(DAY(AA10)=Simulador!$B$27,Simulador!$B$27,AA9),DAY(AA10))","v":13},{"$f":"+IF(AB10=EOMONTH(AB10,0),IF(DAY(AB10)=Simulador!$B$27,Simulador!$B$27,AB9),DAY(AB10))","v":14},{"$f":"+IF(AC10=EOMONTH(AC10,0),IF(DAY(AC10)=Simulador!$B$27,Simulador!$B$27,AC9),DAY(AC10))","v":15},{"$f":"+IF(AD10=EOMONTH(AD10,0),IF(DAY(AD10)=Simulador!$B$27,Simulador!$B$27,AD9),DAY(AD10))","v":16},{"$f":"+IF(AE10=EOMONTH(AE10,0),IF(DAY(AE10)=Simulador!$B$27,Simulador!$B$27,AE9),DAY(AE10))","v":17},{"$f":"+IF(AF10=EOMONTH(AF10,0),IF(DAY(AF10)=Simulador!$B$27,Simulador!$B$27,AF9),DAY(AF10))","v":18},{"$f":"+IF(AG10=EOMONTH(AG10,0),IF(DAY(AG10)=Simulador!$B$27,Simulador!$B$27,AG9),DAY(AG10))","v":19},{"$f":"+IF(AH10=EOMONTH(AH10,0),IF(DAY(AH10)=Simulador!$B$27,Simulador!$B$27,AH9),DAY(AH10))","v":20},{"$f":"+IF(AI10=EOMONTH(AI10,0),IF(DAY(AI10)=Simulador!$B$27,Simulador!$B$27,AI9),DAY(AI10))","v":21},{"$f":"+IF(AJ10=EOMONTH(AJ10,0),IF(DAY(AJ10)=Simulador!$B$27,Simulador!$B$27,AJ9),DAY(AJ10))","v":22},{"$f":"+IF(AK10=EOMONTH(AK10,0),IF(DAY(AK10)=Simulador!$B$27,Simulador!$B$27,AK9),DAY(AK10))","v":23},{"$f":"+IF(AL10=EOMONTH(AL10,0),IF(DAY(AL10)=Simulador!$B$27,Simulador!$B$27,AL9),DAY(AL10))","v":24},{"$f":"+IF(AM10=EOMONTH(AM10,0),IF(DAY(AM10)=Simulador!$B$27,Simulador!$B$27,AM9),DAY(AM10))","v":25},{"$f":"+IF(AN10=EOMONTH(AN10,0),IF(DAY(AN10)=Simulador!$B$27,Simulador!$B$27,AN9),DAY(AN10))","v":26},{"$f":"+IF(AO10=EOMONTH(AO10,0),IF(DAY(AO10)=Simulador!$B$27,Simulador!$B$27,AO9),DAY(AO10))","v":27},{"$f":"+IF(AP10=EOMONTH(AP10,0),IF(DAY(AP10)=Simulador!$B$27,Simulador!$B$27,AP9),DAY(AP10))","v":28},{"$f":"+IF(AQ10=EOMONTH(AQ10,0),IF(DAY(AQ10)=Simulador!$B$27,Simulador!$B$27,AQ9),DAY(AQ10))","v":29},{"$f":"+IF(AR10=EOMONTH(AR10,0),IF(DAY(AR10)=Simulador!$B$27,Simulador!$B$27,AR9),DAY(AR10))","v":30},{"$f":"+IF(AS10=EOMONTH(AS10,0),IF(DAY(AS10)=Simulador!$B$27,Simulador!$B$27,AS9),DAY(AS10))","v":31},{"$f":"+IF(AT10=EOMONTH(AT10,0),IF(DAY(AT10)=Simulador!$B$27,Simulador!$B$27,AT9),DAY(AT10))","v":1},{"$f":"+IF(AU10=EOMONTH(AU10,0),IF(DAY(AU10)=Simulador!$B$27,Simulador!$B$27,AU9),DAY(AU10))","v":2},{"$f":"+IF(AV10=EOMONTH(AV10,0),IF(DAY(AV10)=Simulador!$B$27,Simulador!$B$27,AV9),DAY(AV10))","v":3},{"$f":"+IF(AW10=EOMONTH(AW10,0),IF(DAY(AW10)=Simulador!$B$27,Simulador!$B$27,AW9),DAY(AW10))","v":4},{"$f":"+IF(AX10=EOMONTH(AX10,0),IF(DAY(AX10)=Simulador!$B$27,Simulador!$B$27,AX9),DAY(AX10))","v":5},{"$f":"+IF(AY10=EOMONTH(AY10,0),IF(DAY(AY10)=Simulador!$B$27,Simulador!$B$27,AY9),DAY(AY10))","v":6},{"$f":"+IF(AZ10=EOMONTH(AZ10,0),IF(DAY(AZ10)=Simulador!$B$27,Simulador!$B$27,AZ9),DAY(AZ10))","v":7},{"$f":"+IF(BA10=EOMONTH(BA10,0),IF(DAY(BA10)=Simulador!$B$27,Simulador!$B$27,BA9),DAY(BA10))","v":8},{"$f":"+IF(BB10=EOMONTH(BB10,0),IF(DAY(BB10)=Simulador!$B$27,Simulador!$B$27,BB9),DAY(BB10))","v":9},{"$f":"+IF(BC10=EOMONTH(BC10,0),IF(DAY(BC10)=Simulador!$B$27,Simulador!$B$27,BC9),DAY(BC10))","v":10},{"$f":"+IF(BD10=EOMONTH(BD10,0),IF(DAY(BD10)=Simulador!$B$27,Simulador!$B$27,BD9),DAY(BD10))","v":11},{"$f":"+IF(BE10=EOMONTH(BE10,0),IF(DAY(BE10)=Simulador!$B$27,Simulador!$B$27,BE9),DAY(BE10))","v":12},{"$f":"+IF(BF10=EOMONTH(BF10,0),IF(DAY(BF10)=Simulador!$B$27,Simulador!$B$27,BF9),DAY(BF10))","v":13},{"$f":"+IF(BG10=EOMONTH(BG10,0),IF(DAY(BG10)=Simulador!$B$27,Simulador!$B$27,BG9),DAY(BG10))","v":14},{"$f":"+IF(BH10=EOMONTH(BH10,0),IF(DAY(BH10)=Simulador!$B$27,Simulador!$B$27,BH9),DAY(BH10))","v":15},{"$f":"+IF(BI10=EOMONTH(BI10,0),IF(DAY(BI10)=Simulador!$B$27,Simulador!$B$27,BI9),DAY(BI10))","v":16},{"$f":"+IF(BJ10=EOMONTH(BJ10,0),IF(DAY(BJ10)=Simulador!$B$27,Simulador!$B$27,BJ9),DAY(BJ10))","v":17},{"$f":"+IF(BK10=EOMONTH(BK10,0),IF(DAY(BK10)=Simulador!$B$27,Simulador!$B$27,BK9),DAY(BK10))","v":18},{"$f":"+IF(BL10=EOMONTH(BL10,0),IF(DAY(BL10)=Simulador!$B$27,Simulador!$B$27,BL9),DAY(BL10))","v":19},{"$f":"+IF(BM10=EOMONTH(BM10,0),IF(DAY(BM10)=Simulador!$B$27,Simulador!$B$27,BM9),DAY(BM10))","v":20},{"$f":"+IF(BN10=EOMONTH(BN10,0),IF(DAY(BN10)=Simulador!$B$27,Simulador!$B$27,BN9),DAY(BN10))","v":21},{"$f":"+IF(BO10=EOMONTH(BO10,0),IF(DAY(BO10)=Simulador!$B$27,Simulador!$B$27,BO9),DAY(BO10))","v":22},{"$f":"+IF(BP10=EOMONTH(BP10,0),IF(DAY(BP10)=Simulador!$B$27,Simulador!$B$27,BP9),DAY(BP10))","v":23},{"$f":"+IF(BQ10=EOMONTH(BQ10,0),IF(DAY(BQ10)=Simulador!$B$27,Simulador!$B$27,BQ9),DAY(BQ10))","v":24},{"$f":"+IF(BR10=EOMONTH(BR10,0),IF(DAY(BR10)=Simulador!$B$27,Simulador!$B$27,BR9),DAY(BR10))","v":25},{"$f":"+IF(BS10=EOMONTH(BS10,0),IF(DAY(BS10)=Simulador!$B$27,Simulador!$B$27,BS9),DAY(BS10))","v":26},{"$f":"+IF(BT10=EOMONTH(BT10,0),IF(DAY(BT10)=Simulador!$B$27,Simulador!$B$27,BT9),DAY(BT10))","v":27},{"$f":"+IF(BU10=EOMONTH(BU10,0),IF(DAY(BU10)=Simulador!$B$27,Simulador!$B$27,BU9),DAY(BU10))","v":28},{"$f":"+IF(BV10=EOMONTH(BV10,0),IF(DAY(BV10)=Simulador!$B$27,Simulador!$B$27,BV9),DAY(BV10))","v":29},{"$f":"+IF(BW10=EOMONTH(BW10,0),IF(DAY(BW10)=Simulador!$B$27,Simulador!$B$27,BW9),DAY(BW10))","v":31},{"$f":"+IF(BX10=EOMONTH(BX10,0),IF(DAY(BX10)=Simulador!$B$27,Simulador!$B$27,BX9),DAY(BX10))","v":1},{"$f":"+IF(BY10=EOMONTH(BY10,0),IF(DAY(BY10)=Simulador!$B$27,Simulador!$B$27,BY9),DAY(BY10))","v":2},{"$f":"+IF(BZ10=EOMONTH(BZ10,0),IF(DAY(BZ10)=Simulador!$B$27,Simulador!$B$27,BZ9),DAY(BZ10))","v":3},{"$f":"+IF(CA10=EOMONTH(CA10,0),IF(DAY(CA10)=Simulador!$B$27,Simulador!$B$27,CA9),DAY(CA10))","v":4},{"$f":"+IF(CB10=EOMONTH(CB10,0),IF(DAY(CB10)=Simulador!$B$27,Simulador!$B$27,CB9),DAY(CB10))","v":5},{"$f":"+IF(CC10=EOMONTH(CC10,0),IF(DAY(CC10)=Simulador!$B$27,Simulador!$B$27,CC9),DAY(CC10))","v":6},{"$f":"+IF(CD10=EOMONTH(CD10,0),IF(DAY(CD10)=Simulador!$B$27,Simulador!$B$27,CD9),DAY(CD10))","v":7},{"$f":"+IF(CE10=EOMONTH(CE10,0),IF(DAY(CE10)=Simulador!$B$27,Simulador!$B$27,CE9),DAY(CE10))","v":8},{"$f":"+IF(CF10=EOMONTH(CF10,0),IF(DAY(CF10)=Simulador!$B$27,Simulador!$B$27,CF9),DAY(CF10))","v":9},{"$f":"+IF(CG10=EOMONTH(CG10,0),IF(DAY(CG10)=Simulador!$B$27,Simulador!$B$27,CG9),DAY(CG10))","v":10},{"$f":"+IF(CH10=EOMONTH(CH10,0),IF(DAY(CH10)=Simulador!$B$27,Simulador!$B$27,CH9),DAY(CH10))","v":11},{"$f":"+IF(CI10=EOMONTH(CI10,0),IF(DAY(CI10)=Simulador!$B$27,Simulador!$B$27,CI9),DAY(CI10))","v":12},{"$f":"+IF(CJ10=EOMONTH(CJ10,0),IF(DAY(CJ10)=Simulador!$B$27,Simulador!$B$27,CJ9),DAY(CJ10))","v":13},{"$f":"+IF(CK10=EOMONTH(CK10,0),IF(DAY(CK10)=Simulador!$B$27,Simulador!$B$27,CK9),DAY(CK10))","v":14},{"$f":"+IF(CL10=EOMONTH(CL10,0),IF(DAY(CL10)=Simulador!$B$27,Simulador!$B$27,CL9),DAY(CL10))","v":15},{"$f":"+IF(CM10=EOMONTH(CM10,0),IF(DAY(CM10)=Simulador!$B$27,Simulador!$B$27,CM9),DAY(CM10))","v":16},{"$f":"+IF(CN10=EOMONTH(CN10,0),IF(DAY(CN10)=Simulador!$B$27,Simulador!$B$27,CN9),DAY(CN10))","v":17},{"$f":"+IF(CO10=EOMONTH(CO10,0),IF(DAY(CO10)=Simulador!$B$27,Simulador!$B$27,CO9),DAY(CO10))","v":18},{"$f":"+IF(CP10=EOMONTH(CP10,0),IF(DAY(CP10)=Simulador!$B$27,Simulador!$B$27,CP9),DAY(CP10))","v":19},{"$f":"+IF(CQ10=EOMONTH(CQ10,0),IF(DAY(CQ10)=Simulador!$B$27,Simulador!$B$27,CQ9),DAY(CQ10))","v":20},{"$f":"+IF(CR10=EOMONTH(CR10,0),IF(DAY(CR10)=Simulador!$B$27,Simulador!$B$27,CR9),DAY(CR10))","v":21},{"$f":"+IF(CS10=EOMONTH(CS10,0),IF(DAY(CS10)=Simulador!$B$27,Simulador!$B$27,CS9),DAY(CS10))","v":22},{"$f":"+IF(CT10=EOMONTH(CT10,0),IF(DAY(CT10)=Simulador!$B$27,Simulador!$B$27,CT9),DAY(CT10))","v":23},{"$f":"+IF(CU10=EOMONTH(CU10,0),IF(DAY(CU10)=Simulador!$B$27,Simulador!$B$27,CU9),DAY(CU10))","v":24},{"$f":"+IF(CV10=EOMONTH(CV10,0),IF(DAY(CV10)=Simulador!$B$27,Simulador!$B$27,CV9),DAY(CV10))","v":25},{"$f":"+IF(CW10=EOMONTH(CW10,0),IF(DAY(CW10)=Simulador!$B$27,Simulador!$B$27,CW9),DAY(CW10))","v":26},{"$f":"+IF(CX10=EOMONTH(CX10,0),IF(DAY(CX10)=Simulador!$B$27,Simulador!$B$27,CX9),DAY(CX10))","v":27},{"$f":"+IF(CY10=EOMONTH(CY10,0),IF(DAY(CY10)=Simulador!$B$27,Simulador!$B$27,CY9),DAY(CY10))","v":28},{"$f":"+IF(CZ10=EOMONTH(CZ10,0),IF(DAY(CZ10)=Simulador!$B$27,Simulador!$B$27,CZ9),DAY(CZ10))","v":29},{"$f":"+IF(DA10=EOMONTH(DA10,0),IF(DAY(DA10)=Simulador!$B$27,Simulador!$B$27,DA9),DAY(DA10))","v":30},{"$f":"+IF(DB10=EOMONTH(DB10,0),IF(DAY(DB10)=Simulador!$B$27,Simulador!$B$27,DB9),DAY(DB10))","v":31},{"$f":"+IF(DC10=EOMONTH(DC10,0),IF(DAY(DC10)=Simulador!$B$27,Simulador!$B$27,DC9),DAY(DC10))","v":1},{"$f":"+IF(DD10=EOMONTH(DD10,0),IF(DAY(DD10)=Simulador!$B$27,Simulador!$B$27,DD9),DAY(DD10))","v":2},{"$f":"+IF(DE10=EOMONTH(DE10,0),IF(DAY(DE10)=Simulador!$B$27,Simulador!$B$27,DE9),DAY(DE10))","v":3},{"$f":"+IF(DF10=EOMONTH(DF10,0),IF(DAY(DF10)=Simulador!$B$27,Simulador!$B$27,DF9),DAY(DF10))","v":4},{"$f":"+IF(DG10=EOMONTH(DG10,0),IF(DAY(DG10)=Simulador!$B$27,Simulador!$B$27,DG9),DAY(DG10))","v":5},{"$f":"+IF(DH10=EOMONTH(DH10,0),IF(DAY(DH10)=Simulador!$B$27,Simulador!$B$27,DH9),DAY(DH10))","v":6},{"$f":"+IF(DI10=EOMONTH(DI10,0),IF(DAY(DI10)=Simulador!$B$27,Simulador!$B$27,DI9),DAY(DI10))","v":7},{"$f":"+IF(DJ10=EOMONTH(DJ10,0),IF(DAY(DJ10)=Simulador!$B$27,Simulador!$B$27,DJ9),DAY(DJ10))","v":8},{"$f":"+IF(DK10=EOMONTH(DK10,0),IF(DAY(DK10)=Simulador!$B$27,Simulador!$B$27,DK9),DAY(DK10))","v":9},{"$f":"+IF(DL10=EOMONTH(DL10,0),IF(DAY(DL10)=Simulador!$B$27,Simulador!$B$27,DL9),DAY(DL10))","v":10},{"$f":"+IF(DM10=EOMONTH(DM10,0),IF(DAY(DM10)=Simulador!$B$27,Simulador!$B$27,DM9),DAY(DM10))","v":11},{"$f":"+IF(DN10=EOMONTH(DN10,0),IF(DAY(DN10)=Simulador!$B$27,Simulador!$B$27,DN9),DAY(DN10))","v":12},{"$f":"+IF(DO10=EOMONTH(DO10,0),IF(DAY(DO10)=Simulador!$B$27,Simulador!$B$27,DO9),DAY(DO10))","v":13},{"$f":"+IF(DP10=EOMONTH(DP10,0),IF(DAY(DP10)=Simulador!$B$27,Simulador!$B$27,DP9),DAY(DP10))","v":14},{"$f":"+IF(DQ10=EOMONTH(DQ10,0),IF(DAY(DQ10)=Simulador!$B$27,Simulador!$B$27,DQ9),DAY(DQ10))","v":15},{"$f":"+IF(DR10=EOMONTH(DR10,0),IF(DAY(DR10)=Simulador!$B$27,Simulador!$B$27,DR9),DAY(DR10))","v":16},{"$f":"+IF(DS10=EOMONTH(DS10,0),IF(DAY(DS10)=Simulador!$B$27,Simulador!$B$27,DS9),DAY(DS10))","v":17},{"$f":"+IF(DT10=EOMONTH(DT10,0),IF(DAY(DT10)=Simulador!$B$27,Simulador!$B$27,DT9),DAY(DT10))","v":18},{"$f":"+IF(DU10=EOMONTH(DU10,0),IF(DAY(DU10)=Simulador!$B$27,Simulador!$B$27,DU9),DAY(DU10))","v":19},{"$f":"+IF(DV10=EOMONTH(DV10,0),IF(DAY(DV10)=Simulador!$B$27,Simulador!$B$27,DV9),DAY(DV10))","v":20},{"$f":"+IF(DW10=EOMONTH(DW10,0),IF(DAY(DW10)=Simulador!$B$27,Simulador!$B$27,DW9),DAY(DW10))","v":21},{"$f":"+IF(DX10=EOMONTH(DX10,0),IF(DAY(DX10)=Simulador!$B$27,Simulador!$B$27,DX9),DAY(DX10))","v":22},{"$f":"+IF(DY10=EOMONTH(DY10,0),IF(DAY(DY10)=Simulador!$B$27,Simulador!$B$27,DY9),DAY(DY10))","v":23},{"$f":"+IF(DZ10=EOMONTH(DZ10,0),IF(DAY(DZ10)=Simulador!$B$27,Simulador!$B$27,DZ9),DAY(DZ10))","v":24},{"$f":"+IF(EA10=EOMONTH(EA10,0),IF(DAY(EA10)=Simulador!$B$27,Simulador!$B$27,EA9),DAY(EA10))","v":25},{"$f":"+IF(EB10=EOMONTH(EB10,0),IF(DAY(EB10)=Simulador!$B$27,Simulador!$B$27,EB9),DAY(EB10))","v":26},{"$f":"+IF(EC10=EOMONTH(EC10,0),IF(DAY(EC10)=Simulador!$B$27,Simulador!$B$27,EC9),DAY(EC10))","v":27},{"$f":"+IF(ED10=EOMONTH(ED10,0),IF(DAY(ED10)=Simulador!$B$27,Simulador!$B$27,ED9),DAY(ED10))","v":28},{"$f":"+IF(EE10=EOMONTH(EE10,0),IF(DAY(EE10)=Simulador!$B$27,Simulador!$B$27,EE9),DAY(EE10))","v":29},{"$f":"+IF(EF10=EOMONTH(EF10,0),IF(DAY(EF10)=Simulador!$B$27,Simulador!$B$27,EF9),DAY(EF10))","v":31},{"$f":"+IF(EG10=EOMONTH(EG10,0),IF(DAY(EG10)=Simulador!$B$27,Simulador!$B$27,EG9),DAY(EG10))","v":1},{"$f":"+IF(EH10=EOMONTH(EH10,0),IF(DAY(EH10)=Simulador!$B$27,Simulador!$B$27,EH9),DAY(EH10))","v":2},{"$f":"+IF(EI10=EOMONTH(EI10,0),IF(DAY(EI10)=Simulador!$B$27,Simulador!$B$27,EI9),DAY(EI10))","v":3},{"$f":"+IF(EJ10=EOMONTH(EJ10,0),IF(DAY(EJ10)=Simulador!$B$27,Simulador!$B$27,EJ9),DAY(EJ10))","v":4},{"$f":"+IF(EK10=EOMONTH(EK10,0),IF(DAY(EK10)=Simulador!$B$27,Simulador!$B$27,EK9),DAY(EK10))","v":5},{"$f":"+IF(EL10=EOMONTH(EL10,0),IF(DAY(EL10)=Simulador!$B$27,Simulador!$B$27,EL9),DAY(EL10))","v":6},{"$f":"+IF(EM10=EOMONTH(EM10,0),IF(DAY(EM10)=Simulador!$B$27,Simulador!$B$27,EM9),DAY(EM10))","v":7},{"$f":"+IF(EN10=EOMONTH(EN10,0),IF(DAY(EN10)=Simulador!$B$27,Simulador!$B$27,EN9),DAY(EN10))","v":8},{"$f":"+IF(EO10=EOMONTH(EO10,0),IF(DAY(EO10)=Simulador!$B$27,Simulador!$B$27,EO9),DAY(EO10))","v":9},{"$f":"+IF(EP10=EOMONTH(EP10,0),IF(DAY(EP10)=Simulador!$B$27,Simulador!$B$27,EP9),DAY(EP10))","v":10},{"$f":"+IF(EQ10=EOMONTH(EQ10,0),IF(DAY(EQ10)=Simulador!$B$27,Simulador!$B$27,EQ9),DAY(EQ10))","v":11},{"$f":"+IF(ER10=EOMONTH(ER10,0),IF(DAY(ER10)=Simulador!$B$27,Simulador!$B$27,ER9),DAY(ER10))","v":12},{"$f":"+IF(ES10=EOMONTH(ES10,0),IF(DAY(ES10)=Simulador!$B$27,Simulador!$B$27,ES9),DAY(ES10))","v":13},{"$f":"+IF(ET10=EOMONTH(ET10,0),IF(DAY(ET10)=Simulador!$B$27,Simulador!$B$27,ET9),DAY(ET10))","v":14},{"$f":"+IF(EU10=EOMONTH(EU10,0),IF(DAY(EU10)=Simulador!$B$27,Simulador!$B$27,EU9),DAY(EU10))","v":15},{"$f":"+IF(EV10=EOMONTH(EV10,0),IF(DAY(EV10)=Simulador!$B$27,Simulador!$B$27,EV9),DAY(EV10))","v":16},{"$f":"+IF(EW10=EOMONTH(EW10,0),IF(DAY(EW10)=Simulador!$B$27,Simulador!$B$27,EW9),DAY(EW10))","v":17},{"$f":"+IF(EX10=EOMONTH(EX10,0),IF(DAY(EX10)=Simulador!$B$27,Simulador!$B$27,EX9),DAY(EX10))","v":18},{"$f":"+IF(EY10=EOMONTH(EY10,0),IF(DAY(EY10)=Simulador!$B$27,Simulador!$B$27,EY9),DAY(EY10))","v":19},{"$f":"+IF(EZ10=EOMONTH(EZ10,0),IF(DAY(EZ10)=Simulador!$B$27,Simulador!$B$27,EZ9),DAY(EZ10))","v":20},{"$f":"+IF(FA10=EOMONTH(FA10,0),IF(DAY(FA10)=Simulador!$B$27,Simulador!$B$27,FA9),DAY(FA10))","v":21},{"$f":"+IF(FB10=EOMONTH(FB10,0),IF(DAY(FB10)=Simulador!$B$27,Simulador!$B$27,FB9),DAY(FB10))","v":22},{"$f":"+IF(FC10=EOMONTH(FC10,0),IF(DAY(FC10)=Simulador!$B$27,Simulador!$B$27,FC9),DAY(FC10))","v":23},{"$f":"+IF(FD10=EOMONTH(FD10,0),IF(DAY(FD10)=Simulador!$B$27,Simulador!$B$27,FD9),DAY(FD10))","v":24},{"$f":"+IF(FE10=EOMONTH(FE10,0),IF(DAY(FE10)=Simulador!$B$27,Simulador!$B$27,FE9),DAY(FE10))","v":25},{"$f":"+IF(FF10=EOMONTH(FF10,0),IF(DAY(FF10)=Simulador!$B$27,Simulador!$B$27,FF9),DAY(FF10))","v":26},{"$f":"+IF(FG10=EOMONTH(FG10,0),IF(DAY(FG10)=Simulador!$B$27,Simulador!$B$27,FG9),DAY(FG10))","v":27},{"$f":"+IF(FH10=EOMONTH(FH10,0),IF(DAY(FH10)=Simulador!$B$27,Simulador!$B$27,FH9),DAY(FH10))","v":28},{"$f":"+IF(FI10=EOMONTH(FI10,0),IF(DAY(FI10)=Simulador!$B$27,Simulador!$B$27,FI9),DAY(FI10))","v":29},{"$f":"+IF(FJ10=EOMONTH(FJ10,0),IF(DAY(FJ10)=Simulador!$B$27,Simulador!$B$27,FJ9),DAY(FJ10))","v":30},{"$f":"+IF(FK10=EOMONTH(FK10,0),IF(DAY(FK10)=Simulador!$B$27,Simulador!$B$27,FK9),DAY(FK10))","v":31},{"$f":"+IF(FL10=EOMONTH(FL10,0),IF(DAY(FL10)=Simulador!$B$27,Simulador!$B$27,FL9),DAY(FL10))","v":1},{"$f":"+IF(FM10=EOMONTH(FM10,0),IF(DAY(FM10)=Simulador!$B$27,Simulador!$B$27,FM9),DAY(FM10))","v":2},{"$f":"+IF(FN10=EOMONTH(FN10,0),IF(DAY(FN10)=Simulador!$B$27,Simulador!$B$27,FN9),DAY(FN10))","v":3},{"$f":"+IF(FO10=EOMONTH(FO10,0),IF(DAY(FO10)=Simulador!$B$27,Simulador!$B$27,FO9),DAY(FO10))","v":4},{"$f":"+IF(FP10=EOMONTH(FP10,0),IF(DAY(FP10)=Simulador!$B$27,Simulador!$B$27,FP9),DAY(FP10))","v":5},{"$f":"+IF(FQ10=EOMONTH(FQ10,0),IF(DAY(FQ10)=Simulador!$B$27,Simulador!$B$27,FQ9),DAY(FQ10))","v":6},{"$f":"+IF(FR10=EOMONTH(FR10,0),IF(DAY(FR10)=Simulador!$B$27,Simulador!$B$27,FR9),DAY(FR10))","v":7},{"$f":"+IF(FS10=EOMONTH(FS10,0),IF(DAY(FS10)=Simulador!$B$27,Simulador!$B$27,FS9),DAY(FS10))","v":8},{"$f":"+IF(FT10=EOMONTH(FT10,0),IF(DAY(FT10)=Simulador!$B$27,Simulador!$B$27,FT9),DAY(FT10))","v":9},{"$f":"+IF(FU10=EOMONTH(FU10,0),IF(DAY(FU10)=Simulador!$B$27,Simulador!$B$27,FU9),DAY(FU10))","v":10},{"$f":"+IF(FV10=EOMONTH(FV10,0),IF(DAY(FV10)=Simulador!$B$27,Simulador!$B$27,FV9),DAY(FV10))","v":11},{"$f":"+IF(FW10=EOMONTH(FW10,0),IF(DAY(FW10)=Simulador!$B$27,Simulador!$B$27,FW9),DAY(FW10))","v":12},{"$f":"+IF(FX10=EOMONTH(FX10,0),IF(DAY(FX10)=Simulador!$B$27,Simulador!$B$27,FX9),DAY(FX10))","v":13},{"$f":"+IF(FY10=EOMONTH(FY10,0),IF(DAY(FY10)=Simulador!$B$27,Simulador!$B$27,FY9),DAY(FY10))","v":14},{"$f":"+IF(FZ10=EOMONTH(FZ10,0),IF(DAY(FZ10)=Simulador!$B$27,Simulador!$B$27,FZ9),DAY(FZ10))","v":15},{"$f":"+IF(GA10=EOMONTH(GA10,0),IF(DAY(GA10)=Simulador!$B$27,Simulador!$B$27,GA9),DAY(GA10))","v":16},{"$f":"+IF(GB10=EOMONTH(GB10,0),IF(DAY(GB10)=Simulador!$B$27,Simulador!$B$27,GB9),DAY(GB10))","v":17},{"$f":"+IF(GC10=EOMONTH(GC10,0),IF(DAY(GC10)=Simulador!$B$27,Simulador!$B$27,GC9),DAY(GC10))","v":18},{"$f":"+IF(GD10=EOMONTH(GD10,0),IF(DAY(GD10)=Simulador!$B$27,Simulador!$B$27,GD9),DAY(GD10))","v":19},{"$f":"+IF(GE10=EOMONTH(GE10,0),IF(DAY(GE10)=Simulador!$B$27,Simulador!$B$27,GE9),DAY(GE10))","v":20},{"$f":"+IF(GF10=EOMONTH(GF10,0),IF(DAY(GF10)=Simulador!$B$27,Simulador!$B$27,GF9),DAY(GF10))","v":21},{"$f":"+IF(GG10=EOMONTH(GG10,0),IF(DAY(GG10)=Simulador!$B$27,Simulador!$B$27,GG9),DAY(GG10))","v":22},{"$f":"+IF(GH10=EOMONTH(GH10,0),IF(DAY(GH10)=Simulador!$B$27,Simulador!$B$27,GH9),DAY(GH10))","v":23},{"$f":"+IF(GI10=EOMONTH(GI10,0),IF(DAY(GI10)=Simulador!$B$27,Simulador!$B$27,GI9),DAY(GI10))","v":24},{"$f":"+IF(GJ10=EOMONTH(GJ10,0),IF(DAY(GJ10)=Simulador!$B$27,Simulador!$B$27,GJ9),DAY(GJ10))","v":25},{"$f":"+IF(GK10=EOMONTH(GK10,0),IF(DAY(GK10)=Simulador!$B$27,Simulador!$B$27,GK9),DAY(GK10))","v":26},{"$f":"+IF(GL10=EOMONTH(GL10,0),IF(DAY(GL10)=Simulador!$B$27,Simulador!$B$27,GL9),DAY(GL10))","v":27},{"$f":"+IF(GM10=EOMONTH(GM10,0),IF(DAY(GM10)=Simulador!$B$27,Simulador!$B$27,GM9),DAY(GM10))","v":28},{"$f":"+IF(GN10=EOMONTH(GN10,0),IF(DAY(GN10)=Simulador!$B$27,Simulador!$B$27,GN9),DAY(GN10))","v":29},{"$f":"+IF(GO10=EOMONTH(GO10,0),IF(DAY(GO10)=Simulador!$B$27,Simulador!$B$27,GO9),DAY(GO10))","v":30},{"$f":"+IF(GP10=EOMONTH(GP10,0),IF(DAY(GP10)=Simulador!$B$27,Simulador!$B$27,GP9),DAY(GP10))","v":31},{"$f":"+IF(GQ10=EOMONTH(GQ10,0),IF(DAY(GQ10)=Simulador!$B$27,Simulador!$B$27,GQ9),DAY(GQ10))","v":1},{"$f":"+IF(GR10=EOMONTH(GR10,0),IF(DAY(GR10)=Simulador!$B$27,Simulador!$B$27,GR9),DAY(GR10))","v":2},{"$f":"+IF(GS10=EOMONTH(GS10,0),IF(DAY(GS10)=Simulador!$B$27,Simulador!$B$27,GS9),DAY(GS10))","v":3},{"$f":"+IF(GT10=EOMONTH(GT10,0),IF(DAY(GT10)=Simulador!$B$27,Simulador!$B$27,GT9),DAY(GT10))","v":4},{"$f":"+IF(GU10=EOMONTH(GU10,0),IF(DAY(GU10)=Simulador!$B$27,Simulador!$B$27,GU9),DAY(GU10))","v":5},{"$f":"+IF(GV10=EOMONTH(GV10,0),IF(DAY(GV10)=Simulador!$B$27,Simulador!$B$27,GV9),DAY(GV10))","v":6},{"$f":"+IF(GW10=EOMONTH(GW10,0),IF(DAY(GW10)=Simulador!$B$27,Simulador!$B$27,GW9),DAY(GW10))","v":7},{"$f":"+IF(GX10=EOMONTH(GX10,0),IF(DAY(GX10)=Simulador!$B$27,Simulador!$B$27,GX9),DAY(GX10))","v":8},{"$f":"+IF(GY10=EOMONTH(GY10,0),IF(DAY(GY10)=Simulador!$B$27,Simulador!$B$27,GY9),DAY(GY10))","v":9},{"$f":"+IF(GZ10=EOMONTH(GZ10,0),IF(DAY(GZ10)=Simulador!$B$27,Simulador!$B$27,GZ9),DAY(GZ10))","v":10},{"$f":"+IF(HA10=EOMONTH(HA10,0),IF(DAY(HA10)=Simulador!$B$27,Simulador!$B$27,HA9),DAY(HA10))","v":11},{"$f":"+IF(HB10=EOMONTH(HB10,0),IF(DAY(HB10)=Simulador!$B$27,Simulador!$B$27,HB9),DAY(HB10))","v":12},{"$f":"+IF(HC10=EOMONTH(HC10,0),IF(DAY(HC10)=Simulador!$B$27,Simulador!$B$27,HC9),DAY(HC10))","v":13},{"$f":"+IF(HD10=EOMONTH(HD10,0),IF(DAY(HD10)=Simulador!$B$27,Simulador!$B$27,HD9),DAY(HD10))","v":14},{"$f":"+IF(HE10=EOMONTH(HE10,0),IF(DAY(HE10)=Simulador!$B$27,Simulador!$B$27,HE9),DAY(HE10))","v":15},{"$f":"+IF(HF10=EOMONTH(HF10,0),IF(DAY(HF10)=Simulador!$B$27,Simulador!$B$27,HF9),DAY(HF10))","v":16},{"$f":"+IF(HG10=EOMONTH(HG10,0),IF(DAY(HG10)=Simulador!$B$27,Simulador!$B$27,HG9),DAY(HG10))","v":17},{"$f":"+IF(HH10=EOMONTH(HH10,0),IF(DAY(HH10)=Simulador!$B$27,Simulador!$B$27,HH9),DAY(HH10))","v":18},{"$f":"+IF(HI10=EOMONTH(HI10,0),IF(DAY(HI10)=Simulador!$B$27,Simulador!$B$27,HI9),DAY(HI10))","v":19},{"$f":"+IF(HJ10=EOMONTH(HJ10,0),IF(DAY(HJ10)=Simulador!$B$27,Simulador!$B$27,HJ9),DAY(HJ10))","v":20},{"$f":"+IF(HK10=EOMONTH(HK10,0),IF(DAY(HK10)=Simulador!$B$27,Simulador!$B$27,HK9),DAY(HK10))","v":21},{"$f":"+IF(HL10=EOMONTH(HL10,0),IF(DAY(HL10)=Simulador!$B$27,Simulador!$B$27,HL9),DAY(HL10))","v":22},{"$f":"+IF(HM10=EOMONTH(HM10,0),IF(DAY(HM10)=Simulador!$B$27,Simulador!$B$27,HM9),DAY(HM10))","v":23},{"$f":"+IF(HN10=EOMONTH(HN10,0),IF(DAY(HN10)=Simulador!$B$27,Simulador!$B$27,HN9),DAY(HN10))","v":24},{"$f":"+IF(HO10=EOMONTH(HO10,0),IF(DAY(HO10)=Simulador!$B$27,Simulador!$B$27,HO9),DAY(HO10))","v":25},{"$f":"+IF(HP10=EOMONTH(HP10,0),IF(DAY(HP10)=Simulador!$B$27,Simulador!$B$27,HP9),DAY(HP10))","v":26},{"$f":"+IF(HQ10=EOMONTH(HQ10,0),IF(DAY(HQ10)=Simulador!$B$27,Simulador!$B$27,HQ9),DAY(HQ10))","v":27},{"$f":"+IF(HR10=EOMONTH(HR10,0),IF(DAY(HR10)=Simulador!$B$27,Simulador!$B$27,HR9),DAY(HR10))","v":31},{"$f":"+IF(HS10=EOMONTH(HS10,0),IF(DAY(HS10)=Simulador!$B$27,Simulador!$B$27,HS9),DAY(HS10))","v":1},{"$f":"+IF(HT10=EOMONTH(HT10,0),IF(DAY(HT10)=Simulador!$B$27,Simulador!$B$27,HT9),DAY(HT10))","v":2},{"$f":"+IF(HU10=EOMONTH(HU10,0),IF(DAY(HU10)=Simulador!$B$27,Simulador!$B$27,HU9),DAY(HU10))","v":3},{"$f":"+IF(HV10=EOMONTH(HV10,0),IF(DAY(HV10)=Simulador!$B$27,Simulador!$B$27,HV9),DAY(HV10))","v":4},{"$f":"+IF(HW10=EOMONTH(HW10,0),IF(DAY(HW10)=Simulador!$B$27,Simulador!$B$27,HW9),DAY(HW10))","v":5},{"$f":"+IF(HX10=EOMONTH(HX10,0),IF(DAY(HX10)=Simulador!$B$27,Simulador!$B$27,HX9),DAY(HX10))","v":6},{"$f":"+IF(HY10=EOMONTH(HY10,0),IF(DAY(HY10)=Simulador!$B$27,Simulador!$B$27,HY9),DAY(HY10))","v":7},{"$f":"+IF(HZ10=EOMONTH(HZ10,0),IF(DAY(HZ10)=Simulador!$B$27,Simulador!$B$27,HZ9),DAY(HZ10))","v":8},{"$f":"+IF(IA10=EOMONTH(IA10,0),IF(DAY(IA10)=Simulador!$B$27,Simulador!$B$27,IA9),DAY(IA10))","v":9},{"$f":"+IF(IB10=EOMONTH(IB10,0),IF(DAY(IB10)=Simulador!$B$27,Simulador!$B$27,IB9),DAY(IB10))","v":10},{"$f":"+IF(IC10=EOMONTH(IC10,0),IF(DAY(IC10)=Simulador!$B$27,Simulador!$B$27,IC9),DAY(IC10))","v":11},{"$f":"+IF(ID10=EOMONTH(ID10,0),IF(DAY(ID10)=Simulador!$B$27,Simulador!$B$27,ID9),DAY(ID10))","v":12},{"$f":"+IF(IE10=EOMONTH(IE10,0),IF(DAY(IE10)=Simulador!$B$27,Simulador!$B$27,IE9),DAY(IE10))","v":13},{"$f":"+IF(IF10=EOMONTH(IF10,0),IF(DAY(IF10)=Simulador!$B$27,Simulador!$B$27,IF9),DAY(IF10))","v":14},{"$f":"+IF(IG10=EOMONTH(IG10,0),IF(DAY(IG10)=Simulador!$B$27,Simulador!$B$27,IG9),DAY(IG10))","v":15},{"$f":"+IF(IH10=EOMONTH(IH10,0),IF(DAY(IH10)=Simulador!$B$27,Simulador!$B$27,IH9),DAY(IH10))","v":16},{"$f":"+IF(II10=EOMONTH(II10,0),IF(DAY(II10)=Simulador!$B$27,Simulador!$B$27,II9),DAY(II10))","v":17},{"$f":"+IF(IJ10=EOMONTH(IJ10,0),IF(DAY(IJ10)=Simulador!$B$27,Simulador!$B$27,IJ9),DAY(IJ10))","v":18},{"$f":"+IF(IK10=EOMONTH(IK10,0),IF(DAY(IK10)=Simulador!$B$27,Simulador!$B$27,IK9),DAY(IK10))","v":19},{"$f":"+IF(IL10=EOMONTH(IL10,0),IF(DAY(IL10)=Simulador!$B$27,Simulador!$B$27,IL9),DAY(IL10))","v":20},{"$f":"+IF(IM10=EOMONTH(IM10,0),IF(DAY(IM10)=Simulador!$B$27,Simulador!$B$27,IM9),DAY(IM10))","v":21},{"$f":"+IF(IN10=EOMONTH(IN10,0),IF(DAY(IN10)=Simulador!$B$27,Simulador!$B$27,IN9),DAY(IN10))","v":22},{"$f":"+IF(IO10=EOMONTH(IO10,0),IF(DAY(IO10)=Simulador!$B$27,Simulador!$B$27,IO9),DAY(IO10))","v":23},{"$f":"+IF(IP10=EOMONTH(IP10,0),IF(DAY(IP10)=Simulador!$B$27,Simulador!$B$27,IP9),DAY(IP10))","v":24},{"$f":"+IF(IQ10=EOMONTH(IQ10,0),IF(DAY(IQ10)=Simulador!$B$27,Simulador!$B$27,IQ9),DAY(IQ10))","v":25},{"$f":"+IF(IR10=EOMONTH(IR10,0),IF(DAY(IR10)=Simulador!$B$27,Simulador!$B$27,IR9),DAY(IR10))","v":26},{"$f":"+IF(IS10=EOMONTH(IS10,0),IF(DAY(IS10)=Simulador!$B$27,Simulador!$B$27,IS9),DAY(IS10))","v":27},{"$f":"+IF(IT10=EOMONTH(IT10,0),IF(DAY(IT10)=Simulador!$B$27,Simulador!$B$27,IT9),DAY(IT10))","v":28},{"$f":"+IF(IU10=EOMONTH(IU10,0),IF(DAY(IU10)=Simulador!$B$27,Simulador!$B$27,IU9),DAY(IU10))","v":29},{"$f":"+IF(IV10=EOMONTH(IV10,0),IF(DAY(IV10)=Simulador!$B$27,Simulador!$B$27,IV9),DAY(IV10))","v":30},{"$f":"+IF(IW10=EOMONTH(IW10,0),IF(DAY(IW10)=Simulador!$B$27,Simulador!$B$27,IW9),DAY(IW10))","v":31},{"$f":"+IF(IX10=EOMONTH(IX10,0),IF(DAY(IX10)=Simulador!$B$27,Simulador!$B$27,IX9),DAY(IX10))","v":1},{"$f":"+IF(IY10=EOMONTH(IY10,0),IF(DAY(IY10)=Simulador!$B$27,Simulador!$B$27,IY9),DAY(IY10))","v":2},{"$f":"+IF(IZ10=EOMONTH(IZ10,0),IF(DAY(IZ10)=Simulador!$B$27,Simulador!$B$27,IZ9),DAY(IZ10))","v":3},{"$f":"+IF(JA10=EOMONTH(JA10,0),IF(DAY(JA10)=Simulador!$B$27,Simulador!$B$27,JA9),DAY(JA10))","v":4},{"$f":"+IF(JB10=EOMONTH(JB10,0),IF(DAY(JB10)=Simulador!$B$27,Simulador!$B$27,JB9),DAY(JB10))","v":5},{"$f":"+IF(JC10=EOMONTH(JC10,0),IF(DAY(JC10)=Simulador!$B$27,Simulador!$B$27,JC9),DAY(JC10))","v":6},{"$f":"+IF(JD10=EOMONTH(JD10,0),IF(DAY(JD10)=Simulador!$B$27,Simulador!$B$27,JD9),DAY(JD10))","v":7},{"$f":"+IF(JE10=EOMONTH(JE10,0),IF(DAY(JE10)=Simulador!$B$27,Simulador!$B$27,JE9),DAY(JE10))","v":8},{"$f":"+IF(JF10=EOMONTH(JF10,0),IF(DAY(JF10)=Simulador!$B$27,Simulador!$B$27,JF9),DAY(JF10))","v":9},{"$f":"+IF(JG10=EOMONTH(JG10,0),IF(DAY(JG10)=Simulador!$B$27,Simulador!$B$27,JG9),DAY(JG10))","v":10},{"$f":"+IF(JH10=EOMONTH(JH10,0),IF(DAY(JH10)=Simulador!$B$27,Simulador!$B$27,JH9),DAY(JH10))","v":11},{"$f":"+IF(JI10=EOMONTH(JI10,0),IF(DAY(JI10)=Simulador!$B$27,Simulador!$B$27,JI9),DAY(JI10))","v":12},{"$f":"+IF(JJ10=EOMONTH(JJ10,0),IF(DAY(JJ10)=Simulador!$B$27,Simulador!$B$27,JJ9),DAY(JJ10))","v":13},{"$f":"+IF(JK10=EOMONTH(JK10,0),IF(DAY(JK10)=Simulador!$B$27,Simulador!$B$27,JK9),DAY(JK10))","v":14},{"$f":"+IF(JL10=EOMONTH(JL10,0),IF(DAY(JL10)=Simulador!$B$27,Simulador!$B$27,JL9),DAY(JL10))","v":15},{"$f":"+IF(JM10=EOMONTH(JM10,0),IF(DAY(JM10)=Simulador!$B$27,Simulador!$B$27,JM9),DAY(JM10))","v":16},{"$f":"+IF(JN10=EOMONTH(JN10,0),IF(DAY(JN10)=Simulador!$B$27,Simulador!$B$27,JN9),DAY(JN10))","v":17},{"$f":"+IF(JO10=EOMONTH(JO10,0),IF(DAY(JO10)=Simulador!$B$27,Simulador!$B$27,JO9),DAY(JO10))","v":18},{"$f":"+IF(JP10=EOMONTH(JP10,0),IF(DAY(JP10)=Simulador!$B$27,Simulador!$B$27,JP9),DAY(JP10))","v":19},{"$f":"+IF(JQ10=EOMONTH(JQ10,0),IF(DAY(JQ10)=Simulador!$B$27,Simulador!$B$27,JQ9),DAY(JQ10))","v":20},{"$f":"+IF(JR10=EOMONTH(JR10,0),IF(DAY(JR10)=Simulador!$B$27,Simulador!$B$27,JR9),DAY(JR10))","v":21},{"$f":"+IF(JS10=EOMONTH(JS10,0),IF(DAY(JS10)=Simulador!$B$27,Simulador!$B$27,JS9),DAY(JS10))","v":22},{"$f":"+IF(JT10=EOMONTH(JT10,0),IF(DAY(JT10)=Simulador!$B$27,Simulador!$B$27,JT9),DAY(JT10))","v":23},{"$f":"+IF(JU10=EOMONTH(JU10,0),IF(DAY(JU10)=Simulador!$B$27,Simulador!$B$27,JU9),DAY(JU10))","v":24},{"$f":"+IF(JV10=EOMONTH(JV10,0),IF(DAY(JV10)=Simulador!$B$27,Simulador!$B$27,JV9),DAY(JV10))","v":25},{"$f":"+IF(JW10=EOMONTH(JW10,0),IF(DAY(JW10)=Simulador!$B$27,Simulador!$B$27,JW9),DAY(JW10))","v":26},{"$f":"+IF(JX10=EOMONTH(JX10,0),IF(DAY(JX10)=Simulador!$B$27,Simulador!$B$27,JX9),DAY(JX10))","v":27},{"$f":"+IF(JY10=EOMONTH(JY10,0),IF(DAY(JY10)=Simulador!$B$27,Simulador!$B$27,JY9),DAY(JY10))","v":28},{"$f":"+IF(JZ10=EOMONTH(JZ10,0),IF(DAY(JZ10)=Simulador!$B$27,Simulador!$B$27,JZ9),DAY(JZ10))","v":29},{"$f":"+IF(KA10=EOMONTH(KA10,0),IF(DAY(KA10)=Simulador!$B$27,Simulador!$B$27,KA9),DAY(KA10))","v":31},{"$f":"+IF(KB10=EOMONTH(KB10,0),IF(DAY(KB10)=Simulador!$B$27,Simulador!$B$27,KB9),DAY(KB10))","v":1},{"$f":"+IF(KC10=EOMONTH(KC10,0),IF(DAY(KC10)=Simulador!$B$27,Simulador!$B$27,KC9),DAY(KC10))","v":2},{"$f":"+IF(KD10=EOMONTH(KD10,0),IF(DAY(KD10)=Simulador!$B$27,Simulador!$B$27,KD9),DAY(KD10))","v":3},{"$f":"+IF(KE10=EOMONTH(KE10,0),IF(DAY(KE10)=Simulador!$B$27,Simulador!$B$27,KE9),DAY(KE10))","v":4},{"$f":"+IF(KF10=EOMONTH(KF10,0),IF(DAY(KF10)=Simulador!$B$27,Simulador!$B$27,KF9),DAY(KF10))","v":5},{"$f":"+IF(KG10=EOMONTH(KG10,0),IF(DAY(KG10)=Simulador!$B$27,Simulador!$B$27,KG9),DAY(KG10))","v":6},{"$f":"+IF(KH10=EOMONTH(KH10,0),IF(DAY(KH10)=Simulador!$B$27,Simulador!$B$27,KH9),DAY(KH10))","v":7},{"$f":"+IF(KI10=EOMONTH(KI10,0),IF(DAY(KI10)=Simulador!$B$27,Simulador!$B$27,KI9),DAY(KI10))","v":8},{"$f":"+IF(KJ10=EOMONTH(KJ10,0),IF(DAY(KJ10)=Simulador!$B$27,Simulador!$B$27,KJ9),DAY(KJ10))","v":9},{"$f":"+IF(KK10=EOMONTH(KK10,0),IF(DAY(KK10)=Simulador!$B$27,Simulador!$B$27,KK9),DAY(KK10))","v":10},{"$f":"+IF(KL10=EOMONTH(KL10,0),IF(DAY(KL10)=Simulador!$B$27,Simulador!$B$27,KL9),DAY(KL10))","v":11},{"$f":"+IF(KM10=EOMONTH(KM10,0),IF(DAY(KM10)=Simulador!$B$27,Simulador!$B$27,KM9),DAY(KM10))","v":12},{"$f":"+IF(KN10=EOMONTH(KN10,0),IF(DAY(KN10)=Simulador!$B$27,Simulador!$B$27,KN9),DAY(KN10))","v":13},{"$f":"+IF(KO10=EOMONTH(KO10,0),IF(DAY(KO10)=Simulador!$B$27,Simulador!$B$27,KO9),DAY(KO10))","v":14},{"$f":"+IF(KP10=EOMONTH(KP10,0),IF(DAY(KP10)=Simulador!$B$27,Simulador!$B$27,KP9),DAY(KP10))","v":15},{"$f":"+IF(KQ10=EOMONTH(KQ10,0),IF(DAY(KQ10)=Simulador!$B$27,Simulador!$B$27,KQ9),DAY(KQ10))","v":16},{"$f":"+IF(KR10=EOMONTH(KR10,0),IF(DAY(KR10)=Simulador!$B$27,Simulador!$B$27,KR9),DAY(KR10))","v":17},{"$f":"+IF(KS10=EOMONTH(KS10,0),IF(DAY(KS10)=Simulador!$B$27,Simulador!$B$27,KS9),DAY(KS10))","v":18},{"$f":"+IF(KT10=EOMONTH(KT10,0),IF(DAY(KT10)=Simulador!$B$27,Simulador!$B$27,KT9),DAY(KT10))","v":19},{"$f":"+IF(KU10=EOMONTH(KU10,0),IF(DAY(KU10)=Simulador!$B$27,Simulador!$B$27,KU9),DAY(KU10))","v":20},{"$f":"+IF(KV10=EOMONTH(KV10,0),IF(DAY(KV10)=Simulador!$B$27,Simulador!$B$27,KV9),DAY(KV10))","v":21},{"$f":"+IF(KW10=EOMONTH(KW10,0),IF(DAY(KW10)=Simulador!$B$27,Simulador!$B$27,KW9),DAY(KW10))","v":22},{"$f":"+IF(KX10=EOMONTH(KX10,0),IF(DAY(KX10)=Simulador!$B$27,Simulador!$B$27,KX9),DAY(KX10))","v":23},{"$f":"+IF(KY10=EOMONTH(KY10,0),IF(DAY(KY10)=Simulador!$B$27,Simulador!$B$27,KY9),DAY(KY10))","v":24},{"$f":"+IF(KZ10=EOMONTH(KZ10,0),IF(DAY(KZ10)=Simulador!$B$27,Simulador!$B$27,KZ9),DAY(KZ10))","v":25},{"$f":"+IF(LA10=EOMONTH(LA10,0),IF(DAY(LA10)=Simulador!$B$27,Simulador!$B$27,LA9),DAY(LA10))","v":26},{"$f":"+IF(LB10=EOMONTH(LB10,0),IF(DAY(LB10)=Simulador!$B$27,Simulador!$B$27,LB9),DAY(LB10))","v":27},{"$f":"+IF(LC10=EOMONTH(LC10,0),IF(DAY(LC10)=Simulador!$B$27,Simulador!$B$27,LC9),DAY(LC10))","v":28},{"$f":"+IF(LD10=EOMONTH(LD10,0),IF(DAY(LD10)=Simulador!$B$27,Simulador!$B$27,LD9),DAY(LD10))","v":29},{"$f":"+IF(LE10=EOMONTH(LE10,0),IF(DAY(LE10)=Simulador!$B$27,Simulador!$B$27,LE9),DAY(LE10))","v":30},{"$f":"+IF(LF10=EOMONTH(LF10,0),IF(DAY(LF10)=Simulador!$B$27,Simulador!$B$27,LF9),DAY(LF10))","v":31},{"$f":"+IF(LG10=EOMONTH(LG10,0),IF(DAY(LG10)=Simulador!$B$27,Simulador!$B$27,LG9),DAY(LG10))","v":1},{"$f":"+IF(LH10=EOMONTH(LH10,0),IF(DAY(LH10)=Simulador!$B$27,Simulador!$B$27,LH9),DAY(LH10))","v":2},{"$f":"+IF(LI10=EOMONTH(LI10,0),IF(DAY(LI10)=Simulador!$B$27,Simulador!$B$27,LI9),DAY(LI10))","v":3},{"$f":"+IF(LJ10=EOMONTH(LJ10,0),IF(DAY(LJ10)=Simulador!$B$27,Simulador!$B$27,LJ9),DAY(LJ10))","v":4},{"$f":"+IF(LK10=EOMONTH(LK10,0),IF(DAY(LK10)=Simulador!$B$27,Simulador!$B$27,LK9),DAY(LK10))","v":5},{"$f":"+IF(LL10=EOMONTH(LL10,0),IF(DAY(LL10)=Simulador!$B$27,Simulador!$B$27,LL9),DAY(LL10))","v":6},{"$f":"+IF(LM10=EOMONTH(LM10,0),IF(DAY(LM10)=Simulador!$B$27,Simulador!$B$27,LM9),DAY(LM10))","v":7},{"$f":"+IF(LN10=EOMONTH(LN10,0),IF(DAY(LN10)=Simulador!$B$27,Simulador!$B$27,LN9),DAY(LN10))","v":8},{"$f":"+IF(LO10=EOMONTH(LO10,0),IF(DAY(LO10)=Simulador!$B$27,Simulador!$B$27,LO9),DAY(LO10))","v":9},{"$f":"+IF(LP10=EOMONTH(LP10,0),IF(DAY(LP10)=Simulador!$B$27,Simulador!$B$27,LP9),DAY(LP10))","v":10},{"$f":"+IF(LQ10=EOMONTH(LQ10,0),IF(DAY(LQ10)=Simulador!$B$27,Simulador!$B$27,LQ9),DAY(LQ10))","v":11},{"$f":"+IF(LR10=EOMONTH(LR10,0),IF(DAY(LR10)=Simulador!$B$27,Simulador!$B$27,LR9),DAY(LR10))","v":12},{"$f":"+IF(LS10=EOMONTH(LS10,0),IF(DAY(LS10)=Simulador!$B$27,Simulador!$B$27,LS9),DAY(LS10))","v":13},{"$f":"+IF(LT10=EOMONTH(LT10,0),IF(DAY(LT10)=Simulador!$B$27,Simulador!$B$27,LT9),DAY(LT10))","v":14},{"$f":"+IF(LU10=EOMONTH(LU10,0),IF(DAY(LU10)=Simulador!$B$27,Simulador!$B$27,LU9),DAY(LU10))","v":15},{"$f":"+IF(LV10=EOMONTH(LV10,0),IF(DAY(LV10)=Simulador!$B$27,Simulador!$B$27,LV9),DAY(LV10))","v":16},{"$f":"+IF(LW10=EOMONTH(LW10,0),IF(DAY(LW10)=Simulador!$B$27,Simulador!$B$27,LW9),DAY(LW10))","v":17},{"$f":"+IF(LX10=EOMONTH(LX10,0),IF(DAY(LX10)=Simulador!$B$27,Simulador!$B$27,LX9),DAY(LX10))","v":18},{"$f":"+IF(LY10=EOMONTH(LY10,0),IF(DAY(LY10)=Simulador!$B$27,Simulador!$B$27,LY9),DAY(LY10))","v":19},{"$f":"+IF(LZ10=EOMONTH(LZ10,0),IF(DAY(LZ10)=Simulador!$B$27,Simulador!$B$27,LZ9),DAY(LZ10))","v":20},{"$f":"+IF(MA10=EOMONTH(MA10,0),IF(DAY(MA10)=Simulador!$B$27,Simulador!$B$27,MA9),DAY(MA10))","v":21},{"$f":"+IF(MB10=EOMONTH(MB10,0),IF(DAY(MB10)=Simulador!$B$27,Simulador!$B$27,MB9),DAY(MB10))","v":22},{"$f":"+IF(MC10=EOMONTH(MC10,0),IF(DAY(MC10)=Simulador!$B$27,Simulador!$B$27,MC9),DAY(MC10))","v":23},{"$f":"+IF(MD10=EOMONTH(MD10,0),IF(DAY(MD10)=Simulador!$B$27,Simulador!$B$27,MD9),DAY(MD10))","v":24},{"$f":"+IF(ME10=EOMONTH(ME10,0),IF(DAY(ME10)=Simulador!$B$27,Simulador!$B$27,ME9),DAY(ME10))","v":25},{"$f":"+IF(MF10=EOMONTH(MF10,0),IF(DAY(MF10)=Simulador!$B$27,Simulador!$B$27,MF9),DAY(MF10))","v":26},{"$f":"+IF(MG10=EOMONTH(MG10,0),IF(DAY(MG10)=Simulador!$B$27,Simulador!$B$27,MG9),DAY(MG10))","v":27},{"$f":"+IF(MH10=EOMONTH(MH10,0),IF(DAY(MH10)=Simulador!$B$27,Simulador!$B$27,MH9),DAY(MH10))","v":28},{"$f":"+IF(MI10=EOMONTH(MI10,0),IF(DAY(MI10)=Simulador!$B$27,Simulador!$B$27,MI9),DAY(MI10))","v":29},{"$f":"+IF(MJ10=EOMONTH(MJ10,0),IF(DAY(MJ10)=Simulador!$B$27,Simulador!$B$27,MJ9),DAY(MJ10))","v":31},{"$f":"+IF(MK10=EOMONTH(MK10,0),IF(DAY(MK10)=Simulador!$B$27,Simulador!$B$27,MK9),DAY(MK10))","v":1},{"$f":"+IF(ML10=EOMONTH(ML10,0),IF(DAY(ML10)=Simulador!$B$27,Simulador!$B$27,ML9),DAY(ML10))","v":2},{"$f":"+IF(MM10=EOMONTH(MM10,0),IF(DAY(MM10)=Simulador!$B$27,Simulador!$B$27,MM9),DAY(MM10))","v":3},{"$f":"+IF(MN10=EOMONTH(MN10,0),IF(DAY(MN10)=Simulador!$B$27,Simulador!$B$27,MN9),DAY(MN10))","v":4},{"$f":"+IF(MO10=EOMONTH(MO10,0),IF(DAY(MO10)=Simulador!$B$27,Simulador!$B$27,MO9),DAY(MO10))","v":5},{"$f":"+IF(MP10=EOMONTH(MP10,0),IF(DAY(MP10)=Simulador!$B$27,Simulador!$B$27,MP9),DAY(MP10))","v":6},{"$f":"+IF(MQ10=EOMONTH(MQ10,0),IF(DAY(MQ10)=Simulador!$B$27,Simulador!$B$27,MQ9),DAY(MQ10))","v":7},{"$f":"+IF(MR10=EOMONTH(MR10,0),IF(DAY(MR10)=Simulador!$B$27,Simulador!$B$27,MR9),DAY(MR10))","v":8},{"$f":"+IF(MS10=EOMONTH(MS10,0),IF(DAY(MS10)=Simulador!$B$27,Simulador!$B$27,MS9),DAY(MS10))","v":9},{"$f":"+IF(MT10=EOMONTH(MT10,0),IF(DAY(MT10)=Simulador!$B$27,Simulador!$B$27,MT9),DAY(MT10))","v":10},{"$f":"+IF(MU10=EOMONTH(MU10,0),IF(DAY(MU10)=Simulador!$B$27,Simulador!$B$27,MU9),DAY(MU10))","v":11},{"$f":"+IF(MV10=EOMONTH(MV10,0),IF(DAY(MV10)=Simulador!$B$27,Simulador!$B$27,MV9),DAY(MV10))","v":12},{"$f":"+IF(MW10=EOMONTH(MW10,0),IF(DAY(MW10)=Simulador!$B$27,Simulador!$B$27,MW9),DAY(MW10))","v":13},{"$f":"+IF(MX10=EOMONTH(MX10,0),IF(DAY(MX10)=Simulador!$B$27,Simulador!$B$27,MX9),DAY(MX10))","v":14},{"$f":"+IF(MY10=EOMONTH(MY10,0),IF(DAY(MY10)=Simulador!$B$27,Simulador!$B$27,MY9),DAY(MY10))","v":15},{"$f":"+IF(MZ10=EOMONTH(MZ10,0),IF(DAY(MZ10)=Simulador!$B$27,Simulador!$B$27,MZ9),DAY(MZ10))","v":16},{"$f":"+IF(NA10=EOMONTH(NA10,0),IF(DAY(NA10)=Simulador!$B$27,Simulador!$B$27,NA9),DAY(NA10))","v":17},{"$f":"+IF(NB10=EOMONTH(NB10,0),IF(DAY(NB10)=Simulador!$B$27,Simulador!$B$27,NB9),DAY(NB10))","v":18},{"$f":"+IF(NC10=EOMONTH(NC10,0),IF(DAY(NC10)=Simulador!$B$27,Simulador!$B$27,NC9),DAY(NC10))","v":19},{"$f":"+IF(ND10=EOMONTH(ND10,0),IF(DAY(ND10)=Simulador!$B$27,Simulador!$B$27,ND9),DAY(ND10))","v":20},{"$f":"+IF(NE10=EOMONTH(NE10,0),IF(DAY(NE10)=Simulador!$B$27,Simulador!$B$27,NE9),DAY(NE10))","v":21},{"$f":"+IF(NF10=EOMONTH(NF10,0),IF(DAY(NF10)=Simulador!$B$27,Simulador!$B$27,NF9),DAY(NF10))","v":22},{"$f":"+IF(NG10=EOMONTH(NG10,0),IF(DAY(NG10)=Simulador!$B$27,Simulador!$B$27,NG9),DAY(NG10))","v":23},{"$f":"+IF(NH10=EOMONTH(NH10,0),IF(DAY(NH10)=Simulador!$B$27,Simulador!$B$27,NH9),DAY(NH10))","v":24},{"$f":"+IF(NI10=EOMONTH(NI10,0),IF(DAY(NI10)=Simulador!$B$27,Simulador!$B$27,NI9),DAY(NI10))","v":25},{"$f":"+IF(NJ10=EOMONTH(NJ10,0),IF(DAY(NJ10)=Simulador!$B$27,Simulador!$B$27,NJ9),DAY(NJ10))","v":26},{"$f":"+IF(NK10=EOMONTH(NK10,0),IF(DAY(NK10)=Simulador!$B$27,Simulador!$B$27,NK9),DAY(NK10))","v":27},{"$f":"+IF(NL10=EOMONTH(NL10,0),IF(DAY(NL10)=Simulador!$B$27,Simulador!$B$27,NL9),DAY(NL10))","v":28},{"$f":"+IF(NM10=EOMONTH(NM10,0),IF(DAY(NM10)=Simulador!$B$27,Simulador!$B$27,NM9),DAY(NM10))","v":29},{"$f":"+IF(NN10=EOMONTH(NN10,0),IF(DAY(NN10)=Simulador!$B$27,Simulador!$B$27,NN9),DAY(NN10))","v":30},{"$f":"+IF(NO10=EOMONTH(NO10,0),IF(DAY(NO10)=Simulador!$B$27,Simulador!$B$27,NO9),DAY(NO10))","v":31},{"$f":"+IF(NP10=EOMONTH(NP10,0),IF(DAY(NP10)=Simulador!$B$27,Simulador!$B$27,NP9),DAY(NP10))","v":1},{"$f":"+IF(NQ10=EOMONTH(NQ10,0),IF(DAY(NQ10)=Simulador!$B$27,Simulador!$B$27,NQ9),DAY(NQ10))","v":2},{"$f":"+IF(NR10=EOMONTH(NR10,0),IF(DAY(NR10)=Simulador!$B$27,Simulador!$B$27,NR9),DAY(NR10))","v":3},{"$f":"+IF(NS10=EOMONTH(NS10,0),IF(DAY(NS10)=Simulador!$B$27,Simulador!$B$27,NS9),DAY(NS10))","v":4},{"$f":"+IF(NT10=EOMONTH(NT10,0),IF(DAY(NT10)=Simulador!$B$27,Simulador!$B$27,NT9),DAY(NT10))","v":5},{"$f":"+IF(NU10=EOMONTH(NU10,0),IF(DAY(NU10)=Simulador!$B$27,Simulador!$B$27,NU9),DAY(NU10))","v":6},{"$f":"+IF(NV10=EOMONTH(NV10,0),IF(DAY(NV10)=Simulador!$B$27,Simulador!$B$27,NV9),DAY(NV10))","v":7},{"$f":"+IF(NW10=EOMONTH(NW10,0),IF(DAY(NW10)=Simulador!$B$27,Simulador!$B$27,NW9),DAY(NW10))","v":8},{"$f":"+IF(NX10=EOMONTH(NX10,0),IF(DAY(NX10)=Simulador!$B$27,Simulador!$B$27,NX9),DAY(NX10))","v":9},{"$f":"+IF(NY10=EOMONTH(NY10,0),IF(DAY(NY10)=Simulador!$B$27,Simulador!$B$27,NY9),DAY(NY10))","v":10},{"$f":"+IF(NZ10=EOMONTH(NZ10,0),IF(DAY(NZ10)=Simulador!$B$27,Simulador!$B$27,NZ9),DAY(NZ10))","v":11},{"$f":"+IF(OA10=EOMONTH(OA10,0),IF(DAY(OA10)=Simulador!$B$27,Simulador!$B$27,OA9),DAY(OA10))","v":12},{"$f":"+IF(OB10=EOMONTH(OB10,0),IF(DAY(OB10)=Simulador!$B$27,Simulador!$B$27,OB9),DAY(OB10))","v":13},{"$f":"+IF(OC10=EOMONTH(OC10,0),IF(DAY(OC10)=Simulador!$B$27,Simulador!$B$27,OC9),DAY(OC10))","v":14},{"$f":"+IF(OD10=EOMONTH(OD10,0),IF(DAY(OD10)=Simulador!$B$27,Simulador!$B$27,OD9),DAY(OD10))","v":15},{"$f":"+IF(OE10=EOMONTH(OE10,0),IF(DAY(OE10)=Simulador!$B$27,Simulador!$B$27,OE9),DAY(OE10))","v":16},{"$f":"+IF(OF10=EOMONTH(OF10,0),IF(DAY(OF10)=Simulador!$B$27,Simulador!$B$27,OF9),DAY(OF10))","v":17},{"$f":"+IF(OG10=EOMONTH(OG10,0),IF(DAY(OG10)=Simulador!$B$27,Simulador!$B$27,OG9),DAY(OG10))","v":18},{"$f":"+IF(OH10=EOMONTH(OH10,0),IF(DAY(OH10)=Simulador!$B$27,Simulador!$B$27,OH9),DAY(OH10))","v":19},{"$f":"+IF(OI10=EOMONTH(OI10,0),IF(DAY(OI10)=Simulador!$B$27,Simulador!$B$27,OI9),DAY(OI10))","v":20},{"$f":"+IF(OJ10=EOMONTH(OJ10,0),IF(DAY(OJ10)=Simulador!$B$27,Simulador!$B$27,OJ9),DAY(OJ10))","v":21},{"$f":"+IF(OK10=EOMONTH(OK10,0),IF(DAY(OK10)=Simulador!$B$27,Simulador!$B$27,OK9),DAY(OK10))","v":22},{"$f":"+IF(OL10=EOMONTH(OL10,0),IF(DAY(OL10)=Simulador!$B$27,Simulador!$B$27,OL9),DAY(OL10))","v":23},{"$f":"+IF(OM10=EOMONTH(OM10,0),IF(DAY(OM10)=Simulador!$B$27,Simulador!$B$27,OM9),DAY(OM10))","v":24},{"$f":"+IF(ON10=EOMONTH(ON10,0),IF(DAY(ON10)=Simulador!$B$27,Simulador!$B$27,ON9),DAY(ON10))","v":25},{"$f":"+IF(OO10=EOMONTH(OO10,0),IF(DAY(OO10)=Simulador!$B$27,Simulador!$B$27,OO9),DAY(OO10))","v":26},{"$f":"+IF(OP10=EOMONTH(OP10,0),IF(DAY(OP10)=Simulador!$B$27,Simulador!$B$27,OP9),DAY(OP10))","v":27},{"$f":"+IF(OQ10=EOMONTH(OQ10,0),IF(DAY(OQ10)=Simulador!$B$27,Simulador!$B$27,OQ9),DAY(OQ10))","v":28},{"$f":"+IF(OR10=EOMONTH(OR10,0),IF(DAY(OR10)=Simulador!$B$27,Simulador!$B$27,OR9),DAY(OR10))","v":29},{"$f":"+IF(OS10=EOMONTH(OS10,0),IF(DAY(OS10)=Simulador!$B$27,Simulador!$B$27,OS9),DAY(OS10))","v":30},{"$f":"+IF(OT10=EOMONTH(OT10,0),IF(DAY(OT10)=Simulador!$B$27,Simulador!$B$27,OT9),DAY(OT10))","v":31},{"$f":"+IF(OU10=EOMONTH(OU10,0),IF(DAY(OU10)=Simulador!$B$27,Simulador!$B$27,OU9),DAY(OU10))","v":1},{"$f":"+IF(OV10=EOMONTH(OV10,0),IF(DAY(OV10)=Simulador!$B$27,Simulador!$B$27,OV9),DAY(OV10))","v":2},{"$f":"+IF(OW10=EOMONTH(OW10,0),IF(DAY(OW10)=Simulador!$B$27,Simulador!$B$27,OW9),DAY(OW10))","v":3},{"$f":"+IF(OX10=EOMONTH(OX10,0),IF(DAY(OX10)=Simulador!$B$27,Simulador!$B$27,OX9),DAY(OX10))","v":4},{"$f":"+IF(OY10=EOMONTH(OY10,0),IF(DAY(OY10)=Simulador!$B$27,Simulador!$B$27,OY9),DAY(OY10))","v":5},{"$f":"+IF(OZ10=EOMONTH(OZ10,0),IF(DAY(OZ10)=Simulador!$B$27,Simulador!$B$27,OZ9),DAY(OZ10))","v":6},{"$f":"+IF(PA10=EOMONTH(PA10,0),IF(DAY(PA10)=Simulador!$B$27,Simulador!$B$27,PA9),DAY(PA10))","v":7},{"$f":"+IF(PB10=EOMONTH(PB10,0),IF(DAY(PB10)=Simulador!$B$27,Simulador!$B$27,PB9),DAY(PB10))","v":8},{"$f":"+IF(PC10=EOMONTH(PC10,0),IF(DAY(PC10)=Simulador!$B$27,Simulador!$B$27,PC9),DAY(PC10))","v":9},{"$f":"+IF(PD10=EOMONTH(PD10,0),IF(DAY(PD10)=Simulador!$B$27,Simulador!$B$27,PD9),DAY(PD10))","v":10},{"$f":"+IF(PE10=EOMONTH(PE10,0),IF(DAY(PE10)=Simulador!$B$27,Simulador!$B$27,PE9),DAY(PE10))","v":11},{"$f":"+IF(PF10=EOMONTH(PF10,0),IF(DAY(PF10)=Simulador!$B$27,Simulador!$B$27,PF9),DAY(PF10))","v":12},{"$f":"+IF(PG10=EOMONTH(PG10,0),IF(DAY(PG10)=Simulador!$B$27,Simulador!$B$27,PG9),DAY(PG10))","v":13},{"$f":"+IF(PH10=EOMONTH(PH10,0),IF(DAY(PH10)=Simulador!$B$27,Simulador!$B$27,PH9),DAY(PH10))","v":14},{"$f":"+IF(PI10=EOMONTH(PI10,0),IF(DAY(PI10)=Simulador!$B$27,Simulador!$B$27,PI9),DAY(PI10))","v":15},{"$f":"+IF(PJ10=EOMONTH(PJ10,0),IF(DAY(PJ10)=Simulador!$B$27,Simulador!$B$27,PJ9),DAY(PJ10))","v":16},{"$f":"+IF(PK10=EOMONTH(PK10,0),IF(DAY(PK10)=Simulador!$B$27,Simulador!$B$27,PK9),DAY(PK10))","v":17},{"$f":"+IF(PL10=EOMONTH(PL10,0),IF(DAY(PL10)=Simulador!$B$27,Simulador!$B$27,PL9),DAY(PL10))","v":18},{"$f":"+IF(PM10=EOMONTH(PM10,0),IF(DAY(PM10)=Simulador!$B$27,Simulador!$B$27,PM9),DAY(PM10))","v":19},{"$f":"+IF(PN10=EOMONTH(PN10,0),IF(DAY(PN10)=Simulador!$B$27,Simulador!$B$27,PN9),DAY(PN10))","v":20},{"$f":"+IF(PO10=EOMONTH(PO10,0),IF(DAY(PO10)=Simulador!$B$27,Simulador!$B$27,PO9),DAY(PO10))","v":21},{"$f":"+IF(PP10=EOMONTH(PP10,0),IF(DAY(PP10)=Simulador!$B$27,Simulador!$B$27,PP9),DAY(PP10))","v":22},{"$f":"+IF(PQ10=EOMONTH(PQ10,0),IF(DAY(PQ10)=Simulador!$B$27,Simulador!$B$27,PQ9),DAY(PQ10))","v":23},{"$f":"+IF(PR10=EOMONTH(PR10,0),IF(DAY(PR10)=Simulador!$B$27,Simulador!$B$27,PR9),DAY(PR10))","v":24},{"$f":"+IF(PS10=EOMONTH(PS10,0),IF(DAY(PS10)=Simulador!$B$27,Simulador!$B$27,PS9),DAY(PS10))","v":25},{"$f":"+IF(PT10=EOMONTH(PT10,0),IF(DAY(PT10)=Simulador!$B$27,Simulador!$B$27,PT9),DAY(PT10))","v":26},{"$f":"+IF(PU10=EOMONTH(PU10,0),IF(DAY(PU10)=Simulador!$B$27,Simulador!$B$27,PU9),DAY(PU10))","v":27},{"$f":"+IF(PV10=EOMONTH(PV10,0),IF(DAY(PV10)=Simulador!$B$27,Simulador!$B$27,PV9),DAY(PV10))","v":28},{"$f":"+IF(PW10=EOMONTH(PW10,0),IF(DAY(PW10)=Simulador!$B$27,Simulador!$B$27,PW9),DAY(PW10))","v":29},{"$f":"+IF(PX10=EOMONTH(PX10,0),IF(DAY(PX10)=Simulador!$B$27,Simulador!$B$27,PX9),DAY(PX10))","v":31},{"$f":"+IF(PY10=EOMONTH(PY10,0),IF(DAY(PY10)=Simulador!$B$27,Simulador!$B$27,PY9),DAY(PY10))","v":1},{"$f":"+IF(PZ10=EOMONTH(PZ10,0),IF(DAY(PZ10)=Simulador!$B$27,Simulador!$B$27,PZ9),DAY(PZ10))","v":2},{"$f":"+IF(QA10=EOMONTH(QA10,0),IF(DAY(QA10)=Simulador!$B$27,Simulador!$B$27,QA9),DAY(QA10))","v":3},{"$f":"+IF(QB10=EOMONTH(QB10,0),IF(DAY(QB10)=Simulador!$B$27,Simulador!$B$27,QB9),DAY(QB10))","v":4},{"$f":"+IF(QC10=EOMONTH(QC10,0),IF(DAY(QC10)=Simulador!$B$27,Simulador!$B$27,QC9),DAY(QC10))","v":5},{"$f":"+IF(QD10=EOMONTH(QD10,0),IF(DAY(QD10)=Simulador!$B$27,Simulador!$B$27,QD9),DAY(QD10))","v":6},{"$f":"+IF(QE10=EOMONTH(QE10,0),IF(DAY(QE10)=Simulador!$B$27,Simulador!$B$27,QE9),DAY(QE10))","v":7},{"$f":"+IF(QF10=EOMONTH(QF10,0),IF(DAY(QF10)=Simulador!$B$27,Simulador!$B$27,QF9),DAY(QF10))","v":8},{"$f":"+IF(QG10=EOMONTH(QG10,0),IF(DAY(QG10)=Simulador!$B$27,Simulador!$B$27,QG9),DAY(QG10))","v":9},{"$f":"+IF(QH10=EOMONTH(QH10,0),IF(DAY(QH10)=Simulador!$B$27,Simulador!$B$27,QH9),DAY(QH10))","v":10},{"$f":"+IF(QI10=EOMONTH(QI10,0),IF(DAY(QI10)=Simulador!$B$27,Simulador!$B$27,QI9),DAY(QI10))","v":11},{"$f":"+IF(QJ10=EOMONTH(QJ10,0),IF(DAY(QJ10)=Simulador!$B$27,Simulador!$B$27,QJ9),DAY(QJ10))","v":12},{"$f":"+IF(QK10=EOMONTH(QK10,0),IF(DAY(QK10)=Simulador!$B$27,Simulador!$B$27,QK9),DAY(QK10))","v":13},{"$f":"+IF(QL10=EOMONTH(QL10,0),IF(DAY(QL10)=Simulador!$B$27,Simulador!$B$27,QL9),DAY(QL10))","v":14},{"$f":"+IF(QM10=EOMONTH(QM10,0),IF(DAY(QM10)=Simulador!$B$27,Simulador!$B$27,QM9),DAY(QM10))","v":15},{"$f":"+IF(QN10=EOMONTH(QN10,0),IF(DAY(QN10)=Simulador!$B$27,Simulador!$B$27,QN9),DAY(QN10))","v":16},{"$f":"+IF(QO10=EOMONTH(QO10,0),IF(DAY(QO10)=Simulador!$B$27,Simulador!$B$27,QO9),DAY(QO10))","v":17},{"$f":"+IF(QP10=EOMONTH(QP10,0),IF(DAY(QP10)=Simulador!$B$27,Simulador!$B$27,QP9),DAY(QP10))","v":18},{"$f":"+IF(QQ10=EOMONTH(QQ10,0),IF(DAY(QQ10)=Simulador!$B$27,Simulador!$B$27,QQ9),DAY(QQ10))","v":19},{"$f":"+IF(QR10=EOMONTH(QR10,0),IF(DAY(QR10)=Simulador!$B$27,Simulador!$B$27,QR9),DAY(QR10))","v":20},{"$f":"+IF(QS10=EOMONTH(QS10,0),IF(DAY(QS10)=Simulador!$B$27,Simulador!$B$27,QS9),DAY(QS10))","v":21},{"$f":"+IF(QT10=EOMONTH(QT10,0),IF(DAY(QT10)=Simulador!$B$27,Simulador!$B$27,QT9),DAY(QT10))","v":22},{"$f":"+IF(QU10=EOMONTH(QU10,0),IF(DAY(QU10)=Simulador!$B$27,Simulador!$B$27,QU9),DAY(QU10))","v":23},{"$f":"+IF(QV10=EOMONTH(QV10,0),IF(DAY(QV10)=Simulador!$B$27,Simulador!$B$27,QV9),DAY(QV10))","v":24},{"$f":"+IF(QW10=EOMONTH(QW10,0),IF(DAY(QW10)=Simulador!$B$27,Simulador!$B$27,QW9),DAY(QW10))","v":25},{"$f":"+IF(QX10=EOMONTH(QX10,0),IF(DAY(QX10)=Simulador!$B$27,Simulador!$B$27,QX9),DAY(QX10))","v":26},{"$f":"+IF(QY10=EOMONTH(QY10,0),IF(DAY(QY10)=Simulador!$B$27,Simulador!$B$27,QY9),DAY(QY10))","v":27},{"$f":"+IF(QZ10=EOMONTH(QZ10,0),IF(DAY(QZ10)=Simulador!$B$27,Simulador!$B$27,QZ9),DAY(QZ10))","v":28},{"$f":"+IF(RA10=EOMONTH(RA10,0),IF(DAY(RA10)=Simulador!$B$27,Simulador!$B$27,RA9),DAY(RA10))","v":29},{"$f":"+IF(RB10=EOMONTH(RB10,0),IF(DAY(RB10)=Simulador!$B$27,Simulador!$B$27,RB9),DAY(RB10))","v":30},{"$f":"+IF(RC10=EOMONTH(RC10,0),IF(DAY(RC10)=Simulador!$B$27,Simulador!$B$27,RC9),DAY(RC10))","v":31},{"$f":"+IF(RD10=EOMONTH(RD10,0),IF(DAY(RD10)=Simulador!$B$27,Simulador!$B$27,RD9),DAY(RD10))","v":1},{"$f":"+IF(RE10=EOMONTH(RE10,0),IF(DAY(RE10)=Simulador!$B$27,Simulador!$B$27,RE9),DAY(RE10))","v":2},{"$f":"+IF(RF10=EOMONTH(RF10,0),IF(DAY(RF10)=Simulador!$B$27,Simulador!$B$27,RF9),DAY(RF10))","v":3},{"$f":"+IF(RG10=EOMONTH(RG10,0),IF(DAY(RG10)=Simulador!$B$27,Simulador!$B$27,RG9),DAY(RG10))","v":4},{"$f":"+IF(RH10=EOMONTH(RH10,0),IF(DAY(RH10)=Simulador!$B$27,Simulador!$B$27,RH9),DAY(RH10))","v":5},{"$f":"+IF(RI10=EOMONTH(RI10,0),IF(DAY(RI10)=Simulador!$B$27,Simulador!$B$27,RI9),DAY(RI10))","v":6},{"$f":"+IF(RJ10=EOMONTH(RJ10,0),IF(DAY(RJ10)=Simulador!$B$27,Simulador!$B$27,RJ9),DAY(RJ10))","v":7},{"$f":"+IF(RK10=EOMONTH(RK10,0),IF(DAY(RK10)=Simulador!$B$27,Simulador!$B$27,RK9),DAY(RK10))","v":8},{"$f":"+IF(RL10=EOMONTH(RL10,0),IF(DAY(RL10)=Simulador!$B$27,Simulador!$B$27,RL9),DAY(RL10))","v":9},{"$f":"+IF(RM10=EOMONTH(RM10,0),IF(DAY(RM10)=Simulador!$B$27,Simulador!$B$27,RM9),DAY(RM10))","v":10},{"$f":"+IF(RN10=EOMONTH(RN10,0),IF(DAY(RN10)=Simulador!$B$27,Simulador!$B$27,RN9),DAY(RN10))","v":11},{"$f":"+IF(RO10=EOMONTH(RO10,0),IF(DAY(RO10)=Simulador!$B$27,Simulador!$B$27,RO9),DAY(RO10))","v":12},{"$f":"+IF(RP10=EOMONTH(RP10,0),IF(DAY(RP10)=Simulador!$B$27,Simulador!$B$27,RP9),DAY(RP10))","v":13},{"$f":"+IF(RQ10=EOMONTH(RQ10,0),IF(DAY(RQ10)=Simulador!$B$27,Simulador!$B$27,RQ9),DAY(RQ10))","v":14},{"$f":"+IF(RR10=EOMONTH(RR10,0),IF(DAY(RR10)=Simulador!$B$27,Simulador!$B$27,RR9),DAY(RR10))","v":15},{"$f":"+IF(RS10=EOMONTH(RS10,0),IF(DAY(RS10)=Simulador!$B$27,Simulador!$B$27,RS9),DAY(RS10))","v":16},{"$f":"+IF(RT10=EOMONTH(RT10,0),IF(DAY(RT10)=Simulador!$B$27,Simulador!$B$27,RT9),DAY(RT10))","v":17},{"$f":"+IF(RU10=EOMONTH(RU10,0),IF(DAY(RU10)=Simulador!$B$27,Simulador!$B$27,RU9),DAY(RU10))","v":18},{"$f":"+IF(RV10=EOMONTH(RV10,0),IF(DAY(RV10)=Simulador!$B$27,Simulador!$B$27,RV9),DAY(RV10))","v":19},{"$f":"+IF(RW10=EOMONTH(RW10,0),IF(DAY(RW10)=Simulador!$B$27,Simulador!$B$27,RW9),DAY(RW10))","v":20},{"$f":"+IF(RX10=EOMONTH(RX10,0),IF(DAY(RX10)=Simulador!$B$27,Simulador!$B$27,RX9),DAY(RX10))","v":21},{"$f":"+IF(RY10=EOMONTH(RY10,0),IF(DAY(RY10)=Simulador!$B$27,Simulador!$B$27,RY9),DAY(RY10))","v":22},{"$f":"+IF(RZ10=EOMONTH(RZ10,0),IF(DAY(RZ10)=Simulador!$B$27,Simulador!$B$27,RZ9),DAY(RZ10))","v":23},{"$f":"+IF(SA10=EOMONTH(SA10,0),IF(DAY(SA10)=Simulador!$B$27,Simulador!$B$27,SA9),DAY(SA10))","v":24},{"$f":"+IF(SB10=EOMONTH(SB10,0),IF(DAY(SB10)=Simulador!$B$27,Simulador!$B$27,SB9),DAY(SB10))","v":25},{"$f":"+IF(SC10=EOMONTH(SC10,0),IF(DAY(SC10)=Simulador!$B$27,Simulador!$B$27,SC9),DAY(SC10))","v":26},{"$f":"+IF(SD10=EOMONTH(SD10,0),IF(DAY(SD10)=Simulador!$B$27,Simulador!$B$27,SD9),DAY(SD10))","v":27},{"$f":"+IF(SE10=EOMONTH(SE10,0),IF(DAY(SE10)=Simulador!$B$27,Simulador!$B$27,SE9),DAY(SE10))","v":28},{"$f":"+IF(SF10=EOMONTH(SF10,0),IF(DAY(SF10)=Simulador!$B$27,Simulador!$B$27,SF9),DAY(SF10))","v":29},{"$f":"+IF(SG10=EOMONTH(SG10,0),IF(DAY(SG10)=Simulador!$B$27,Simulador!$B$27,SG9),DAY(SG10))","v":31},{"$f":"+IF(SH10=EOMONTH(SH10,0),IF(DAY(SH10)=Simulador!$B$27,Simulador!$B$27,SH9),DAY(SH10))","v":1},{"$f":"+IF(SI10=EOMONTH(SI10,0),IF(DAY(SI10)=Simulador!$B$27,Simulador!$B$27,SI9),DAY(SI10))","v":2},{"$f":"+IF(SJ10=EOMONTH(SJ10,0),IF(DAY(SJ10)=Simulador!$B$27,Simulador!$B$27,SJ9),DAY(SJ10))","v":3},{"$f":"+IF(SK10=EOMONTH(SK10,0),IF(DAY(SK10)=Simulador!$B$27,Simulador!$B$27,SK9),DAY(SK10))","v":4},{"$f":"+IF(SL10=EOMONTH(SL10,0),IF(DAY(SL10)=Simulador!$B$27,Simulador!$B$27,SL9),DAY(SL10))","v":5},{"$f":"+IF(SM10=EOMONTH(SM10,0),IF(DAY(SM10)=Simulador!$B$27,Simulador!$B$27,SM9),DAY(SM10))","v":6},{"$f":"+IF(SN10=EOMONTH(SN10,0),IF(DAY(SN10)=Simulador!$B$27,Simulador!$B$27,SN9),DAY(SN10))","v":7},{"$f":"+IF(SO10=EOMONTH(SO10,0),IF(DAY(SO10)=Simulador!$B$27,Simulador!$B$27,SO9),DAY(SO10))","v":8},{"$f":"+IF(SP10=EOMONTH(SP10,0),IF(DAY(SP10)=Simulador!$B$27,Simulador!$B$27,SP9),DAY(SP10))","v":9},{"$f":"+IF(SQ10=EOMONTH(SQ10,0),IF(DAY(SQ10)=Simulador!$B$27,Simulador!$B$27,SQ9),DAY(SQ10))","v":10},{"$f":"+IF(SR10=EOMONTH(SR10,0),IF(DAY(SR10)=Simulador!$B$27,Simulador!$B$27,SR9),DAY(SR10))","v":11},{"$f":"+IF(SS10=EOMONTH(SS10,0),IF(DAY(SS10)=Simulador!$B$27,Simulador!$B$27,SS9),DAY(SS10))","v":12},{"$f":"+IF(ST10=EOMONTH(ST10,0),IF(DAY(ST10)=Simulador!$B$27,Simulador!$B$27,ST9),DAY(ST10))","v":13},{"$f":"+IF(SU10=EOMONTH(SU10,0),IF(DAY(SU10)=Simulador!$B$27,Simulador!$B$27,SU9),DAY(SU10))","v":14},{"$f":"+IF(SV10=EOMONTH(SV10,0),IF(DAY(SV10)=Simulador!$B$27,Simulador!$B$27,SV9),DAY(SV10))","v":15},{"$f":"+IF(SW10=EOMONTH(SW10,0),IF(DAY(SW10)=Simulador!$B$27,Simulador!$B$27,SW9),DAY(SW10))","v":16},{"$f":"+IF(SX10=EOMONTH(SX10,0),IF(DAY(SX10)=Simulador!$B$27,Simulador!$B$27,SX9),DAY(SX10))","v":17},{"$f":"+IF(SY10=EOMONTH(SY10,0),IF(DAY(SY10)=Simulador!$B$27,Simulador!$B$27,SY9),DAY(SY10))","v":18},{"$f":"+IF(SZ10=EOMONTH(SZ10,0),IF(DAY(SZ10)=Simulador!$B$27,Simulador!$B$27,SZ9),DAY(SZ10))","v":19},{"$f":"+IF(TA10=EOMONTH(TA10,0),IF(DAY(TA10)=Simulador!$B$27,Simulador!$B$27,TA9),DAY(TA10))","v":20},{"$f":"+IF(TB10=EOMONTH(TB10,0),IF(DAY(TB10)=Simulador!$B$27,Simulador!$B$27,TB9),DAY(TB10))","v":21},{"$f":"+IF(TC10=EOMONTH(TC10,0),IF(DAY(TC10)=Simulador!$B$27,Simulador!$B$27,TC9),DAY(TC10))","v":22},{"$f":"+IF(TD10=EOMONTH(TD10,0),IF(DAY(TD10)=Simulador!$B$27,Simulador!$B$27,TD9),DAY(TD10))","v":23},{"$f":"+IF(TE10=EOMONTH(TE10,0),IF(DAY(TE10)=Simulador!$B$27,Simulador!$B$27,TE9),DAY(TE10))","v":24},{"$f":"+IF(TF10=EOMONTH(TF10,0),IF(DAY(TF10)=Simulador!$B$27,Simulador!$B$27,TF9),DAY(TF10))","v":25},{"$f":"+IF(TG10=EOMONTH(TG10,0),IF(DAY(TG10)=Simulador!$B$27,Simulador!$B$27,TG9),DAY(TG10))","v":26},{"$f":"+IF(TH10=EOMONTH(TH10,0),IF(DAY(TH10)=Simulador!$B$27,Simulador!$B$27,TH9),DAY(TH10))","v":27},{"$f":"+IF(TI10=EOMONTH(TI10,0),IF(DAY(TI10)=Simulador!$B$27,Simulador!$B$27,TI9),DAY(TI10))","v":28},{"$f":"+IF(TJ10=EOMONTH(TJ10,0),IF(DAY(TJ10)=Simulador!$B$27,Simulador!$B$27,TJ9),DAY(TJ10))","v":29},{"$f":"+IF(TK10=EOMONTH(TK10,0),IF(DAY(TK10)=Simulador!$B$27,Simulador!$B$27,TK9),DAY(TK10))","v":30},{"$f":"+IF(TL10=EOMONTH(TL10,0),IF(DAY(TL10)=Simulador!$B$27,Simulador!$B$27,TL9),DAY(TL10))","v":31},{"$f":"+IF(TM10=EOMONTH(TM10,0),IF(DAY(TM10)=Simulador!$B$27,Simulador!$B$27,TM9),DAY(TM10))","v":1},{"$f":"+IF(TN10=EOMONTH(TN10,0),IF(DAY(TN10)=Simulador!$B$27,Simulador!$B$27,TN9),DAY(TN10))","v":2},{"$f":"+IF(TO10=EOMONTH(TO10,0),IF(DAY(TO10)=Simulador!$B$27,Simulador!$B$27,TO9),DAY(TO10))","v":3},{"$f":"+IF(TP10=EOMONTH(TP10,0),IF(DAY(TP10)=Simulador!$B$27,Simulador!$B$27,TP9),DAY(TP10))","v":4},{"$f":"+IF(TQ10=EOMONTH(TQ10,0),IF(DAY(TQ10)=Simulador!$B$27,Simulador!$B$27,TQ9),DAY(TQ10))","v":5},{"$f":"+IF(TR10=EOMONTH(TR10,0),IF(DAY(TR10)=Simulador!$B$27,Simulador!$B$27,TR9),DAY(TR10))","v":6},{"$f":"+IF(TS10=EOMONTH(TS10,0),IF(DAY(TS10)=Simulador!$B$27,Simulador!$B$27,TS9),DAY(TS10))","v":7},{"$f":"+IF(TT10=EOMONTH(TT10,0),IF(DAY(TT10)=Simulador!$B$27,Simulador!$B$27,TT9),DAY(TT10))","v":8},{"$f":"+IF(TU10=EOMONTH(TU10,0),IF(DAY(TU10)=Simulador!$B$27,Simulador!$B$27,TU9),DAY(TU10))","v":9},{"$f":"+IF(TV10=EOMONTH(TV10,0),IF(DAY(TV10)=Simulador!$B$27,Simulador!$B$27,TV9),DAY(TV10))","v":10},{"$f":"+IF(TW10=EOMONTH(TW10,0),IF(DAY(TW10)=Simulador!$B$27,Simulador!$B$27,TW9),DAY(TW10))","v":11},{"$f":"+IF(TX10=EOMONTH(TX10,0),IF(DAY(TX10)=Simulador!$B$27,Simulador!$B$27,TX9),DAY(TX10))","v":12},{"$f":"+IF(TY10=EOMONTH(TY10,0),IF(DAY(TY10)=Simulador!$B$27,Simulador!$B$27,TY9),DAY(TY10))","v":13},{"$f":"+IF(TZ10=EOMONTH(TZ10,0),IF(DAY(TZ10)=Simulador!$B$27,Simulador!$B$27,TZ9),DAY(TZ10))","v":14},{"$f":"+IF(UA10=EOMONTH(UA10,0),IF(DAY(UA10)=Simulador!$B$27,Simulador!$B$27,UA9),DAY(UA10))","v":15},{"$f":"+IF(UB10=EOMONTH(UB10,0),IF(DAY(UB10)=Simulador!$B$27,Simulador!$B$27,UB9),DAY(UB10))","v":16},{"$f":"+IF(UC10=EOMONTH(UC10,0),IF(DAY(UC10)=Simulador!$B$27,Simulador!$B$27,UC9),DAY(UC10))","v":17},{"$f":"+IF(UD10=EOMONTH(UD10,0),IF(DAY(UD10)=Simulador!$B$27,Simulador!$B$27,UD9),DAY(UD10))","v":18},{"$f":"+IF(UE10=EOMONTH(UE10,0),IF(DAY(UE10)=Simulador!$B$27,Simulador!$B$27,UE9),DAY(UE10))","v":19},{"$f":"+IF(UF10=EOMONTH(UF10,0),IF(DAY(UF10)=Simulador!$B$27,Simulador!$B$27,UF9),DAY(UF10))","v":20},{"$f":"+IF(UG10=EOMONTH(UG10,0),IF(DAY(UG10)=Simulador!$B$27,Simulador!$B$27,UG9),DAY(UG10))","v":21},{"$f":"+IF(UH10=EOMONTH(UH10,0),IF(DAY(UH10)=Simulador!$B$27,Simulador!$B$27,UH9),DAY(UH10))","v":22},{"$f":"+IF(UI10=EOMONTH(UI10,0),IF(DAY(UI10)=Simulador!$B$27,Simulador!$B$27,UI9),DAY(UI10))","v":23},{"$f":"+IF(UJ10=EOMONTH(UJ10,0),IF(DAY(UJ10)=Simulador!$B$27,Simulador!$B$27,UJ9),DAY(UJ10))","v":24},{"$f":"+IF(UK10=EOMONTH(UK10,0),IF(DAY(UK10)=Simulador!$B$27,Simulador!$B$27,UK9),DAY(UK10))","v":25},{"$f":"+IF(UL10=EOMONTH(UL10,0),IF(DAY(UL10)=Simulador!$B$27,Simulador!$B$27,UL9),DAY(UL10))","v":26},{"$f":"+IF(UM10=EOMONTH(UM10,0),IF(DAY(UM10)=Simulador!$B$27,Simulador!$B$27,UM9),DAY(UM10))","v":27},{"$f":"+IF(UN10=EOMONTH(UN10,0),IF(DAY(UN10)=Simulador!$B$27,Simulador!$B$27,UN9),DAY(UN10))","v":28},{"$f":"+IF(UO10=EOMONTH(UO10,0),IF(DAY(UO10)=Simulador!$B$27,Simulador!$B$27,UO9),DAY(UO10))","v":29},{"$f":"+IF(UP10=EOMONTH(UP10,0),IF(DAY(UP10)=Simulador!$B$27,Simulador!$B$27,UP9),DAY(UP10))","v":30},{"$f":"+IF(UQ10=EOMONTH(UQ10,0),IF(DAY(UQ10)=Simulador!$B$27,Simulador!$B$27,UQ9),DAY(UQ10))","v":31},{"$f":"+IF(UR10=EOMONTH(UR10,0),IF(DAY(UR10)=Simulador!$B$27,Simulador!$B$27,UR9),DAY(UR10))","v":1},{"$f":"+IF(US10=EOMONTH(US10,0),IF(DAY(US10)=Simulador!$B$27,Simulador!$B$27,US9),DAY(US10))","v":2},{"$f":"+IF(UT10=EOMONTH(UT10,0),IF(DAY(UT10)=Simulador!$B$27,Simulador!$B$27,UT9),DAY(UT10))","v":3},{"$f":"+IF(UU10=EOMONTH(UU10,0),IF(DAY(UU10)=Simulador!$B$27,Simulador!$B$27,UU9),DAY(UU10))","v":4},{"$f":"+IF(UV10=EOMONTH(UV10,0),IF(DAY(UV10)=Simulador!$B$27,Simulador!$B$27,UV9),DAY(UV10))","v":5},{"$f":"+IF(UW10=EOMONTH(UW10,0),IF(DAY(UW10)=Simulador!$B$27,Simulador!$B$27,UW9),DAY(UW10))","v":6},{"$f":"+IF(UX10=EOMONTH(UX10,0),IF(DAY(UX10)=Simulador!$B$27,Simulador!$B$27,UX9),DAY(UX10))","v":7},{"$f":"+IF(UY10=EOMONTH(UY10,0),IF(DAY(UY10)=Simulador!$B$27,Simulador!$B$27,UY9),DAY(UY10))","v":8},{"$f":"+IF(UZ10=EOMONTH(UZ10,0),IF(DAY(UZ10)=Simulador!$B$27,Simulador!$B$27,UZ9),DAY(UZ10))","v":9},{"$f":"+IF(VA10=EOMONTH(VA10,0),IF(DAY(VA10)=Simulador!$B$27,Simulador!$B$27,VA9),DAY(VA10))","v":10},{"$f":"+IF(VB10=EOMONTH(VB10,0),IF(DAY(VB10)=Simulador!$B$27,Simulador!$B$27,VB9),DAY(VB10))","v":11},{"$f":"+IF(VC10=EOMONTH(VC10,0),IF(DAY(VC10)=Simulador!$B$27,Simulador!$B$27,VC9),DAY(VC10))","v":12},{"$f":"+IF(VD10=EOMONTH(VD10,0),IF(DAY(VD10)=Simulador!$B$27,Simulador!$B$27,VD9),DAY(VD10))","v":13},{"$f":"+IF(VE10=EOMONTH(VE10,0),IF(DAY(VE10)=Simulador!$B$27,Simulador!$B$27,VE9),DAY(VE10))","v":14},{"$f":"+IF(VF10=EOMONTH(VF10,0),IF(DAY(VF10)=Simulador!$B$27,Simulador!$B$27,VF9),DAY(VF10))","v":15},{"$f":"+IF(VG10=EOMONTH(VG10,0),IF(DAY(VG10)=Simulador!$B$27,Simulador!$B$27,VG9),DAY(VG10))","v":16},{"$f":"+IF(VH10=EOMONTH(VH10,0),IF(DAY(VH10)=Simulador!$B$27,Simulador!$B$27,VH9),DAY(VH10))","v":17},{"$f":"+IF(VI10=EOMONTH(VI10,0),IF(DAY(VI10)=Simulador!$B$27,Simulador!$B$27,VI9),DAY(VI10))","v":18},{"$f":"+IF(VJ10=EOMONTH(VJ10,0),IF(DAY(VJ10)=Simulador!$B$27,Simulador!$B$27,VJ9),DAY(VJ10))","v":19},{"$f":"+IF(VK10=EOMONTH(VK10,0),IF(DAY(VK10)=Simulador!$B$27,Simulador!$B$27,VK9),DAY(VK10))","v":20},{"$f":"+IF(VL10=EOMONTH(VL10,0),IF(DAY(VL10)=Simulador!$B$27,Simulador!$B$27,VL9),DAY(VL10))","v":21},{"$f":"+IF(VM10=EOMONTH(VM10,0),IF(DAY(VM10)=Simulador!$B$27,Simulador!$B$27,VM9),DAY(VM10))","v":22},{"$f":"+IF(VN10=EOMONTH(VN10,0),IF(DAY(VN10)=Simulador!$B$27,Simulador!$B$27,VN9),DAY(VN10))","v":23},{"$f":"+IF(VO10=EOMONTH(VO10,0),IF(DAY(VO10)=Simulador!$B$27,Simulador!$B$27,VO9),DAY(VO10))","v":24},{"$f":"+IF(VP10=EOMONTH(VP10,0),IF(DAY(VP10)=Simulador!$B$27,Simulador!$B$27,VP9),DAY(VP10))","v":25},{"$f":"+IF(VQ10=EOMONTH(VQ10,0),IF(DAY(VQ10)=Simulador!$B$27,Simulador!$B$27,VQ9),DAY(VQ10))","v":26},{"$f":"+IF(VR10=EOMONTH(VR10,0),IF(DAY(VR10)=Simulador!$B$27,Simulador!$B$27,VR9),DAY(VR10))","v":27},{"$f":"+IF(VS10=EOMONTH(VS10,0),IF(DAY(VS10)=Simulador!$B$27,Simulador!$B$27,VS9),DAY(VS10))","v":31},{"$f":"+IF(VT10=EOMONTH(VT10,0),IF(DAY(VT10)=Simulador!$B$27,Simulador!$B$27,VT9),DAY(VT10))","v":1},{"$f":"+IF(VU10=EOMONTH(VU10,0),IF(DAY(VU10)=Simulador!$B$27,Simulador!$B$27,VU9),DAY(VU10))","v":2},{"$f":"+IF(VV10=EOMONTH(VV10,0),IF(DAY(VV10)=Simulador!$B$27,Simulador!$B$27,VV9),DAY(VV10))","v":3},{"$f":"+IF(VW10=EOMONTH(VW10,0),IF(DAY(VW10)=Simulador!$B$27,Simulador!$B$27,VW9),DAY(VW10))","v":4},{"$f":"+IF(VX10=EOMONTH(VX10,0),IF(DAY(VX10)=Simulador!$B$27,Simulador!$B$27,VX9),DAY(VX10))","v":5},{"$f":"+IF(VY10=EOMONTH(VY10,0),IF(DAY(VY10)=Simulador!$B$27,Simulador!$B$27,VY9),DAY(VY10))","v":6},{"$f":"+IF(VZ10=EOMONTH(VZ10,0),IF(DAY(VZ10)=Simulador!$B$27,Simulador!$B$27,VZ9),DAY(VZ10))","v":7},{"$f":"+IF(WA10=EOMONTH(WA10,0),IF(DAY(WA10)=Simulador!$B$27,Simulador!$B$27,WA9),DAY(WA10))","v":8},{"$f":"+IF(WB10=EOMONTH(WB10,0),IF(DAY(WB10)=Simulador!$B$27,Simulador!$B$27,WB9),DAY(WB10))","v":9},{"$f":"+IF(WC10=EOMONTH(WC10,0),IF(DAY(WC10)=Simulador!$B$27,Simulador!$B$27,WC9),DAY(WC10))","v":10},{"$f":"+IF(WD10=EOMONTH(WD10,0),IF(DAY(WD10)=Simulador!$B$27,Simulador!$B$27,WD9),DAY(WD10))","v":11},{"$f":"+IF(WE10=EOMONTH(WE10,0),IF(DAY(WE10)=Simulador!$B$27,Simulador!$B$27,WE9),DAY(WE10))","v":12},{"$f":"+IF(WF10=EOMONTH(WF10,0),IF(DAY(WF10)=Simulador!$B$27,Simulador!$B$27,WF9),DAY(WF10))","v":13},{"$f":"+IF(WG10=EOMONTH(WG10,0),IF(DAY(WG10)=Simulador!$B$27,Simulador!$B$27,WG9),DAY(WG10))","v":14},{"$f":"+IF(WH10=EOMONTH(WH10,0),IF(DAY(WH10)=Simulador!$B$27,Simulador!$B$27,WH9),DAY(WH10))","v":15},{"$f":"+IF(WI10=EOMONTH(WI10,0),IF(DAY(WI10)=Simulador!$B$27,Simulador!$B$27,WI9),DAY(WI10))","v":16},{"$f":"+IF(WJ10=EOMONTH(WJ10,0),IF(DAY(WJ10)=Simulador!$B$27,Simulador!$B$27,WJ9),DAY(WJ10))","v":17},{"$f":"+IF(WK10=EOMONTH(WK10,0),IF(DAY(WK10)=Simulador!$B$27,Simulador!$B$27,WK9),DAY(WK10))","v":18},{"$f":"+IF(WL10=EOMONTH(WL10,0),IF(DAY(WL10)=Simulador!$B$27,Simulador!$B$27,WL9),DAY(WL10))","v":19},{"$f":"+IF(WM10=EOMONTH(WM10,0),IF(DAY(WM10)=Simulador!$B$27,Simulador!$B$27,WM9),DAY(WM10))","v":20},{"$f":"+IF(WN10=EOMONTH(WN10,0),IF(DAY(WN10)=Simulador!$B$27,Simulador!$B$27,WN9),DAY(WN10))","v":21},{"$f":"+IF(WO10=EOMONTH(WO10,0),IF(DAY(WO10)=Simulador!$B$27,Simulador!$B$27,WO9),DAY(WO10))","v":22},{"$f":"+IF(WP10=EOMONTH(WP10,0),IF(DAY(WP10)=Simulador!$B$27,Simulador!$B$27,WP9),DAY(WP10))","v":23},{"$f":"+IF(WQ10=EOMONTH(WQ10,0),IF(DAY(WQ10)=Simulador!$B$27,Simulador!$B$27,WQ9),DAY(WQ10))","v":24},{"$f":"+IF(WR10=EOMONTH(WR10,0),IF(DAY(WR10)=Simulador!$B$27,Simulador!$B$27,WR9),DAY(WR10))","v":25},{"$f":"+IF(WS10=EOMONTH(WS10,0),IF(DAY(WS10)=Simulador!$B$27,Simulador!$B$27,WS9),DAY(WS10))","v":26},{"$f":"+IF(WT10=EOMONTH(WT10,0),IF(DAY(WT10)=Simulador!$B$27,Simulador!$B$27,WT9),DAY(WT10))","v":27},{"$f":"+IF(WU10=EOMONTH(WU10,0),IF(DAY(WU10)=Simulador!$B$27,Simulador!$B$27,WU9),DAY(WU10))","v":28},{"$f":"+IF(WV10=EOMONTH(WV10,0),IF(DAY(WV10)=Simulador!$B$27,Simulador!$B$27,WV9),DAY(WV10))","v":29},{"$f":"+IF(WW10=EOMONTH(WW10,0),IF(DAY(WW10)=Simulador!$B$27,Simulador!$B$27,WW9),DAY(WW10))","v":30},{"$f":"+IF(WX10=EOMONTH(WX10,0),IF(DAY(WX10)=Simulador!$B$27,Simulador!$B$27,WX9),DAY(WX10))","v":31},{"$f":"+IF(WY10=EOMONTH(WY10,0),IF(DAY(WY10)=Simulador!$B$27,Simulador!$B$27,WY9),DAY(WY10))","v":1},{"$f":"+IF(WZ10=EOMONTH(WZ10,0),IF(DAY(WZ10)=Simulador!$B$27,Simulador!$B$27,WZ9),DAY(WZ10))","v":2},{"$f":"+IF(XA10=EOMONTH(XA10,0),IF(DAY(XA10)=Simulador!$B$27,Simulador!$B$27,XA9),DAY(XA10))","v":3},{"$f":"+IF(XB10=EOMONTH(XB10,0),IF(DAY(XB10)=Simulador!$B$27,Simulador!$B$27,XB9),DAY(XB10))","v":4},{"$f":"+IF(XC10=EOMONTH(XC10,0),IF(DAY(XC10)=Simulador!$B$27,Simulador!$B$27,XC9),DAY(XC10))","v":5},{"$f":"+IF(XD10=EOMONTH(XD10,0),IF(DAY(XD10)=Simulador!$B$27,Simulador!$B$27,XD9),DAY(XD10))","v":6},{"$f":"+IF(XE10=EOMONTH(XE10,0),IF(DAY(XE10)=Simulador!$B$27,Simulador!$B$27,XE9),DAY(XE10))","v":7},{"$f":"+IF(XF10=EOMONTH(XF10,0),IF(DAY(XF10)=Simulador!$B$27,Simulador!$B$27,XF9),DAY(XF10))","v":8},{"$f":"+IF(XG10=EOMONTH(XG10,0),IF(DAY(XG10)=Simulador!$B$27,Simulador!$B$27,XG9),DAY(XG10))","v":9},{"$f":"+IF(XH10=EOMONTH(XH10,0),IF(DAY(XH10)=Simulador!$B$27,Simulador!$B$27,XH9),DAY(XH10))","v":10},{"$f":"+IF(XI10=EOMONTH(XI10,0),IF(DAY(XI10)=Simulador!$B$27,Simulador!$B$27,XI9),DAY(XI10))","v":11},{"$f":"+IF(XJ10=EOMONTH(XJ10,0),IF(DAY(XJ10)=Simulador!$B$27,Simulador!$B$27,XJ9),DAY(XJ10))","v":12},{"$f":"+IF(XK10=EOMONTH(XK10,0),IF(DAY(XK10)=Simulador!$B$27,Simulador!$B$27,XK9),DAY(XK10))","v":13},{"$f":"+IF(XL10=EOMONTH(XL10,0),IF(DAY(XL10)=Simulador!$B$27,Simulador!$B$27,XL9),DAY(XL10))","v":14},{"$f":"+IF(XM10=EOMONTH(XM10,0),IF(DAY(XM10)=Simulador!$B$27,Simulador!$B$27,XM9),DAY(XM10))","v":15},{"$f":"+IF(XN10=EOMONTH(XN10,0),IF(DAY(XN10)=Simulador!$B$27,Simulador!$B$27,XN9),DAY(XN10))","v":16},{"$f":"+IF(XO10=EOMONTH(XO10,0),IF(DAY(XO10)=Simulador!$B$27,Simulador!$B$27,XO9),DAY(XO10))","v":17},{"$f":"+IF(XP10=EOMONTH(XP10,0),IF(DAY(XP10)=Simulador!$B$27,Simulador!$B$27,XP9),DAY(XP10))","v":18},{"$f":"+IF(XQ10=EOMONTH(XQ10,0),IF(DAY(XQ10)=Simulador!$B$27,Simulador!$B$27,XQ9),DAY(XQ10))","v":19},{"$f":"+IF(XR10=EOMONTH(XR10,0),IF(DAY(XR10)=Simulador!$B$27,Simulador!$B$27,XR9),DAY(XR10))","v":20},{"$f":"+IF(XS10=EOMONTH(XS10,0),IF(DAY(XS10)=Simulador!$B$27,Simulador!$B$27,XS9),DAY(XS10))","v":21},{"$f":"+IF(XT10=EOMONTH(XT10,0),IF(DAY(XT10)=Simulador!$B$27,Simulador!$B$27,XT9),DAY(XT10))","v":22},{"$f":"+IF(XU10=EOMONTH(XU10,0),IF(DAY(XU10)=Simulador!$B$27,Simulador!$B$27,XU9),DAY(XU10))","v":23},{"$f":"+IF(XV10=EOMONTH(XV10,0),IF(DAY(XV10)=Simulador!$B$27,Simulador!$B$27,XV9),DAY(XV10))","v":24},{"$f":"+IF(XW10=EOMONTH(XW10,0),IF(DAY(XW10)=Simulador!$B$27,Simulador!$B$27,XW9),DAY(XW10))","v":25},{"$f":"+IF(XX10=EOMONTH(XX10,0),IF(DAY(XX10)=Simulador!$B$27,Simulador!$B$27,XX9),DAY(XX10))","v":26},{"$f":"+IF(XY10=EOMONTH(XY10,0),IF(DAY(XY10)=Simulador!$B$27,Simulador!$B$27,XY9),DAY(XY10))","v":27},{"$f":"+IF(XZ10=EOMONTH(XZ10,0),IF(DAY(XZ10)=Simulador!$B$27,Simulador!$B$27,XZ9),DAY(XZ10))","v":28},{"$f":"+IF(YA10=EOMONTH(YA10,0),IF(DAY(YA10)=Simulador!$B$27,Simulador!$B$27,YA9),DAY(YA10))","v":29},{"$f":"+IF(YB10=EOMONTH(YB10,0),IF(DAY(YB10)=Simulador!$B$27,Simulador!$B$27,YB9),DAY(YB10))","v":31},{"$f":"+IF(YC10=EOMONTH(YC10,0),IF(DAY(YC10)=Simulador!$B$27,Simulador!$B$27,YC9),DAY(YC10))","v":1},{"$f":"+IF(YD10=EOMONTH(YD10,0),IF(DAY(YD10)=Simulador!$B$27,Simulador!$B$27,YD9),DAY(YD10))","v":2},{"$f":"+IF(YE10=EOMONTH(YE10,0),IF(DAY(YE10)=Simulador!$B$27,Simulador!$B$27,YE9),DAY(YE10))","v":3},{"$f":"+IF(YF10=EOMONTH(YF10,0),IF(DAY(YF10)=Simulador!$B$27,Simulador!$B$27,YF9),DAY(YF10))","v":4},{"$f":"+IF(YG10=EOMONTH(YG10,0),IF(DAY(YG10)=Simulador!$B$27,Simulador!$B$27,YG9),DAY(YG10))","v":5},{"$f":"+IF(YH10=EOMONTH(YH10,0),IF(DAY(YH10)=Simulador!$B$27,Simulador!$B$27,YH9),DAY(YH10))","v":6},{"$f":"+IF(YI10=EOMONTH(YI10,0),IF(DAY(YI10)=Simulador!$B$27,Simulador!$B$27,YI9),DAY(YI10))","v":7},{"$f":"+IF(YJ10=EOMONTH(YJ10,0),IF(DAY(YJ10)=Simulador!$B$27,Simulador!$B$27,YJ9),DAY(YJ10))","v":8},{"$f":"+IF(YK10=EOMONTH(YK10,0),IF(DAY(YK10)=Simulador!$B$27,Simulador!$B$27,YK9),DAY(YK10))","v":9},{"$f":"+IF(YL10=EOMONTH(YL10,0),IF(DAY(YL10)=Simulador!$B$27,Simulador!$B$27,YL9),DAY(YL10))","v":10},{"$f":"+IF(YM10=EOMONTH(YM10,0),IF(DAY(YM10)=Simulador!$B$27,Simulador!$B$27,YM9),DAY(YM10))","v":11},{"$f":"+IF(YN10=EOMONTH(YN10,0),IF(DAY(YN10)=Simulador!$B$27,Simulador!$B$27,YN9),DAY(YN10))","v":12},{"$f":"+IF(YO10=EOMONTH(YO10,0),IF(DAY(YO10)=Simulador!$B$27,Simulador!$B$27,YO9),DAY(YO10))","v":13},{"$f":"+IF(YP10=EOMONTH(YP10,0),IF(DAY(YP10)=Simulador!$B$27,Simulador!$B$27,YP9),DAY(YP10))","v":14},{"$f":"+IF(YQ10=EOMONTH(YQ10,0),IF(DAY(YQ10)=Simulador!$B$27,Simulador!$B$27,YQ9),DAY(YQ10))","v":15},{"$f":"+IF(YR10=EOMONTH(YR10,0),IF(DAY(YR10)=Simulador!$B$27,Simulador!$B$27,YR9),DAY(YR10))","v":16},{"$f":"+IF(YS10=EOMONTH(YS10,0),IF(DAY(YS10)=Simulador!$B$27,Simulador!$B$27,YS9),DAY(YS10))","v":17},{"$f":"+IF(YT10=EOMONTH(YT10,0),IF(DAY(YT10)=Simulador!$B$27,Simulador!$B$27,YT9),DAY(YT10))","v":18},{"$f":"+IF(YU10=EOMONTH(YU10,0),IF(DAY(YU10)=Simulador!$B$27,Simulador!$B$27,YU9),DAY(YU10))","v":19},{"$f":"+IF(YV10=EOMONTH(YV10,0),IF(DAY(YV10)=Simulador!$B$27,Simulador!$B$27,YV9),DAY(YV10))","v":20},{"$f":"+IF(YW10=EOMONTH(YW10,0),IF(DAY(YW10)=Simulador!$B$27,Simulador!$B$27,YW9),DAY(YW10))","v":21},{"$f":"+IF(YX10=EOMONTH(YX10,0),IF(DAY(YX10)=Simulador!$B$27,Simulador!$B$27,YX9),DAY(YX10))","v":22},{"$f":"+IF(YY10=EOMONTH(YY10,0),IF(DAY(YY10)=Simulador!$B$27,Simulador!$B$27,YY9),DAY(YY10))","v":23},{"$f":"+IF(YZ10=EOMONTH(YZ10,0),IF(DAY(YZ10)=Simulador!$B$27,Simulador!$B$27,YZ9),DAY(YZ10))","v":24},{"$f":"+IF(ZA10=EOMONTH(ZA10,0),IF(DAY(ZA10)=Simulador!$B$27,Simulador!$B$27,ZA9),DAY(ZA10))","v":25},{"$f":"+IF(ZB10=EOMONTH(ZB10,0),IF(DAY(ZB10)=Simulador!$B$27,Simulador!$B$27,ZB9),DAY(ZB10))","v":26},{"$f":"+IF(ZC10=EOMONTH(ZC10,0),IF(DAY(ZC10)=Simulador!$B$27,Simulador!$B$27,ZC9),DAY(ZC10))","v":27},{"$f":"+IF(ZD10=EOMONTH(ZD10,0),IF(DAY(ZD10)=Simulador!$B$27,Simulador!$B$27,ZD9),DAY(ZD10))","v":28},{"$f":"+IF(ZE10=EOMONTH(ZE10,0),IF(DAY(ZE10)=Simulador!$B$27,Simulador!$B$27,ZE9),DAY(ZE10))","v":29},{"$f":"+IF(ZF10=EOMONTH(ZF10,0),IF(DAY(ZF10)=Simulador!$B$27,Simulador!$B$27,ZF9),DAY(ZF10))","v":30},{"$f":"+IF(ZG10=EOMONTH(ZG10,0),IF(DAY(ZG10)=Simulador!$B$27,Simulador!$B$27,ZG9),DAY(ZG10))","v":31},{"$f":"+IF(ZH10=EOMONTH(ZH10,0),IF(DAY(ZH10)=Simulador!$B$27,Simulador!$B$27,ZH9),DAY(ZH10))","v":1},{"$f":"+IF(ZI10=EOMONTH(ZI10,0),IF(DAY(ZI10)=Simulador!$B$27,Simulador!$B$27,ZI9),DAY(ZI10))","v":2},{"$f":"+IF(ZJ10=EOMONTH(ZJ10,0),IF(DAY(ZJ10)=Simulador!$B$27,Simulador!$B$27,ZJ9),DAY(ZJ10))","v":3},{"$f":"+IF(ZK10=EOMONTH(ZK10,0),IF(DAY(ZK10)=Simulador!$B$27,Simulador!$B$27,ZK9),DAY(ZK10))","v":4},{"$f":"+IF(ZL10=EOMONTH(ZL10,0),IF(DAY(ZL10)=Simulador!$B$27,Simulador!$B$27,ZL9),DAY(ZL10))","v":5},{"$f":"+IF(ZM10=EOMONTH(ZM10,0),IF(DAY(ZM10)=Simulador!$B$27,Simulador!$B$27,ZM9),DAY(ZM10))","v":6},{"$f":"+IF(ZN10=EOMONTH(ZN10,0),IF(DAY(ZN10)=Simulador!$B$27,Simulador!$B$27,ZN9),DAY(ZN10))","v":7},{"$f":"+IF(ZO10=EOMONTH(ZO10,0),IF(DAY(ZO10)=Simulador!$B$27,Simulador!$B$27,ZO9),DAY(ZO10))","v":8},{"$f":"+IF(ZP10=EOMONTH(ZP10,0),IF(DAY(ZP10)=Simulador!$B$27,Simulador!$B$27,ZP9),DAY(ZP10))","v":9},{"$f":"+IF(ZQ10=EOMONTH(ZQ10,0),IF(DAY(ZQ10)=Simulador!$B$27,Simulador!$B$27,ZQ9),DAY(ZQ10))","v":10},{"$f":"+IF(ZR10=EOMONTH(ZR10,0),IF(DAY(ZR10)=Simulador!$B$27,Simulador!$B$27,ZR9),DAY(ZR10))","v":11},{"$f":"+IF(ZS10=EOMONTH(ZS10,0),IF(DAY(ZS10)=Simulador!$B$27,Simulador!$B$27,ZS9),DAY(ZS10))","v":12},{"$f":"+IF(ZT10=EOMONTH(ZT10,0),IF(DAY(ZT10)=Simulador!$B$27,Simulador!$B$27,ZT9),DAY(ZT10))","v":13},{"$f":"+IF(ZU10=EOMONTH(ZU10,0),IF(DAY(ZU10)=Simulador!$B$27,Simulador!$B$27,ZU9),DAY(ZU10))","v":14},{"$f":"+IF(ZV10=EOMONTH(ZV10,0),IF(DAY(ZV10)=Simulador!$B$27,Simulador!$B$27,ZV9),DAY(ZV10))","v":15},{"$f":"+IF(ZW10=EOMONTH(ZW10,0),IF(DAY(ZW10)=Simulador!$B$27,Simulador!$B$27,ZW9),DAY(ZW10))","v":16},{"$f":"+IF(ZX10=EOMONTH(ZX10,0),IF(DAY(ZX10)=Simulador!$B$27,Simulador!$B$27,ZX9),DAY(ZX10))","v":17},{"$f":"+IF(ZY10=EOMONTH(ZY10,0),IF(DAY(ZY10)=Simulador!$B$27,Simulador!$B$27,ZY9),DAY(ZY10))","v":18},{"$f":"+IF(ZZ10=EOMONTH(ZZ10,0),IF(DAY(ZZ10)=Simulador!$B$27,Simulador!$B$27,ZZ9),DAY(ZZ10))","v":19},{"$f":"+IF(AAA10=EOMONTH(AAA10,0),IF(DAY(AAA10)=Simulador!$B$27,Simulador!$B$27,AAA9),DAY(AAA10))","v":20},{"$f":"+IF(AAB10=EOMONTH(AAB10,0),IF(DAY(AAB10)=Simulador!$B$27,Simulador!$B$27,AAB9),DAY(AAB10))","v":21},{"$f":"+IF(AAC10=EOMONTH(AAC10,0),IF(DAY(AAC10)=Simulador!$B$27,Simulador!$B$27,AAC9),DAY(AAC10))","v":22},{"$f":"+IF(AAD10=EOMONTH(AAD10,0),IF(DAY(AAD10)=Simulador!$B$27,Simulador!$B$27,AAD9),DAY(AAD10))","v":23},{"$f":"+IF(AAE10=EOMONTH(AAE10,0),IF(DAY(AAE10)=Simulador!$B$27,Simulador!$B$27,AAE9),DAY(AAE10))","v":24},{"$f":"+IF(AAF10=EOMONTH(AAF10,0),IF(DAY(AAF10)=Simulador!$B$27,Simulador!$B$27,AAF9),DAY(AAF10))","v":25},{"$f":"+IF(AAG10=EOMONTH(AAG10,0),IF(DAY(AAG10)=Simulador!$B$27,Simulador!$B$27,AAG9),DAY(AAG10))","v":26},{"$f":"+IF(AAH10=EOMONTH(AAH10,0),IF(DAY(AAH10)=Simulador!$B$27,Simulador!$B$27,AAH9),DAY(AAH10))","v":27},{"$f":"+IF(AAI10=EOMONTH(AAI10,0),IF(DAY(AAI10)=Simulador!$B$27,Simulador!$B$27,AAI9),DAY(AAI10))","v":28},{"$f":"+IF(AAJ10=EOMONTH(AAJ10,0),IF(DAY(AAJ10)=Simulador!$B$27,Simulador!$B$27,AAJ9),DAY(AAJ10))","v":29},{"$f":"+IF(AAK10=EOMONTH(AAK10,0),IF(DAY(AAK10)=Simulador!$B$27,Simulador!$B$27,AAK9),DAY(AAK10))","v":31},{"$f":"+IF(AAL10=EOMONTH(AAL10,0),IF(DAY(AAL10)=Simulador!$B$27,Simulador!$B$27,AAL9),DAY(AAL10))","v":1},{"$f":"+IF(AAM10=EOMONTH(AAM10,0),IF(DAY(AAM10)=Simulador!$B$27,Simulador!$B$27,AAM9),DAY(AAM10))","v":2},{"$f":"+IF(AAN10=EOMONTH(AAN10,0),IF(DAY(AAN10)=Simulador!$B$27,Simulador!$B$27,AAN9),DAY(AAN10))","v":3},{"$f":"+IF(AAO10=EOMONTH(AAO10,0),IF(DAY(AAO10)=Simulador!$B$27,Simulador!$B$27,AAO9),DAY(AAO10))","v":4},{"$f":"+IF(AAP10=EOMONTH(AAP10,0),IF(DAY(AAP10)=Simulador!$B$27,Simulador!$B$27,AAP9),DAY(AAP10))","v":5},{"$f":"+IF(AAQ10=EOMONTH(AAQ10,0),IF(DAY(AAQ10)=Simulador!$B$27,Simulador!$B$27,AAQ9),DAY(AAQ10))","v":6},{"$f":"+IF(AAR10=EOMONTH(AAR10,0),IF(DAY(AAR10)=Simulador!$B$27,Simulador!$B$27,AAR9),DAY(AAR10))","v":7},{"$f":"+IF(AAS10=EOMONTH(AAS10,0),IF(DAY(AAS10)=Simulador!$B$27,Simulador!$B$27,AAS9),DAY(AAS10))","v":8},{"$f":"+IF(AAT10=EOMONTH(AAT10,0),IF(DAY(AAT10)=Simulador!$B$27,Simulador!$B$27,AAT9),DAY(AAT10))","v":9},{"$f":"+IF(AAU10=EOMONTH(AAU10,0),IF(DAY(AAU10)=Simulador!$B$27,Simulador!$B$27,AAU9),DAY(AAU10))","v":10}]
[null,"Lunes del periodo",{"$f":"+IF(WEEKDAY(C10,2)=1,\"Lunes\",0)","v":0},"Lunes",0,0,0,0,0,0,"Lunes",0,0,0,0,0,0,"Lunes",0,0,0,0,0,0,"Lunes",0,0,0,0,0,0,"Lunes",0,0,0,0,0,0,"Lunes",0,0,0,0,0,0,"Lunes",0,0,0,0,0,0,"Lunes",0,0,0,0,0,0,"Lunes",0,0,0,0,0,0,{"$f":"+IF(WEEKDAY(BO10,2)=1,\"Lunes\",0)","v":"Lunes"},0,0,0,0,0,0,"Lunes",0,0,0,0,0,0,"Lunes",0,0,0,0,0,0,"Lunes",0,0,0,0,0,0,"Lunes",0,0,0,0,0,0,"Lunes",0,0,0,0,0,0,"Lunes",0,0,0,0,0,0,"Lunes",0,0,0,0,0,0,"Lunes",0,0,0,0,0,0,"Lunes",{"$f":"+IF(WEEKDAY(EA10,2)=1,\"Lunes\",0)","v":0},0,0,0,0,0,"Lunes",0,0,0,0,0,0,"Lunes",0,0,0,0,0,0,"Lunes",0,0,0,0,0,0,"Lunes",0,0,0,0,0,0,"Lunes",0,0,0,0,0,0,"Lunes",0,0,0,0,0,0,"Lunes",0,0,0,0,0,0,"Lunes",0,0,0,0,0,0,"Lunes",0,{"$f":"+IF(WEEKDAY(GM10,2)=1,\"Lunes\",0)","v":0},0,0,0,0,"Lunes",0,0,0,0,0,0,"Lunes",0,0,0,0,0,0,"Lunes",0,0,0,0,0,0,"Lunes",0,0,0,0,0,0,"Lunes",0,0,0,0,0,0,"Lunes",0,0,0,0,0,0,"Lunes",0,0,0,0,0,0,"Lunes",0,0,0,0,0,0,"Lunes",0,0,{"$f":"+IF(WEEKDAY(IY10,2)=1,\"Lunes\",0)","v":0},0,0,0,"Lunes",0,0,0,0,0,0,"Lunes",0,0,0,0,0,0,"Lunes",0,0,0,0,0,0,"Lunes",0,0,0,0,0,0,"Lunes",0,0,0,0,0,0,"Lunes",0,0,0,0,0,0,"Lunes",0,0,0,0,0,0,"Lunes",0,0,0,0,0,0,"Lunes",0,0,0,{"$f":"+IF(WEEKDAY(LK10,2)=1,\"Lunes\",0)","v":0},0,0,"Lunes",0,0,0,0,0,0,"Lunes",0,0,0,0,0,0,"Lunes",0,0,0,0,0,0,"Lunes",0,0,0,0,0,0,"Lunes",0,0,0,0,0,0,"Lunes",0,0,0,0,0,0,"Lunes",0,0,0,0,0,0,"Lunes",0,0,0,0,0,0,"Lunes",0,0,0,0,{"$f":"+IF(WEEKDAY(NW10,2)=1,\"Lunes\",0)","v":0},0,"Lunes",0,0,0,0,0,0,"Lunes",0,0,0,0,0,0,"Lunes",0,0,0,0,0,0,"Lunes",0,0,0,0,0,0,"Lunes",0,0,0,0,0,0,"Lunes",0,0,0,0,0,0,"Lunes",0,0,0,0,0,0,"Lunes",0,0,0,0,0,0,"Lunes",0,0,0,0,0,{"$f":"+IF(WEEKDAY(QI10,2)=1,\"Lunes\",0)","v":0},"Lunes",0,0,0,0,0,0,"Lunes",0,0,0,0,0,0,"Lunes",0,0,0,0,0,0,"Lunes",0,0,0,0,0,0,"Lunes",0,0,0,0,0,0,"Lunes",0,0,0,0,0,0,"Lunes",0,0,0,0,0,0,"Lunes",0,0,0,0,0,0,"Lunes",0,0,0,0,0,0,{"$f":"+IF(WEEKDAY(SU10,2)=1,\"Lunes\",0)","v":"Lunes"},0,0,0,0,0,0,"Lunes",0,0,0,0,0,0,"Lunes",0,0,0,0,0,0,"Lunes",0,0,0,0,0,0,"Lunes",0,0,0,0,0,0,"Lunes",0,0,0,0,0,0,"Lunes",0,0,0,0,0,0,"Lunes",0,0,0,0,0,0,"Lunes",0,0,0,0,0,0,"Lunes",{"$f":"+IF(WEEKDAY(VG10,2)=1,\"Lunes\",0)","v":0},0,0,0,0,0,"Lunes",0,0,0,0,0,0,"Lunes",0,0,0,0,0,0,"Lunes",0,0,0,0,0,0,"Lunes",0,0,0,0,0,0,"Lunes",0,0,0,0,0,0,"Lunes",0,0,0,0,0,0,"Lunes",0,0,0,0,0,0,"Lunes",0,0,0,0,0,0,"Lunes",0,{"$f":"+IF(WEEKDAY(XS10,2)=1,\"Lunes\",0)","v":0},0,0,0,0,"Lunes",0,0,0,0,0,0,"Lunes",0,0,0,0,0,0,"Lunes",0,0,0,0,0,0,"Lunes",0,0,0,0,0,0,"Lunes",0,0,0,0,0,0,"Lunes",0,0,0,0,0,0,"Lunes",0,0,0,0,0,0,"Lunes",0,0,0,0,0,0,"Lunes",0,0,{"$f":"+IF(WEEKDAY(AAE10,2)=1,\"Lunes\",0)","v":0},0,0,0,"Lunes",0,0,0,0,0,0,"Lunes",0,0,0,0,0]
[null,"Día capitalizable pichincha","Sí","Sí","Sí","Sí","Sí","Sí","Sí","Sí","Sí","Sí","Sí","Sí","Sí","Sí","Sí","Sí","Sí","Sí","Sí","Sí","Sí","Sí","Sí","Sí","Sí","Sí","Sí","Sí","Sí","Sí","Sí","Sí","Sí","Sí","Sí","Sí","Sí","Sí","Sí","Sí","Sí","Sí","Sí","Sí","Sí","Sí","Sí","Sí","Sí","Sí","Sí","Sí","Sí","Sí","Sí","Sí","Sí","Sí","Sí","Sí","Sí","Sí","Sí","Sí","Sí","Sí","Sí","Sí","Sí","Sí","Sí","Sí","Sí","Sí","Sí","Sí","Sí","Sí","Sí","Sí","Sí","Sí","Sí","Sí","Sí","Sí","Sí","Sí","Sí","Sí","Sí","Sí","Sí","Sí","Sí","Sí","Sí","Sí","Sí","Sí","Sí","Sí","Sí","Sí","Sí","Sí","Sí","Sí","Sí","Sí","Sí","Sí","Sí","Sí","Sí","Sí","Sí","Sí","Sí","Sí","Sí","Sí","Sí","Sí","Sí","Sí","Sí","Sí","Sí","Sí","Sí","Sí","Sí","Sí","Sí","Sí","Sí","Sí","Sí","Sí","Sí","Sí","Sí","Sí","Sí","Sí","Sí","Sí","Sí","Sí","Sí","Sí","Sí","Sí","Sí","Sí","Sí","Sí","Sí","Sí","Sí","Sí","Sí","Sí","Sí","Sí","Sí","Sí","Sí","Sí","Sí","Sí","Sí","Sí","Sí","Sí","Sí","Sí","Sí","Sí","Sí","Sí","Sí","Sí","Sí","Sí","Sí","Sí","Sí","Sí","Sí","Sí","Sí","Sí","Sí","Sí","Sí","Sí","Sí","Sí","Sí","Sí","Sí","Sí","Sí","Sí","Sí","Sí","Sí","Sí","Sí","Sí","Sí","Sí","Sí","Sí","Sí","Sí","Sí","Sí","Sí","Sí","Sí","Sí","Sí","Sí","Sí","Sí","Sí","Sí","Sí","Sí","Sí","Sí","Sí","Sí","Sí","Sí","Sí","Sí","Sí","Sí","Sí","Sí","Sí","Sí","Sí","Sí","Sí","Sí","Sí","Sí","Sí","Sí","Sí","Sí","Sí","Sí","Sí","Sí","Sí","Sí","Sí","Sí","Sí","Sí","Sí","Sí","Sí","Sí","Sí","Sí","Sí","Sí","Sí","Sí","Sí","Sí","Sí","Sí","Sí","Sí","Sí","Sí","Sí","Sí","Sí","Sí","Sí","Sí","Sí","Sí","Sí","Sí","Sí","Sí","Sí","Sí","Sí","Sí","Sí","Sí","Sí","Sí","Sí","Sí","Sí","Sí","Sí","Sí","Sí","Sí","Sí","Sí","Sí","Sí","Sí","Sí","Sí","Sí","Sí","Sí","Sí","Sí","Sí","Sí","Sí","Sí","Sí","Sí","Sí","Sí","Sí","Sí","Sí","Sí","Sí","Sí","Sí","Sí","Sí","Sí","Sí","Sí","Sí","Sí","Sí","Sí","Sí","Sí","Sí","Sí","Sí","Sí","Sí","Sí","Sí","Sí","Sí","Sí","Sí","Sí","Sí","Sí","Sí","Sí","Sí","Sí","Sí","Sí","Sí","Sí","Sí","Sí","Sí","Sí","Sí","Sí","Sí","Sí","Sí","Sí","Sí","Sí","Sí","Sí","Sí","Sí","Sí","Sí","Sí","Sí","Sí","Sí","Sí","Sí","Sí","Sí","Sí","Sí","Sí","Sí","Sí","Sí","Sí","Sí","Sí","Sí","Sí","Sí","Sí","Sí","Sí","Sí","Sí","Sí","Sí","Sí","Sí","Sí","Sí","Sí","Sí","Sí","Sí","Sí","Sí","Sí","Sí","Sí","Sí","Sí","Sí","Sí","Sí","Sí","Sí","Sí","Sí","Sí","Sí","Sí","Sí","Sí","Sí","Sí","Sí","Sí","Sí","Sí","Sí","Sí","Sí","Sí","Sí","Sí","Sí","Sí","Sí","Sí","Sí","Sí","Sí","Sí","Sí","Sí","Sí","Sí","Sí","Sí","Sí","Sí","Sí","Sí","Sí","Sí","Sí","Sí","Sí","Sí","Sí","Sí","Sí","Sí","Sí","Sí","Sí","Sí","Sí","Sí","Sí","Sí","Sí","Sí","Sí","Sí","Sí","Sí","Sí","Sí","Sí","Sí","Sí","Sí","Sí","Sí","Sí","Sí","Sí","Sí","Sí","Sí","Sí","Sí","Sí","Sí","Sí","Sí","Sí","Sí","Sí","Sí","Sí","Sí","Sí","Sí","Sí","Sí","Sí","Sí","Sí","Sí","Sí","Sí","Sí","Sí","Sí","Sí","Sí","Sí","Sí","Sí","Sí","Sí","Sí","Sí","Sí","Sí","Sí","Sí","Sí","Sí","Sí","Sí","Sí","Sí","Sí","Sí","Sí","Sí","Sí","Sí","Sí","Sí","Sí","Sí","Sí","Sí","Sí","Sí","Sí","Sí","Sí","Sí","Sí","Sí","Sí","Sí","Sí","Sí","Sí","Sí","Sí","Sí","Sí","Sí","Sí","Sí","Sí","Sí","Sí","Sí","Sí","Sí","Sí","Sí","Sí","Sí","Sí","Sí","Sí","Sí","Sí","Sí","Sí","Sí","Sí","Sí","Sí","Sí","Sí","Sí","Sí","Sí","Sí","Sí","Sí","Sí","Sí","Sí","Sí","Sí","Sí","Sí","Sí","Sí","Sí","Sí","Sí","Sí","Sí","Sí","Sí","Sí","Sí","Sí","Sí","Sí","Sí","Sí","Sí","Sí","Sí","Sí","Sí","Sí","Sí","Sí","Sí","Sí","Sí","Sí","Sí","Sí","Sí","Sí","Sí","Sí","Sí","Sí","Sí","Sí","Sí","Sí","Sí","Sí","Sí","Sí","Sí","Sí","Sí","Sí","Sí","Sí","Sí","Sí","Sí","Sí","Sí","Sí","Sí","Sí","Sí","Sí","Sí","Sí","Sí","Sí","Sí","Sí","Sí","Sí","Sí","Sí","Sí","Sí","Sí","Sí","Sí","Sí","Sí","Sí","Sí","Sí","Sí","Sí","Sí","Sí","Sí","Sí","Sí","Sí","Sí","Sí","Sí","Sí","Sí","Sí","Sí","Sí","Sí"]
[]
[null,"Aporte Inicial",{"$f":"+Simulador!B13","v":10}]
[null,"Aporte Mensual",{"$f":"+IF(C18=Simulador!$B$27,Simulador!$B$21,0)","v":0},{"$f":"+IF(D18=Simulador!$B$27,Simulador!$B$21,0)","v":50},{"$f":"+IF(E18=Simulador!$B$27,Simulador!$B$21,0)","v":0},{"$f":"+IF(F18=Simulador!$B$27,Simulador!$B$21,0)","v":0},{"$f":"+IF(G18=Simulador!$B$27,Simulador!$B$21,0)","v":0},{"$f":"+IF(H18=Simulador!$B$27,Simulador!$B$21,0)","v":0},{"$f":"+IF(I18=Simulador!$B$27,Simulador!$B$21,0)","v":0},{"$f":"+IF(J18=Simulador!$B$27,Simulador!$B$21,0)","v":0},{"$f":"+IF(K18=Simulador!$B$27,Simulador!$B$21,0)","v":0},{"$f":"+IF(L18=Simulador!$B$27,Simulador!$B$21,0)","v":0},{"$f":"+IF(M18=Simulador!$B$27,Simulador!$B$21,0)","v":0},{"$f":"+IF(N18=Simulador!$B$27,Simulador!$B$21,0)","v":0},{"$f":"+IF(O18=Simulador!$B$27,Simulador!$B$21,0)","v":0},{"$f":"+IF(P18=Simulador!$B$27,Simulador!$B$21,0)","v":0},{"$f":"+IF(Q18=Simulador!$B$27,Simulador!$B$21,0)","v":0},{"$f":"+IF(R18=Simulador!$B$27,Simulador!$B$21,0)","v":0},{"$f":"+IF(S18=Simulador!$B$27,Simulador!$B$21,0)","v":0},{"$f":"+IF(T18=Simulador!$B$27,Simulador!$B$21,0)","v":0},{"$f":"+IF(U18=Simulador!$B$27,Simulador!$B$21,0)","v":0},{"$f":"+IF(V18=Simulador!$B$27,Simulador!$B$21,0)","v":0},{"$f":"+IF(W18=Simulador!$B$27,Simulador!$B$21,0)","v":0},{"$f":"+IF(X18=Simulador!$B$27,Simulador!$B$21,0)","v":0},{"$f":"+IF(Y18=Simulador!$B$27,Simulador!$B$21,0)","v":0},{"$f":"+IF(Z18=Simulador!$B$27,Simulador!$B$21,0)","v":0},{"$f":"+IF(AA18=Simulador!$B$27,Simulador!$B$21,0)","v":0},{"$f":"+IF(AB18=Simulador!$B$27,Simulador!$B$21,0)","v":0},{"$f":"+IF(AC18=Simulador!$B$27,Simulador!$B$21,0)","v":0},{"$f":"+IF(AD18=Simulador!$B$27,Simulador!$B$21,0)","v":0},{"$f":"+IF(AE18=Simulador!$B$27,Simulador!$B$21,0)","v":0},{"$f":"+IF(AF18=Simulador!$B$27,Simulador!$B$21,0)","v":0},{"$f":"+IF(AG18=Simulador!$B$27,Simulador!$B$21,0)","v":0},{"$f":"+IF(AH18=Simulador!$B$27,Simulador!$B$21,0)","v":0},{"$f":"+IF(AI18=Simulador!$B$27,Simulador!$B$21,0)","v":50},{"$f":"+IF(AJ18=Simulador!$B$27,Simulador!$B$21,0)","v":0},{"$f":"+IF(AK18=Simulador!$B$27,Simulador!$B$21,0)","v":0},{"$f":"+IF(AL18=Simulador!$B$27,Simulador!$B$21,0)","v":0},{"$f":"+IF(AM18=Simulador!$B$27,Simulador!$B$21,0)","v":0},{"$f":"+IF(AN18=Simulador!$B$27,Simulador!$B$21,0)","v":0},{"$f":"+IF(AO18=Simulador!$B$27,Simulador!$B$21,0)","v":0},{"$f":"+IF(AP18=Simulador!$B$27,Simulador!$B$21,0)","v":0},{"$f":"+IF(AQ18=Simulador!$B$27,Simulador!$B$21,0)","v":0},{"$f":"+IF(AR18=Simulador!$B$27,Simulador!$B$21,0)","v":0},{"$f":"+IF(AS18=Simulador!$B$27,Simulador!$B$21,0)","v":0},{"$f":"+IF(AT18=Simulador!$B$27,Simulador!$B$21,0)","v":0},{"$f":"+IF(AU18=Simulador!$B$27,Simulador!$B$21,0)","v":0},{"$f":"+IF(AV18=Simulador!$B$27,Simulador!$B$21,0)","v":0},{"$f":"+IF(AW18=Simulador!$B$27,Simulador!$B$21,0)","v":0},{"$f":"+IF(AX18=Simulador!$B$27,Simulador!$B$21,0)","v":0},{"$f":"+IF(AY18=Simulador!$B$27,Simulador!$B$21,0)","v":0},{"$f":"+IF(AZ18=Simulador!$B$27,Simulador!$B$21,0)","v":0},{"$f":"+IF(BA18=Simulador!$B$27,Simulador!$B$21,0)","v":0},{"$f":"+IF(BB18=Simulador!$B$27,Simulador!$B$21,0)","v":0},{"$f":"+IF(BC18=Simulador!$B$27,Simulador!$B$21,0)","v":0},{"$f":"+IF(BD18=Simulador!$B$27,Simulador!$B$21,0)","v":0},{"$f":"+IF(BE18=Simulador!$B$27,Simulador!$B$21,0)","v":0},{"$f":"+IF(BF18=Simulador!$B$27,Simulador!$B$21,0)","v":0},{"$f":"+IF(BG18=Simulador!$B$27,Simulador!$B$21,0)","v":0},{"$f":"+IF(BH18=Simulador!$B$27,Simulador!$B$21,0)","v":0},{"$f":"+IF(BI18=Simulador!$B$27,Simulador!$B$21,0)","v":0},{"$f":"+IF(BJ18=Simulador!$B$27,Simulador!$B$21,0)","v":0},{"$f":"+IF(BK18=Simulador!$B$27,Simulador!$B$21,0)","v":0},{"$f":"+IF(BL18=Simulador!$B$27,Simulador!$B$21,0)","v":0},{"$f":"+IF(BM18=Simulador!$B$27,Simulador!$B$21,0)","v":0},{"$f":"+IF(BN18=Simulador!$B$27,Simulador!$B$21,0)","v":50},{"$f":"+IF(BO18=Simulador!$B$27,Simulador!$B$21,0)","v":0},{"$f":"+IF(BP18=Simulador!$B$27,Simulador!$B$21,0)","v":0},{"$f":"+IF(BQ18=Simulador!$B$27,Simulador!$B$21,0)","v":0},{"$f":"+IF(BR18=Simulador!$B$27,Simulador!$B$21,0)","v":0},{"$f":"+IF(BS18=Simulador!$B$27,Simulador!$B$21,0)","v":0},{"$f":"+IF(BT18=Simulador!$B$27,Simulador!$B$21,0)","v":0},{"$f":"+IF(BU18=Simulador!$B$27,Simulador!$B$21,0)","v":0},{"$f":"+IF(BV18=Simulador!$B$27,Simulador!$B$21,0)","v":0},{"$f":"+IF(BW18=Simulador!$B$27,Simulador!$B$21,0)","v":0},{"$f":"+IF(BX18=Simulador!$B$27,Simulador!$B$21,0)","v":0},{"$f":"+IF(BY18=Simulador!$B$27,Simulador!$B$21,0)","v":0},{"$f":"+IF(BZ18=Simulador!$B$27,Simulador!$B$21,0)","v":0},{"$f":"+IF(CA18=Simulador!$B$27,Simulador!$B$21,0)","v":0},{"$f":"+IF(CB18=Simulador!$B$27,Simulador!$B$21,0)","v":0},{"$f":"+IF(CC18=Simulador!$B$27,Simulador!$B$21,0)","v":0},{"$f":"+IF(CD18=Simulador!$B$27,Simulador!$B$21,0)","v":0},{"$f":"+IF(CE18=Simulador!$B$27,Simulador!$B$21,0)","v":0},{"$f":"+IF(CF18=Simulador!$B$27,Simulador!$B$21,0)","v":0},{"$f":"+IF(CG18=Simulador!$B$27,Simulador!$B$21,0)","v":0},{"$f":"+IF(CH18=Simulador!$B$27,Simulador!$B$21,0)","v":0},{"$f":"+IF(CI18=Simulador!$B$27,Simulador!$B$21,0)","v":0},{"$f":"+IF(CJ18=Simulador!$B$27,Simulador!$B$21,0)","v":0},{"$f":"+IF(CK18=Simulador!$B$27,Simulador!$B$21,0)","v":0},{"$f":"+IF(CL18=Simulador!$B$27,Simulador!$B$21,0)","v":0},{"$f":"+IF(CM18=Simulador!$B$27,Simulador!$B$21,0)","v":0},{"$f":"+IF(CN18=Simulador!$B$27,Simulador!$B$21,0)","v":0},{"$f":"+IF(CO18=Simulador!$B$27,Simulador!$B$21,0)","v":0},{"$f":"+IF(CP18=Simulador!$B$27,Simulador!$B$21,0)","v":0},{"$f":"+IF(CQ18=Simulador!$B$27,Simulador!$B$21,0)","v":0},{"$f":"+IF(CR18=Simulador!$B$27,Simulador!$B$21,0)","v":50},{"$f":"+IF(CS18=Simulador!$B$27,Simulador!$B$21,0)","v":0},{"$f":"+IF(CT18=Simulador!$B$27,Simulador!$B$21,0)","v":0},{"$f":"+IF(CU18=Simulador!$B$27,Simulador!$B$21,0)","v":0},{"$f":"+IF(CV18=Simulador!$B$27,Simulador!$B$21,0)","v":0},{"$f":"+IF(CW18=Simulador!$B$27,Simulador!$B$21,0)","v":0},{"$f":"+IF(CX18=Simulador!$B$27,Simulador!$B$21,0)","v":0},{"$f":"+IF(CY18=Simulador!$B$27,Simulador!$B$21,0)","v":0},{"$f":"+IF(CZ18=Simulador!$B$27,Simulador!$B$21,0)","v":0},{"$f":"+IF(DA18=Simulador!$B$27,Simulador!$B$21,0)","v":0},{"$f":"+IF(DB18=Simulador!$B$27,Simulador!$B$21,0)","v":0},{"$f":"+IF(DC18=Simulador!$B$27,Simulador!$B$21,0)","v":0},{"$f":"+IF(DD18=Simulador!$B$27,Simulador!$B$21,0)","v":0},{"$f":"+IF(DE18=Simulador!$B$27,Simulador!$B$21,0)","v":0},{"$f":"+IF(DF18=Simulador!$B$27,Simulador!$B$21,0)","v":0},{"$f":"+IF(DG18=Simulador!$B$27,Simulador!$B$21,0)","v":0},{"$f":"+IF(DH18=Simulador!$B$27,Simulador!$B$21,0)","v":0},{"$f":"+IF(DI18=Simulador!$B$27,Simulador!$B$21,0)","v":0},{"$f":"+IF(DJ18=Simulador!$B$27,Simulador!$B$21,0)","v":0},{"$f":"+IF(DK18=Simulador!$B$27,Simulador!$B$21,0)","v":0},{"$f":"+IF(DL18=Simulador!$B$27,Simulador!$B$21,0)","v":0},{"$f":"+IF(DM18=Simulador!$B$27,Simulador!$B$21,0)","v":0},{"$f":"+IF(DN18=Simulador!$B$27,Simulador!$B$21,0)","v":0},{"$f":"+IF(DO18=Simulador!$B$27,Simulador!$B$21,0)","v":0},{"$f":"+IF(DP18=Simulador!$B$27,Simulador!$B$21,0)","v":0},{"$f":"+IF(DQ18=Simulador!$B$27,Simulador!$B$21,0)","v":0},{"$f":"+IF(DR18=Simulador!$B$27,Simulador!$B$21,0)","v":0},{"$f":"+IF(DS18=Simulador!$B$27,Simulador!$B$21,0)","v":0},{"$f":"+IF(DT18=Simulador!$B$27,Simulador!$B$21,0)","v":0},{"$f":"+IF(DU18=Simulador!$B$27,Simulador!$B$21,0)","v":0},{"$f":"+IF(DV18=Simulador!$B$27,Simulador!$B$21,0)","v":0},{"$f":"+IF(DW18=Simulador!$B$27,Simulador!$B$21,0)","v":50},{"$f":"+IF(DX18=Simulador!$B$27,Simulador!$B$21,0)","v":0},{"$f":"+IF(DY18=Simulador!$B$27,Simulador!$B$21,0)","v":0},{"$f":"+IF(DZ18=Simulador!$B$27,Simulador!$B$21,0)","v":0},{"$f":"+IF(EA18=Simulador!$B$27,Simulador!$B$21,0)","v":0},{"$f":"+IF(EB18=Simulador!$B$27,Simulador!$B$21,0)","v":0},{"$f":"+IF(EC18=Simulador!$B$27,Simulador!$B$21,0)","v":0},{"$f":"+IF(ED18=Simulador!$B$27,Simulador!$B$21,0)","v":0},{"$f":"+IF(EE18=Simulador!$B$27,Simulador!$B$21,0)","v":0},{"$f":"+IF(EF18=Simulador!$B$27,Simulador!$B$21,0)","v":0},{"$f":"+IF(EG18=Simulador!$B$27,Simulador!$B$21,0)","v":0},{"$f":"+IF(EH18=Simulador!$B$27,Simulador!$B$21,0)","v":0},{"$f":"+IF(EI18=Simulador!$B$27,Simulador!$B$21,0)","v":0},{"$f":"+IF(EJ18=Simulador!$B$27,Simulador!$B$21,0)","v":0},{"$f":"+IF(EK18=Simulador!$B$27,Simulador!$B$21,0)","v":0},{"$f":"+IF(EL18=Simulador!$B$27,Simulador!$B$21,0)","v":0},{"$f":"+IF(EM18=Simulador!$B$27,Simulador!$B$21,0)","v":0},{"$f":"+IF(EN18=Simulador!$B$27,Simulador!$B$21,0)","v":0},{"$f":"+IF(EO18=Simulador!$B$27,Simulador!$B$21,0)","v":0},{"$f":"+IF(EP18=Simulador!$B$27,Simulador!$B$21,0)","v":0},{"$f":"+IF(EQ18=Simulador!$B$27,Simulador!$B$21,0)","v":0},{"$f":"+IF(ER18=Simulador!$B$27,Simulador!$B$21,0)","v":0},{"$f":"+IF(ES18=Simulador!$B$27,Simulador!$B$21,0)","v":0},{"$f":"+IF(ET18=Simulador!$B$27,Simulador!$B$21,0)","v":0},{"$f":"+IF(EU18=Simulador!$B$27,Simulador!$B$21,0)","v":0},{"$f":"+IF(EV18=Simulador!$B$27,Simulador!$B$21,0)","v":0},{"$f":"+IF(EW18=Simulador!$B$27,Simulador!$B$21,0)","v":0},{"$f":"+IF(EX18=Simulador!$B$27,Simulador!$B$21,0)","v":0},{"$f":"+IF(EY18=Simulador!$B$27,Simulador!$B$21,0)","v":0},{"$f":"+IF(EZ18=Simulador!$B$27,Simulador!$B$21,0)","v":0},{"$f":"+IF(FA18=Simulador!$B$27,Simulador!$B$21,0)","v":50},{"$f":"+IF(FB18=Simulador!$B$27,Simulador!$B$21,0)","v":0},{"$f":"+IF(FC18=Simulador!$B$27,Simulador!$B$21,0)","v":0},{"$f":"+IF(FD18=Simulador!$B$27,Simulador!$B$21,0)","v":0},{"$f":"+IF(FE18=Simulador!$B$27,Simulador!$B$21,0)","v":0},{"$f":"+IF(FF18=Simulador!$B$27,Simulador!$B$21,0)","v":0},{"$f":"+IF(FG18=Simulador!$B$27,Simulador!$B$21,0)","v":0},{"$f":"+IF(FH18=Simulador!$B$27,Simulador!$B$21,0)","v":0},{"$f":"+IF(FI18=Simulador!$B$27,Simulador!$B$21,0)","v":0},{"$f":"+IF(FJ18=Simulador!$B$27,Simulador!$B$21,0)","v":0},{"$f":"+IF(FK18=Simulador!$B$27,Simulador!$B$21,0)","v":0},{"$f":"+IF(FL18=Simulador!$B$27,Simulador!$B$21,0)","v":0},{"$f":"+IF(FM18=Simulador!$B$27,Simulador!$B$21,0)","v":0},{"$f":"+IF(FN18=Simulador!$B$27,Simulador!$B$21,0)","v":0},{"$f":"+IF(FO18=Simulador!$B$27,Simulador!$B$21,0)","v":0},{"$f":"+IF(FP18=Simulador!$B$27,Simulador!$B$21,0)","v":0},{"$f":"+IF(FQ18=Simulador!$B$27,Simulador!$B$21,0)","v":0},{"$f":"+IF(FR18=Simulador!$B$27,Simulador!$B$21,0)","v":0},{"$f":"+IF(FS18=Simulador!$B$27,Simulador!$B$21,0)","v":0},{"$f":"+IF(FT18=Simulador!$B$27,Simulador!$B$21,0)","v":0},{"$f":"+IF(FU18=Simulador!$B$27,Simulador!$B$21,0)","v":0},{"$f":"+IF(FV18=Simulador!$B$27,Simulador!$B$21,0)","v":0},{"$f":"+IF(FW18=Simulador!$B$27,Simulador!$B$21,0)","v":0},{"$f":"+IF(FX18=Simulador!$B$27,Simulador!$B$21,0)","v":0},{"$f":"+IF(FY18=Simulador!$B$27,Simulador!$B$21,0)","v":0},{"$f":"+IF(FZ18=Simulador!$B$27,Simulador!$B$21,0)","v":0},{"$f":"+IF(GA18=Simulador!$B$27,Simulador!$B$21,0)","v":0},{"$f":"+IF(GB18=Simulador!$B$27,Simulador!$B$21,0)","v":0},{"$f":"+IF(GC18=Simulador!$B$27,Simulador!$B$21,0)","v":0},{"$f":"+IF(GD18=Simulador!$B$27,Simulador!$B$21,0)","v":0},{"$f":"+IF(GE18=Simulador!$B$27,Simulador!$B$21,0)","v":0},{"$f":"+IF(GF18=Simulador!$B$27,Simulador!$B$21,0)","v":50},{"$f":"+IF(GG18=Simulador!$B$27,Simulador!$B$21,0)","v":0},{"$f":"+IF(GH18=Simulador!$B$27,Simulador!$B$21,0)","v":0},{"$f":"+IF(GI18=Simulador!$B$27,Simulador!$B$21,0)","v":0},{"$f":"+IF(GJ18=Simulador!$B$27,Simulador!$B$21,0)","v":0},{"$f":"+IF(GK18=Simulador!$B$27,Simulador!$B$21,0)","v":0},{"$f":"+IF(GL18=Simulador!$B$27,Simulador!$B$21,0)","v":0},{"$f":"+IF(GM18=Simulador!$B$27,Simulador!$B$21,0)","v":0},{"$f":"+IF(GN18=Simulador!$B$27,Simulador!$B$21,0)","v":0},{"$f":"+IF(GO18=Simulador!$B$27,Simulador!$B$21,0)","v":0},{"$f":"+IF(GP18=Simulador!$B$27,Simulador!$B$21,0)","v":0},{"$f":"+IF(GQ18=Simulador!$B$27,Simulador!$B$21,0)","v":0},{"$f":"+IF(GR18=Simulador!$B$27,Simulador!$B$21,0)","v":0},{"$f":"+IF(GS18=Simulador!$B$27,Simulador!$B$21,0)","v":0},{"$f":"+IF(GT18=Simulador!$B$27,Simulador!$B$21,0)","v":0},{"$f":"+IF(GU18=Simulador!$B$27,Simulador!$B$21,0)","v":0},{"$f":"+IF(GV18=Simulador!$B$27,Simulador!$B$21,0)","v":0},{"$f":"+IF(GW18=Simulador!$B$27,Simulador!$B$21,0)","v":0},{"$f":"+IF(GX18=Simulador!$B$27,Simulador!$B$21,0)","v":0},{"$f":"+IF(GY18=Simulador!$B$27,Simulador!$B$21,0)","v":0},{"$f":"+IF(GZ18=Simulador!$B$27,Simulador!$B$21,0)","v":0},{"$f":"+IF(HA18=Simulador!$B$27,Simulador!$B$21,0)","v":0},{"$f":"+IF(HB18=Simulador!$B$27,Simulador!$B$21,0)","v":0},{"$f":"+IF(HC18=Simulador!$B$27,Simulador!$B$21,0)","v":0},{"$f":"+IF(HD18=Simulador!$B$27,Simulador!$B$21,0)","v":0},{"$f":"+IF(HE18=Simulador!$B$27,Simulador!$B$21,0)","v":0},{"$f":"+IF(HF18=Simulador!$B$27,Simulador!$B$21,0)","v":0},{"$f":"+IF(HG18=Simulador!$B$27,Simulador!$B$21,0)","v":0},{"$f":"+IF(HH18=Simulador!$B$27,Simulador!$B$21,0)","v":0},{"$f":"+IF(HI18=Simulador!$B$27,Simulador!$B$21,0)","v":0},{"$f":"+IF(HJ18=Simulador!$B$27,Simulador!$B$21,0)","v":0},{"$f":"+IF(HK18=Simulador!$B$27,Simulador!$B$21,0)","v":50},{"$f":"+IF(HL18=Simulador!$B$27,Simulador!$B$21,0)","v":0},{"$f":"+IF(HM18=Simulador!$B$27,Simulador!$B$21,0)","v":0},{"$f":"+IF(HN18=Simulador!$B$27,Simulador!$B$21,0)","v":0},{"$f":"+IF(HO18=Simulador!$B$27,Simulador!$B$21,0)","v":0},{"$f":"+IF(HP18=Simulador!$B$27,Simulador!$B$21,0)","v":0},{"$f":"+IF(HQ18=Simulador!$B$27,Simulador!$B$21,0)","v":0},{"$f":"+IF(HR18=Simulador!$B$27,Simulador!$B$21,0)","v":0},{"$f":"+IF(HS18=Simulador!$B$27,Simulador!$B$21,0)","v":0},{"$f":"+IF(HT18=Simulador!$B$27,Simulador!$B$21,0)","v":0},{"$f":"+IF(HU18=Simulador!$B$27,Simulador!$B$21,0)","v":0},{"$f":"+IF(HV18=Simulador!$B$27,Simulador!$B$21,0)","v":0},{"$f":"+IF(HW18=Simulador!$B$27,Simulador!$B$21,0)","v":0},{"$f":"+IF(HX18=Simulador!$B$27,Simulador!$B$21,0)","v":0},{"$f":"+IF(HY18=Simulador!$B$27,Simulador!$B$21,0)","v":0},{"$f":"+IF(HZ18=Simulador!$B$27,Simulador!$B$21,0)","v":0},{"$f":"+IF(IA18=Simulador!$B$27,Simulador!$B$21,0)","v":0},{"$f":"+IF(IB18=Simulador!$B$27,Simulador!$B$21,0)","v":0},{"$f":"+IF(IC18=Simulador!$B$27,Simulador!$B$21,0)","v":0},{"$f":"+IF(ID18=Simulador!$B$27,Simulador!$B$21,0)","v":0},{"$f":"+IF(IE18=Simulador!$B$27,Simulador!$B$21,0)","v":0},{"$f":"+IF(IF18=Simulador!$B$27,Simulador!$B$21,0)","v":0},{"$f":"+IF(IG18=Simulador!$B$27,Simulador!$B$21,0)","v":0},{"$f":"+IF(IH18=Simulador!$B$27,Simulador!$B$21,0)","v":0},{"$f":"+IF(II18=Simulador!$B$27,Simulador!$B$21,0)","v":0},{"$f":"+IF(IJ18=Simulador!$B$27,Simulador!$B$21,0)","v":0},{"$f":"+IF(IK18=Simulador!$B$27,Simulador!$B$21,0)","v":0},{"$f":"+IF(IL18=Simulador!$B$27,Simulador!$B$21,0)","v":0},{"$f":"+IF(IM18=Simulador!$B$27,Simulador!$B$21,0)","v":50},{"$f":"+IF(IN18=Simulador!$B$27,Simulador!$B$21,0)","v":0},{"$f":"+IF(IO18=Simulador!$B$27,Simulador!$B$21,0)","v":0},{"$f":"+IF(IP18=Simulador!$B$27,Simulador!$B$21,0)","v":0},{"$f":"+IF(IQ18=Simulador!$B$27,Simulador!$B$21,0)","v":0},{"$f":"+IF(IR18=Simulador!$B$27,Simulador!$B$21,0)","v":0},{"$f":"+IF(IS18=Simulador!$B$27,Simulador!$B$21,0)","v":0},{"$f":"+IF(IT18=Simulador!$B$27,Simulador!$B$21,0)","v":0},{"$f":"+IF(IU18=Simulador!$B$27,Simulador!$B$21,0)","v":0},{"$f":"+IF(IV18=Simulador!$B$27,Simulador!$B$21,0)","v":0},{"$f":"+IF(IW18=Simulador!$B$27,Simulador!$B$21,0)","v":0},{"$f":"+IF(IX18=Simulador!$B$27,Simulador!$B$21,0)","v":0},{"$f":"+IF(IY18=Simulador!$B$27,Simulador!$B$21,0)","v":0},{"$f":"+IF(IZ18=Simulador!$B$27,Simulador!$B$21,0)","v":0},{"$f":"+IF(JA18=Simulador!$B$27,Simulador!$B$21,0)","v":0},{"$f":"+IF(JB18=Simulador!$B$27,Simulador!$B$21,0)","v":0},{"$f":"+IF(JC18=Simulador!$B$27,Simulador!$B$21,0)","v":0},{"$f":"+IF(JD18=Simulador!$B$27,Simulador!$B$21,0)","v":0},{"$f":"+IF(JE18=Simulador!$B$27,Simulador!$B$21,0)","v":0},{"$f":"+IF(JF18=Simulador!$B$27,Simulador!$B$21,0)","v":0},{"$f":"+IF(JG18=Simulador!$B$27,Simulador!$B$21,0)","v":0},{"$f":"+IF(JH18=Simulador!$B$27,Simulador!$B$21,0)","v":0},{"$f":"+IF(JI18=Simulador!$B$27,Simulador!$B$21,0)","v":0},{"$f":"+IF(JJ18=Simulador!$B$27,Simulador!$B$21,0)","v":0},{"$f":"+IF(JK18=Simulador!$B$27,Simulador!$B$21,0)","v":0},{"$f":"+IF(JL18=Simulador!$B$27,Simulador!$B$21,0)","v":0},{"$f":"+IF(JM18=Simulador!$B$27,Simulador!$B$21,0)","v":0},{"$f":"+IF(JN18=Simulador!$B$27,Simulador!$B$21,0)","v":0},{"$f":"+IF(JO18=Simulador!$B$27,Simulador!$B$21,0)","v":0},{"$f":"+IF(JP18=Simulador!$B$27,Simulador!$B$21,0)","v":0},{"$f":"+IF(JQ18=Simulador!$B$27,Simulador!$B$21,0)","v":0},{"$f":"+IF(JR18=Simulador!$B$27,Simulador!$B$21,0)","v":50},{"$f":"+IF(JS18=Simulador!$B$27,Simulador!$B$21,0)","v":0},{"$f":"+IF(JT18=Simulador!$B$27,Simulador!$B$21,0)","v":0},{"$f":"+IF(JU18=Simulador!$B$27,Simulador!$B$21,0)","v":0},{"$f":"+IF(JV18=Simulador!$B$27,Simulador!$B$21,0)","v":0},{"$f":"+IF(JW18=Simulador!$B$27,Simulador!$B$21,0)","v":0},{"$f":"+IF(JX18=Simulador!$B$27,Simulador!$B$21,0)","v":0},{"$f":"+IF(JY18=Simulador!$B$27,Simulador!$B$21,0)","v":0},{"$f":"+IF(JZ18=Simulador!$B$27,Simulador!$B$21,0)","v":0},{"$f":"+IF(KA18=Simulador!$B$27,Simulador!$B$21,0)","v":0},{"$f":"+IF(KB18=Simulador!$B$27,Simulador!$B$21,0)","v":0},{"$f":"+IF(KC18=Simulador!$B$27,Simulador!$B$21,0)","v":0},{"$f":"+IF(KD18=Simulador!$B$27,Simulador!$B$21,0)","v":0},{"$f":"+IF(KE18=Simulador!$B$27,Simulador!$B$21,0)","v":0},{"$f":"+IF(KF18=Simulador!$B$27,Simulador!$B$21,0)","v":0},{"$f":"+IF(KG18=Simulador!$B$27,Simulador!$B$21,0)","v":0},{"$f":"+IF(KH18=Simulador!$B$27,Simulador!$B$21,0)","v":0},{"$f":"+IF(KI18=Simulador!$B$27,Simulador!$B$21,0)","v":0},{"$f":"+IF(KJ18=Simulador!$B$27,Simulador!$B$21,0)","v":0},{"$f":"+IF(KK18=Simulador!$B$27,Simulador!$B$21,0)","v":0},{"$f":"+IF(KL18=Simulador!$B$27,Simulador!$B$21,0)","v":0},{"$f":"+IF(KM18=Simulador!$B$27,Simulador!$B$21,0)","v":0},{"$f":"+IF(KN18=Simulador!$B$27,Simulador!$B$21,0)","v":0},{"$f":"+IF(KO18=Simulador!$B$27,Simulador!$B$21,0)","v":0},{"$f":"+IF(KP18=Simulador!$B$27,Simulador!$B$21,0)","v":0},{"$f":"+IF(KQ18=Simulador!$B$27,Simulador!$B$21,0)","v":0},{"$f":"+IF(KR18=Simulador!$B$27,Simulador!$B$21,0)","v":0},{"$f":"+IF(KS18=Simulador!$B$27,Simulador!$B$21,0)","v":0},{"$f":"+IF(KT18=Simulador!$B$27,Simulador!$B$21,0)","v":0},{"$f":"+IF(KU18=Simulador!$B$27,Simulador!$B$21,0)","v":0},{"$f":"+IF(KV18=Simulador!$B$27,Simulador!$B$21,0)","v":50},{"$f":"+IF(KW18=Simulador!$B$27,Simulador!$B$21,0)","v":0},{"$f":"+IF(KX18=Simulador!$B$27,Simulador!$B$21,0)","v":0},{"$f":"+IF(KY18=Simulador!$B$27,Simulador!$B$21,0)","v":0},{"$f":"+IF(KZ18=Simulador!$B$27,Simulador!$B$21,0)","v":0},{"$f":"+IF(LA18=Simulador!$B$27,Simulador!$B$21,0)","v":0},{"$f":"+IF(LB18=Simulador!$B$27,Simulador!$B$21,0)","v":0},{"$f":"+IF(LC18=Simulador!$B$27,Simulador!$B$21,0)","v":0},{"$f":"+IF(LD18=Simulador!$B$27,Simulador!$B$21,0)","v":0},{"$f":"+IF(LE18=Simulador!$B$27,Simulador!$B$21,0)","v":0},{"$f":"+IF(LF18=Simulador!$B$27,Simulador!$B$21,0)","v":0},{"$f":"+IF(LG18=Simulador!$B$27,Simulador!$B$21,0)","v":0},{"$f":"+IF(LH18=Simulador!$B$27,Simulador!$B$21,0)","v":0},{"$f":"+IF(LI18=Simulador!$B$27,Simulador!$B$21,0)","v":0},{"$f":"+IF(LJ18=Simulador!$B$27,Simulador!$B$21,0)","v":0},{"$f":"+IF(LK18=Simulador!$B$27,Simulador!$B$21,0)","v":0},{"$f":"+IF(LL18=Simulador!$B$27,Simulador!$B$21,0)","v":0},{"$f":"+IF(LM18=Simulador!$B$27,Simulador!$B$21,0)","v":0},{"$f":"+IF(LN18=Simulador!$B$27,Simulador!$B$21,0)","v":0},{"$f":"+IF(LO18=Simulador!$B$27,Simulador!$B$21,0)","v":0},{"$f":"+IF(LP18=Simulador!$B$27,Simulador!$B$21,0)","v":0},{"$f":"+IF(LQ18=Simulador!$B$27,Simulador!$B$21,0)","v":0},{"$f":"+IF(LR18=Simulador!$B$27,Simulador!$B$21,0)","v":0},{"$f":"+IF(LS18=Simulador!$B$27,Simulador!$B$21,0)","v":0},{"$f":"+IF(LT18=Simulador!$B$27,Simulador!$B$21,0)","v":0},{"$f":"+IF(LU18=Simulador!$B$27,Simulador!$B$21,0)","v":0},{"$f":"+IF(LV18=Simulador!$B$27,Simulador!$B$21,0)","v":0},{"$f":"+IF(LW18=Simulador!$B$27,Simulador!$B$21,0)","v":0},{"$f":"+IF(LX18=Simulador!$B$27,Simulador!$B$21,0)","v":0},{"$f":"+IF(LY18=Simulador!$B$27,Simulador!$B$21,0)","v":0},{"$f":"+IF(LZ18=Simulador!$B$27,Simulador!$B$21,0)","v":0},{"$f":"+IF(MA18=Simulador!$B$27,Simulador!$B$21,0)","v":50},{"$f":"+IF(MB18=Simulador!$B$27,Simulador!$B$21,0)","v":0},{"$f":"+IF(MC18=Simulador!$B$27,Simulador!$B$21,0)","v":0},{"$f":"+IF(MD18=Simulador!$B$27,Simulador!$B$21,0)","v":0},{"$f":"+IF(ME18=Simulador!$B$27,Simulador!$B$21,0)","v":0},{"$f":"+IF(MF18=Simulador!$B$27,Simulador!$B$21,0)","v":0},{"$f":"+IF(MG18=Simulador!$B$27,Simulador!$B$21,0)","v":0},{"$f":"+IF(MH18=Simulador!$B$27,Simulador!$B$21,0)","v":0},{"$f":"+IF(MI18=Simulador!$B$27,Simulador!$B$21,0)","v":0},{"$f":"+IF(MJ18=Simulador!$B$27,Simulador!$B$21,0)","v":0},{"$f":"+IF(MK18=Simulador!$B$27,Simulador!$B$21,0)","v":0},{"$f":"+IF(ML18=Simulador!$B$27,Simulador!$B$21,0)","v":0},{"$f":"+IF(MM18=Simulador!$B$27,Simulador!$B$21,0)","v":0},{"$f":"+IF(MN18=Simulador!$B$27,Simulador!$B$21,0)","v":0},{"$f":"+IF(MO18=Simulador!$B$27,Simulador!$B$21,0)","v":0},{"$f":"+IF(MP18=Simulador!$B$27,Simulador!$B$21,0)","v":0},{"$f":"+IF(MQ18=Simulador!$B$27,Simulador!$B$21,0)","v":0},{"$f":"+IF(MR18=Simulador!$B$27,Simulador!$B$21,0)","v":0},{"$f":"+IF(MS18=Simulador!$B$27,Simulador!$B$21,0)","v":0},{"$f":"+IF(MT18=Simulador!$B$27,Simulador!$B$21,0)","v":0},{"$f":"+IF(MU18=Simulador!$B$27,Simulador!$B$21,0)","v":0},{"$f":"+IF(MV18=Simulador!$B$27,Simulador!$B$21,0)","v":0},{"$f":"+IF(MW18=Simulador!$B$27,Simulador!$B$21,0)","v":0},{"$f":"+IF(MX18=Simulador!$B$27,Simulador!$B$21,0)","v":0},{"$f":"+IF(MY18=Simulador!$B$27,Simulador!$B$21,0)","v":0},{"$f":"+IF(MZ18=Simulador!$B$27,Simulador!$B$21,0)","v":0},{"$f":"+IF(NA18=Simulador!$B$27,Simulador!$B$21,0)","v":0},{"$f":"+IF(NB18=Simulador!$B$27,Simulador!$B$21,0)","v":0},{"$f":"+IF(NC18=Simulador!$B$27,Simulador!$B$21,0)","v":0},{"$f":"+IF(ND18=Simulador!$B$27,Simulador!$B$21,0)","v":0},{"$f":"+IF(NE18=Simulador!$B$27,Simulador!$B$21,0)","v":50},{"$f":"+IF(NF18=Simulador!$B$27,Simulador!$B$21,0)","v":0},{"$f":"+IF(NG18=Simulador!$B$27,Simulador!$B$21,0)","v":0},{"$f":"+IF(NH18=Simulador!$B$27,Simulador!$B$21,0)","v":0},{"$f":"+IF(NI18=Simulador!$B$27,Simulador!$B$21,0)","v":0},{"$f":"+IF(NJ18=Simulador!$B$27,Simulador!$B$21,0)","v":0},{"$f":"+IF(NK18=Simulador!$B$27,Simulador!$B$21,0)","v":0},{"$f":"+IF(NL18=Simulador!$B$27,Simulador!$B$21,0)","v":0},{"$f":"+IF(NM18=Simulador!$B$27,Simulador!$B$21,0)","v":0},{"$f":"+IF(NN18=Simulador!$B$27,Simulador!$B$21,0)","v":0},{"$f":"+IF(NO18=Simulador!$B$27,Simulador!$B$21,0)","v":0},{"$f":"+IF(NP18=Simulador!$B$27,Simulador!$B$21,0)","v":0},{"$f":"+IF(NQ18=Simulador!$B$27,Simulador!$B$21,0)","v":0},{"$f":"+IF(NR18=Simulador!$B$27,Simulador!$B$21,0)","v":0},{"$f":"+IF(NS18=Simulador!$B$27,Simulador!$B$21,0)","v":0},{"$f":"+IF(NT18=Simulador!$B$27,Simulador!$B$21,0)","v":0},{"$f":"+IF(NU18=Simulador!$B$27,Simulador!$B$21,0)","v":0},{"$f":"+IF(NV18=Simulador!$B$27,Simulador!$B$21,0)","v":0},{"$f":"+IF(NW18=Simulador!$B$27,Simulador!$B$21,0)","v":0},{"$f":"+IF(NX18=Simulador!$B$27,Simulador!$B$21,0)","v":0},{"$f":"+IF(NY18=Simulador!$B$27,Simulador!$B$21,0)","v":0},{"$f":"+IF(NZ18=Simulador!$B$27,Simulador!$B$21,0)","v":0},{"$f":"+IF(OA18=Simulador!$B$27,Simulador!$B$21,0)","v":0},{"$f":"+IF(OB18=Simulador!$B$27,Simulador!$B$21,0)","v":0},{"$f":"+IF(OC18=Simulador!$B$27,Simulador!$B$21,0)","v":0},{"$f":"+IF(OD18=Simulador!$B$27,Simulador!$B$21,0)","v":0},{"$f":"+IF(OE18=Simulador!$B$27,Simulador!$B$21,0)","v":0},{"$f":"+IF(OF18=Simulador!$B$27,Simulador!$B$21,0)","v":0},{"$f":"+IF(OG18=Simulador!$B$27,Simulador!$B$21,0)","v":0},{"$f":"+IF(OH18=Simulador!$B$27,Simulador!$B$21,0)","v":0},{"$f":"+IF(OI18=Simulador!$B$27,Simulador!$B$21,0)","v":0},{"$f":"+IF(OJ18=Simulador!$B$27,Simulador!$B$21,0)","v":50},{"$f":"+IF(OK18=Simulador!$B$27,Simulador!$B$21,0)","v":0},{"$f":"+IF(OL18=Simulador!$B$27,Simulador!$B$21,0)","v":0},{"$f":"+IF(OM18=Simulador!$B$27,Simulador!$B$21,0)","v":0},{"$f":"+IF(ON18=Simulador!$B$27,Simulador!$B$21,0)","v":0},{"$f":"+IF(OO18=Simulador!$B$27,Simulador!$B$21,0)","v":0},{"$f":"+IF(OP18=Simulador!$B$27,Simulador!$B$21,0)","v":0},{"$f":"+IF(OQ18=Simulador!$B$27,Simulador!$B$21,0)","v":0},{"$f":"+IF(OR18=Simulador!$B$27,Simulador!$B$21,0)","v":0},{"$f":"+IF(OS18=Simulador!$B$27,Simulador!$B$21,0)","v":0},{"$f":"+IF(OT18=Simulador!$B$27,Simulador!$B$21,0)","v":0},{"$f":"+IF(OU18=Simulador!$B$27,Simulador!$B$21,0)","v":0},{"$f":"+IF(OV18=Simulador!$B$27,Simulador!$B$21,0)","v":0},{"$f":"+IF(OW18=Simulador!$B$27,Simulador!$B$21,0)","v":0},{"$f":"+IF(OX18=Simulador!$B$27,Simulador!$B$21,0)","v":0},{"$f":"+IF(OY18=Simulador!$B$27,Simulador!$B$21,0)","v":0},{"$f":"+IF(OZ18=Simulador!$B$27,Simulador!$B$21,0)","v":0},{"$f":"+IF(PA18=Simulador!$B$27,Simulador!$B$21,0)","v":0},{"$f":"+IF(PB18=Simulador!$B$27,Simulador!$B$21,0)","v":0},{"$f":"+IF(PC18=Simulador!$B$27,Simulador!$B$21,0)","v":0},{"$f":"+IF(PD18=Simulador!$B$27,Simulador!$B$21,0)","v":0},{"$f":"+IF(PE18=Simulador!$B$27,Simulador!$B$21,0)","v":0},{"$f":"+IF(PF18=Simulador!$B$27,Simulador!$B$21,0)","v":0},{"$f":"+IF(PG18=Simulador!$B$27,Simulador!$B$21,0)","v":0},{"$f":"+IF(PH18=Simulador!$B$27,Simulador!$B$21,0)","v":0},{"$f":"+IF(PI18=Simulador!$B$27,Simulador!$B$21,0)","v":0},{"$f":"+IF(PJ18=Simulador!$B$27,Simulador!$B$21,0)","v":0},{"$f":"+IF(PK18=Simulador!$B$27,Simulador!$B$21,0)","v":0},{"$f":"+IF(PL18=Simulador!$B$27,Simulador!$B$21,0)","v":0},{"$f":"+IF(PM18=Simulador!$B$27,Simulador!$B$21,0)","v":0},{"$f":"+IF(PN18=Simulador!$B$27,Simulador!$B$21,0)","v":0},{"$f":"+IF(PO18=Simulador!$B$27,Simulador!$B$21,0)","v":50},{"$f":"+IF(PP18=Simulador!$B$27,Simulador!$B$21,0)","v":0},{"$f":"+IF(PQ18=Simulador!$B$27,Simulador!$B$21,0)","v":0},{"$f":"+IF(PR18=Simulador!$B$27,Simulador!$B$21,0)","v":0},{"$f":"+IF(PS18=Simulador!$B$27,Simulador!$B$21,0)","v":0},{"$f":"+IF(PT18=Simulador!$B$27,Simulador!$B$21,0)","v":0},{"$f":"+IF(PU18=Simulador!$B$27,Simulador!$B$21,0)","v":0},{"$f":"+IF(PV18=Simulador!$B$27,Simulador!$B$21,0)","v":0},{"$f":"+IF(PW18=Simulador!$B$27,Simulador!$B$21,0)","v":0},{"$f":"+IF(PX18=Simulador!$B$27,Simulador!$B$21,0)","v":0},{"$f":"+IF(PY18=Simulador!$B$27,Simulador!$B$21,0)","v":0},{"$f":"+IF(PZ18=Simulador!$B$27,Simulador!$B$21,0)","v":0},{"$f":"+IF(QA18=Simulador!$B$27,Simulador!$B$21,0)","v":0},{"$f":"+IF(QB18=Simulador!$B$27,Simulador!$B$21,0)","v":0},{"$f":"+IF(QC18=Simulador!$B$27,Simulador!$B$21,0)","v":0},{"$f":"+IF(QD18=Simulador!$B$27,Simulador!$B$21,0)","v":0},{"$f":"+IF(QE18=Simulador!$B$27,Simulador!$B$21,0)","v":0},{"$f":"+IF(QF18=Simulador!$B$27,Simulador!$B$21,0)","v":0},{"$f":"+IF(QG18=Simulador!$B$27,Simulador!$B$21,0)","v":0},{"$f":"+IF(QH18=Simulador!$B$27,Simulador!$B$21,0)","v":0},{"$f":"+IF(QI18=Simulador!$B$27,Simulador!$B$21,0)","v":0},{"$f":"+IF(QJ18=Simulador!$B$27,Simulador!$B$21,0)","v":0},{"$f":"+IF(QK18=Simulador!$B$27,Simulador!$B$21,0)","v":0},{"$f":"+IF(QL18=Simulador!$B$27,Simulador!$B$21,0)","v":0},{"$f":"+IF(QM18=Simulador!$B$27,Simulador!$B$21,0)","v":0},{"$f":"+IF(QN18=Simulador!$B$27,Simulador!$B$21,0)","v":0},{"$f":"+IF(QO18=Simulador!$B$27,Simulador!$B$21,0)","v":0},{"$f":"+IF(QP18=Simulador!$B$27,Simulador!$B$21,0)","v":0},{"$f":"+IF(QQ18=Simulador!$B$27,Simulador!$B$21,0)","v":0},{"$f":"+IF(QR18=Simulador!$B$27,Simulador!$B$21,0)","v":0},{"$f":"+IF(QS18=Simulador!$B$27,Simulador!$B$21,0)","v":50},{"$f":"+IF(QT18=Simulador!$B$27,Simulador!$B$21,0)","v":0},{"$f":"+IF(QU18=Simulador!$B$27,Simulador!$B$21,0)","v":0},{"$f":"+IF(QV18=Simulador!$B$27,Simulador!$B$21,0)","v":0},{"$f":"+IF(QW18=Simulador!$B$27,Simulador!$B$21,0)","v":0},{"$f":"+IF(QX18=Simulador!$B$27,Simulador!$B$21,0)","v":0},{"$f":"+IF(QY18=Simulador!$B$27,Simulador!$B$21,0)","v":0},{"$f":"+IF(QZ18=Simulador!$B$27,Simulador!$B$21,0)","v":0},{"$f":"+IF(RA18=Simulador!$B$27,Simulador!$B$21,0)","v":0},{"$f":"+IF(RB18=Simulador!$B$27,Simulador!$B$21,0)","v":0},{"$f":"+IF(RC18=Simulador!$B$27,Simulador!$B$21,0)","v":0},{"$f":"+IF(RD18=Simulador!$B$27,Simulador!$B$21,0)","v":0},{"$f":"+IF(RE18=Simulador!$B$27,Simulador!$B$21,0)","v":0},{"$f":"+IF(RF18=Simulador!$B$27,Simulador!$B$21,0)","v":0},{"$f":"+IF(RG18=Simulador!$B$27,Simulador!$B$21,0)","v":0},{"$f":"+IF(RH18=Simulador!$B$27,Simulador!$B$21,0)","v":0},{"$f":"+IF(RI18=Simulador!$B$27,Simulador!$B$21,0)","v":0},{"$f":"+IF(RJ18=Simulador!$B$27,Simulador!$B$21,0)","v":0},{"$f":"+IF(RK18=Simulador!$B$27,Simulador!$B$21,0)","v":0},{"$f":"+IF(RL18=Simulador!$B$27,Simulador!$B$21,0)","v":0},{"$f":"+IF(RM18=Simulador!$B$27,Simulador!$B$21,0)","v":0},{"$f":"+IF(RN18=Simulador!$B$27,Simulador!$B$21,0)","v":0},{"$f":"+IF(RO18=Simulador!$B$27,Simulador!$B$21,0)","v":0},{"$f":"+IF(RP18=Simulador!$B$27,Simulador!$B$21,0)","v":0},{"$f":"+IF(RQ18=Simulador!$B$27,Simulador!$B$21,0)","v":0},{"$f":"+IF(RR18=Simulador!$B$27,Simulador!$B$21,0)","v":0},{"$f":"+IF(RS18=Simulador!$B$27,Simulador!$B$21,0)","v":0},{"$f":"+IF(RT18=Simulador!$B$27,Simulador!$B$21,0)","v":0},{"$f":"+IF(RU18=Simulador!$B$27,Simulador!$B$21,0)","v":0},{"$f":"+IF(RV18=Simulador!$B$27,Simulador!$B$21,0)","v":0},{"$f":"+IF(RW18=Simulador!$B$27,Simulador!$B$21,0)","v":0},{"$f":"+IF(RX18=Simulador!$B$27,Simulador!$B$21,0)","v":50},{"$f":"+IF(RY18=Simulador!$B$27,Simulador!$B$21,0)","v":0},{"$f":"+IF(RZ18=Simulador!$B$27,Simulador!$B$21,0)","v":0},{"$f":"+IF(SA18=Simulador!$B$27,Simulador!$B$21,0)","v":0},{"$f":"+IF(SB18=Simulador!$B$27,Simulador!$B$21,0)","v":0},{"$f":"+IF(SC18=Simulador!$B$27,Simulador!$B$21,0)","v":0},{"$f":"+IF(SD18=Simulador!$B$27,Simulador!$B$21,0)","v":0},{"$f":"+IF(SE18=Simulador!$B$27,Simulador!$B$21,0)","v":0},{"$f":"+IF(SF18=Simulador!$B$27,Simulador!$B$21,0)","v":0},{"$f":"+IF(SG18=Simulador!$B$27,Simulador!$B$21,0)","v":0},{"$f":"+IF(SH18=Simulador!$B$27,Simulador!$B$21,0)","v":0},{"$f":"+IF(SI18=Simulador!$B$27,Simulador!$B$21,0)","v":0},{"$f":"+IF(SJ18=Simulador!$B$27,Simulador!$B$21,0)","v":0},{"$f":"+IF(SK18=Simulador!$B$27,Simulador!$B$21,0)","v":0},{"$f":"+IF(SL18=Simulador!$B$27,Simulador!$B$21,0)","v":0},{"$f":"+IF(SM18=Simulador!$B$27,Simulador!$B$21,0)","v":0},{"$f":"+IF(SN18=Simulador!$B$27,Simulador!$B$21,0)","v":0},{"$f":"+IF(SO18=Simulador!$B$27,Simulador!$B$21,0)","v":0},{"$f":"+IF(SP18=Simulador!$B$27,Simulador!$B$21,0)","v":0},{"$f":"+IF(SQ18=Simulador!$B$27,Simulador!$B$21,0)","v":0},{"$f":"+IF(SR18=Simulador!$B$27,Simulador!$B$21,0)","v":0},{"$f":"+IF(SS18=Simulador!$B$27,Simulador!$B$21,0)","v":0},{"$f":"+IF(ST18=Simulador!$B$27,Simulador!$B$21,0)","v":0},{"$f":"+IF(SU18=Simulador!$B$27,Simulador!$B$21,0)","v":0},{"$f":"+IF(SV18=Simulador!$B$27,Simulador!$B$21,0)","v":0},{"$f":"+IF(SW18=Simulador!$B$27,Simulador!$B$21,0)","v":0},{"$f":"+IF(SX18=Simulador!$B$27,Simulador!$B$21,0)","v":0},{"$f":"+IF(SY18=Simulador!$B$27,Simulador!$B$21,0)","v":0},{"$f":"+IF(SZ18=Simulador!$B$27,Simulador!$B$21,0)","v":0},{"$f":"+IF(TA18=Simulador!$B$27,Simulador!$B$21,0)","v":0},{"$f":"+IF(TB18=Simulador!$B$27,Simulador!$B$21,0)","v":50},{"$f":"+IF(TC18=Simulador!$B$27,Simulador!$B$21,0)","v":0},{"$f":"+IF(TD18=Simulador!$B$27,Simulador!$B$21,0)","v":0},{"$f":"+IF(TE18=Simulador!$B$27,Simulador!$B$21,0)","v":0},{"$f":"+IF(TF18=Simulador!$B$27,Simulador!$B$21,0)","v":0},{"$f":"+IF(TG18=Simulador!$B$27,Simulador!$B$21,0)","v":0},{"$f":"+IF(TH18=Simulador!$B$27,Simulador!$B$21,0)","v":0},{"$f":"+IF(TI18=Simulador!$B$27,Simulador!$B$21,0)","v":0},{"$f":"+IF(TJ18=Simulador!$B$27,Simulador!$B$21,0)","v":0},{"$f":"+IF(TK18=Simulador!$B$27,Simulador!$B$21,0)","v":0},{"$f":"+IF(TL18=Simulador!$B$27,Simulador!$B$21,0)","v":0},{"$f":"+IF(TM18=Simulador!$B$27,Simulador!$B$21,0)","v":0},{"$f":"+IF(TN18=Simulador!$B$27,Simulador!$B$21,0)","v":0},{"$f":"+IF(TO18=Simulador!$B$27,Simulador!$B$21,0)","v":0},{"$f":"+IF(TP18=Simulador!$B$27,Simulador!$B$21,0)","v":0},{"$f":"+IF(TQ18=Simulador!$B$27,Simulador!$B$21,0)","v":0},{"$f":"+IF(TR18=Simulador!$B$27,Simulador!$B$21,0)","v":0},{"$f":"+IF(TS18=Simulador!$B$27,Simulador!$B$21,0)","v":0},{"$f":"+IF(TT18=Simulador!$B$27,Simulador!$B$21,0)","v":0},{"$f":"+IF(TU18=Simulador!$B$27,Simulador!$B$21,0)","v":0},{"$f":"+IF(TV18=Simulador!$B$27,Simulador!$B$21,0)","v":0},{"$f":"+IF(TW18=Simulador!$B$27,Simulador!$B$21,0)","v":0},{"$f":"+IF(TX18=Simulador!$B$27,Simulador!$B$21,0)","v":0},{"$f":"+IF(TY18=Simulador!$B$27,Simulador!$B$21,0)","v":0},{"$f":"+IF(TZ18=Simulador!$B$27,Simulador!$B$21,0)","v":0},{"$f":"+IF(UA18=Simulador!$B$27,Simulador!$B$21,0)","v":0},{"$f":"+IF(UB18=Simulador!$B$27,Simulador!$B$21,0)","v":0},{"$f":"+IF(UC18=Simulador!$B$27,Simulador!$B$21,0)","v":0},{"$f":"+IF(UD18=Simulador!$B$27,Simulador!$B$21,0)","v":0},{"$f":"+IF(UE18=Simulador!$B$27,Simulador!$B$21,0)","v":0},{"$f":"+IF(UF18=Simulador!$B$27,Simulador!$B$21,0)","v":0},{"$f":"+IF(UG18=Simulador!$B$27,Simulador!$B$21,0)","v":50},{"$f":"+IF(UH18=Simulador!$B$27,Simulador!$B$21,0)","v":0},{"$f":"+IF(UI18=Simulador!$B$27,Simulador!$B$21,0)","v":0},{"$f":"+IF(UJ18=Simulador!$B$27,Simulador!$B$21,0)","v":0},{"$f":"+IF(UK18=Simulador!$B$27,Simulador!$B$21,0)","v":0},{"$f":"+IF(UL18=Simulador!$B$27,Simulador!$B$21,0)","v":0},{"$f":"+IF(UM18=Simulador!$B$27,Simulador!$B$21,0)","v":0},{"$f":"+IF(UN18=Simulador!$B$27,Simulador!$B$21,0)","v":0},{"$f":"+IF(UO18=Simulador!$B$27,Simulador!$B$21,0)","v":0},{"$f":"+IF(UP18=Simulador!$B$27,Simulador!$B$21,0)","v":0},{"$f":"+IF(UQ18=Simulador!$B$27,Simulador!$B$21,0)","v":0},{"$f":"+IF(UR18=Simulador!$B$27,Simulador!$B$21,0)","v":0},{"$f":"+IF(US18=Simulador!$B$27,Simulador!$B$21,0)","v":0},{"$f":"+IF(UT18=Simulador!$B$27,Simulador!$B$21,0)","v":0},{"$f":"+IF(UU18=Simulador!$B$27,Simulador!$B$21,0)","v":0},{"$f":"+IF(UV18=Simulador!$B$27,Simulador!$B$21,0)","v":0},{"$f":"+IF(UW18=Simulador!$B$27,Simulador!$B$21,0)","v":0},{"$f":"+IF(UX18=Simulador!$B$27,Simulador!$B$21,0)","v":0},{"$f":"+IF(UY18=Simulador!$B$27,Simulador!$B$21,0)","v":0},{"$f":"+IF(UZ18=Simulador!$B$27,Simulador!$B$21,0)","v":0},{"$f":"+IF(VA18=Simulador!$B$27,Simulador!$B$21,0)","v":0},{"$f":"+IF(VB18=Simulador!$B$27,Simulador!$B$21,0)","v":0},{"$f":"+IF(VC18=Simulador!$B$27,Simulador!$B$21,0)","v":0},{"$f":"+IF(VD18=Simulador!$B$27,Simulador!$B$21,0)","v":0},{"$f":"+IF(VE18=Simulador!$B$27,Simulador!$B$21,0)","v":0},{"$f":"+IF(VF18=Simulador!$B$27,Simulador!$B$21,0)","v":0},{"$f":"+IF(VG18=Simulador!$B$27,Simulador!$B$21,0)","v":0},{"$f":"+IF(VH18=Simulador!$B$27,Simulador!$B$21,0)","v":0},{"$f":"+IF(VI18=Simulador!$B$27,Simulador!$B$21,0)","v":0},{"$f":"+IF(VJ18=Simulador!$B$27,Simulador!$B$21,0)","v":0},{"$f":"+IF(VK18=Simulador!$B$27,Simulador!$B$21,0)","v":0},{"$f":"+IF(VL18=Simulador!$B$27,Simulador!$B$21,0)","v":50},{"$f":"+IF(VM18=Simulador!$B$27,Simulador!$B$21,0)","v":0},{"$f":"+IF(VN18=Simulador!$B$27,Simulador!$B$21,0)","v":0},{"$f":"+IF(VO18=Simulador!$B$27,Simulador!$B$21,0)","v":0},{"$f":"+IF(VP18=Simulador!$B$27,Simulador!$B$21,0)","v":0},{"$f":"+IF(VQ18=Simulador!$B$27,Simulador!$B$21,0)","v":0},{"$f":"+IF(VR18=Simulador!$B$27,Simulador!$B$21,0)","v":0},{"$f":"+IF(VS18=Simulador!$B$27,Simulador!$B$21,0)","v":0},{"$f":"+IF(VT18=Simulador!$B$27,Simulador!$B$21,0)","v":0},{"$f":"+IF(VU18=Simulador!$B$27,Simulador!$B$21,0)","v":0},{"$f":"+IF(VV18=Simulador!$B$27,Simulador!$B$21,0)","v":0},{"$f":"+IF(VW18=Simulador!$B$27,Simulador!$B$21,0)","v":0},{"$f":"+IF(VX18=Simulador!$B$27,Simulador!$B$21,0)","v":0},{"$f":"+IF(VY18=Simulador!$B$27,Simulador!$B$21,0)","v":0},{"$f":"+IF(VZ18=Simulador!$B$27,Simulador!$B$21,0)","v":0},{"$f":"+IF(WA18=Simulador!$B$27,Simulador!$B$21,0)","v":0},{"$f":"+IF(WB18=Simulador!$B$27,Simulador!$B$21,0)","v":0},{"$f":"+IF(WC18=Simulador!$B$27,Simulador!$B$21,0)","v":0},{"$f":"+IF(WD18=Simulador!$B$27,Simulador!$B$21,0)","v":0},{"$f":"+IF(WE18=Simulador!$B$27,Simulador!$B$21,0)","v":0},{"$f":"+IF(WF18=Simulador!$B$27,Simulador!$B$21,0)","v":0},{"$f":"+IF(WG18=Simulador!$B$27,Simulador!$B$21,0)","v":0},{"$f":"+IF(WH18=Simulador!$B$27,Simulador!$B$21,0)","v":0},{"$f":"+IF(WI18=Simulador!$B$27,Simulador!$B$21,0)","v":0},{"$f":"+IF(WJ18=Simulador!$B$27,Simulador!$B$21,0)","v":0},{"$f":"+IF(WK18=Simulador!$B$27,Simulador!$B$21,0)","v":0},{"$f":"+IF(WL18=Simulador!$B$27,Simulador!$B$21,0)","v":0},{"$f":"+IF(WM18=Simulador!$B$27,Simulador!$B$21,0)","v":0},{"$f":"+IF(WN18=Simulador!$B$27,Simulador!$B$21,0)","v":50},{"$f":"+IF(WO18=Simulador!$B$27,Simulador!$B$21,0)","v":0},{"$f":"+IF(WP18=Simulador!$B$27,Simulador!$B$21,0)","v":0},{"$f":"+IF(WQ18=Simulador!$B$27,Simulador!$B$21,0)","v":0},{"$f":"+IF(WR18=Simulador!$B$27,Simulador!$B$21,0)","v":0},{"$f":"+IF(WS18=Simulador!$B$27,Simulador!$B$21,0)","v":0},{"$f":"+IF(WT18=Simulador!$B$27,Simulador!$B$21,0)","v":0},{"$f":"+IF(WU18=Simulador!$B$27,Simulador!$B$21,0)","v":0},{"$f":"+IF(WV18=Simulador!$B$27,Simulador!$B$21,0)","v":0},{"$f":"+IF(WW18=Simulador!$B$27,Simulador!$B$21,0)","v":0},{"$f":"+IF(WX18=Simulador!$B$27,Simulador!$B$21,0)","v":0},{"$f":"+IF(WY18=Simulador!$B$27,Simulador!$B$21,0)","v":0},{"$f":"+IF(WZ18=Simulador!$B$27,Simulador!$B$21,0)","v":0},{"$f":"+IF(XA18=Simulador!$B$27,Simulador!$B$21,0)","v":0},{"$f":"+IF(XB18=Simulador!$B$27,Simulador!$B$21,0)","v":0},{"$f":"+IF(XC18=Simulador!$B$27,Simulador!$B$21,0)","v":0},{"$f":"+IF(XD18=Simulador!$B$27,Simulador!$B$21,0)","v":0},{"$f":"+IF(XE18=Simulador!$B$27,Simulador!$B$21,0)","v":0},{"$f":"+IF(XF18=Simulador!$B$27,Simulador!$B$21,0)","v":0},{"$f":"+IF(XG18=Simulador!$B$27,Simulador!$B$21,0)","v":0},{"$f":"+IF(XH18=Simulador!$B$27,Simulador!$B$21,0)","v":0},{"$f":"+IF(XI18=Simulador!$B$27,Simulador!$B$21,0)","v":0},{"$f":"+IF(XJ18=Simulador!$B$27,Simulador!$B$21,0)","v":0},{"$f":"+IF(XK18=Simulador!$B$27,Simulador!$B$21,0)","v":0},{"$f":"+IF(XL18=Simulador!$B$27,Simulador!$B$21,0)","v":0},{"$f":"+IF(XM18=Simulador!$B$27,Simulador!$B$21,0)","v":0},{"$f":"+IF(XN18=Simulador!$B$27,Simulador!$B$21,0)","v":0},{"$f":"+IF(XO18=Simulador!$B$27,Simulador!$B$21,0)","v":0},{"$f":"+IF(XP18=Simulador!$B$27,Simulador!$B$21,0)","v":0},{"$f":"+IF(XQ18=Simulador!$B$27,Simulador!$B$21,0)","v":0},{"$f":"+IF(XR18=Simulador!$B$27,Simulador!$B$21,0)","v":0},{"$f":"+IF(XS18=Simulador!$B$27,Simulador!$B$21,0)","v":50},{"$f":"+IF(XT18=Simulador!$B$27,Simulador!$B$21,0)","v":0},{"$f":"+IF(XU18=Simulador!$B$27,Simulador!$B$21,0)","v":0},{"$f":"+IF(XV18=Simulador!$B$27,Simulador!$B$21,0)","v":0},{"$f":"+IF(XW18=Simulador!$B$27,Simulador!$B$21,0)","v":0},{"$f":"+IF(XX18=Simulador!$B$27,Simulador!$B$21,0)","v":0},{"$f":"+IF(XY18=Simulador!$B$27,Simulador!$B$21,0)","v":0},{"$f":"+IF(XZ18=Simulador!$B$27,Simulador!$B$21,0)","v":0},{"$f":"+IF(YA18=Simulador!$B$27,Simulador!$B$21,0)","v":0},{"$f":"+IF(YB18=Simulador!$B$27,Simulador!$B$21,0)","v":0},{"$f":"+IF(YC18=Simulador!$B$27,Simulador!$B$21,0)","v":0},{"$f":"+IF(YD18=Simulador!$B$27,Simulador!$B$21,0)","v":0},{"$f":"+IF(YE18=Simulador!$B$27,Simulador!$B$21,0)","v":0},{"$f":"+IF(YF18=Simulador!$B$27,Simulador!$B$21,0)","v":0},{"$f":"+IF(YG18=Simulador!$B$27,Simulador!$B$21,0)","v":0},{"$f":"+IF(YH18=Simulador!$B$27,Simulador!$B$21,0)","v":0},{"$f":"+IF(YI18=Simulador!$B$27,Simulador!$B$21,0)","v":0},{"$f":"+IF(YJ18=Simulador!$B$27,Simulador!$B$21,0)","v":0},{"$f":"+IF(YK18=Simulador!$B$27,Simulador!$B$21,0)","v":0},{"$f":"+IF(YL18=Simulador!$B$27,Simulador!$B$21,0)","v":0},{"$f":"+IF(YM18=Simulador!$B$27,Simulador!$B$21,0)","v":0},{"$f":"+IF(YN18=Simulador!$B$27,Simulador!$B$21,0)","v":0},{"$f":"+IF(YO18=Simulador!$B$27,Simulador!$B$21,0)","v":0},{"$f":"+IF(YP18=Simulador!$B$27,Simulador!$B$21,0)","v":0},{"$f":"+IF(YQ18=Simulador!$B$27,Simulador!$B$21,0)","v":0},{"$f":"+IF(YR18=Simulador!$B$27,Simulador!$B$21,0)","v":0},{"$f":"+IF(YS18=Simulador!$B$27,Simulador!$B$21,0)","v":0},{"$f":"+IF(YT18=Simulador!$B$27,Simulador!$B$21,0)","v":0},{"$f":"+IF(YU18=Simulador!$B$27,Simulador!$B$21,0)","v":0},{"$f":"+IF(YV18=Simulador!$B$27,Simulador!$B$21,0)","v":0},{"$f":"+IF(YW18=Simulador!$B$27,Simulador!$B$21,0)","v":50},{"$f":"+IF(YX18=Simulador!$B$27,Simulador!$B$21,0)","v":0},{"$f":"+IF(YY18=Simulador!$B$27,Simulador!$B$21,0)","v":0},{"$f":"+IF(YZ18=Simulador!$B$27,Simulador!$B$21,0)","v":0},{"$f":"+IF(ZA18=Simulador!$B$27,Simulador!$B$21,0)","v":0},{"$f":"+IF(ZB18=Simulador!$B$27,Simulador!$B$21,0)","v":0},{"$f":"+IF(ZC18=Simulador!$B$27,Simulador!$B$21,0)","v":0},{"$f":"+IF(ZD18=Simulador!$B$27,Simulador!$B$21,0)","v":0},{"$f":"+IF(ZE18=Simulador!$B$27,Simulador!$B$21,0)","v":0},{"$f":"+IF(ZF18=Simulador!$B$27,Simulador!$B$21,0)","v":0},{"$f":"+IF(ZG18=Simulador!$B$27,Simulador!$B$21,0)","v":0},{"$f":"+IF(ZH18=Simulador!$B$27,Simulador!$B$21,0)","v":0},{"$f":"+IF(ZI18=Simulador!$B$27,Simulador!$B$21,0)","v":0},{"$f":"+IF(ZJ18=Simulador!$B$27,Simulador!$B$21,0)","v":0},{"$f":"+IF(ZK18=Simulador!$B$27,Simulador!$B$21,0)","v":0},{"$f":"+IF(ZL18=Simulador!$B$27,Simulador!$B$21,0)","v":0},{"$f":"+IF(ZM18=Simulador!$B$27,Simulador!$B$21,0)","v":0},{"$f":"+IF(ZN18=Simulador!$B$27,Simulador!$B$21,0)","v":0},{"$f":"+IF(ZO18=Simulador!$B$27,Simulador!$B$21,0)","v":0},{"$f":"+IF(ZP18=Simulador!$B$27,Simulador!$B$21,0)","v":0},{"$f":"+IF(ZQ18=Simulador!$B$27,Simulador!$B$21,0)","v":0},{"$f":"+IF(ZR18=Simulador!$B$27,Simulador!$B$21,0)","v":0},{"$f":"+IF(ZS18=Simulador!$B$27,Simulador!$B$21,0)","v":0},{"$f":"+IF(ZT18=Simulador!$B$27,Simulador!$B$21,0)","v":0},{"$f":"+IF(ZU18=Simulador!$B$27,Simulador!$B$21,0)","v":0},{"$f":"+IF(ZV18=Simulador!$B$27,Simulador!$B$21,0)","v":0},{"$f":"+IF(ZW18=Simulador!$B$27,Simulador!$B$21,0)","v":0},{"$f":"+IF(ZX18=Simulador!$B$27,Simulador!$B$21,0)","v":0},{"$f":"+IF(ZY18=Simulador!$B$27,Simulador!$B$21,0)","v":0},{"$f":"+IF(ZZ18=Simulador!$B$27,Simulador!$B$21,0)","v":0},{"$f":"+IF(AAA18=Simulador!$B$27,Simulador!$B$21,0)","v":0},{"$f":"+IF(AAB18=Simulador!$B$27,Simulador!$B$21,0)","v":50},{"$f":"+IF(AAC18=Simulador!$B$27,Simulador!$B$21,0)","v":0},{"$f":"+IF(AAD18=Simulador!$B$27,Simulador!$B$21,0)","v":0},{"$f":"+IF(AAE18=Simulador!$B$27,Simulador!$B$21,0)","v":0},{"$f":"+IF(AAF18=Simulador!$B$27,Simulador!$B$21,0)","v":0},{"$f":"+IF(AAG18=Simulador!$B$27,Simulador!$B$21,0)","v":0},{"$f":"+IF(AAH18=Simulador!$B$27,Simulador!$B$21,0)","v":0},{"$f":"+IF(AAI18=Simulador!$B$27,Simulador!$B$21,0)","v":0},{"$f":"+IF(AAJ18=Simulador!$B$27,Simulador!$B$21,0)","v":0},{"$f":"+IF(AAK18=Simulador!$B$27,Simulador!$B$21,0)","v":0},{"$f":"+IF(AAL18=Simulador!$B$27,Simulador!$B$21,0)","v":0},{"$f":"+IF(AAM18=Simulador!$B$27,Simulador!$B$21,0)","v":0},{"$f":"+IF(AAN18=Simulador!$B$27,Simulador!$B$21,0)","v":0},{"$f":"+IF(AAO18=Simulador!$B$27,Simulador!$B$21,0)","v":0},{"$f":"+IF(AAP18=Simulador!$B$27,Simulador!$B$21,0)","v":0},{"$f":"+IF(AAQ18=Simulador!$B$27,Simulador!$B$21,0)","v":0},{"$f":"+IF(AAR18=Simulador!$B$27,Simulador!$B$21,0)","v":0},{"$f":"+IF(AAS18=Simulador!$B$27,Simulador!$B$21,0)","v":0},{"$f":"+IF(AAT18=Simulador!$B$27,Simulador!$B$21,0)","v":0},{"$f":"+IF(AAU18=Simulador!$B$27,Simulador!$B$21,0)","v":0}]
[null,"Aporte Progresivo Semanal",{"$f":"+IF(Simulador!$C$55=\"Si\",IF(WEEKDAY(C10,2)=1,MOD(INT((C10-$C$10)/7),52)+1,0),0)","v":0},{"$f":"+IF(Simulador!$C$55=\"Si\",IF(WEEKDAY(D10,2)=1,MOD(INT((D10-$C$10)/7),52)+1,0),0)","v":0},{"$f":"+IF(Simulador!$C$55=\"Si\",IF(WEEKDAY(E10,2)=1,MOD(INT((E10-$C$10)/7),52)+1,0),0)","v":0},{"$f":"+IF(Simulador!$C$55=\"Si\",IF(WEEKDAY(F10,2)=1,MOD(INT((F10-$C$10)/7),52)+1,0),0)","v":0},{"$f":"+IF(Simulador!$C$55=\"Si\",IF(WEEKDAY(G10,2)=1,MOD(INT((G10-$C$10)/7),52)+1,0),0)","v":0},{"$f":"+IF(Simulador!$C$55=\"Si\",IF(WEEKDAY(H10,2)=1,MOD(INT((H10-$C$10)/7),52)+1,0),0)","v":0},{"$f":"+IF(Simulador!$C$55=\"Si\",IF(WEEKDAY(I10,2)=1,MOD(INT((I10-$C$10)/7),52)+1,0),0)","v":0},{"$f":"+IF(Simulador!$C$55=\"Si\",IF(WEEKDAY(J10,2)=1,MOD(INT((J10-$C$10)/7),52)+1,0),0)","v":0},{"$f":"+IF(Simulador!$C$55=\"Si\",IF(WEEKDAY(K10,2)=1,MOD(INT((K10-$C$10)/7),52)+1,0),0)","v":0},{"$f":"+IF(Simulador!$C$55=\"Si\",IF(WEEKDAY(L10,2)=1,MOD(INT((L10-$C$10)/7),52)+1,0),0)","v":0},{"$f":"+IF(Simulador!$C$55=\"Si\",IF(WEEKDAY(M10,2)=1,MOD(INT((M10-$C$10)/7),52)+1,0),0)","v":0},{"$f":"+IF(Simulador!$C$55=\"Si\",IF(WEEKDAY(N10,2)=1,MOD(INT((N10-$C$10)/7),52)+1,0),0)","v":0},{"$f":"+IF(Simulador!$C$55=\"Si\",IF(WEEKDAY(O10,2)=1,MOD(INT((O10-$C$10)/7),52)+1,0),0)","v":0},{"$f":"+IF(Simulador!$C$55=\"Si\",IF(WEEKDAY(P10,2)=1,MOD(INT((P10-$C$10)/7),52)+1,0),0)","v":0},{"$f":"+IF(Simulador!$C$55=\"Si\",IF(WEEKDAY(Q10,2)=1,MOD(INT((Q10-$C$10)/7),52)+1,0),0)","v":0},{"$f":"+IF(Simulador!$C$55=\"Si\",IF(WEEKDAY(R10,2)=1,MOD(INT((R10-$C$10)/7),52)+1,0),0)","v":0},{"$f":"+IF(Simulador!$C$55=\"Si\",IF(WEEKDAY(S10,2)=1,MOD(INT((S10-$C$10)/7),52)+1,0),0)","v":0},{"$f":"+IF(Simulador!$C$55=\"Si\",IF(WEEKDAY(T10,2)=1,MOD(INT((T10-$C$10)/7),52)+1,0),0)","v":0},{"$f":"+IF(Simulador!$C$55=\"Si\",IF(WEEKDAY(U10,2)=1,MOD(INT((U10-$C$10)/7),52)+1,0),0)","v":0},{"$f":"+IF(Simulador!$C$55=\"Si\",IF(WEEKDAY(V10,2)=1,MOD(INT((V10-$C$10)/7),52)+1,0),0)","v":0},{"$f":"+IF(Simulador!$C$55=\"Si\",IF(WEEKDAY(W10,2)=1,MOD(INT((W10-$C$10)/7),52)+1,0),0)","v":0},{"$f":"+IF(Simulador!$C$55=\"Si\",IF(WEEKDAY(X10,2)=1,MOD(INT((X10-$C$10)/7),52)+1,0),0)","v":0},{"$f":"+IF(Simulador!$C$55=\"Si\",IF(WEEKDAY(Y10,2)=1,MOD(INT((Y10-$C$10)/7),52)+1,0),0)","v":0},{"$f":"+IF(Simulador!$C$55=\"Si\",IF(WEEKDAY(Z10,2)=1,MOD(INT((Z10-$C$10)/7),52)+1,0),0)","v":0},{"$f":"+IF(Simulador!$C$55=\"Si\",IF(WEEKDAY(AA10,2)=1,MOD(INT((AA10-$C$10)/7),52)+1,0),0)","v":0},{"$f":"+IF(Simulador!$C$55=\"Si\",IF(WEEKDAY(AB10,2)=1,MOD(INT((AB10-$C$10)/7),52)+1,0),0)","v":0},{"$f":"+IF(Simulador!$C$55=\"Si\",IF(WEEKDAY(AC10,2)=1,MOD(INT((AC10-$C$10)/7),52)+1,0),0)","v":0},{"$f":"+IF(Simulador!$C$55=\"Si\",IF(WEEKDAY(AD10,2)=1,MOD(INT((AD10-$C$10)/7),52)+1,0),0)","v":0},{"$f":"+IF(Simulador!$C$55=\"Si\",IF(WEEKDAY(AE10,2)=1,MOD(INT((AE10-$C$10)/7),52)+1,0),0)","v":0},{"$f":"+IF(Simulador!$C$55=\"Si\",IF(WEEKDAY(AF10,2)=1,MOD(INT((AF10-$C$10)/7),52)+1,0),0)","v":0},{"$f":"+IF(Simulador!$C$55=\"Si\",IF(WEEKDAY(AG10,2)=1,MOD(INT((AG10-$C$10)/7),52)+1,0),0)","v":0},{"$f":"+IF(Simulador!$C$55=\"Si\",IF(WEEKDAY(AH10,2)=1,MOD(INT((AH10-$C$10)/7),52)+1,0),0)","v":0},{"$f":"+IF(Simulador!$C$55=\"Si\",IF(WEEKDAY(AI10,2)=1,MOD(INT((AI10-$C$10)/7),52)+1,0),0)","v":0},{"$f":"+IF(Simulador!$C$55=\"Si\",IF(WEEKDAY(AJ10,2)=1,MOD(INT((AJ10-$C$10)/7),52)+1,0),0)","v":0},{"$f":"+IF(Simulador!$C$55=\"Si\",IF(WEEKDAY(AK10,2)=1,MOD(INT((AK10-$C$10)/7),52)+1,0),0)","v":0},{"$f":"+IF(Simulador!$C$55=\"Si\",IF(WEEKDAY(AL10,2)=1,MOD(INT((AL10-$C$10)/7),52)+1,0),0)","v":0},{"$f":"+IF(Simulador!$C$55=\"Si\",IF(WEEKDAY(AM10,2)=1,MOD(INT((AM10-$C$10)/7),52)+1,0),0)","v":0},{"$f":"+IF(Simulador!$C$55=\"Si\",IF(WEEKDAY(AN10,2)=1,MOD(INT((AN10-$C$10)/7),52)+1,0),0)","v":0},{"$f":"+IF(Simulador!$C$55=\"Si\",IF(WEEKDAY(AO10,2)=1,MOD(INT((AO10-$C$10)/7),52)+1,0),0)","v":0},{"$f":"+IF(Simulador!$C$55=\"Si\",IF(WEEKDAY(AP10,2)=1,MOD(INT((AP10-$C$10)/7),52)+1,0),0)","v":0},{"$f":"+IF(Simulador!$C$55=\"Si\",IF(WEEKDAY(AQ10,2)=1,MOD(INT((AQ10-$C$10)/7),52)+1,0),0)","v":0},{"$f":"+IF(Simulador!$C$55=\"Si\",IF(WEEKDAY(AR10,2)=1,MOD(INT((AR10-$C$10)/7),52)+1,0),0)","v":0},{"$f":"+IF(Simulador!$C$55=\"Si\",IF(WEEKDAY(AS10,2)=1,MOD(INT((AS10-$C$10)/7),52)+1,0),0)","v":0},{"$f":"+IF(Simulador!$C$55=\"Si\",IF(WEEKDAY(AT10,2)=1,MOD(INT((AT10-$C$10)/7),52)+1,0),0)","v":0},{"$f":"+IF(Simulador!$C$55=\"Si\",IF(WEEKDAY(AU10,2)=1,MOD(INT((AU10-$C$10)/7),52)+1,0),0)","v":0},{"$f":"+IF(Simulador!$C$55=\"Si\",IF(WEEKDAY(AV10,2)=1,MOD(INT((AV10-$C$10)/7),52)+1,0),0)","v":0},{"$f":"+IF(Simulador!$C$55=\"Si\",IF(WEEKDAY(AW10,2)=1,MOD(INT((AW10-$C$10)/7),52)+1,0),0)","v":0},{"$f":"+IF(Simulador!$C$55=\"Si\",IF(WEEKDAY(AX10,2)=1,MOD(INT((AX10-$C$10)/7),52)+1,0),0)","v":0},{"$f":"+IF(Simulador!$C$55=\"Si\",IF(WEEKDAY(AY10,2)=1,MOD(INT((AY10-$C$10)/7),52)+1,0),0)","v":0},{"$f":"+IF(Simulador!$C$55=\"Si\",IF(WEEKDAY(AZ10,2)=1,MOD(INT((AZ10-$C$10)/7),52)+1,0),0)","v":0},{"$f":"+IF(Simulador!$C$55=\"Si\",IF(WEEKDAY(BA10,2)=1,MOD(INT((BA10-$C$10)/7),52)+1,0),0)","v":0},{"$f":"+IF(Simulador!$C$55=\"Si\",IF(WEEKDAY(BB10,2)=1,MOD(INT((BB10-$C$10)/7),52)+1,0),0)","v":0},{"$f":"+IF(Simulador!$C$55=\"Si\",IF(WEEKDAY(BC10,2)=1,MOD(INT((BC10-$C$10)/7),52)+1,0),0)","v":0},{"$f":"+IF(Simulador!$C$55=\"Si\",IF(WEEKDAY(BD10,2)=1,MOD(INT((BD10-$C$10)/7),52)+1,0),0)","v":0},{"$f":"+IF(Simulador!$C$55=\"Si\",IF(WEEKDAY(BE10,2)=1,MOD(INT((BE10-$C$10)/7),52)+1,0),0)","v":0},{"$f":"+IF(Simulador!$C$55=\"Si\",IF(WEEKDAY(BF10,2)=1,MOD(INT((BF10-$C$10)/7),52)+1,0),0)","v":0},{"$f":"+IF(Simulador!$C$55=\"Si\",IF(WEEKDAY(BG10,2)=1,MOD(INT((BG10-$C$10)/7),52)+1,0),0)","v":0},{"$f":"+IF(Simulador!$C$55=\"Si\",IF(WEEKDAY(BH10,2)=1,MOD(INT((BH10-$C$10)/7),52)+1,0),0)","v":0},{"$f":"+IF(Simulador!$C$55=\"Si\",IF(WEEKDAY(BI10,2)=1,MOD(INT((BI10-$C$10)/7),52)+1,0),0)","v":0},{"$f":"+IF(Simulador!$C$55=\"Si\",IF(WEEKDAY(BJ10,2)=1,MOD(INT((BJ10-$C$10)/7),52)+1,0),0)","v":0},{"$f":"+IF(Simulador!$C$55=\"Si\",IF(WEEKDAY(BK10,2)=1,MOD(INT((BK10-$C$10)/7),52)+1,0),0)","v":0},{"$f":"+IF(Simulador!$C$55=\"Si\",IF(WEEKDAY(BL10,2)=1,MOD(INT((BL10-$C$10)/7),52)+1,0),0)","v":0},{"$f":"+IF(Simulador!$C$55=\"Si\",IF(WEEKDAY(BM10,2)=1,MOD(INT((BM10-$C$10)/7),52)+1,0),0)","v":0},{"$f":"+IF(Simulador!$C$55=\"Si\",IF(WEEKDAY(BN10,2)=1,MOD(INT((BN10-$C$10)/7),52)+1,0),0)","v":0},{"$f":"+IF(Simulador!$C$55=\"Si\",IF(WEEKDAY(BO10,2)=1,MOD(INT((BO10-$C$10)/7),52)+1,0),0)","v":0},{"$f":"+IF(Simulador!$C$55=\"Si\",IF(WEEKDAY(BP10,2)=1,MOD(INT((BP10-$C$10)/7),52)+1,0),0)","v":0},{"$f":"+IF(Simulador!$C$55=\"Si\",IF(WEEKDAY(BQ10,2)=1,MOD(INT((BQ10-$C$10)/7),52)+1,0),0)","v":0},{"$f":"+IF(Simulador!$C$55=\"Si\",IF(WEEKDAY(BR10,2)=1,MOD(INT((BR10-$C$10)/7),52)+1,0),0)","v":0},{"$f":"+IF(Simulador!$C$55=\"Si\",IF(WEEKDAY(BS10,2)=1,MOD(INT((BS10-$C$10)/7),52)+1,0),0)","v":0},{"$f":"+IF(Simulador!$C$55=\"Si\",IF(WEEKDAY(BT10,2)=1,MOD(INT((BT10-$C$10)/7),52)+1,0),0)","v":0},{"$f":"+IF(Simulador!$C$55=\"Si\",IF(WEEKDAY(BU10,2)=1,MOD(INT((BU10-$C$10)/7),52)+1,0),0)","v":0},{"$f":"+IF(Simulador!$C$55=\"Si\",IF(WEEKDAY(BV10,2)=1,MOD(INT((BV10-$C$10)/7),52)+1,0),0)","v":0},{"$f":"+IF(Simulador!$C$55=\"Si\",IF(WEEKDAY(BW10,2)=1,MOD(INT((BW10-$C$10)/7),52)+1,0),0)","v":0},{"$f":"+IF(Simulador!$C$55=\"Si\",IF(WEEKDAY(BX10,2)=1,MOD(INT((BX10-$C$10)/7),52)+1,0),0)","v":0},{"$f":"+IF(Simulador!$C$55=\"Si\",IF(WEEKDAY(BY10,2)=1,MOD(INT((BY10-$C$10)/7),52)+1,0),0)","v":0},{"$f":"+IF(Simulador!$C$55=\"Si\",IF(WEEKDAY(BZ10,2)=1,MOD(INT((BZ10-$C$10)/7),52)+1,0),0)","v":0},{"$f":"+IF(Simulador!$C$55=\"Si\",IF(WEEKDAY(CA10,2)=1,MOD(INT((CA10-$C$10)/7),52)+1,0),0)","v":0},{"$f":"+IF(Simulador!$C$55=\"Si\",IF(WEEKDAY(CB10,2)=1,MOD(INT((CB10-$C$10)/7),52)+1,0),0)","v":0},{"$f":"+IF(Simulador!$C$55=\"Si\",IF(WEEKDAY(CC10,2)=1,MOD(INT((CC10-$C$10)/7),52)+1,0),0)","v":0},{"$f":"+IF(Simulador!$C$55=\"Si\",IF(WEEKDAY(CD10,2)=1,MOD(INT((CD10-$C$10)/7),52)+1,0),0)","v":0},{"$f":"+IF(Simulador!$C$55=\"Si\",IF(WEEKDAY(CE10,2)=1,MOD(INT((CE10-$C$10)/7),52)+1,0),0)","v":0},{"$f":"+IF(Simulador!$C$55=\"Si\",IF(WEEKDAY(CF10,2)=1,MOD(INT((CF10-$C$10)/7),52)+1,0),0)","v":0},{"$f":"+IF(Simulador!$C$55=\"Si\",IF(WEEKDAY(CG10,2)=1,MOD(INT((CG10-$C$10)/7),52)+1,0),0)","v":0},{"$f":"+IF(Simulador!$C$55=\"Si\",IF(WEEKDAY(CH10,2)=1,MOD(INT((CH10-$C$10)/7),52)+1,0),0)","v":0},{"$f":"+IF(Simulador!$C$55=\"Si\",IF(WEEKDAY(CI10,2)=1,MOD(INT((CI10-$C$10)/7),52)+1,0),0)","v":0},{"$f":"+IF(Simulador!$C$55=\"Si\",IF(WEEKDAY(CJ10,2)=1,MOD(INT((CJ10-$C$10)/7),52)+1,0),0)","v":0},{"$f":"+IF(Simulador!$C$55=\"Si\",IF(WEEKDAY(CK10,2)=1,MOD(INT((CK10-$C$10)/7),52)+1,0),0)","v":0},{"$f":"+IF(Simulador!$C$55=\"Si\",IF(WEEKDAY(CL10,2)=1,MOD(INT((CL10-$C$10)/7),52)+1,0),0)","v":0},{"$f":"+IF(Simulador!$C$55=\"Si\",IF(WEEKDAY(CM10,2)=1,MOD(INT((CM10-$C$10)/7),52)+1,0),0)","v":0},{"$f":"+IF(Simulador!$C$55=\"Si\",IF(WEEKDAY(CN10,2)=1,MOD(INT((CN10-$C$10)/7),52)+1,0),0)","v":0},{"$f":"+IF(Simulador!$C$55=\"Si\",IF(WEEKDAY(CO10,2)=1,MOD(INT((CO10-$C$10)/7),52)+1,0),0)","v":0},{"$f":"+IF(Simulador!$C$55=\"Si\",IF(WEEKDAY(CP10,2)=1,MOD(INT((CP10-$C$10)/7),52)+1,0),0)","v":0},{"$f":"+IF(Simulador!$C$55=\"Si\",IF(WEEKDAY(CQ10,2)=1,MOD(INT((CQ10-$C$10)/7),52)+1,0),0)","v":0},{"$f":"+IF(Simulador!$C$55=\"Si\",IF(WEEKDAY(CR10,2)=1,MOD(INT((CR10-$C$10)/7),52)+1,0),0)","v":0},{"$f":"+IF(Simulador!$C$55=\"Si\",IF(WEEKDAY(CS10,2)=1,MOD(INT((CS10-$C$10)/7),52)+1,0),0)","v":0},{"$f":"+IF(Simulador!$C$55=\"Si\",IF(WEEKDAY(CT10,2)=1,MOD(INT((CT10-$C$10)/7),52)+1,0),0)","v":0},{"$f":"+IF(Simulador!$C$55=\"Si\",IF(WEEKDAY(CU10,2)=1,MOD(INT((CU10-$C$10)/7),52)+1,0),0)","v":0},{"$f":"+IF(Simulador!$C$55=\"Si\",IF(WEEKDAY(CV10,2)=1,MOD(INT((CV10-$C$10)/7),52)+1,0),0)","v":0},{"$f":"+IF(Simulador!$C$55=\"Si\",IF(WEEKDAY(CW10,2)=1,MOD(INT((CW10-$C$10)/7),52)+1,0),0)","v":0},{"$f":"+IF(Simulador!$C$55=\"Si\",IF(WEEKDAY(CX10,2)=1,MOD(INT((CX10-$C$10)/7),52)+1,0),0)","v":0},{"$f":"+IF(Simulador!$C$55=\"Si\",IF(WEEKDAY(CY10,2)=1,MOD(INT((CY10-$C$10)/7),52)+1,0),0)","v":0},{"$f":"+IF(Simulador!$C$55=\"Si\",IF(WEEKDAY(CZ10,2)=1,MOD(INT((CZ10-$C$10)/7),52)+1,0),0)","v":0},{"$f":"+IF(Simulador!$C$55=\"Si\",IF(WEEKDAY(DA10,2)=1,MOD(INT((DA10-$C$10)/7),52)+1,0),0)","v":0},{"$f":"+IF(Simulador!$C$55=\"Si\",IF(WEEKDAY(DB10,2)=1,MOD(INT((DB10-$C$10)/7),52)+1,0),0)","v":0},{"$f":"+IF(Simulador!$C$55=\"Si\",IF(WEEKDAY(DC10,2)=1,MOD(INT((DC10-$C$10)/7),52)+1,0),0)","v":0},{"$f":"+IF(Simulador!$C$55=\"Si\",IF(WEEKDAY(DD10,2)=1,MOD(INT((DD10-$C$10)/7),52)+1,0),0)","v":0},{"$f":"+IF(Simulador!$C$55=\"Si\",IF(WEEKDAY(DE10,2)=1,MOD(INT((DE10-$C$10)/7),52)+1,0),0)","v":0},{"$f":"+IF(Simulador!$C$55=\"Si\",IF(WEEKDAY(DF10,2)=1,MOD(INT((DF10-$C$10)/7),52)+1,0),0)","v":0},{"$f":"+IF(Simulador!$C$55=\"Si\",IF(WEEKDAY(DG10,2)=1,MOD(INT((DG10-$C$10)/7),52)+1,0),0)","v":0},{"$f":"+IF(Simulador!$C$55=\"Si\",IF(WEEKDAY(DH10,2)=1,MOD(INT((DH10-$C$10)/7),52)+1,0),0)","v":0},{"$f":"+IF(Simulador!$C$55=\"Si\",IF(WEEKDAY(DI10,2)=1,MOD(INT((DI10-$C$10)/7),52)+1,0),0)","v":0},{"$f":"+IF(Simulador!$C$55=\"Si\",IF(WEEKDAY(DJ10,2)=1,MOD(INT((DJ10-$C$10)/7),52)+1,0),0)","v":0},{"$f":"+IF(Simulador!$C$55=\"Si\",IF(WEEKDAY(DK10,2)=1,MOD(INT((DK10-$C$10)/7),52)+1,0),0)","v":0},{"$f":"+IF(Simulador!$C$55=\"Si\",IF(WEEKDAY(DL10,2)=1,MOD(INT((DL10-$C$10)/7),52)+1,0),0)","v":0},{"$f":"+IF(Simulador!$C$55=\"Si\",IF(WEEKDAY(DM10,2)=1,MOD(INT((DM10-$C$10)/7),52)+1,0),0)","v":0},{"$f":"+IF(Simulador!$C$55=\"Si\",IF(WEEKDAY(DN10,2)=1,MOD(INT((DN10-$C$10)/7),52)+1,0),0)","v":0},{"$f":"+IF(Simulador!$C$55=\"Si\",IF(WEEKDAY(DO10,2)=1,MOD(INT((DO10-$C$10)/7),52)+1,0),0)","v":0},{"$f":"+IF(Simulador!$C$55=\"Si\",IF(WEEKDAY(DP10,2)=1,MOD(INT((DP10-$C$10)/7),52)+1,0),0)","v":0},{"$f":"+IF(Simulador!$C$55=\"Si\",IF(WEEKDAY(DQ10,2)=1,MOD(INT((DQ10-$C$10)/7),52)+1,0),0)","v":0},{"$f":"+IF(Simulador!$C$55=\"Si\",IF(WEEKDAY(DR10,2)=1,MOD(INT((DR10-$C$10)/7),52)+1,0),0)","v":0},{"$f":"+IF(Simulador!$C$55=\"Si\",IF(WEEKDAY(DS10,2)=1,MOD(INT((DS10-$C$10)/7),52)+1,0),0)","v":0},{"$f":"+IF(Simulador!$C$55=\"Si\",IF(WEEKDAY(DT10,2)=1,MOD(INT((DT10-$C$10)/7),52)+1,0),0)","v":0},{"$f":"+IF(Simulador!$C$55=\"Si\",IF(WEEKDAY(DU10,2)=1,MOD(INT((DU10-$C$10)/7),52)+1,0),0)","v":0},{"$f":"+IF(Simulador!$C$55=\"Si\",IF(WEEKDAY(DV10,2)=1,MOD(INT((DV10-$C$10)/7),52)+1,0),0)","v":0},{"$f":"+IF(Simulador!$C$55=\"Si\",IF(WEEKDAY(DW10,2)=1,MOD(INT((DW10-$C$10)/7),52)+1,0),0)","v":0},{"$f":"+IF(Simulador!$C$55=\"Si\",IF(WEEKDAY(DX10,2)=1,MOD(INT((DX10-$C$10)/7),52)+1,0),0)","v":0},{"$f":"+IF(Simulador!$C$55=\"Si\",IF(WEEKDAY(DY10,2)=1,MOD(INT((DY10-$C$10)/7),52)+1,0),0)","v":0},{"$f":"+IF(Simulador!$C$55=\"Si\",IF(WEEKDAY(DZ10,2)=1,MOD(INT((DZ10-$C$10)/7),52)+1,0),0)","v":0},{"$f":"+IF(Simulador!$C$55=\"Si\",IF(WEEKDAY(EA10,2)=1,MOD(INT((EA10-$C$10)/7),52)+1,0),0)","v":0},{"$f":"+IF(Simulador!$C$55=\"Si\",IF(WEEKDAY(EB10,2)=1,MOD(INT((EB10-$C$10)/7),52)+1,0),0)","v":0},{"$f":"+IF(Simulador!$C$55=\"Si\",IF(WEEKDAY(EC10,2)=1,MOD(INT((EC10-$C$10)/7),52)+1,0),0)","v":0},{"$f":"+IF(Simulador!$C$55=\"Si\",IF(WEEKDAY(ED10,2)=1,MOD(INT((ED10-$C$10)/7),52)+1,0),0)","v":0},{"$f":"+IF(Simulador!$C$55=\"Si\",IF(WEEKDAY(EE10,2)=1,MOD(INT((EE10-$C$10)/7),52)+1,0),0)","v":0},{"$f":"+IF(Simulador!$C$55=\"Si\",IF(WEEKDAY(EF10,2)=1,MOD(INT((EF10-$C$10)/7),52)+1,0),0)","v":0},{"$f":"+IF(Simulador!$C$55=\"Si\",IF(WEEKDAY(EG10,2)=1,MOD(INT((EG10-$C$10)/7),52)+1,0),0)","v":0},{"$f":"+IF(Simulador!$C$55=\"Si\",IF(WEEKDAY(EH10,2)=1,MOD(INT((EH10-$C$10)/7),52)+1,0),0)","v":0},{"$f":"+IF(Simulador!$C$55=\"Si\",IF(WEEKDAY(EI10,2)=1,MOD(INT((EI10-$C$10)/7),52)+1,0),0)","v":0},{"$f":"+IF(Simulador!$C$55=\"Si\",IF(WEEKDAY(EJ10,2)=1,MOD(INT((EJ10-$C$10)/7),52)+1,0),0)","v":0},{"$f":"+IF(Simulador!$C$55=\"Si\",IF(WEEKDAY(EK10,2)=1,MOD(INT((EK10-$C$10)/7),52)+1,0),0)","v":0},{"$f":"+IF(Simulador!$C$55=\"Si\",IF(WEEKDAY(EL10,2)=1,MOD(INT((EL10-$C$10)/7),52)+1,0),0)","v":0},{"$f":"+IF(Simulador!$C$55=\"Si\",IF(WEEKDAY(EM10,2)=1,MOD(INT((EM10-$C$10)/7),52)+1,0),0)","v":0},{"$f":"+IF(Simulador!$C$55=\"Si\",IF(WEEKDAY(EN10,2)=1,MOD(INT((EN10-$C$10)/7),52)+1,0),0)","v":0},{"$f":"+IF(Simulador!$C$55=\"Si\",IF(WEEKDAY(EO10,2)=1,MOD(INT((EO10-$C$10)/7),52)+1,0),0)","v":0},{"$f":"+IF(Simulador!$C$55=\"Si\",IF(WEEKDAY(EP10,2)=1,MOD(INT((EP10-$C$10)/7),52)+1,0),0)","v":0},{"$f":"+IF(Simulador!$C$55=\"Si\",IF(WEEKDAY(EQ10,2)=1,MOD(INT((EQ10-$C$10)/7),52)+1,0),0)","v":0},{"$f":"+IF(Simulador!$C$55=\"Si\",IF(WEEKDAY(ER10,2)=1,MOD(INT((ER10-$C$10)/7),52)+1,0),0)","v":0},{"$f":"+IF(Simulador!$C$55=\"Si\",IF(WEEKDAY(ES10,2)=1,MOD(INT((ES10-$C$10)/7),52)+1,0),0)","v":0},{"$f":"+IF(Simulador!$C$55=\"Si\",IF(WEEKDAY(ET10,2)=1,MOD(INT((ET10-$C$10)/7),52)+1,0),0)","v":0},{"$f":"+IF(Simulador!$C$55=\"Si\",IF(WEEKDAY(EU10,2)=1,MOD(INT((EU10-$C$10)/7),52)+1,0),0)","v":0},{"$f":"+IF(Simulador!$C$55=\"Si\",IF(WEEKDAY(EV10,2)=1,MOD(INT((EV10-$C$10)/7),52)+1,0),0)","v":0},{"$f":"+IF(Simulador!$C$55=\"Si\",IF(WEEKDAY(EW10,2)=1,MOD(INT((EW10-$C$10)/7),52)+1,0),0)","v":0},{"$f":"+IF(Simulador!$C$55=\"Si\",IF(WEEKDAY(EX10,2)=1,MOD(INT((EX10-$C$10)/7),52)+1,0),0)","v":0},{"$f":"+IF(Simulador!$C$55=\"Si\",IF(WEEKDAY(EY10,2)=1,MOD(INT((EY10-$C$10)/7),52)+1,0),0)","v":0},{"$f":"+IF(Simulador!$C$55=\"Si\",IF(WEEKDAY(EZ10,2)=1,MOD(INT((EZ10-$C$10)/7),52)+1,0),0)","v":0},{"$f":"+IF(Simulador!$C$55=\"Si\",IF(WEEKDAY(FA10,2)=1,MOD(INT((FA10-$C$10)/7),52)+1,0),0)","v":0},{"$f":"+IF(Simulador!$C$55=\"Si\",IF(WEEKDAY(FB10,2)=1,MOD(INT((FB10-$C$10)/7),52)+1,0),0)","v":0},{"$f":"+IF(Simulador!$C$55=\"Si\",IF(WEEKDAY(FC10,2)=1,MOD(INT((FC10-$C$10)/7),52)+1,0),0)","v":0},{"$f":"+IF(Simulador!$C$55=\"Si\",IF(WEEKDAY(FD10,2)=1,MOD(INT((FD10-$C$10)/7),52)+1,0),0)","v":0},{"$f":"+IF(Simulador!$C$55=\"Si\",IF(WEEKDAY(FE10,2)=1,MOD(INT((FE10-$C$10)/7),52)+1,0),0)","v":0},{"$f":"+IF(Simulador!$C$55=\"Si\",IF(WEEKDAY(FF10,2)=1,MOD(INT((FF10-$C$10)/7),52)+1,0),0)","v":0},{"$f":"+IF(Simulador!$C$55=\"Si\",IF(WEEKDAY(FG10,2)=1,MOD(INT((FG10-$C$10)/7),52)+1,0),0)","v":0},{"$f":"+IF(Simulador!$C$55=\"Si\",IF(WEEKDAY(FH10,2)=1,MOD(INT((FH10-$C$10)/7),52)+1,0),0)","v":0},{"$f":"+IF(Simulador!$C$55=\"Si\",IF(WEEKDAY(FI10,2)=1,MOD(INT((FI10-$C$10)/7),52)+1,0),0)","v":0},{"$f":"+IF(Simulador!$C$55=\"Si\",IF(WEEKDAY(FJ10,2)=1,MOD(INT((FJ10-$C$10)/7),52)+1,0),0)","v":0},{"$f":"+IF(Simulador!$C$55=\"Si\",IF(WEEKDAY(FK10,2)=1,MOD(INT((FK10-$C$10)/7),52)+1,0),0)","v":0},{"$f":"+IF(Simulador!$C$55=\"Si\",IF(WEEKDAY(FL10,2)=1,MOD(INT((FL10-$C$10)/7),52)+1,0),0)","v":0},{"$f":"+IF(Simulador!$C$55=\"Si\",IF(WEEKDAY(FM10,2)=1,MOD(INT((FM10-$C$10)/7),52)+1,0),0)","v":0},{"$f":"+IF(Simulador!$C$55=\"Si\",IF(WEEKDAY(FN10,2)=1,MOD(INT((FN10-$C$10)/7),52)+1,0),0)","v":0},{"$f":"+IF(Simulador!$C$55=\"Si\",IF(WEEKDAY(FO10,2)=1,MOD(INT((FO10-$C$10)/7),52)+1,0),0)","v":0},{"$f":"+IF(Simulador!$C$55=\"Si\",IF(WEEKDAY(FP10,2)=1,MOD(INT((FP10-$C$10)/7),52)+1,0),0)","v":0},{"$f":"+IF(Simulador!$C$55=\"Si\",IF(WEEKDAY(FQ10,2)=1,MOD(INT((FQ10-$C$10)/7),52)+1,0),0)","v":0},{"$f":"+IF(Simulador!$C$55=\"Si\",IF(WEEKDAY(FR10,2)=1,MOD(INT((FR10-$C$10)/7),52)+1,0),0)","v":0},{"$f":"+IF(Simulador!$C$55=\"Si\",IF(WEEKDAY(FS10,2)=1,MOD(INT((FS10-$C$10)/7),52)+1,0),0)","v":0},{"$f":"+IF(Simulador!$C$55=\"Si\",IF(WEEKDAY(FT10,2)=1,MOD(INT((FT10-$C$10)/7),52)+1,0),0)","v":0},{"$f":"+IF(Simulador!$C$55=\"Si\",IF(WEEKDAY(FU10,2)=1,MOD(INT((FU10-$C$10)/7),52)+1,0),0)","v":0},{"$f":"+IF(Simulador!$C$55=\"Si\",IF(WEEKDAY(FV10,2)=1,MOD(INT((FV10-$C$10)/7),52)+1,0),0)","v":0},{"$f":"+IF(Simulador!$C$55=\"Si\",IF(WEEKDAY(FW10,2)=1,MOD(INT((FW10-$C$10)/7),52)+1,0),0)","v":0},{"$f":"+IF(Simulador!$C$55=\"Si\",IF(WEEKDAY(FX10,2)=1,MOD(INT((FX10-$C$10)/7),52)+1,0),0)","v":0},{"$f":"+IF(Simulador!$C$55=\"Si\",IF(WEEKDAY(FY10,2)=1,MOD(INT((FY10-$C$10)/7),52)+1,0),0)","v":0},{"$f":"+IF(Simulador!$C$55=\"Si\",IF(WEEKDAY(FZ10,2)=1,MOD(INT((FZ10-$C$10)/7),52)+1,0),0)","v":0},{"$f":"+IF(Simulador!$C$55=\"Si\",IF(WEEKDAY(GA10,2)=1,MOD(INT((GA10-$C$10)/7),52)+1,0),0)","v":0},{"$f":"+IF(Simulador!$C$55=\"Si\",IF(WEEKDAY(GB10,2)=1,MOD(INT((GB10-$C$10)/7),52)+1,0),0)","v":0},{"$f":"+IF(Simulador!$C$55=\"Si\",IF(WEEKDAY(GC10,2)=1,MOD(INT((GC10-$C$10)/7),52)+1,0),0)","v":0},{"$f":"+IF(Simulador!$C$55=\"Si\",IF(WEEKDAY(GD10,2)=1,MOD(INT((GD10-$C$10)/7),52)+1,0),0)","v":0},{"$f":"+IF(Simulador!$C$55=\"Si\",IF(WEEKDAY(GE10,2)=1,MOD(INT((GE10-$C$10)/7),52)+1,0),0)","v":0},{"$f":"+IF(Simulador!$C$55=\"Si\",IF(WEEKDAY(GF10,2)=1,MOD(INT((GF10-$C$10)/7),52)+1,0),0)","v":0},{"$f":"+IF(Simulador!$C$55=\"Si\",IF(WEEKDAY(GG10,2)=1,MOD(INT((GG10-$C$10)/7),52)+1,0),0)","v":0},{"$f":"+IF(Simulador!$C$55=\"Si\",IF(WEEKDAY(GH10,2)=1,MOD(INT((GH10-$C$10)/7),52)+1,0),0)","v":0},{"$f":"+IF(Simulador!$C$55=\"Si\",IF(WEEKDAY(GI10,2)=1,MOD(INT((GI10-$C$10)/7),52)+1,0),0)","v":0},{"$f":"+IF(Simulador!$C$55=\"Si\",IF(WEEKDAY(GJ10,2)=1,MOD(INT((GJ10-$C$10)/7),52)+1,0),0)","v":0},{"$f":"+IF(Simulador!$C$55=\"Si\",IF(WEEKDAY(GK10,2)=1,MOD(INT((GK10-$C$10)/7),52)+1,0),0)","v":0},{"$f":"+IF(Simulador!$C$55=\"Si\",IF(WEEKDAY(GL10,2)=1,MOD(INT((GL10-$C$10)/7),52)+1,0),0)","v":0},{"$f":"+IF(Simulador!$C$55=\"Si\",IF(WEEKDAY(GM10,2)=1,MOD(INT((GM10-$C$10)/7),52)+1,0),0)","v":0},{"$f":"+IF(Simulador!$C$55=\"Si\",IF(WEEKDAY(GN10,2)=1,MOD(INT((GN10-$C$10)/7),52)+1,0),0)","v":0},{"$f":"+IF(Simulador!$C$55=\"Si\",IF(WEEKDAY(GO10,2)=1,MOD(INT((GO10-$C$10)/7),52)+1,0),0)","v":0},{"$f":"+IF(Simulador!$C$55=\"Si\",IF(WEEKDAY(GP10,2)=1,MOD(INT((GP10-$C$10)/7),52)+1,0),0)","v":0},{"$f":"+IF(Simulador!$C$55=\"Si\",IF(WEEKDAY(GQ10,2)=1,MOD(INT((GQ10-$C$10)/7),52)+1,0),0)","v":0},{"$f":"+IF(Simulador!$C$55=\"Si\",IF(WEEKDAY(GR10,2)=1,MOD(INT((GR10-$C$10)/7),52)+1,0),0)","v":0},{"$f":"+IF(Simulador!$C$55=\"Si\",IF(WEEKDAY(GS10,2)=1,MOD(INT((GS10-$C$10)/7),52)+1,0),0)","v":0},{"$f":"+IF(Simulador!$C$55=\"Si\",IF(WEEKDAY(GT10,2)=1,MOD(INT((GT10-$C$10)/7),52)+1,0),0)","v":0},{"$f":"+IF(Simulador!$C$55=\"Si\",IF(WEEKDAY(GU10,2)=1,MOD(INT((GU10-$C$10)/7),52)+1,0),0)","v":0},{"$f":"+IF(Simulador!$C$55=\"Si\",IF(WEEKDAY(GV10,2)=1,MOD(INT((GV10-$C$10)/7),52)+1,0),0)","v":0},{"$f":"+IF(Simulador!$C$55=\"Si\",IF(WEEKDAY(GW10,2)=1,MOD(INT((GW10-$C$10)/7),52)+1,0),0)","v":0},{"$f":"+IF(Simulador!$C$55=\"Si\",IF(WEEKDAY(GX10,2)=1,MOD(INT((GX10-$C$10)/7),52)+1,0),0)","v":0},{"$f":"+IF(Simulador!$C$55=\"Si\",IF(WEEKDAY(GY10,2)=1,MOD(INT((GY10-$C$10)/7),52)+1,0),0)","v":0},{"$f":"+IF(Simulador!$C$55=\"Si\",IF(WEEKDAY(GZ10,2)=1,MOD(INT((GZ10-$C$10)/7),52)+1,0),0)","v":0},{"$f":"+IF(Simulador!$C$55=\"Si\",IF(WEEKDAY(HA10,2)=1,MOD(INT((HA10-$C$10)/7),52)+1,0),0)","v":0},{"$f":"+IF(Simulador!$C$55=\"Si\",IF(WEEKDAY(HB10,2)=1,MOD(INT((HB10-$C$10)/7),52)+1,0),0)","v":0},{"$f":"+IF(Simulador!$C$55=\"Si\",IF(WEEKDAY(HC10,2)=1,MOD(INT((HC10-$C$10)/7),52)+1,0),0)","v":0},{"$f":"+IF(Simulador!$C$55=\"Si\",IF(WEEKDAY(HD10,2)=1,MOD(INT((HD10-$C$10)/7),52)+1,0),0)","v":0},{"$f":"+IF(Simulador!$C$55=\"Si\",IF(WEEKDAY(HE10,2)=1,MOD(INT((HE10-$C$10)/7),52)+1,0),0)","v":0},{"$f":"+IF(Simulador!$C$55=\"Si\",IF(WEEKDAY(HF10,2)=1,MOD(INT((HF10-$C$10)/7),52)+1,0),0)","v":0},{"$f":"+IF(Simulador!$C$55=\"Si\",IF(WEEKDAY(HG10,2)=1,MOD(INT((HG10-$C$10)/7),52)+1,0),0)","v":0},{"$f":"+IF(Simulador!$C$55=\"Si\",IF(WEEKDAY(HH10,2)=1,MOD(INT((HH10-$C$10)/7),52)+1,0),0)","v":0},{"$f":"+IF(Simulador!$C$55=\"Si\",IF(WEEKDAY(HI10,2)=1,MOD(INT((HI10-$C$10)/7),52)+1,0),0)","v":0},{"$f":"+IF(Simulador!$C$55=\"Si\",IF(WEEKDAY(HJ10,2)=1,MOD(INT((HJ10-$C$10)/7),52)+1,0),0)","v":0},{"$f":"+IF(Simulador!$C$55=\"Si\",IF(WEEKDAY(HK10,2)=1,MOD(INT((HK10-$C$10)/7),52)+1,0),0)","v":0},{"$f":"+IF(Simulador!$C$55=\"Si\",IF(WEEKDAY(HL10,2)=1,MOD(INT((HL10-$C$10)/7),52)+1,0),0)","v":0},{"$f":"+IF(Simulador!$C$55=\"Si\",IF(WEEKDAY(HM10,2)=1,MOD(INT((HM10-$C$10)/7),52)+1,0),0)","v":0},{"$f":"+IF(Simulador!$C$55=\"Si\",IF(WEEKDAY(HN10,2)=1,MOD(INT((HN10-$C$10)/7),52)+1,0),0)","v":0},{"$f":"+IF(Simulador!$C$55=\"Si\",IF(WEEKDAY(HO10,2)=1,MOD(INT((HO10-$C$10)/7),52)+1,0),0)","v":0},{"$f":"+IF(Simulador!$C$55=\"Si\",IF(WEEKDAY(HP10,2)=1,MOD(INT((HP10-$C$10)/7),52)+1,0),0)","v":0},{"$f":"+IF(Simulador!$C$55=\"Si\",IF(WEEKDAY(HQ10,2)=1,MOD(INT((HQ10-$C$10)/7),52)+1,0),0)","v":0},{"$f":"+IF(Simulador!$C$55=\"Si\",IF(WEEKDAY(HR10,2)=1,MOD(INT((HR10-$C$10)/7),52)+1,0),0)","v":0},{"$f":"+IF(Simulador!$C$55=\"Si\",IF(WEEKDAY(HS10,2)=1,MOD(INT((HS10-$C$10)/7),52)+1,0),0)","v":0},{"$f":"+IF(Simulador!$C$55=\"Si\",IF(WEEKDAY(HT10,2)=1,MOD(INT((HT10-$C$10)/7),52)+1,0),0)","v":0},{"$f":"+IF(Simulador!$C$55=\"Si\",IF(WEEKDAY(HU10,2)=1,MOD(INT((HU10-$C$10)/7),52)+1,0),0)","v":0},{"$f":"+IF(Simulador!$C$55=\"Si\",IF(WEEKDAY(HV10,2)=1,MOD(INT((HV10-$C$10)/7),52)+1,0),0)","v":0},{"$f":"+IF(Simulador!$C$55=\"Si\",IF(WEEKDAY(HW10,2)=1,MOD(INT((HW10-$C$10)/7),52)+1,0),0)","v":0},{"$f":"+IF(Simulador!$C$55=\"Si\",IF(WEEKDAY(HX10,2)=1,MOD(INT((HX10-$C$10)/7),52)+1,0),0)","v":0},{"$f":"+IF(Simulador!$C$55=\"Si\",IF(WEEKDAY(HY10,2)=1,MOD(INT((HY10-$C$10)/7),52)+1,0),0)","v":0},{"$f":"+IF(Simulador!$C$55=\"Si\",IF(WEEKDAY(HZ10,2)=1,MOD(INT((HZ10-$C$10)/7),52)+1,0),0)","v":0},{"$f":"+IF(Simulador!$C$55=\"Si\",IF(WEEKDAY(IA10,2)=1,MOD(INT((IA10-$C$10)/7),52)+1,0),0)","v":0},{"$f":"+IF(Simulador!$C$55=\"Si\",IF(WEEKDAY(IB10,2)=1,MOD(INT((IB10-$C$10)/7),52)+1,0),0)","v":0},{"$f":"+IF(Simulador!$C$55=\"Si\",IF(WEEKDAY(IC10,2)=1,MOD(INT((IC10-$C$10)/7),52)+1,0),0)","v":0},{"$f":"+IF(Simulador!$C$55=\"Si\",IF(WEEKDAY(ID10,2)=1,MOD(INT((ID10-$C$10)/7),52)+1,0),0)","v":0},{"$f":"+IF(Simulador!$C$55=\"Si\",IF(WEEKDAY(IE10,2)=1,MOD(INT((IE10-$C$10)/7),52)+1,0),0)","v":0},{"$f":"+IF(Simulador!$C$55=\"Si\",IF(WEEKDAY(IF10,2)=1,MOD(INT((IF10-$C$10)/7),52)+1,0),0)","v":0},{"$f":"+IF(Simulador!$C$55=\"Si\",IF(WEEKDAY(IG10,2)=1,MOD(INT((IG10-$C$10)/7),52)+1,0),0)","v":0},{"$f":"+IF(Simulador!$C$55=\"Si\",IF(WEEKDAY(IH10,2)=1,MOD(INT((IH10-$C$10)/7),52)+1,0),0)","v":0},{"$f":"+IF(Simulador!$C$55=\"Si\",IF(WEEKDAY(II10,2)=1,MOD(INT((II10-$C$10)/7),52)+1,0),0)","v":0},{"$f":"+IF(Simulador!$C$55=\"Si\",IF(WEEKDAY(IJ10,2)=1,MOD(INT((IJ10-$C$10)/7),52)+1,0),0)","v":0},{"$f":"+IF(Simulador!$C$55=\"Si\",IF(WEEKDAY(IK10,2)=1,MOD(INT((IK10-$C$10)/7),52)+1,0),0)","v":0},{"$f":"+IF(Simulador!$C$55=\"Si\",IF(WEEKDAY(IL10,2)=1,MOD(INT((IL10-$C$10)/7),52)+1,0),0)","v":0},{"$f":"+IF(Simulador!$C$55=\"Si\",IF(WEEKDAY(IM10,2)=1,MOD(INT((IM10-$C$10)/7),52)+1,0),0)","v":0},{"$f":"+IF(Simulador!$C$55=\"Si\",IF(WEEKDAY(IN10,2)=1,MOD(INT((IN10-$C$10)/7),52)+1,0),0)","v":0},{"$f":"+IF(Simulador!$C$55=\"Si\",IF(WEEKDAY(IO10,2)=1,MOD(INT((IO10-$C$10)/7),52)+1,0),0)","v":0},{"$f":"+IF(Simulador!$C$55=\"Si\",IF(WEEKDAY(IP10,2)=1,MOD(INT((IP10-$C$10)/7),52)+1,0),0)","v":0},{"$f":"+IF(Simulador!$C$55=\"Si\",IF(WEEKDAY(IQ10,2)=1,MOD(INT((IQ10-$C$10)/7),52)+1,0),0)","v":0},{"$f":"+IF(Simulador!$C$55=\"Si\",IF(WEEKDAY(IR10,2)=1,MOD(INT((IR10-$C$10)/7),52)+1,0),0)","v":0},{"$f":"+IF(Simulador!$C$55=\"Si\",IF(WEEKDAY(IS10,2)=1,MOD(INT((IS10-$C$10)/7),52)+1,0),0)","v":0},{"$f":"+IF(Simulador!$C$55=\"Si\",IF(WEEKDAY(IT10,2)=1,MOD(INT((IT10-$C$10)/7),52)+1,0),0)","v":0},{"$f":"+IF(Simulador!$C$55=\"Si\",IF(WEEKDAY(IU10,2)=1,MOD(INT((IU10-$C$10)/7),52)+1,0),0)","v":0},{"$f":"+IF(Simulador!$C$55=\"Si\",IF(WEEKDAY(IV10,2)=1,MOD(INT((IV10-$C$10)/7),52)+1,0),0)","v":0},{"$f":"+IF(Simulador!$C$55=\"Si\",IF(WEEKDAY(IW10,2)=1,MOD(INT((IW10-$C$10)/7),52)+1,0),0)","v":0},{"$f":"+IF(Simulador!$C$55=\"Si\",IF(WEEKDAY(IX10,2)=1,MOD(INT((IX10-$C$10)/7),52)+1,0),0)","v":0},{"$f":"+IF(Simulador!$C$55=\"Si\",IF(WEEKDAY(IY10,2)=1,MOD(INT((IY10-$C$10)/7),52)+1,0),0)","v":0},{"$f":"+IF(Simulador!$C$55=\"Si\",IF(WEEKDAY(IZ10,2)=1,MOD(INT((IZ10-$C$10)/7),52)+1,0),0)","v":0},{"$f":"+IF(Simulador!$C$55=\"Si\",IF(WEEKDAY(JA10,2)=1,MOD(INT((JA10-$C$10)/7),52)+1,0),0)","v":0},{"$f":"+IF(Simulador!$C$55=\"Si\",IF(WEEKDAY(JB10,2)=1,MOD(INT((JB10-$C$10)/7),52)+1,0),0)","v":0},{"$f":"+IF(Simulador!$C$55=\"Si\",IF(WEEKDAY(JC10,2)=1,MOD(INT((JC10-$C$10)/7),52)+1,0),0)","v":0},{"$f":"+IF(Simulador!$C$55=\"Si\",IF(WEEKDAY(JD10,2)=1,MOD(INT((JD10-$C$10)/7),52)+1,0),0)","v":0},{"$f":"+IF(Simulador!$C$55=\"Si\",IF(WEEKDAY(JE10,2)=1,MOD(INT((JE10-$C$10)/7),52)+1,0),0)","v":0},{"$f":"+IF(Simulador!$C$55=\"Si\",IF(WEEKDAY(JF10,2)=1,MOD(INT((JF10-$C$10)/7),52)+1,0),0)","v":0},{"$f":"+IF(Simulador!$C$55=\"Si\",IF(WEEKDAY(JG10,2)=1,MOD(INT((JG10-$C$10)/7),52)+1,0),0)","v":0},{"$f":"+IF(Simulador!$C$55=\"Si\",IF(WEEKDAY(JH10,2)=1,MOD(INT((JH10-$C$10)/7),52)+1,0),0)","v":0},{"$f":"+IF(Simulador!$C$55=\"Si\",IF(WEEKDAY(JI10,2)=1,MOD(INT((JI10-$C$10)/7),52)+1,0),0)","v":0},{"$f":"+IF(Simulador!$C$55=\"Si\",IF(WEEKDAY(JJ10,2)=1,MOD(INT((JJ10-$C$10)/7),52)+1,0),0)","v":0},{"$f":"+IF(Simulador!$C$55=\"Si\",IF(WEEKDAY(JK10,2)=1,MOD(INT((JK10-$C$10)/7),52)+1,0),0)","v":0},{"$f":"+IF(Simulador!$C$55=\"Si\",IF(WEEKDAY(JL10,2)=1,MOD(INT((JL10-$C$10)/7),52)+1,0),0)","v":0},{"$f":"+IF(Simulador!$C$55=\"Si\",IF(WEEKDAY(JM10,2)=1,MOD(INT((JM10-$C$10)/7),52)+1,0),0)","v":0},{"$f":"+IF(Simulador!$C$55=\"Si\",IF(WEEKDAY(JN10,2)=1,MOD(INT((JN10-$C$10)/7),52)+1,0),0)","v":0},{"$f":"+IF(Simulador!$C$55=\"Si\",IF(WEEKDAY(JO10,2)=1,MOD(INT((JO10-$C$10)/7),52)+1,0),0)","v":0},{"$f":"+IF(Simulador!$C$55=\"Si\",IF(WEEKDAY(JP10,2)=1,MOD(INT((JP10-$C$10)/7),52)+1,0),0)","v":0},{"$f":"+IF(Simulador!$C$55=\"Si\",IF(WEEKDAY(JQ10,2)=1,MOD(INT((JQ10-$C$10)/7),52)+1,0),0)","v":0},{"$f":"+IF(Simulador!$C$55=\"Si\",IF(WEEKDAY(JR10,2)=1,MOD(INT((JR10-$C$10)/7),52)+1,0),0)","v":0},{"$f":"+IF(Simulador!$C$55=\"Si\",IF(WEEKDAY(JS10,2)=1,MOD(INT((JS10-$C$10)/7),52)+1,0),0)","v":0},{"$f":"+IF(Simulador!$C$55=\"Si\",IF(WEEKDAY(JT10,2)=1,MOD(INT((JT10-$C$10)/7),52)+1,0),0)","v":0},{"$f":"+IF(Simulador!$C$55=\"Si\",IF(WEEKDAY(JU10,2)=1,MOD(INT((JU10-$C$10)/7),52)+1,0),0)","v":0},{"$f":"+IF(Simulador!$C$55=\"Si\",IF(WEEKDAY(JV10,2)=1,MOD(INT((JV10-$C$10)/7),52)+1,0),0)","v":0},{"$f":"+IF(Simulador!$C$55=\"Si\",IF(WEEKDAY(JW10,2)=1,MOD(INT((JW10-$C$10)/7),52)+1,0),0)","v":0},{"$f":"+IF(Simulador!$C$55=\"Si\",IF(WEEKDAY(JX10,2)=1,MOD(INT((JX10-$C$10)/7),52)+1,0),0)","v":0},{"$f":"+IF(Simulador!$C$55=\"Si\",IF(WEEKDAY(JY10,2)=1,MOD(INT((JY10-$C$10)/7),52)+1,0),0)","v":0},{"$f":"+IF(Simulador!$C$55=\"Si\",IF(WEEKDAY(JZ10,2)=1,MOD(INT((JZ10-$C$10)/7),52)+1,0),0)","v":0},{"$f":"+IF(Simulador!$C$55=\"Si\",IF(WEEKDAY(KA10,2)=1,MOD(INT((KA10-$C$10)/7),52)+1,0),0)","v":0},{"$f":"+IF(Simulador!$C$55=\"Si\",IF(WEEKDAY(KB10,2)=1,MOD(INT((KB10-$C$10)/7),52)+1,0),0)","v":0},{"$f":"+IF(Simulador!$C$55=\"Si\",IF(WEEKDAY(KC10,2)=1,MOD(INT((KC10-$C$10)/7),52)+1,0),0)","v":0},{"$f":"+IF(Simulador!$C$55=\"Si\",IF(WEEKDAY(KD10,2)=1,MOD(INT((KD10-$C$10)/7),52)+1,0),0)","v":0},{"$f":"+IF(Simulador!$C$55=\"Si\",IF(WEEKDAY(KE10,2)=1,MOD(INT((KE10-$C$10)/7),52)+1,0),0)","v":0},{"$f":"+IF(Simulador!$C$55=\"Si\",IF(WEEKDAY(KF10,2)=1,MOD(INT((KF10-$C$10)/7),52)+1,0),0)","v":0},{"$f":"+IF(Simulador!$C$55=\"Si\",IF(WEEKDAY(KG10,2)=1,MOD(INT((KG10-$C$10)/7),52)+1,0),0)","v":0},{"$f":"+IF(Simulador!$C$55=\"Si\",IF(WEEKDAY(KH10,2)=1,MOD(INT((KH10-$C$10)/7),52)+1,0),0)","v":0},{"$f":"+IF(Simulador!$C$55=\"Si\",IF(WEEKDAY(KI10,2)=1,MOD(INT((KI10-$C$10)/7),52)+1,0),0)","v":0},{"$f":"+IF(Simulador!$C$55=\"Si\",IF(WEEKDAY(KJ10,2)=1,MOD(INT((KJ10-$C$10)/7),52)+1,0),0)","v":0},{"$f":"+IF(Simulador!$C$55=\"Si\",IF(WEEKDAY(KK10,2)=1,MOD(INT((KK10-$C$10)/7),52)+1,0),0)","v":0},{"$f":"+IF(Simulador!$C$55=\"Si\",IF(WEEKDAY(KL10,2)=1,MOD(INT((KL10-$C$10)/7),52)+1,0),0)","v":0},{"$f":"+IF(Simulador!$C$55=\"Si\",IF(WEEKDAY(KM10,2)=1,MOD(INT((KM10-$C$10)/7),52)+1,0),0)","v":0},{"$f":"+IF(Simulador!$C$55=\"Si\",IF(WEEKDAY(KN10,2)=1,MOD(INT((KN10-$C$10)/7),52)+1,0),0)","v":0},{"$f":"+IF(Simulador!$C$55=\"Si\",IF(WEEKDAY(KO10,2)=1,MOD(INT((KO10-$C$10)/7),52)+1,0),0)","v":0},{"$f":"+IF(Simulador!$C$55=\"Si\",IF(WEEKDAY(KP10,2)=1,MOD(INT((KP10-$C$10)/7),52)+1,0),0)","v":0},{"$f":"+IF(Simulador!$C$55=\"Si\",IF(WEEKDAY(KQ10,2)=1,MOD(INT((KQ10-$C$10)/7),52)+1,0),0)","v":0},{"$f":"+IF(Simulador!$C$55=\"Si\",IF(WEEKDAY(KR10,2)=1,MOD(INT((KR10-$C$10)/7),52)+1,0),0)","v":0},{"$f":"+IF(Simulador!$C$55=\"Si\",IF(WEEKDAY(KS10,2)=1,MOD(INT((KS10-$C$10)/7),52)+1,0),0)","v":0},{"$f":"+IF(Simulador!$C$55=\"Si\",IF(WEEKDAY(KT10,2)=1,MOD(INT((KT10-$C$10)/7),52)+1,0),0)","v":0},{"$f":"+IF(Simulador!$C$55=\"Si\",IF(WEEKDAY(KU10,2)=1,MOD(INT((KU10-$C$10)/7),52)+1,0),0)","v":0},{"$f":"+IF(Simulador!$C$55=\"Si\",IF(WEEKDAY(KV10,2)=1,MOD(INT((KV10-$C$10)/7),52)+1,0),0)","v":0},{"$f":"+IF(Simulador!$C$55=\"Si\",IF(WEEKDAY(KW10,2)=1,MOD(INT((KW10-$C$10)/7),52)+1,0),0)","v":0},{"$f":"+IF(Simulador!$C$55=\"Si\",IF(WEEKDAY(KX10,2)=1,MOD(INT((KX10-$C$10)/7),52)+1,0),0)","v":0},{"$f":"+IF(Simulador!$C$55=\"Si\",IF(WEEKDAY(KY10,2)=1,MOD(INT((KY10-$C$10)/7),52)+1,0),0)","v":0},{"$f":"+IF(Simulador!$C$55=\"Si\",IF(WEEKDAY(KZ10,2)=1,MOD(INT((KZ10-$C$10)/7),52)+1,0),0)","v":0},{"$f":"+IF(Simulador!$C$55=\"Si\",IF(WEEKDAY(LA10,2)=1,MOD(INT((LA10-$C$10)/7),52)+1,0),0)","v":0},{"$f":"+IF(Simulador!$C$55=\"Si\",IF(WEEKDAY(LB10,2)=1,MOD(INT((LB10-$C$10)/7),52)+1,0),0)","v":0},{"$f":"+IF(Simulador!$C$55=\"Si\",IF(WEEKDAY(LC10,2)=1,MOD(INT((LC10-$C$10)/7),52)+1,0),0)","v":0},{"$f":"+IF(Simulador!$C$55=\"Si\",IF(WEEKDAY(LD10,2)=1,MOD(INT((LD10-$C$10)/7),52)+1,0),0)","v":0},{"$f":"+IF(Simulador!$C$55=\"Si\",IF(WEEKDAY(LE10,2)=1,MOD(INT((LE10-$C$10)/7),52)+1,0),0)","v":0},{"$f":"+IF(Simulador!$C$55=\"Si\",IF(WEEKDAY(LF10,2)=1,MOD(INT((LF10-$C$10)/7),52)+1,0),0)","v":0},{"$f":"+IF(Simulador!$C$55=\"Si\",IF(WEEKDAY(LG10,2)=1,MOD(INT((LG10-$C$10)/7),52)+1,0),0)","v":0},{"$f":"+IF(Simulador!$C$55=\"Si\",IF(WEEKDAY(LH10,2)=1,MOD(INT((LH10-$C$10)/7),52)+1,0),0)","v":0},{"$f":"+IF(Simulador!$C$55=\"Si\",IF(WEEKDAY(LI10,2)=1,MOD(INT((LI10-$C$10)/7),52)+1,0),0)","v":0},{"$f":"+IF(Simulador!$C$55=\"Si\",IF(WEEKDAY(LJ10,2)=1,MOD(INT((LJ10-$C$10)/7),52)+1,0),0)","v":0},{"$f":"+IF(Simulador!$C$55=\"Si\",IF(WEEKDAY(LK10,2)=1,MOD(INT((LK10-$C$10)/7),52)+1,0),0)","v":0},{"$f":"+IF(Simulador!$C$55=\"Si\",IF(WEEKDAY(LL10,2)=1,MOD(INT((LL10-$C$10)/7),52)+1,0),0)","v":0},{"$f":"+IF(Simulador!$C$55=\"Si\",IF(WEEKDAY(LM10,2)=1,MOD(INT((LM10-$C$10)/7),52)+1,0),0)","v":0},{"$f":"+IF(Simulador!$C$55=\"Si\",IF(WEEKDAY(LN10,2)=1,MOD(INT((LN10-$C$10)/7),52)+1,0),0)","v":0},{"$f":"+IF(Simulador!$C$55=\"Si\",IF(WEEKDAY(LO10,2)=1,MOD(INT((LO10-$C$10)/7),52)+1,0),0)","v":0},{"$f":"+IF(Simulador!$C$55=\"Si\",IF(WEEKDAY(LP10,2)=1,MOD(INT((LP10-$C$10)/7),52)+1,0),0)","v":0},{"$f":"+IF(Simulador!$C$55=\"Si\",IF(WEEKDAY(LQ10,2)=1,MOD(INT((LQ10-$C$10)/7),52)+1,0),0)","v":0},{"$f":"+IF(Simulador!$C$55=\"Si\",IF(WEEKDAY(LR10,2)=1,MOD(INT((LR10-$C$10)/7),52)+1,0),0)","v":0},{"$f":"+IF(Simulador!$C$55=\"Si\",IF(WEEKDAY(LS10,2)=1,MOD(INT((LS10-$C$10)/7),52)+1,0),0)","v":0},{"$f":"+IF(Simulador!$C$55=\"Si\",IF(WEEKDAY(LT10,2)=1,MOD(INT((LT10-$C$10)/7),52)+1,0),0)","v":0},{"$f":"+IF(Simulador!$C$55=\"Si\",IF(WEEKDAY(LU10,2)=1,MOD(INT((LU10-$C$10)/7),52)+1,0),0)","v":0},{"$f":"+IF(Simulador!$C$55=\"Si\",IF(WEEKDAY(LV10,2)=1,MOD(INT((LV10-$C$10)/7),52)+1,0),0)","v":0},{"$f":"+IF(Simulador!$C$55=\"Si\",IF(WEEKDAY(LW10,2)=1,MOD(INT((LW10-$C$10)/7),52)+1,0),0)","v":0},{"$f":"+IF(Simulador!$C$55=\"Si\",IF(WEEKDAY(LX10,2)=1,MOD(INT((LX10-$C$10)/7),52)+1,0),0)","v":0},{"$f":"+IF(Simulador!$C$55=\"Si\",IF(WEEKDAY(LY10,2)=1,MOD(INT((LY10-$C$10)/7),52)+1,0),0)","v":0},{"$f":"+IF(Simulador!$C$55=\"Si\",IF(WEEKDAY(LZ10,2)=1,MOD(INT((LZ10-$C$10)/7),52)+1,0),0)","v":0},{"$f":"+IF(Simulador!$C$55=\"Si\",IF(WEEKDAY(MA10,2)=1,MOD(INT((MA10-$C$10)/7),52)+1,0),0)","v":0},{"$f":"+IF(Simulador!$C$55=\"Si\",IF(WEEKDAY(MB10,2)=1,MOD(INT((MB10-$C$10)/7),52)+1,0),0)","v":0},{"$f":"+IF(Simulador!$C$55=\"Si\",IF(WEEKDAY(MC10,2)=1,MOD(INT((MC10-$C$10)/7),52)+1,0),0)","v":0},{"$f":"+IF(Simulador!$C$55=\"Si\",IF(WEEKDAY(MD10,2)=1,MOD(INT((MD10-$C$10)/7),52)+1,0),0)","v":0},{"$f":"+IF(Simulador!$C$55=\"Si\",IF(WEEKDAY(ME10,2)=1,MOD(INT((ME10-$C$10)/7),52)+1,0),0)","v":0},{"$f":"+IF(Simulador!$C$55=\"Si\",IF(WEEKDAY(MF10,2)=1,MOD(INT((MF10-$C$10)/7),52)+1,0),0)","v":0},{"$f":"+IF(Simulador!$C$55=\"Si\",IF(WEEKDAY(MG10,2)=1,MOD(INT((MG10-$C$10)/7),52)+1,0),0)","v":0},{"$f":"+IF(Simulador!$C$55=\"Si\",IF(WEEKDAY(MH10,2)=1,MOD(INT((MH10-$C$10)/7),52)+1,0),0)","v":0},{"$f":"+IF(Simulador!$C$55=\"Si\",IF(WEEKDAY(MI10,2)=1,MOD(INT((MI10-$C$10)/7),52)+1,0),0)","v":0},{"$f":"+IF(Simulador!$C$55=\"Si\",IF(WEEKDAY(MJ10,2)=1,MOD(INT((MJ10-$C$10)/7),52)+1,0),0)","v":0},{"$f":"+IF(Simulador!$C$55=\"Si\",IF(WEEKDAY(MK10,2)=1,MOD(INT((MK10-$C$10)/7),52)+1,0),0)","v":0},{"$f":"+IF(Simulador!$C$55=\"Si\",IF(WEEKDAY(ML10,2)=1,MOD(INT((ML10-$C$10)/7),52)+1,0),0)","v":0},{"$f":"+IF(Simulador!$C$55=\"Si\",IF(WEEKDAY(MM10,2)=1,MOD(INT((MM10-$C$10)/7),52)+1,0),0)","v":0},{"$f":"+IF(Simulador!$C$55=\"Si\",IF(WEEKDAY(MN10,2)=1,MOD(INT((MN10-$C$10)/7),52)+1,0),0)","v":0},{"$f":"+IF(Simulador!$C$55=\"Si\",IF(WEEKDAY(MO10,2)=1,MOD(INT((MO10-$C$10)/7),52)+1,0),0)","v":0},{"$f":"+IF(Simulador!$C$55=\"Si\",IF(WEEKDAY(MP10,2)=1,MOD(INT((MP10-$C$10)/7),52)+1,0),0)","v":0},{"$f":"+IF(Simulador!$C$55=\"Si\",IF(WEEKDAY(MQ10,2)=1,MOD(INT((MQ10-$C$10)/7),52)+1,0),0)","v":0},{"$f":"+IF(Simulador!$C$55=\"Si\",IF(WEEKDAY(MR10,2)=1,MOD(INT((MR10-$C$10)/7),52)+1,0),0)","v":0},{"$f":"+IF(Simulador!$C$55=\"Si\",IF(WEEKDAY(MS10,2)=1,MOD(INT((MS10-$C$10)/7),52)+1,0),0)","v":0},{"$f":"+IF(Simulador!$C$55=\"Si\",IF(WEEKDAY(MT10,2)=1,MOD(INT((MT10-$C$10)/7),52)+1,0),0)","v":0},{"$f":"+IF(Simulador!$C$55=\"Si\",IF(WEEKDAY(MU10,2)=1,MOD(INT((MU10-$C$10)/7),52)+1,0),0)","v":0},{"$f":"+IF(Simulador!$C$55=\"Si\",IF(WEEKDAY(MV10,2)=1,MOD(INT((MV10-$C$10)/7),52)+1,0),0)","v":0},{"$f":"+IF(Simulador!$C$55=\"Si\",IF(WEEKDAY(MW10,2)=1,MOD(INT((MW10-$C$10)/7),52)+1,0),0)","v":0},{"$f":"+IF(Simulador!$C$55=\"Si\",IF(WEEKDAY(MX10,2)=1,MOD(INT((MX10-$C$10)/7),52)+1,0),0)","v":0},{"$f":"+IF(Simulador!$C$55=\"Si\",IF(WEEKDAY(MY10,2)=1,MOD(INT((MY10-$C$10)/7),52)+1,0),0)","v":0},{"$f":"+IF(Simulador!$C$55=\"Si\",IF(WEEKDAY(MZ10,2)=1,MOD(INT((MZ10-$C$10)/7),52)+1,0),0)","v":0},{"$f":"+IF(Simulador!$C$55=\"Si\",IF(WEEKDAY(NA10,2)=1,MOD(INT((NA10-$C$10)/7),52)+1,0),0)","v":0},{"$f":"+IF(Simulador!$C$55=\"Si\",IF(WEEKDAY(NB10,2)=1,MOD(INT((NB10-$C$10)/7),52)+1,0),0)","v":0},{"$f":"+IF(Simulador!$C$55=\"Si\",IF(WEEKDAY(NC10,2)=1,MOD(INT((NC10-$C$10)/7),52)+1,0),0)","v":0},{"$f":"+IF(Simulador!$C$55=\"Si\",IF(WEEKDAY(ND10,2)=1,MOD(INT((ND10-$C$10)/7),52)+1,0),0)","v":0},{"$f":"+IF(Simulador!$C$55=\"Si\",IF(WEEKDAY(NE10,2)=1,MOD(INT((NE10-$C$10)/7),52)+1,0),0)","v":0},{"$f":"+IF(Simulador!$C$55=\"Si\",IF(WEEKDAY(NF10,2)=1,MOD(INT((NF10-$C$10)/7),52)+1,0),0)","v":0},{"$f":"+IF(Simulador!$C$55=\"Si\",IF(WEEKDAY(NG10,2)=1,MOD(INT((NG10-$C$10)/7),52)+1,0),0)","v":0},{"$f":"+IF(Simulador!$C$55=\"Si\",IF(WEEKDAY(NH10,2)=1,MOD(INT((NH10-$C$10)/7),52)+1,0),0)","v":0},{"$f":"+IF(Simulador!$C$55=\"Si\",IF(WEEKDAY(NI10,2)=1,MOD(INT((NI10-$C$10)/7),52)+1,0),0)","v":0},{"$f":"+IF(Simulador!$C$55=\"Si\",IF(WEEKDAY(NJ10,2)=1,MOD(INT((NJ10-$C$10)/7),52)+1,0),0)","v":0},{"$f":"+IF(Simulador!$C$55=\"Si\",IF(WEEKDAY(NK10,2)=1,MOD(INT((NK10-$C$10)/7),52)+1,0),0)","v":0},{"$f":"+IF(Simulador!$C$55=\"Si\",IF(WEEKDAY(NL10,2)=1,MOD(INT((NL10-$C$10)/7),52)+1,0),0)","v":0},{"$f":"+IF(Simulador!$C$55=\"Si\",IF(WEEKDAY(NM10,2)=1,MOD(INT((NM10-$C$10)/7),52)+1,0),0)","v":0},{"$f":"+IF(Simulador!$C$55=\"Si\",IF(WEEKDAY(NN10,2)=1,MOD(INT((NN10-$C$10)/7),52)+1,0),0)","v":0},{"$f":"+IF(Simulador!$C$55=\"Si\",IF(WEEKDAY(NO10,2)=1,MOD(INT((NO10-$C$10)/7),52)+1,0),0)","v":0},{"$f":"+IF(Simulador!$C$55=\"Si\",IF(WEEKDAY(NP10,2)=1,MOD(INT((NP10-$C$10)/7),52)+1,0),0)","v":0},{"$f":"+IF(Simulador!$C$55=\"Si\",IF(WEEKDAY(NQ10,2)=1,MOD(INT((NQ10-$C$10)/7),52)+1,0),0)","v":0},{"$f":"+IF(Simulador!$C$55=\"Si\",IF(WEEKDAY(NR10,2)=1,MOD(INT((NR10-$C$10)/7),52)+1,0),0)","v":0},{"$f":"+IF(Simulador!$C$55=\"Si\",IF(WEEKDAY(NS10,2)=1,MOD(INT((NS10-$C$10)/7),52)+1,0),0)","v":0},{"$f":"+IF(Simulador!$C$55=\"Si\",IF(WEEKDAY(NT10,2)=1,MOD(INT((NT10-$C$10)/7),52)+1,0),0)","v":0},{"$f":"+IF(Simulador!$C$55=\"Si\",IF(WEEKDAY(NU10,2)=1,MOD(INT((NU10-$C$10)/7),52)+1,0),0)","v":0},{"$f":"+IF(Simulador!$C$55=\"Si\",IF(WEEKDAY(NV10,2)=1,MOD(INT((NV10-$C$10)/7),52)+1,0),0)","v":0},{"$f":"+IF(Simulador!$C$55=\"Si\",IF(WEEKDAY(NW10,2)=1,MOD(INT((NW10-$C$10)/7),52)+1,0),0)","v":0},{"$f":"+IF(Simulador!$C$55=\"Si\",IF(WEEKDAY(NX10,2)=1,MOD(INT((NX10-$C$10)/7),52)+1,0),0)","v":0},{"$f":"+IF(Simulador!$C$55=\"Si\",IF(WEEKDAY(NY10,2)=1,MOD(INT((NY10-$C$10)/7),52)+1,0),0)","v":0},{"$f":"+IF(Simulador!$C$55=\"Si\",IF(WEEKDAY(NZ10,2)=1,MOD(INT((NZ10-$C$10)/7),52)+1,0),0)","v":0},{"$f":"+IF(Simulador!$C$55=\"Si\",IF(WEEKDAY(OA10,2)=1,MOD(INT((OA10-$C$10)/7),52)+1,0),0)","v":0},{"$f":"+IF(Simulador!$C$55=\"Si\",IF(WEEKDAY(OB10,2)=1,MOD(INT((OB10-$C$10)/7),52)+1,0),0)","v":0},{"$f":"+IF(Simulador!$C$55=\"Si\",IF(WEEKDAY(OC10,2)=1,MOD(INT((OC10-$C$10)/7),52)+1,0),0)","v":0},{"$f":"+IF(Simulador!$C$55=\"Si\",IF(WEEKDAY(OD10,2)=1,MOD(INT((OD10-$C$10)/7),52)+1,0),0)","v":0},{"$f":"+IF(Simulador!$C$55=\"Si\",IF(WEEKDAY(OE10,2)=1,MOD(INT((OE10-$C$10)/7),52)+1,0),0)","v":0},{"$f":"+IF(Simulador!$C$55=\"Si\",IF(WEEKDAY(OF10,2)=1,MOD(INT((OF10-$C$10)/7),52)+1,0),0)","v":0},{"$f":"+IF(Simulador!$C$55=\"Si\",IF(WEEKDAY(OG10,2)=1,MOD(INT((OG10-$C$10)/7),52)+1,0),0)","v":0},{"$f":"+IF(Simulador!$C$55=\"Si\",IF(WEEKDAY(OH10,2)=1,MOD(INT((OH10-$C$10)/7),52)+1,0),0)","v":0},{"$f":"+IF(Simulador!$C$55=\"Si\",IF(WEEKDAY(OI10,2)=1,MOD(INT((OI10-$C$10)/7),52)+1,0),0)","v":0},{"$f":"+IF(Simulador!$C$55=\"Si\",IF(WEEKDAY(OJ10,2)=1,MOD(INT((OJ10-$C$10)/7),52)+1,0),0)","v":0},{"$f":"+IF(Simulador!$C$55=\"Si\",IF(WEEKDAY(OK10,2)=1,MOD(INT((OK10-$C$10)/7),52)+1,0),0)","v":0},{"$f":"+IF(Simulador!$C$55=\"Si\",IF(WEEKDAY(OL10,2)=1,MOD(INT((OL10-$C$10)/7),52)+1,0),0)","v":0},{"$f":"+IF(Simulador!$C$55=\"Si\",IF(WEEKDAY(OM10,2)=1,MOD(INT((OM10-$C$10)/7),52)+1,0),0)","v":0},{"$f":"+IF(Simulador!$C$55=\"Si\",IF(WEEKDAY(ON10,2)=1,MOD(INT((ON10-$C$10)/7),52)+1,0),0)","v":0},{"$f":"+IF(Simulador!$C$55=\"Si\",IF(WEEKDAY(OO10,2)=1,MOD(INT((OO10-$C$10)/7),52)+1,0),0)","v":0},{"$f":"+IF(Simulador!$C$55=\"Si\",IF(WEEKDAY(OP10,2)=1,MOD(INT((OP10-$C$10)/7),52)+1,0),0)","v":0},{"$f":"+IF(Simulador!$C$55=\"Si\",IF(WEEKDAY(OQ10,2)=1,MOD(INT((OQ10-$C$10)/7),52)+1,0),0)","v":0},{"$f":"+IF(Simulador!$C$55=\"Si\",IF(WEEKDAY(OR10,2)=1,MOD(INT((OR10-$C$10)/7),52)+1,0),0)","v":0},{"$f":"+IF(Simulador!$C$55=\"Si\",IF(WEEKDAY(OS10,2)=1,MOD(INT((OS10-$C$10)/7),52)+1,0),0)","v":0},{"$f":"+IF(Simulador!$C$55=\"Si\",IF(WEEKDAY(OT10,2)=1,MOD(INT((OT10-$C$10)/7),52)+1,0),0)","v":0},{"$f":"+IF(Simulador!$C$55=\"Si\",IF(WEEKDAY(OU10,2)=1,MOD(INT((OU10-$C$10)/7),52)+1,0),0)","v":0},{"$f":"+IF(Simulador!$C$55=\"Si\",IF(WEEKDAY(OV10,2)=1,MOD(INT((OV10-$C$10)/7),52)+1,0),0)","v":0},{"$f":"+IF(Simulador!$C$55=\"Si\",IF(WEEKDAY(OW10,2)=1,MOD(INT((OW10-$C$10)/7),52)+1,0),0)","v":0},{"$f":"+IF(Simulador!$C$55=\"Si\",IF(WEEKDAY(OX10,2)=1,MOD(INT((OX10-$C$10)/7),52)+1,0),0)","v":0},{"$f":"+IF(Simulador!$C$55=\"Si\",IF(WEEKDAY(OY10,2)=1,MOD(INT((OY10-$C$10)/7),52)+1,0),0)","v":0},{"$f":"+IF(Simulador!$C$55=\"Si\",IF(WEEKDAY(OZ10,2)=1,MOD(INT((OZ10-$C$10)/7),52)+1,0),0)","v":0},{"$f":"+IF(Simulador!$C$55=\"Si\",IF(WEEKDAY(PA10,2)=1,MOD(INT((PA10-$C$10)/7),52)+1,0),0)","v":0},{"$f":"+IF(Simulador!$C$55=\"Si\",IF(WEEKDAY(PB10,2)=1,MOD(INT((PB10-$C$10)/7),52)+1,0),0)","v":0},{"$f":"+IF(Simulador!$C$55=\"Si\",IF(WEEKDAY(PC10,2)=1,MOD(INT((PC10-$C$10)/7),52)+1,0),0)","v":0},{"$f":"+IF(Simulador!$C$55=\"Si\",IF(WEEKDAY(PD10,2)=1,MOD(INT((PD10-$C$10)/7),52)+1,0),0)","v":0},{"$f":"+IF(Simulador!$C$55=\"Si\",IF(WEEKDAY(PE10,2)=1,MOD(INT((PE10-$C$10)/7),52)+1,0),0)","v":0},{"$f":"+IF(Simulador!$C$55=\"Si\",IF(WEEKDAY(PF10,2)=1,MOD(INT((PF10-$C$10)/7),52)+1,0),0)","v":0},{"$f":"+IF(Simulador!$C$55=\"Si\",IF(WEEKDAY(PG10,2)=1,MOD(INT((PG10-$C$10)/7),52)+1,0),0)","v":0},{"$f":"+IF(Simulador!$C$55=\"Si\",IF(WEEKDAY(PH10,2)=1,MOD(INT((PH10-$C$10)/7),52)+1,0),0)","v":0},{"$f":"+IF(Simulador!$C$55=\"Si\",IF(WEEKDAY(PI10,2)=1,MOD(INT((PI10-$C$10)/7),52)+1,0),0)","v":0},{"$f":"+IF(Simulador!$C$55=\"Si\",IF(WEEKDAY(PJ10,2)=1,MOD(INT((PJ10-$C$10)/7),52)+1,0),0)","v":0},{"$f":"+IF(Simulador!$C$55=\"Si\",IF(WEEKDAY(PK10,2)=1,MOD(INT((PK10-$C$10)/7),52)+1,0),0)","v":0},{"$f":"+IF(Simulador!$C$55=\"Si\",IF(WEEKDAY(PL10,2)=1,MOD(INT((PL10-$C$10)/7),52)+1,0),0)","v":0},{"$f":"+IF(Simulador!$C$55=\"Si\",IF(WEEKDAY(PM10,2)=1,MOD(INT((PM10-$C$10)/7),52)+1,0),0)","v":0},{"$f":"+IF(Simulador!$C$55=\"Si\",IF(WEEKDAY(PN10,2)=1,MOD(INT((PN10-$C$10)/7),52)+1,0),0)","v":0},{"$f":"+IF(Simulador!$C$55=\"Si\",IF(WEEKDAY(PO10,2)=1,MOD(INT((PO10-$C$10)/7),52)+1,0),0)","v":0},{"$f":"+IF(Simulador!$C$55=\"Si\",IF(WEEKDAY(PP10,2)=1,MOD(INT((PP10-$C$10)/7),52)+1,0),0)","v":0},{"$f":"+IF(Simulador!$C$55=\"Si\",IF(WEEKDAY(PQ10,2)=1,MOD(INT((PQ10-$C$10)/7),52)+1,0),0)","v":0},{"$f":"+IF(Simulador!$C$55=\"Si\",IF(WEEKDAY(PR10,2)=1,MOD(INT((PR10-$C$10)/7),52)+1,0),0)","v":0},{"$f":"+IF(Simulador!$C$55=\"Si\",IF(WEEKDAY(PS10,2)=1,MOD(INT((PS10-$C$10)/7),52)+1,0),0)","v":0},{"$f":"+IF(Simulador!$C$55=\"Si\",IF(WEEKDAY(PT10,2)=1,MOD(INT((PT10-$C$10)/7),52)+1,0),0)","v":0},{"$f":"+IF(Simulador!$C$55=\"Si\",IF(WEEKDAY(PU10,2)=1,MOD(INT((PU10-$C$10)/7),52)+1,0),0)","v":0},{"$f":"+IF(Simulador!$C$55=\"Si\",IF(WEEKDAY(PV10,2)=1,MOD(INT((PV10-$C$10)/7),52)+1,0),0)","v":0},{"$f":"+IF(Simulador!$C$55=\"Si\",IF(WEEKDAY(PW10,2)=1,MOD(INT((PW10-$C$10)/7),52)+1,0),0)","v":0},{"$f":"+IF(Simulador!$C$55=\"Si\",IF(WEEKDAY(PX10,2)=1,MOD(INT((PX10-$C$10)/7),52)+1,0),0)","v":0},{"$f":"+IF(Simulador!$C$55=\"Si\",IF(WEEKDAY(PY10,2)=1,MOD(INT((PY10-$C$10)/7),52)+1,0),0)","v":0},{"$f":"+IF(Simulador!$C$55=\"Si\",IF(WEEKDAY(PZ10,2)=1,MOD(INT((PZ10-$C$10)/7),52)+1,0),0)","v":0},{"$f":"+IF(Simulador!$C$55=\"Si\",IF(WEEKDAY(QA10,2)=1,MOD(INT((QA10-$C$10)/7),52)+1,0),0)","v":0},{"$f":"+IF(Simulador!$C$55=\"Si\",IF(WEEKDAY(QB10,2)=1,MOD(INT((QB10-$C$10)/7),52)+1,0),0)","v":0},{"$f":"+IF(Simulador!$C$55=\"Si\",IF(WEEKDAY(QC10,2)=1,MOD(INT((QC10-$C$10)/7),52)+1,0),0)","v":0},{"$f":"+IF(Simulador!$C$55=\"Si\",IF(WEEKDAY(QD10,2)=1,MOD(INT((QD10-$C$10)/7),52)+1,0),0)","v":0},{"$f":"+IF(Simulador!$C$55=\"Si\",IF(WEEKDAY(QE10,2)=1,MOD(INT((QE10-$C$10)/7),52)+1,0),0)","v":0},{"$f":"+IF(Simulador!$C$55=\"Si\",IF(WEEKDAY(QF10,2)=1,MOD(INT((QF10-$C$10)/7),52)+1,0),0)","v":0},{"$f":"+IF(Simulador!$C$55=\"Si\",IF(WEEKDAY(QG10,2)=1,MOD(INT((QG10-$C$10)/7),52)+1,0),0)","v":0},{"$f":"+IF(Simulador!$C$55=\"Si\",IF(WEEKDAY(QH10,2)=1,MOD(INT((QH10-$C$10)/7),52)+1,0),0)","v":0},{"$f":"+IF(Simulador!$C$55=\"Si\",IF(WEEKDAY(QI10,2)=1,MOD(INT((QI10-$C$10)/7),52)+1,0),0)","v":0},{"$f":"+IF(Simulador!$C$55=\"Si\",IF(WEEKDAY(QJ10,2)=1,MOD(INT((QJ10-$C$10)/7),52)+1,0),0)","v":0},{"$f":"+IF(Simulador!$C$55=\"Si\",IF(WEEKDAY(QK10,2)=1,MOD(INT((QK10-$C$10)/7),52)+1,0),0)","v":0},{"$f":"+IF(Simulador!$C$55=\"Si\",IF(WEEKDAY(QL10,2)=1,MOD(INT((QL10-$C$10)/7),52)+1,0),0)","v":0},{"$f":"+IF(Simulador!$C$55=\"Si\",IF(WEEKDAY(QM10,2)=1,MOD(INT((QM10-$C$10)/7),52)+1,0),0)","v":0},{"$f":"+IF(Simulador!$C$55=\"Si\",IF(WEEKDAY(QN10,2)=1,MOD(INT((QN10-$C$10)/7),52)+1,0),0)","v":0},{"$f":"+IF(Simulador!$C$55=\"Si\",IF(WEEKDAY(QO10,2)=1,MOD(INT((QO10-$C$10)/7),52)+1,0),0)","v":0},{"$f":"+IF(Simulador!$C$55=\"Si\",IF(WEEKDAY(QP10,2)=1,MOD(INT((QP10-$C$10)/7),52)+1,0),0)","v":0},{"$f":"+IF(Simulador!$C$55=\"Si\",IF(WEEKDAY(QQ10,2)=1,MOD(INT((QQ10-$C$10)/7),52)+1,0),0)","v":0},{"$f":"+IF(Simulador!$C$55=\"Si\",IF(WEEKDAY(QR10,2)=1,MOD(INT((QR10-$C$10)/7),52)+1,0),0)","v":0},{"$f":"+IF(Simulador!$C$55=\"Si\",IF(WEEKDAY(QS10,2)=1,MOD(INT((QS10-$C$10)/7),52)+1,0),0)","v":0},{"$f":"+IF(Simulador!$C$55=\"Si\",IF(WEEKDAY(QT10,2)=1,MOD(INT((QT10-$C$10)/7),52)+1,0),0)","v":0},{"$f":"+IF(Simulador!$C$55=\"Si\",IF(WEEKDAY(QU10,2)=1,MOD(INT((QU10-$C$10)/7),52)+1,0),0)","v":0},{"$f":"+IF(Simulador!$C$55=\"Si\",IF(WEEKDAY(QV10,2)=1,MOD(INT((QV10-$C$10)/7),52)+1,0),0)","v":0},{"$f":"+IF(Simulador!$C$55=\"Si\",IF(WEEKDAY(QW10,2)=1,MOD(INT((QW10-$C$10)/7),52)+1,0),0)","v":0},{"$f":"+IF(Simulador!$C$55=\"Si\",IF(WEEKDAY(QX10,2)=1,MOD(INT((QX10-$C$10)/7),52)+1,0),0)","v":0},{"$f":"+IF(Simulador!$C$55=\"Si\",IF(WEEKDAY(QY10,2)=1,MOD(INT((QY10-$C$10)/7),52)+1,0),0)","v":0},{"$f":"+IF(Simulador!$C$55=\"Si\",IF(WEEKDAY(QZ10,2)=1,MOD(INT((QZ10-$C$10)/7),52)+1,0),0)","v":0},{"$f":"+IF(Simulador!$C$55=\"Si\",IF(WEEKDAY(RA10,2)=1,MOD(INT((RA10-$C$10)/7),52)+1,0),0)","v":0},{"$f":"+IF(Simulador!$C$55=\"Si\",IF(WEEKDAY(RB10,2)=1,MOD(INT((RB10-$C$10)/7),52)+1,0),0)","v":0},{"$f":"+IF(Simulador!$C$55=\"Si\",IF(WEEKDAY(RC10,2)=1,MOD(INT((RC10-$C$10)/7),52)+1,0),0)","v":0},{"$f":"+IF(Simulador!$C$55=\"Si\",IF(WEEKDAY(RD10,2)=1,MOD(INT((RD10-$C$10)/7),52)+1,0),0)","v":0},{"$f":"+IF(Simulador!$C$55=\"Si\",IF(WEEKDAY(RE10,2)=1,MOD(INT((RE10-$C$10)/7),52)+1,0),0)","v":0},{"$f":"+IF(Simulador!$C$55=\"Si\",IF(WEEKDAY(RF10,2)=1,MOD(INT((RF10-$C$10)/7),52)+1,0),0)","v":0},{"$f":"+IF(Simulador!$C$55=\"Si\",IF(WEEKDAY(RG10,2)=1,MOD(INT((RG10-$C$10)/7),52)+1,0),0)","v":0},{"$f":"+IF(Simulador!$C$55=\"Si\",IF(WEEKDAY(RH10,2)=1,MOD(INT((RH10-$C$10)/7),52)+1,0),0)","v":0},{"$f":"+IF(Simulador!$C$55=\"Si\",IF(WEEKDAY(RI10,2)=1,MOD(INT((RI10-$C$10)/7),52)+1,0),0)","v":0},{"$f":"+IF(Simulador!$C$55=\"Si\",IF(WEEKDAY(RJ10,2)=1,MOD(INT((RJ10-$C$10)/7),52)+1,0),0)","v":0},{"$f":"+IF(Simulador!$C$55=\"Si\",IF(WEEKDAY(RK10,2)=1,MOD(INT((RK10-$C$10)/7),52)+1,0),0)","v":0},{"$f":"+IF(Simulador!$C$55=\"Si\",IF(WEEKDAY(RL10,2)=1,MOD(INT((RL10-$C$10)/7),52)+1,0),0)","v":0},{"$f":"+IF(Simulador!$C$55=\"Si\",IF(WEEKDAY(RM10,2)=1,MOD(INT((RM10-$C$10)/7),52)+1,0),0)","v":0},{"$f":"+IF(Simulador!$C$55=\"Si\",IF(WEEKDAY(RN10,2)=1,MOD(INT((RN10-$C$10)/7),52)+1,0),0)","v":0},{"$f":"+IF(Simulador!$C$55=\"Si\",IF(WEEKDAY(RO10,2)=1,MOD(INT((RO10-$C$10)/7),52)+1,0),0)","v":0},{"$f":"+IF(Simulador!$C$55=\"Si\",IF(WEEKDAY(RP10,2)=1,MOD(INT((RP10-$C$10)/7),52)+1,0),0)","v":0},{"$f":"+IF(Simulador!$C$55=\"Si\",IF(WEEKDAY(RQ10,2)=1,MOD(INT((RQ10-$C$10)/7),52)+1,0),0)","v":0},{"$f":"+IF(Simulador!$C$55=\"Si\",IF(WEEKDAY(RR10,2)=1,MOD(INT((RR10-$C$10)/7),52)+1,0),0)","v":0},{"$f":"+IF(Simulador!$C$55=\"Si\",IF(WEEKDAY(RS10,2)=1,MOD(INT((RS10-$C$10)/7),52)+1,0),0)","v":0},{"$f":"+IF(Simulador!$C$55=\"Si\",IF(WEEKDAY(RT10,2)=1,MOD(INT((RT10-$C$10)/7),52)+1,0),0)","v":0},{"$f":"+IF(Simulador!$C$55=\"Si\",IF(WEEKDAY(RU10,2)=1,MOD(INT((RU10-$C$10)/7),52)+1,0),0)","v":0},{"$f":"+IF(Simulador!$C$55=\"Si\",IF(WEEKDAY(RV10,2)=1,MOD(INT((RV10-$C$10)/7),52)+1,0),0)","v":0},{"$f":"+IF(Simulador!$C$55=\"Si\",IF(WEEKDAY(RW10,2)=1,MOD(INT((RW10-$C$10)/7),52)+1,0),0)","v":0},{"$f":"+IF(Simulador!$C$55=\"Si\",IF(WEEKDAY(RX10,2)=1,MOD(INT((RX10-$C$10)/7),52)+1,0),0)","v":0},{"$f":"+IF(Simulador!$C$55=\"Si\",IF(WEEKDAY(RY10,2)=1,MOD(INT((RY10-$C$10)/7),52)+1,0),0)","v":0},{"$f":"+IF(Simulador!$C$55=\"Si\",IF(WEEKDAY(RZ10,2)=1,MOD(INT((RZ10-$C$10)/7),52)+1,0),0)","v":0},{"$f":"+IF(Simulador!$C$55=\"Si\",IF(WEEKDAY(SA10,2)=1,MOD(INT((SA10-$C$10)/7),52)+1,0),0)","v":0},{"$f":"+IF(Simulador!$C$55=\"Si\",IF(WEEKDAY(SB10,2)=1,MOD(INT((SB10-$C$10)/7),52)+1,0),0)","v":0},{"$f":"+IF(Simulador!$C$55=\"Si\",IF(WEEKDAY(SC10,2)=1,MOD(INT((SC10-$C$10)/7),52)+1,0),0)","v":0},{"$f":"+IF(Simulador!$C$55=\"Si\",IF(WEEKDAY(SD10,2)=1,MOD(INT((SD10-$C$10)/7),52)+1,0),0)","v":0},{"$f":"+IF(Simulador!$C$55=\"Si\",IF(WEEKDAY(SE10,2)=1,MOD(INT((SE10-$C$10)/7),52)+1,0),0)","v":0},{"$f":"+IF(Simulador!$C$55=\"Si\",IF(WEEKDAY(SF10,2)=1,MOD(INT((SF10-$C$10)/7),52)+1,0),0)","v":0},{"$f":"+IF(Simulador!$C$55=\"Si\",IF(WEEKDAY(SG10,2)=1,MOD(INT((SG10-$C$10)/7),52)+1,0),0)","v":0},{"$f":"+IF(Simulador!$C$55=\"Si\",IF(WEEKDAY(SH10,2)=1,MOD(INT((SH10-$C$10)/7),52)+1,0),0)","v":0},{"$f":"+IF(Simulador!$C$55=\"Si\",IF(WEEKDAY(SI10,2)=1,MOD(INT((SI10-$C$10)/7),52)+1,0),0)","v":0},{"$f":"+IF(Simulador!$C$55=\"Si\",IF(WEEKDAY(SJ10,2)=1,MOD(INT((SJ10-$C$10)/7),52)+1,0),0)","v":0},{"$f":"+IF(Simulador!$C$55=\"Si\",IF(WEEKDAY(SK10,2)=1,MOD(INT((SK10-$C$10)/7),52)+1,0),0)","v":0},{"$f":"+IF(Simulador!$C$55=\"Si\",IF(WEEKDAY(SL10,2)=1,MOD(INT((SL10-$C$10)/7),52)+1,0),0)","v":0},{"$f":"+IF(Simulador!$C$55=\"Si\",IF(WEEKDAY(SM10,2)=1,MOD(INT((SM10-$C$10)/7),52)+1,0),0)","v":0},{"$f":"+IF(Simulador!$C$55=\"Si\",IF(WEEKDAY(SN10,2)=1,MOD(INT((SN10-$C$10)/7),52)+1,0),0)","v":0},{"$f":"+IF(Simulador!$C$55=\"Si\",IF(WEEKDAY(SO10,2)=1,MOD(INT((SO10-$C$10)/7),52)+1,0),0)","v":0},{"$f":"+IF(Simulador!$C$55=\"Si\",IF(WEEKDAY(SP10,2)=1,MOD(INT((SP10-$C$10)/7),52)+1,0),0)","v":0},{"$f":"+IF(Simulador!$C$55=\"Si\",IF(WEEKDAY(SQ10,2)=1,MOD(INT((SQ10-$C$10)/7),52)+1,0),0)","v":0},{"$f":"+IF(Simulador!$C$55=\"Si\",IF(WEEKDAY(SR10,2)=1,MOD(INT((SR10-$C$10)/7),52)+1,0),0)","v":0},{"$f":"+IF(Simulador!$C$55=\"Si\",IF(WEEKDAY(SS10,2)=1,MOD(INT((SS10-$C$10)/7),52)+1,0),0)","v":0},{"$f":"+IF(Simulador!$C$55=\"Si\",IF(WEEKDAY(ST10,2)=1,MOD(INT((ST10-$C$10)/7),52)+1,0),0)","v":0},{"$f":"+IF(Simulador!$C$55=\"Si\",IF(WEEKDAY(SU10,2)=1,MOD(INT((SU10-$C$10)/7),52)+1,0),0)","v":0},{"$f":"+IF(Simulador!$C$55=\"Si\",IF(WEEKDAY(SV10,2)=1,MOD(INT((SV10-$C$10)/7),52)+1,0),0)","v":0},{"$f":"+IF(Simulador!$C$55=\"Si\",IF(WEEKDAY(SW10,2)=1,MOD(INT((SW10-$C$10)/7),52)+1,0),0)","v":0},{"$f":"+IF(Simulador!$C$55=\"Si\",IF(WEEKDAY(SX10,2)=1,MOD(INT((SX10-$C$10)/7),52)+1,0),0)","v":0},{"$f":"+IF(Simulador!$C$55=\"Si\",IF(WEEKDAY(SY10,2)=1,MOD(INT((SY10-$C$10)/7),52)+1,0),0)","v":0},{"$f":"+IF(Simulador!$C$55=\"Si\",IF(WEEKDAY(SZ10,2)=1,MOD(INT((SZ10-$C$10)/7),52)+1,0),0)","v":0},{"$f":"+IF(Simulador!$C$55=\"Si\",IF(WEEKDAY(TA10,2)=1,MOD(INT((TA10-$C$10)/7),52)+1,0),0)","v":0},{"$f":"+IF(Simulador!$C$55=\"Si\",IF(WEEKDAY(TB10,2)=1,MOD(INT((TB10-$C$10)/7),52)+1,0),0)","v":0},{"$f":"+IF(Simulador!$C$55=\"Si\",IF(WEEKDAY(TC10,2)=1,MOD(INT((TC10-$C$10)/7),52)+1,0),0)","v":0},{"$f":"+IF(Simulador!$C$55=\"Si\",IF(WEEKDAY(TD10,2)=1,MOD(INT((TD10-$C$10)/7),52)+1,0),0)","v":0},{"$f":"+IF(Simulador!$C$55=\"Si\",IF(WEEKDAY(TE10,2)=1,MOD(INT((TE10-$C$10)/7),52)+1,0),0)","v":0},{"$f":"+IF(Simulador!$C$55=\"Si\",IF(WEEKDAY(TF10,2)=1,MOD(INT((TF10-$C$10)/7),52)+1,0),0)","v":0},{"$f":"+IF(Simulador!$C$55=\"Si\",IF(WEEKDAY(TG10,2)=1,MOD(INT((TG10-$C$10)/7),52)+1,0),0)","v":0},{"$f":"+IF(Simulador!$C$55=\"Si\",IF(WEEKDAY(TH10,2)=1,MOD(INT((TH10-$C$10)/7),52)+1,0),0)","v":0},{"$f":"+IF(Simulador!$C$55=\"Si\",IF(WEEKDAY(TI10,2)=1,MOD(INT((TI10-$C$10)/7),52)+1,0),0)","v":0},{"$f":"+IF(Simulador!$C$55=\"Si\",IF(WEEKDAY(TJ10,2)=1,MOD(INT((TJ10-$C$10)/7),52)+1,0),0)","v":0},{"$f":"+IF(Simulador!$C$55=\"Si\",IF(WEEKDAY(TK10,2)=1,MOD(INT((TK10-$C$10)/7),52)+1,0),0)","v":0},{"$f":"+IF(Simulador!$C$55=\"Si\",IF(WEEKDAY(TL10,2)=1,MOD(INT((TL10-$C$10)/7),52)+1,0),0)","v":0},{"$f":"+IF(Simulador!$C$55=\"Si\",IF(WEEKDAY(TM10,2)=1,MOD(INT((TM10-$C$10)/7),52)+1,0),0)","v":0},{"$f":"+IF(Simulador!$C$55=\"Si\",IF(WEEKDAY(TN10,2)=1,MOD(INT((TN10-$C$10)/7),52)+1,0),0)","v":0},{"$f":"+IF(Simulador!$C$55=\"Si\",IF(WEEKDAY(TO10,2)=1,MOD(INT((TO10-$C$10)/7),52)+1,0),0)","v":0},{"$f":"+IF(Simulador!$C$55=\"Si\",IF(WEEKDAY(TP10,2)=1,MOD(INT((TP10-$C$10)/7),52)+1,0),0)","v":0},{"$f":"+IF(Simulador!$C$55=\"Si\",IF(WEEKDAY(TQ10,2)=1,MOD(INT((TQ10-$C$10)/7),52)+1,0),0)","v":0},{"$f":"+IF(Simulador!$C$55=\"Si\",IF(WEEKDAY(TR10,2)=1,MOD(INT((TR10-$C$10)/7),52)+1,0),0)","v":0},{"$f":"+IF(Simulador!$C$55=\"Si\",IF(WEEKDAY(TS10,2)=1,MOD(INT((TS10-$C$10)/7),52)+1,0),0)","v":0},{"$f":"+IF(Simulador!$C$55=\"Si\",IF(WEEKDAY(TT10,2)=1,MOD(INT((TT10-$C$10)/7),52)+1,0),0)","v":0},{"$f":"+IF(Simulador!$C$55=\"Si\",IF(WEEKDAY(TU10,2)=1,MOD(INT((TU10-$C$10)/7),52)+1,0),0)","v":0},{"$f":"+IF(Simulador!$C$55=\"Si\",IF(WEEKDAY(TV10,2)=1,MOD(INT((TV10-$C$10)/7),52)+1,0),0)","v":0},{"$f":"+IF(Simulador!$C$55=\"Si\",IF(WEEKDAY(TW10,2)=1,MOD(INT((TW10-$C$10)/7),52)+1,0),0)","v":0},{"$f":"+IF(Simulador!$C$55=\"Si\",IF(WEEKDAY(TX10,2)=1,MOD(INT((TX10-$C$10)/7),52)+1,0),0)","v":0},{"$f":"+IF(Simulador!$C$55=\"Si\",IF(WEEKDAY(TY10,2)=1,MOD(INT((TY10-$C$10)/7),52)+1,0),0)","v":0},{"$f":"+IF(Simulador!$C$55=\"Si\",IF(WEEKDAY(TZ10,2)=1,MOD(INT((TZ10-$C$10)/7),52)+1,0),0)","v":0},{"$f":"+IF(Simulador!$C$55=\"Si\",IF(WEEKDAY(UA10,2)=1,MOD(INT((UA10-$C$10)/7),52)+1,0),0)","v":0},{"$f":"+IF(Simulador!$C$55=\"Si\",IF(WEEKDAY(UB10,2)=1,MOD(INT((UB10-$C$10)/7),52)+1,0),0)","v":0},{"$f":"+IF(Simulador!$C$55=\"Si\",IF(WEEKDAY(UC10,2)=1,MOD(INT((UC10-$C$10)/7),52)+1,0),0)","v":0},{"$f":"+IF(Simulador!$C$55=\"Si\",IF(WEEKDAY(UD10,2)=1,MOD(INT((UD10-$C$10)/7),52)+1,0),0)","v":0},{"$f":"+IF(Simulador!$C$55=\"Si\",IF(WEEKDAY(UE10,2)=1,MOD(INT((UE10-$C$10)/7),52)+1,0),0)","v":0},{"$f":"+IF(Simulador!$C$55=\"Si\",IF(WEEKDAY(UF10,2)=1,MOD(INT((UF10-$C$10)/7),52)+1,0),0)","v":0},{"$f":"+IF(Simulador!$C$55=\"Si\",IF(WEEKDAY(UG10,2)=1,MOD(INT((UG10-$C$10)/7),52)+1,0),0)","v":0},{"$f":"+IF(Simulador!$C$55=\"Si\",IF(WEEKDAY(UH10,2)=1,MOD(INT((UH10-$C$10)/7),52)+1,0),0)","v":0},{"$f":"+IF(Simulador!$C$55=\"Si\",IF(WEEKDAY(UI10,2)=1,MOD(INT((UI10-$C$10)/7),52)+1,0),0)","v":0},{"$f":"+IF(Simulador!$C$55=\"Si\",IF(WEEKDAY(UJ10,2)=1,MOD(INT((UJ10-$C$10)/7),52)+1,0),0)","v":0},{"$f":"+IF(Simulador!$C$55=\"Si\",IF(WEEKDAY(UK10,2)=1,MOD(INT((UK10-$C$10)/7),52)+1,0),0)","v":0},{"$f":"+IF(Simulador!$C$55=\"Si\",IF(WEEKDAY(UL10,2)=1,MOD(INT((UL10-$C$10)/7),52)+1,0),0)","v":0},{"$f":"+IF(Simulador!$C$55=\"Si\",IF(WEEKDAY(UM10,2)=1,MOD(INT((UM10-$C$10)/7),52)+1,0),0)","v":0},{"$f":"+IF(Simulador!$C$55=\"Si\",IF(WEEKDAY(UN10,2)=1,MOD(INT((UN10-$C$10)/7),52)+1,0),0)","v":0},{"$f":"+IF(Simulador!$C$55=\"Si\",IF(WEEKDAY(UO10,2)=1,MOD(INT((UO10-$C$10)/7),52)+1,0),0)","v":0},{"$f":"+IF(Simulador!$C$55=\"Si\",IF(WEEKDAY(UP10,2)=1,MOD(INT((UP10-$C$10)/7),52)+1,0),0)","v":0},{"$f":"+IF(Simulador!$C$55=\"Si\",IF(WEEKDAY(UQ10,2)=1,MOD(INT((UQ10-$C$10)/7),52)+1,0),0)","v":0},{"$f":"+IF(Simulador!$C$55=\"Si\",IF(WEEKDAY(UR10,2)=1,MOD(INT((UR10-$C$10)/7),52)+1,0),0)","v":0},{"$f":"+IF(Simulador!$C$55=\"Si\",IF(WEEKDAY(US10,2)=1,MOD(INT((US10-$C$10)/7),52)+1,0),0)","v":0},{"$f":"+IF(Simulador!$C$55=\"Si\",IF(WEEKDAY(UT10,2)=1,MOD(INT((UT10-$C$10)/7),52)+1,0),0)","v":0},{"$f":"+IF(Simulador!$C$55=\"Si\",IF(WEEKDAY(UU10,2)=1,MOD(INT((UU10-$C$10)/7),52)+1,0),0)","v":0},{"$f":"+IF(Simulador!$C$55=\"Si\",IF(WEEKDAY(UV10,2)=1,MOD(INT((UV10-$C$10)/7),52)+1,0),0)","v":0},{"$f":"+IF(Simulador!$C$55=\"Si\",IF(WEEKDAY(UW10,2)=1,MOD(INT((UW10-$C$10)/7),52)+1,0),0)","v":0},{"$f":"+IF(Simulador!$C$55=\"Si\",IF(WEEKDAY(UX10,2)=1,MOD(INT((UX10-$C$10)/7),52)+1,0),0)","v":0},{"$f":"+IF(Simulador!$C$55=\"Si\",IF(WEEKDAY(UY10,2)=1,MOD(INT((UY10-$C$10)/7),52)+1,0),0)","v":0},{"$f":"+IF(Simulador!$C$55=\"Si\",IF(WEEKDAY(UZ10,2)=1,MOD(INT((UZ10-$C$10)/7),52)+1,0),0)","v":0},{"$f":"+IF(Simulador!$C$55=\"Si\",IF(WEEKDAY(VA10,2)=1,MOD(INT((VA10-$C$10)/7),52)+1,0),0)","v":0},{"$f":"+IF(Simulador!$C$55=\"Si\",IF(WEEKDAY(VB10,2)=1,MOD(INT((VB10-$C$10)/7),52)+1,0),0)","v":0},{"$f":"+IF(Simulador!$C$55=\"Si\",IF(WEEKDAY(VC10,2)=1,MOD(INT((VC10-$C$10)/7),52)+1,0),0)","v":0},{"$f":"+IF(Simulador!$C$55=\"Si\",IF(WEEKDAY(VD10,2)=1,MOD(INT((VD10-$C$10)/7),52)+1,0),0)","v":0},{"$f":"+IF(Simulador!$C$55=\"Si\",IF(WEEKDAY(VE10,2)=1,MOD(INT((VE10-$C$10)/7),52)+1,0),0)","v":0},{"$f":"+IF(Simulador!$C$55=\"Si\",IF(WEEKDAY(VF10,2)=1,MOD(INT((VF10-$C$10)/7),52)+1,0),0)","v":0},{"$f":"+IF(Simulador!$C$55=\"Si\",IF(WEEKDAY(VG10,2)=1,MOD(INT((VG10-$C$10)/7),52)+1,0),0)","v":0},{"$f":"+IF(Simulador!$C$55=\"Si\",IF(WEEKDAY(VH10,2)=1,MOD(INT((VH10-$C$10)/7),52)+1,0),0)","v":0},{"$f":"+IF(Simulador!$C$55=\"Si\",IF(WEEKDAY(VI10,2)=1,MOD(INT((VI10-$C$10)/7),52)+1,0),0)","v":0},{"$f":"+IF(Simulador!$C$55=\"Si\",IF(WEEKDAY(VJ10,2)=1,MOD(INT((VJ10-$C$10)/7),52)+1,0),0)","v":0},{"$f":"+IF(Simulador!$C$55=\"Si\",IF(WEEKDAY(VK10,2)=1,MOD(INT((VK10-$C$10)/7),52)+1,0),0)","v":0},{"$f":"+IF(Simulador!$C$55=\"Si\",IF(WEEKDAY(VL10,2)=1,MOD(INT((VL10-$C$10)/7),52)+1,0),0)","v":0},{"$f":"+IF(Simulador!$C$55=\"Si\",IF(WEEKDAY(VM10,2)=1,MOD(INT((VM10-$C$10)/7),52)+1,0),0)","v":0},{"$f":"+IF(Simulador!$C$55=\"Si\",IF(WEEKDAY(VN10,2)=1,MOD(INT((VN10-$C$10)/7),52)+1,0),0)","v":0},{"$f":"+IF(Simulador!$C$55=\"Si\",IF(WEEKDAY(VO10,2)=1,MOD(INT((VO10-$C$10)/7),52)+1,0),0)","v":0},{"$f":"+IF(Simulador!$C$55=\"Si\",IF(WEEKDAY(VP10,2)=1,MOD(INT((VP10-$C$10)/7),52)+1,0),0)","v":0},{"$f":"+IF(Simulador!$C$55=\"Si\",IF(WEEKDAY(VQ10,2)=1,MOD(INT((VQ10-$C$10)/7),52)+1,0),0)","v":0},{"$f":"+IF(Simulador!$C$55=\"Si\",IF(WEEKDAY(VR10,2)=1,MOD(INT((VR10-$C$10)/7),52)+1,0),0)","v":0},{"$f":"+IF(Simulador!$C$55=\"Si\",IF(WEEKDAY(VS10,2)=1,MOD(INT((VS10-$C$10)/7),52)+1,0),0)","v":0},{"$f":"+IF(Simulador!$C$55=\"Si\",IF(WEEKDAY(VT10,2)=1,MOD(INT((VT10-$C$10)/7),52)+1,0),0)","v":0},{"$f":"+IF(Simulador!$C$55=\"Si\",IF(WEEKDAY(VU10,2)=1,MOD(INT((VU10-$C$10)/7),52)+1,0),0)","v":0},{"$f":"+IF(Simulador!$C$55=\"Si\",IF(WEEKDAY(VV10,2)=1,MOD(INT((VV10-$C$10)/7),52)+1,0),0)","v":0},{"$f":"+IF(Simulador!$C$55=\"Si\",IF(WEEKDAY(VW10,2)=1,MOD(INT((VW10-$C$10)/7),52)+1,0),0)","v":0},{"$f":"+IF(Simulador!$C$55=\"Si\",IF(WEEKDAY(VX10,2)=1,MOD(INT((VX10-$C$10)/7),52)+1,0),0)","v":0},{"$f":"+IF(Simulador!$C$55=\"Si\",IF(WEEKDAY(VY10,2)=1,MOD(INT((VY10-$C$10)/7),52)+1,0),0)","v":0},{"$f":"+IF(Simulador!$C$55=\"Si\",IF(WEEKDAY(VZ10,2)=1,MOD(INT((VZ10-$C$10)/7),52)+1,0),0)","v":0},{"$f":"+IF(Simulador!$C$55=\"Si\",IF(WEEKDAY(WA10,2)=1,MOD(INT((WA10-$C$10)/7),52)+1,0),0)","v":0},{"$f":"+IF(Simulador!$C$55=\"Si\",IF(WEEKDAY(WB10,2)=1,MOD(INT((WB10-$C$10)/7),52)+1,0),0)","v":0},{"$f":"+IF(Simulador!$C$55=\"Si\",IF(WEEKDAY(WC10,2)=1,MOD(INT((WC10-$C$10)/7),52)+1,0),0)","v":0},{"$f":"+IF(Simulador!$C$55=\"Si\",IF(WEEKDAY(WD10,2)=1,MOD(INT((WD10-$C$10)/7),52)+1,0),0)","v":0},{"$f":"+IF(Simulador!$C$55=\"Si\",IF(WEEKDAY(WE10,2)=1,MOD(INT((WE10-$C$10)/7),52)+1,0),0)","v":0},{"$f":"+IF(Simulador!$C$55=\"Si\",IF(WEEKDAY(WF10,2)=1,MOD(INT((WF10-$C$10)/7),52)+1,0),0)","v":0},{"$f":"+IF(Simulador!$C$55=\"Si\",IF(WEEKDAY(WG10,2)=1,MOD(INT((WG10-$C$10)/7),52)+1,0),0)","v":0},{"$f":"+IF(Simulador!$C$55=\"Si\",IF(WEEKDAY(WH10,2)=1,MOD(INT((WH10-$C$10)/7),52)+1,0),0)","v":0},{"$f":"+IF(Simulador!$C$55=\"Si\",IF(WEEKDAY(WI10,2)=1,MOD(INT((WI10-$C$10)/7),52)+1,0),0)","v":0},{"$f":"+IF(Simulador!$C$55=\"Si\",IF(WEEKDAY(WJ10,2)=1,MOD(INT((WJ10-$C$10)/7),52)+1,0),0)","v":0},{"$f":"+IF(Simulador!$C$55=\"Si\",IF(WEEKDAY(WK10,2)=1,MOD(INT((WK10-$C$10)/7),52)+1,0),0)","v":0},{"$f":"+IF(Simulador!$C$55=\"Si\",IF(WEEKDAY(WL10,2)=1,MOD(INT((WL10-$C$10)/7),52)+1,0),0)","v":0},{"$f":"+IF(Simulador!$C$55=\"Si\",IF(WEEKDAY(WM10,2)=1,MOD(INT((WM10-$C$10)/7),52)+1,0),0)","v":0},{"$f":"+IF(Simulador!$C$55=\"Si\",IF(WEEKDAY(WN10,2)=1,MOD(INT((WN10-$C$10)/7),52)+1,0),0)","v":0},{"$f":"+IF(Simulador!$C$55=\"Si\",IF(WEEKDAY(WO10,2)=1,MOD(INT((WO10-$C$10)/7),52)+1,0),0)","v":0},{"$f":"+IF(Simulador!$C$55=\"Si\",IF(WEEKDAY(WP10,2)=1,MOD(INT((WP10-$C$10)/7),52)+1,0),0)","v":0},{"$f":"+IF(Simulador!$C$55=\"Si\",IF(WEEKDAY(WQ10,2)=1,MOD(INT((WQ10-$C$10)/7),52)+1,0),0)","v":0},{"$f":"+IF(Simulador!$C$55=\"Si\",IF(WEEKDAY(WR10,2)=1,MOD(INT((WR10-$C$10)/7),52)+1,0),0)","v":0},{"$f":"+IF(Simulador!$C$55=\"Si\",IF(WEEKDAY(WS10,2)=1,MOD(INT((WS10-$C$10)/7),52)+1,0),0)","v":0},{"$f":"+IF(Simulador!$C$55=\"Si\",IF(WEEKDAY(WT10,2)=1,MOD(INT((WT10-$C$10)/7),52)+1,0),0)","v":0},{"$f":"+IF(Simulador!$C$55=\"Si\",IF(WEEKDAY(WU10,2)=1,MOD(INT((WU10-$C$10)/7),52)+1,0),0)","v":0},{"$f":"+IF(Simulador!$C$55=\"Si\",IF(WEEKDAY(WV10,2)=1,MOD(INT((WV10-$C$10)/7),52)+1,0),0)","v":0},{"$f":"+IF(Simulador!$C$55=\"Si\",IF(WEEKDAY(WW10,2)=1,MOD(INT((WW10-$C$10)/7),52)+1,0),0)","v":0},{"$f":"+IF(Simulador!$C$55=\"Si\",IF(WEEKDAY(WX10,2)=1,MOD(INT((WX10-$C$10)/7),52)+1,0),0)","v":0},{"$f":"+IF(Simulador!$C$55=\"Si\",IF(WEEKDAY(WY10,2)=1,MOD(INT((WY10-$C$10)/7),52)+1,0),0)","v":0},{"$f":"+IF(Simulador!$C$55=\"Si\",IF(WEEKDAY(WZ10,2)=1,MOD(INT((WZ10-$C$10)/7),52)+1,0),0)","v":0},{"$f":"+IF(Simulador!$C$55=\"Si\",IF(WEEKDAY(XA10,2)=1,MOD(INT((XA10-$C$10)/7),52)+1,0),0)","v":0},{"$f":"+IF(Simulador!$C$55=\"Si\",IF(WEEKDAY(XB10,2)=1,MOD(INT((XB10-$C$10)/7),52)+1,0),0)","v":0},{"$f":"+IF(Simulador!$C$55=\"Si\",IF(WEEKDAY(XC10,2)=1,MOD(INT((XC10-$C$10)/7),52)+1,0),0)","v":0},{"$f":"+IF(Simulador!$C$55=\"Si\",IF(WEEKDAY(XD10,2)=1,MOD(INT((XD10-$C$10)/7),52)+1,0),0)","v":0},{"$f":"+IF(Simulador!$C$55=\"Si\",IF(WEEKDAY(XE10,2)=1,MOD(INT((XE10-$C$10)/7),52)+1,0),0)","v":0},{"$f":"+IF(Simulador!$C$55=\"Si\",IF(WEEKDAY(XF10,2)=1,MOD(INT((XF10-$C$10)/7),52)+1,0),0)","v":0},{"$f":"+IF(Simulador!$C$55=\"Si\",IF(WEEKDAY(XG10,2)=1,MOD(INT((XG10-$C$10)/7),52)+1,0),0)","v":0},{"$f":"+IF(Simulador!$C$55=\"Si\",IF(WEEKDAY(XH10,2)=1,MOD(INT((XH10-$C$10)/7),52)+1,0),0)","v":0},{"$f":"+IF(Simulador!$C$55=\"Si\",IF(WEEKDAY(XI10,2)=1,MOD(INT((XI10-$C$10)/7),52)+1,0),0)","v":0},{"$f":"+IF(Simulador!$C$55=\"Si\",IF(WEEKDAY(XJ10,2)=1,MOD(INT((XJ10-$C$10)/7),52)+1,0),0)","v":0},{"$f":"+IF(Simulador!$C$55=\"Si\",IF(WEEKDAY(XK10,2)=1,MOD(INT((XK10-$C$10)/7),52)+1,0),0)","v":0},{"$f":"+IF(Simulador!$C$55=\"Si\",IF(WEEKDAY(XL10,2)=1,MOD(INT((XL10-$C$10)/7),52)+1,0),0)","v":0},{"$f":"+IF(Simulador!$C$55=\"Si\",IF(WEEKDAY(XM10,2)=1,MOD(INT((XM10-$C$10)/7),52)+1,0),0)","v":0},{"$f":"+IF(Simulador!$C$55=\"Si\",IF(WEEKDAY(XN10,2)=1,MOD(INT((XN10-$C$10)/7),52)+1,0),0)","v":0},{"$f":"+IF(Simulador!$C$55=\"Si\",IF(WEEKDAY(XO10,2)=1,MOD(INT((XO10-$C$10)/7),52)+1,0),0)","v":0},{"$f":"+IF(Simulador!$C$55=\"Si\",IF(WEEKDAY(XP10,2)=1,MOD(INT((XP10-$C$10)/7),52)+1,0),0)","v":0},{"$f":"+IF(Simulador!$C$55=\"Si\",IF(WEEKDAY(XQ10,2)=1,MOD(INT((XQ10-$C$10)/7),52)+1,0),0)","v":0},{"$f":"+IF(Simulador!$C$55=\"Si\",IF(WEEKDAY(XR10,2)=1,MOD(INT((XR10-$C$10)/7),52)+1,0),0)","v":0},{"$f":"+IF(Simulador!$C$55=\"Si\",IF(WEEKDAY(XS10,2)=1,MOD(INT((XS10-$C$10)/7),52)+1,0),0)","v":0},{"$f":"+IF(Simulador!$C$55=\"Si\",IF(WEEKDAY(XT10,2)=1,MOD(INT((XT10-$C$10)/7),52)+1,0),0)","v":0},{"$f":"+IF(Simulador!$C$55=\"Si\",IF(WEEKDAY(XU10,2)=1,MOD(INT((XU10-$C$10)/7),52)+1,0),0)","v":0},{"$f":"+IF(Simulador!$C$55=\"Si\",IF(WEEKDAY(XV10,2)=1,MOD(INT((XV10-$C$10)/7),52)+1,0),0)","v":0},{"$f":"+IF(Simulador!$C$55=\"Si\",IF(WEEKDAY(XW10,2)=1,MOD(INT((XW10-$C$10)/7),52)+1,0),0)","v":0},{"$f":"+IF(Simulador!$C$55=\"Si\",IF(WEEKDAY(XX10,2)=1,MOD(INT((XX10-$C$10)/7),52)+1,0),0)","v":0},{"$f":"+IF(Simulador!$C$55=\"Si\",IF(WEEKDAY(XY10,2)=1,MOD(INT((XY10-$C$10)/7),52)+1,0),0)","v":0},{"$f":"+IF(Simulador!$C$55=\"Si\",IF(WEEKDAY(XZ10,2)=1,MOD(INT((XZ10-$C$10)/7),52)+1,0),0)","v":0},{"$f":"+IF(Simulador!$C$55=\"Si\",IF(WEEKDAY(YA10,2)=1,MOD(INT((YA10-$C$10)/7),52)+1,0),0)","v":0},{"$f":"+IF(Simulador!$C$55=\"Si\",IF(WEEKDAY(YB10,2)=1,MOD(INT((YB10-$C$10)/7),52)+1,0),0)","v":0},{"$f":"+IF(Simulador!$C$55=\"Si\",IF(WEEKDAY(YC10,2)=1,MOD(INT((YC10-$C$10)/7),52)+1,0),0)","v":0},{"$f":"+IF(Simulador!$C$55=\"Si\",IF(WEEKDAY(YD10,2)=1,MOD(INT((YD10-$C$10)/7),52)+1,0),0)","v":0},{"$f":"+IF(Simulador!$C$55=\"Si\",IF(WEEKDAY(YE10,2)=1,MOD(INT((YE10-$C$10)/7),52)+1,0),0)","v":0},{"$f":"+IF(Simulador!$C$55=\"Si\",IF(WEEKDAY(YF10,2)=1,MOD(INT((YF10-$C$10)/7),52)+1,0),0)","v":0},{"$f":"+IF(Simulador!$C$55=\"Si\",IF(WEEKDAY(YG10,2)=1,MOD(INT((YG10-$C$10)/7),52)+1,0),0)","v":0},{"$f":"+IF(Simulador!$C$55=\"Si\",IF(WEEKDAY(YH10,2)=1,MOD(INT((YH10-$C$10)/7),52)+1,0),0)","v":0},{"$f":"+IF(Simulador!$C$55=\"Si\",IF(WEEKDAY(YI10,2)=1,MOD(INT((YI10-$C$10)/7),52)+1,0),0)","v":0},{"$f":"+IF(Simulador!$C$55=\"Si\",IF(WEEKDAY(YJ10,2)=1,MOD(INT((YJ10-$C$10)/7),52)+1,0),0)","v":0},{"$f":"+IF(Simulador!$C$55=\"Si\",IF(WEEKDAY(YK10,2)=1,MOD(INT((YK10-$C$10)/7),52)+1,0),0)","v":0},{"$f":"+IF(Simulador!$C$55=\"Si\",IF(WEEKDAY(YL10,2)=1,MOD(INT((YL10-$C$10)/7),52)+1,0),0)","v":0},{"$f":"+IF(Simulador!$C$55=\"Si\",IF(WEEKDAY(YM10,2)=1,MOD(INT((YM10-$C$10)/7),52)+1,0),0)","v":0},{"$f":"+IF(Simulador!$C$55=\"Si\",IF(WEEKDAY(YN10,2)=1,MOD(INT((YN10-$C$10)/7),52)+1,0),0)","v":0},{"$f":"+IF(Simulador!$C$55=\"Si\",IF(WEEKDAY(YO10,2)=1,MOD(INT((YO10-$C$10)/7),52)+1,0),0)","v":0},{"$f":"+IF(Simulador!$C$55=\"Si\",IF(WEEKDAY(YP10,2)=1,MOD(INT((YP10-$C$10)/7),52)+1,0),0)","v":0},{"$f":"+IF(Simulador!$C$55=\"Si\",IF(WEEKDAY(YQ10,2)=1,MOD(INT((YQ10-$C$10)/7),52)+1,0),0)","v":0},{"$f":"+IF(Simulador!$C$55=\"Si\",IF(WEEKDAY(YR10,2)=1,MOD(INT((YR10-$C$10)/7),52)+1,0),0)","v":0},{"$f":"+IF(Simulador!$C$55=\"Si\",IF(WEEKDAY(YS10,2)=1,MOD(INT((YS10-$C$10)/7),52)+1,0),0)","v":0},{"$f":"+IF(Simulador!$C$55=\"Si\",IF(WEEKDAY(YT10,2)=1,MOD(INT((YT10-$C$10)/7),52)+1,0),0)","v":0},{"$f":"+IF(Simulador!$C$55=\"Si\",IF(WEEKDAY(YU10,2)=1,MOD(INT((YU10-$C$10)/7),52)+1,0),0)","v":0},{"$f":"+IF(Simulador!$C$55=\"Si\",IF(WEEKDAY(YV10,2)=1,MOD(INT((YV10-$C$10)/7),52)+1,0),0)","v":0},{"$f":"+IF(Simulador!$C$55=\"Si\",IF(WEEKDAY(YW10,2)=1,MOD(INT((YW10-$C$10)/7),52)+1,0),0)","v":0},{"$f":"+IF(Simulador!$C$55=\"Si\",IF(WEEKDAY(YX10,2)=1,MOD(INT((YX10-$C$10)/7),52)+1,0),0)","v":0},{"$f":"+IF(Simulador!$C$55=\"Si\",IF(WEEKDAY(YY10,2)=1,MOD(INT((YY10-$C$10)/7),52)+1,0),0)","v":0},{"$f":"+IF(Simulador!$C$55=\"Si\",IF(WEEKDAY(YZ10,2)=1,MOD(INT((YZ10-$C$10)/7),52)+1,0),0)","v":0},{"$f":"+IF(Simulador!$C$55=\"Si\",IF(WEEKDAY(ZA10,2)=1,MOD(INT((ZA10-$C$10)/7),52)+1,0),0)","v":0},{"$f":"+IF(Simulador!$C$55=\"Si\",IF(WEEKDAY(ZB10,2)=1,MOD(INT((ZB10-$C$10)/7),52)+1,0),0)","v":0},{"$f":"+IF(Simulador!$C$55=\"Si\",IF(WEEKDAY(ZC10,2)=1,MOD(INT((ZC10-$C$10)/7),52)+1,0),0)","v":0},{"$f":"+IF(Simulador!$C$55=\"Si\",IF(WEEKDAY(ZD10,2)=1,MOD(INT((ZD10-$C$10)/7),52)+1,0),0)","v":0},{"$f":"+IF(Simulador!$C$55=\"Si\",IF(WEEKDAY(ZE10,2)=1,MOD(INT((ZE10-$C$10)/7),52)+1,0),0)","v":0},{"$f":"+IF(Simulador!$C$55=\"Si\",IF(WEEKDAY(ZF10,2)=1,MOD(INT((ZF10-$C$10)/7),52)+1,0),0)","v":0},{"$f":"+IF(Simulador!$C$55=\"Si\",IF(WEEKDAY(ZG10,2)=1,MOD(INT((ZG10-$C$10)/7),52)+1,0),0)","v":0},{"$f":"+IF(Simulador!$C$55=\"Si\",IF(WEEKDAY(ZH10,2)=1,MOD(INT((ZH10-$C$10)/7),52)+1,0),0)","v":0},{"$f":"+IF(Simulador!$C$55=\"Si\",IF(WEEKDAY(ZI10,2)=1,MOD(INT((ZI10-$C$10)/7),52)+1,0),0)","v":0},{"$f":"+IF(Simulador!$C$55=\"Si\",IF(WEEKDAY(ZJ10,2)=1,MOD(INT((ZJ10-$C$10)/7),52)+1,0),0)","v":0},{"$f":"+IF(Simulador!$C$55=\"Si\",IF(WEEKDAY(ZK10,2)=1,MOD(INT((ZK10-$C$10)/7),52)+1,0),0)","v":0},{"$f":"+IF(Simulador!$C$55=\"Si\",IF(WEEKDAY(ZL10,2)=1,MOD(INT((ZL10-$C$10)/7),52)+1,0),0)","v":0},{"$f":"+IF(Simulador!$C$55=\"Si\",IF(WEEKDAY(ZM10,2)=1,MOD(INT((ZM10-$C$10)/7),52)+1,0),0)","v":0},{"$f":"+IF(Simulador!$C$55=\"Si\",IF(WEEKDAY(ZN10,2)=1,MOD(INT((ZN10-$C$10)/7),52)+1,0),0)","v":0},{"$f":"+IF(Simulador!$C$55=\"Si\",IF(WEEKDAY(ZO10,2)=1,MOD(INT((ZO10-$C$10)/7),52)+1,0),0)","v":0},{"$f":"+IF(Simulador!$C$55=\"Si\",IF(WEEKDAY(ZP10,2)=1,MOD(INT((ZP10-$C$10)/7),52)+1,0),0)","v":0},{"$f":"+IF(Simulador!$C$55=\"Si\",IF(WEEKDAY(ZQ10,2)=1,MOD(INT((ZQ10-$C$10)/7),52)+1,0),0)","v":0},{"$f":"+IF(Simulador!$C$55=\"Si\",IF(WEEKDAY(ZR10,2)=1,MOD(INT((ZR10-$C$10)/7),52)+1,0),0)","v":0},{"$f":"+IF(Simulador!$C$55=\"Si\",IF(WEEKDAY(ZS10,2)=1,MOD(INT((ZS10-$C$10)/7),52)+1,0),0)","v":0},{"$f":"+IF(Simulador!$C$55=\"Si\",IF(WEEKDAY(ZT10,2)=1,MOD(INT((ZT10-$C$10)/7),52)+1,0),0)","v":0},{"$f":"+IF(Simulador!$C$55=\"Si\",IF(WEEKDAY(ZU10,2)=1,MOD(INT((ZU10-$C$10)/7),52)+1,0),0)","v":0},{"$f":"+IF(Simulador!$C$55=\"Si\",IF(WEEKDAY(ZV10,2)=1,MOD(INT((ZV10-$C$10)/7),52)+1,0),0)","v":0},{"$f":"+IF(Simulador!$C$55=\"Si\",IF(WEEKDAY(ZW10,2)=1,MOD(INT((ZW10-$C$10)/7),52)+1,0),0)","v":0},{"$f":"+IF(Simulador!$C$55=\"Si\",IF(WEEKDAY(ZX10,2)=1,MOD(INT((ZX10-$C$10)/7),52)+1,0),0)","v":0},{"$f":"+IF(Simulador!$C$55=\"Si\",IF(WEEKDAY(ZY10,2)=1,MOD(INT((ZY10-$C$10)/7),52)+1,0),0)","v":0},{"$f":"+IF(Simulador!$C$55=\"Si\",IF(WEEKDAY(ZZ10,2)=1,MOD(INT((ZZ10-$C$10)/7),52)+1,0),0)","v":0},{"$f":"+IF(Simulador!$C$55=\"Si\",IF(WEEKDAY(AAA10,2)=1,MOD(INT((AAA10-$C$10)/7),52)+1,0),0)","v":0},{"$f":"+IF(Simulador!$C$55=\"Si\",IF(WEEKDAY(AAB10,2)=1,MOD(INT((AAB10-$C$10)/7),52)+1,0),0)","v":0},{"$f":"+IF(Simulador!$C$55=\"Si\",IF(WEEKDAY(AAC10,2)=1,MOD(INT((AAC10-$C$10)/7),52)+1,0),0)","v":0},{"$f":"+IF(Simulador!$C$55=\"Si\",IF(WEEKDAY(AAD10,2)=1,MOD(INT((AAD10-$C$10)/7),52)+1,0),0)","v":0},{"$f":"+IF(Simulador!$C$55=\"Si\",IF(WEEKDAY(AAE10,2)=1,MOD(INT((AAE10-$C$10)/7),52)+1,0),0)","v":0},{"$f":"+IF(Simulador!$C$55=\"Si\",IF(WEEKDAY(AAF10,2)=1,MOD(INT((AAF10-$C$10)/7),52)+1,0),0)","v":0},{"$f":"+IF(Simulador!$C$55=\"Si\",IF(WEEKDAY(AAG10,2)=1,MOD(INT((AAG10-$C$10)/7),52)+1,0),0)","v":0},{"$f":"+IF(Simulador!$C$55=\"Si\",IF(WEEKDAY(AAH10,2)=1,MOD(INT((AAH10-$C$10)/7),52)+1,0),0)","v":0},{"$f":"+IF(Simulador!$C$55=\"Si\",IF(WEEKDAY(AAI10,2)=1,MOD(INT((AAI10-$C$10)/7),52)+1,0),0)","v":0},{"$f":"+IF(Simulador!$C$55=\"Si\",IF(WEEKDAY(AAJ10,2)=1,MOD(INT((AAJ10-$C$10)/7),52)+1,0),0)","v":0},{"$f":"+IF(Simulador!$C$55=\"Si\",IF(WEEKDAY(AAK10,2)=1,MOD(INT((AAK10-$C$10)/7),52)+1,0),0)","v":0},{"$f":"+IF(Simulador!$C$55=\"Si\",IF(WEEKDAY(AAL10,2)=1,MOD(INT((AAL10-$C$10)/7),52)+1,0),0)","v":0},{"$f":"+IF(Simulador!$C$55=\"Si\",IF(WEEKDAY(AAM10,2)=1,MOD(INT((AAM10-$C$10)/7),52)+1,0),0)","v":0},{"$f":"+IF(Simulador!$C$55=\"Si\",IF(WEEKDAY(AAN10,2)=1,MOD(INT((AAN10-$C$10)/7),52)+1,0),0)","v":0},{"$f":"+IF(Simulador!$C$55=\"Si\",IF(WEEKDAY(AAO10,2)=1,MOD(INT((AAO10-$C$10)/7),52)+1,0),0)","v":0},{"$f":"+IF(Simulador!$C$55=\"Si\",IF(WEEKDAY(AAP10,2)=1,MOD(INT((AAP10-$C$10)/7),52)+1,0),0)","v":0},{"$f":"+IF(Simulador!$C$55=\"Si\",IF(WEEKDAY(AAQ10,2)=1,MOD(INT((AAQ10-$C$10)/7),52)+1,0),0)","v":0},{"$f":"+IF(Simulador!$C$55=\"Si\",IF(WEEKDAY(AAR10,2)=1,MOD(INT((AAR10-$C$10)/7),52)+1,0),0)","v":0},{"$f":"+IF(Simulador!$C$55=\"Si\",IF(WEEKDAY(AAS10,2)=1,MOD(INT((AAS10-$C$10)/7),52)+1,0),0)","v":0},{"$f":"+IF(Simulador!$C$55=\"Si\",IF(WEEKDAY(AAT10,2)=1,MOD(INT((AAT10-$C$10)/7),52)+1,0),0)","v":0},{"$f":"+IF(Simulador!$C$55=\"Si\",IF(WEEKDAY(AAU10,2)=1,MOD(INT((AAU10-$C$10)/7),52)+1,0),0)","v":0}]
[null,"Aporte Extraordinario",{"$f":"+IF(C17=$C$4,$C$5,0)","v":0},0,0,0,0,0,0,0,0,0,0,0,0,0,0,0,0,0,0,0,0,0,0,0,0,0,0,0,0,0,0,0,0,0,0,0,0,0,0,0,0,0,0,0,0,0,0,0,0,0,0,0,0,0,0,0,0,0,0,0,0,0,0,0,{"$f":"+IF(BO17=$C$4,$C$5,0)","v":0},0,0,0,0,0,0,0,0,0,0,0,0,0,0,0,0,0,0,0,0,0,0,0,0,0,0,0,0,0,0,0,0,0,0,0,0,0,0,0,0,0,0,0,0,0,0,0,0,0,0,0,0,0,0,0,0,0,0,0,0,0,0,0,{"$f":"+IF(EA17=$C$4,$C$5,0)","v":0},0,0,0,0,0,0,0,0,0,0,0,0,0,0,0,0,0,0,0,0,0,0,0,0,0,0,0,0,0,0,0,0,0,0,0,0,0,0,0,0,0,0,0,0,0,0,0,0,0,0,0,0,0,0,0,0,0,0,0,0,0,0,0,{"$f":"+IF(GM17=$C$4,$C$5,0)","v":0},0,0,0,0,0,0,0,0,0,0,0,0,0,0,0,0,0,0,0,0,0,0,0,0,0,0,0,0,0,0,0,0,0,0,0,0,0,0,0,0,0,0,0,0,0,0,0,0,0,0,0,0,0,0,0,0,0,0,0,0,0,0,0,{"$f":"+IF(IY17=$C$4,$C$5,0)","v":0},0,0,0,0,0,0,0,0,0,0,0,0,0,0,0,0,0,0,0,0,0,0,0,0,0,0,0,0,0,0,0,0,0,0,0,0,0,0,0,0,0,0,0,0,0,0,0,0,0,0,0,0,0,0,0,0,0,0,0,0,0,0,0,{"$f":"+IF(LK17=$C$4,$C$5,0)","v":0},0,0,0,0,0,0,0,0,0,0,0,0,0,0,0,0,0,0,0,0,0,0,0,0,0,0,0,0,0,0,0,0,0,0,0,0,0,0,0,0,0,0,0,0,0,0,0,0,0,0,0,0,0,0,0,0,0,0,0,0,0,0,0,{"$f":"+IF(NW17=$C$4,$C$5,0)","v":0},0,0,0,0,0,0,0,0,0,0,0,0,0,0,0,0,0,0,0,0,0,0,0,0,0,0,0,0,0,0,0,0,0,0,0,0,0,0,0,0,0,0,0,0,0,0,0,0,0,0,0,0,0,0,0,0,0,0,0,0,0,0,0,{"$f":"+IF(QI17=$C$4,$C$5,0)","v":0},0,0,0,0,0,0,0,0,0,0,0,0,0,0,0,0,0,0,0,0,0,0,0,0,0,0,0,0,0,0,0,0,0,0,0,0,0,0,0,0,0,0,0,0,0,0,0,0,0,0,0,0,0,0,0,0,0,0,0,0,0,0,0,{"$f":"+IF(SU17=$C$4,$C$5,0)","v":0},0,0,0,0,0,0,0,0,0,0,0,0,0,0,0,0,0,0,0,0,0,0,0,0,0,0,0,0,0,0,0,0,0,0,0,0,0,0,0,0,0,0,0,0,0,0,0,0,0,0,0,0,0,0,0,0,0,0,0,0,0,0,0,{"$f":"+IF(VG17=$C$4,$C$5,0)","v":0},0,0,0,0,0,0,0,0,0,0,0,0,0,0,0,0,0,0,0,0,0,0,0,0,0,0,0,0,0,0,0,0,0,0,0,0,0,0,0,0,0,0,0,0,0,0,0,0,0,0,0,0,0,0,0,0,0,0,0,0,0,0,0,{"$f":"+IF(XS17=$C$4,$C$5,0)","v":0},0,0,0,0,0,0,0,0,0,0,0,0,0,0,0,0,0,0,0,0,0,0,0,0,0,0,0,0,0,0,0,0,0,0,0,0,0,0,0,0,0,0,0,0,0,0,0,0,0,0,0,0,0,0,0,0,0,0,0,0,0,0,0,{"$f":"+IF(AAE17=$C$4,$C$5,0)","v":0},0,0,0,0,0,0,0,0,0,0,0,0,0,0,0,0]
[null,"Aporte total diario",{"$f":"+SUM(C22:C25)","v":10},50,0,0,0,0,0,0,0,0,0,0,0,0,0,0,0,0,0,0,0,0,0,0,0,0,0,0,0,0,0,0,50,0,0,0,0,0,0,0,0,0,0,0,0,0,0,0,0,0,0,0,0,0,0,0,0,0,0,0,0,0,0,50,{"$f":"+SUM(BO22:BO25)","v":0},0,0,0,0,0,0,0,0,0,0,0,0,0,0,0,0,0,0,0,0,0,0,0,0,0,0,0,0,50,0,0,0,0,0,0,0,0,0,0,0,0,0,0,0,0,0,0,0,0,0,0,0,0,0,0,0,0,0,0,50,0,0,0,{"$f":"+SUM(EA22:EA25)","v":0},0,0,0,0,0,0,0,0,0,0,0,0,0,0,0,0,0,0,0,0,0,0,0,0,0,50,0,0,0,0,0,0,0,0,0,0,0,0,0,0,0,0,0,0,0,0,0,0,0,0,0,0,0,0,0,0,50,0,0,0,0,0,0,{"$f":"+SUM(GM22:GM25)","v":0},0,0,0,0,0,0,0,0,0,0,0,0,0,0,0,0,0,0,0,0,0,0,0,50,0,0,0,0,0,0,0,0,0,0,0,0,0,0,0,0,0,0,0,0,0,0,0,0,0,0,0,50,0,0,0,0,0,0,0,0,0,0,0,{"$f":"+SUM(IY22:IY25)","v":0},0,0,0,0,0,0,0,0,0,0,0,0,0,0,0,0,0,0,50,0,0,0,0,0,0,0,0,0,0,0,0,0,0,0,0,0,0,0,0,0,0,0,0,0,0,0,0,0,50,0,0,0,0,0,0,0,0,0,0,0,0,0,0,{"$f":"+SUM(LK22:LK25)","v":0},0,0,0,0,0,0,0,0,0,0,0,0,0,0,0,50,0,0,0,0,0,0,0,0,0,0,0,0,0,0,0,0,0,0,0,0,0,0,0,0,0,0,0,0,0,50,0,0,0,0,0,0,0,0,0,0,0,0,0,0,0,0,0,{"$f":"+SUM(NW22:NW25)","v":0},0,0,0,0,0,0,0,0,0,0,0,0,50,0,0,0,0,0,0,0,0,0,0,0,0,0,0,0,0,0,0,0,0,0,0,0,0,0,0,0,0,0,0,50,0,0,0,0,0,0,0,0,0,0,0,0,0,0,0,0,0,0,0,{"$f":"+SUM(QI22:QI25)","v":0},0,0,0,0,0,0,0,0,0,50,0,0,0,0,0,0,0,0,0,0,0,0,0,0,0,0,0,0,0,0,0,0,0,0,0,0,0,0,0,0,50,0,0,0,0,0,0,0,0,0,0,0,0,0,0,0,0,0,0,0,0,0,0,{"$f":"+SUM(SU22:SU25)","v":0},0,0,0,0,0,0,50,0,0,0,0,0,0,0,0,0,0,0,0,0,0,0,0,0,0,0,0,0,0,0,0,0,0,0,0,0,0,50,0,0,0,0,0,0,0,0,0,0,0,0,0,0,0,0,0,0,0,0,0,0,0,0,0,{"$f":"+SUM(VG22:VG25)","v":0},0,0,0,0,50,0,0,0,0,0,0,0,0,0,0,0,0,0,0,0,0,0,0,0,0,0,0,0,0,0,0,0,50,0,0,0,0,0,0,0,0,0,0,0,0,0,0,0,0,0,0,0,0,0,0,0,0,0,0,0,0,0,0,{"$f":"+SUM(XS22:XS25)","v":50},0,0,0,0,0,0,0,0,0,0,0,0,0,0,0,0,0,0,0,0,0,0,0,0,0,0,0,0,0,50,0,0,0,0,0,0,0,0,0,0,0,0,0,0,0,0,0,0,0,0,0,0,0,0,0,0,0,0,0,0,50,0,0,{"$f":"+SUM(AAE22:AAE25)","v":0},0,0,0,0,0,0,0,0,0,0,0,0,0,0,0,0]
[]
[]
[null,"Produbanco"]
[null,"Capital Acumulado",{"$f":"+C26","v":10},{"$f":"+C30+D26","v":60},60,60,60,60,60,60,60,60,60,60,60,60,60,60,60,60,60,60,60,60,60,60,60,60,60,60,60,60,60,60,110,110,110,110,110,110,110,110,110,110,110,110,110,110,110,110,110,110,110,110,110,110,110,110,110,110,110,110,110,110,110,160,160,{"$f":"+BO30+BP26","v":160},160,160,160,160,160,160,160,160,160,160,160,160,160,160,160,160,160,160,160,160,160,160,160,160,160,160,160,210,210,210,210,210,210,210,210,210,210,210,210,210,210,210,210,210,210,210,210,210,210,210,210,210,210,210,210,210,210,210,260,260,260,260,260,{"$f":"+EA30+EB26","v":260},260,260,260,260,260,260,260,260,260,260,260,260,260,260,260,260,260,260,260,260,260,260,260,260,310,310,310,310,310,310,310,310,310,310,310,310,310,310,310,310,310,310,310,310,310,310,310,310,310,310,310,310,310,310,310,360,360,360,360,360,360,360,360,{"$f":"+GM30+GN26","v":360},360,360,360,360,360,360,360,360,360,360,360,360,360,360,360,360,360,360,360,360,360,360,410,410,410,410,410,410,410,410,410,410,410,410,410,410,410,410,410,410,410,410,410,410,410,410,410,410,410,410,460,460,460,460,460,460,460,460,460,460,460,460,460,{"$f":"+IY30+IZ26","v":460},460,460,460,460,460,460,460,460,460,460,460,460,460,460,460,460,460,510,510,510,510,510,510,510,510,510,510,510,510,510,510,510,510,510,510,510,510,510,510,510,510,510,510,510,510,510,510,560,560,560,560,560,560,560,560,560,560,560,560,560,560,560,560,{"$f":"+LK30+LL26","v":560},560,560,560,560,560,560,560,560,560,560,560,560,560,560,610,610,610,610,610,610,610,610,610,610,610,610,610,610,610,610,610,610,610,610,610,610,610,610,610,610,610,610,610,610,660,660,660,660,660,660,660,660,660,660,660,660,660,660,660,660,660,660,660,{"$f":"+NW30+NX26","v":660},660,660,660,660,660,660,660,660,660,660,660,710,710,710,710,710,710,710,710,710,710,710,710,710,710,710,710,710,710,710,710,710,710,710,710,710,710,710,710,710,710,710,760,760,760,760,760,760,760,760,760,760,760,760,760,760,760,760,760,760,760,760,760,{"$f":"+QI30+QJ26","v":760},760,760,760,760,760,760,760,760,810,810,810,810,810,810,810,810,810,810,810,810,810,810,810,810,810,810,810,810,810,810,810,810,810,810,810,810,810,810,810,860,860,860,860,860,860,860,860,860,860,860,860,860,860,860,860,860,860,860,860,860,860,860,860,{"$f":"+SU30+SV26","v":860},860,860,860,860,860,910,910,910,910,910,910,910,910,910,910,910,910,910,910,910,910,910,910,910,910,910,910,910,910,910,910,910,910,910,910,910,960,960,960,960,960,960,960,960,960,960,960,960,960,960,960,960,960,960,960,960,960,960,960,960,960,960,960,{"$f":"+VG30+VH26","v":960},960,960,960,1010,1010,1010,1010,1010,1010,1010,1010,1010,1010,1010,1010,1010,1010,1010,1010,1010,1010,1010,1010,1010,1010,1010,1010,1010,1010,1010,1010,1060,1060,1060,1060,1060,1060,1060,1060,1060,1060,1060,1060,1060,1060,1060,1060,1060,1060,1060,1060,1060,1060,1060,1060,1060,1060,1060,1060,1060,1060,1060,1110,{"$f":"+XS30+XT26","v":1110},1110,1110,1110,1110,1110,1110,1110,1110,1110,1110,1110,1110,1110,1110,1110,1110,1110,1110,1110,1110,1110,1110,1110,1110,1110,1110,1110,1110,1160,1160,1160,1160,1160,1160,1160,1160,1160,1160,1160,1160,1160,1160,1160,1160,1160,1160,1160,1160,1160,1160,1160,1160,1160,1160,1160,1160,1160,1160,1160,1210,1210,1210,1210,{"$f":"+AAE30+AAF26","v":1210},1210,1210,1210,1210,1210,1210,1210,1210,1210,1210,1210,1210,1210,1210,1210]
[null,"Capital Acumulado + interés",{"$f":"+C26","v":10},{"$f":"+IF(Simulador!$C$50=\"Si\",D26+C31+C32,D26+C31+C33)","v":60},{"$f":"+IF(Simulador!$C$50=\"Si\",E26+D31+D32,E26+D31+D33)","v":60},{"$f":"+IF(Simulador!$C$50=\"Si\",F26+E31+E32,F26+E31+E33)","v":60},{"$f":"+IF(Simulador!$C$50=\"Si\",G26+F31+F32,G26+F31+F33)","v":60},{"$f":"+IF(Simulador!$C$50=\"Si\",H26+G31+G32,H26+G31+G33)","v":60},{"$f":"+IF(Simulador!$C$50=\"Si\",I26+H31+H32,I26+H31+H33)","v":60},{"$f":"+IF(Simulador!$C$50=\"Si\",J26+I31+I32,J26+I31+I33)","v":60},{"$f":"+IF(Simulador!$C$50=\"Si\",K26+J31+J32,K26+J31+J33)","v":60},{"$f":"+IF(Simulador!$C$50=\"Si\",L26+K31+K32,L26+K31+K33)","v":60},{"$f":"+IF(Simulador!$C$50=\"Si\",M26+L31+L32,M26+L31+L33)","v":60},{"$f":"+IF(Simulador!$C$50=\"Si\",N26+M31+M32,N26+M31+M33)","v":60},{"$f":"+IF(Simulador!$C$50=\"Si\",O26+N31+N32,O26+N31+N33)","v":60},{"$f":"+IF(Simulador!$C$50=\"Si\",P26+O31+O32,P26+O31+O33)","v":60.11},{"$f":"+IF(Simulador!$C$50=\"Si\",Q26+P31+P32,Q26+P31+P33)","v":60.11},{"$f":"+IF(Simulador!$C$50=\"Si\",R26+Q31+Q32,R26+Q31+Q33)","v":60.11},{"$f":"+IF(Simulador!$C$50=\"Si\",S26+R31+R32,S26+R31+R33)","v":60.11},{"$f":"+IF(Simulador!$C$50=\"Si\",T26+S31+S32,T26+S31+S33)","v":60.11},{"$f":"+IF(Simulador!$C$50=\"Si\",U26+T31+T32,U26+T31+T33)","v":60.11},{"$f":"+IF(Simulador!$C$50=\"Si\",V26+U31+U32,V26+U31+U33)","v":60.11},{"$f":"+IF(Simulador!$C$50=\"Si\",W26+V31+V32,W26+V31+V33)","v":60.11},{"$f":"+IF(Simulador!$C$50=\"Si\",X26+W31+W32,X26+W31+W33)","v":60.11},{"$f":"+IF(Simulador!$C$50=\"Si\",Y26+X31+X32,Y26+X31+X33)","v":60.11},{"$f":"+IF(Simulador!$C$50=\"Si\",Z26+Y31+Y32,Z26+Y31+Y33)","v":60.11},{"$f":"+IF(Simulador!$C$50=\"Si\",AA26+Z31+Z32,AA26+Z31+Z33)","v":60.11},{"$f":"+IF(Simulador!$C$50=\"Si\",AB26+AA31+AA32,AB26+AA31+AA33)","v":60.11},{"$f":"+IF(Simulador!$C$50=\"Si\",AC26+AB31+AB32,AC26+AB31+AB33)","v":60.11},{"$f":"+IF(Simulador!$C$50=\"Si\",AD26+AC31+AC32,AD26+AC31+AC33)","v":60.11},{"$f":"+IF(Simulador!$C$50=\"Si\",AE26+AD31+AD32,AE26+AD31+AD33)","v":60.11},{"$f":"+IF(Simulador!$C$50=\"Si\",AF26+AE31+AE32,AF26+AE31+AE33)","v":60.11},{"$f":"+IF(Simulador!$C$50=\"Si\",AG26+AF31+AF32,AG26+AF31+AF33)","v":60.11},{"$f":"+IF(Simulador!$C$50=\"Si\",AH26+AG31+AG32,AH26+AG31+AG33)","v":60.11},{"$f":"+IF(Simulador!$C$50=\"Si\",AI26+AH31+AH32,AI26+AH31+AH33)","v":110.11},{"$f":"+IF(Simulador!$C$50=\"Si\",AJ26+AI31+AI32,AJ26+AI31+AI33)","v":110.11},{"$f":"+IF(Simulador!$C$50=\"Si\",AK26+AJ31+AJ32,AK26+AJ31+AJ33)","v":110.11},{"$f":"+IF(Simulador!$C$50=\"Si\",AL26+AK31+AK32,AL26+AK31+AK33)","v":110.11},{"$f":"+IF(Simulador!$C$50=\"Si\",AM26+AL31+AL32,AM26+AL31+AL33)","v":110.11},{"$f":"+IF(Simulador!$C$50=\"Si\",AN26+AM31+AM32,AN26+AM31+AM33)","v":110.11},{"$f":"+IF(Simulador!$C$50=\"Si\",AO26+AN31+AN32,AO26+AN31+AN33)","v":110.11},{"$f":"+IF(Simulador!$C$50=\"Si\",AP26+AO31+AO32,AP26+AO31+AO33)","v":110.11},{"$f":"+IF(Simulador!$C$50=\"Si\",AQ26+AP31+AP32,AQ26+AP31+AP33)","v":110.11},{"$f":"+IF(Simulador!$C$50=\"Si\",AR26+AQ31+AQ32,AR26+AQ31+AQ33)","v":110.11},{"$f":"+IF(Simulador!$C$50=\"Si\",AS26+AR31+AR32,AS26+AR31+AR33)","v":110.49},{"$f":"+IF(Simulador!$C$50=\"Si\",AT26+AS31+AS32,AT26+AS31+AS33)","v":110.49},{"$f":"+IF(Simulador!$C$50=\"Si\",AU26+AT31+AT32,AU26+AT31+AT33)","v":110.49},{"$f":"+IF(Simulador!$C$50=\"Si\",AV26+AU31+AU32,AV26+AU31+AU33)","v":110.49},{"$f":"+IF(Simulador!$C$50=\"Si\",AW26+AV31+AV32,AW26+AV31+AV33)","v":110.49},{"$f":"+IF(Simulador!$C$50=\"Si\",AX26+AW31+AW32,AX26+AW31+AW33)","v":110.49},{"$f":"+IF(Simulador!$C$50=\"Si\",AY26+AX31+AX32,AY26+AX31+AX33)","v":110.49},{"$f":"+IF(Simulador!$C$50=\"Si\",AZ26+AY31+AY32,AZ26+AY31+AY33)","v":110.49},{"$f":"+IF(Simulador!$C$50=\"Si\",BA26+AZ31+AZ32,BA26+AZ31+AZ33)","v":110.49},{"$f":"+IF(Simulador!$C$50=\"Si\",BB26+BA31+BA32,BB26+BA31+BA33)","v":110.49},{"$f":"+IF(Simulador!$C$50=\"Si\",BC26+BB31+BB32,BC26+BB31+BB33)","v":110.49},{"$f":"+IF(Simulador!$C$50=\"Si\",BD26+BC31+BC32,BD26+BC31+BC33)","v":110.49},{"$f":"+IF(Simulador!$C$50=\"Si\",BE26+BD31+BD32,BE26+BD31+BD33)","v":110.49},{"$f":"+IF(Simulador!$C$50=\"Si\",BF26+BE31+BE32,BF26+BE31+BE33)","v":110.49},{"$f":"+IF(Simulador!$C$50=\"Si\",BG26+BF31+BF32,BG26+BF31+BF33)","v":110.49},{"$f":"+IF(Simulador!$C$50=\"Si\",BH26+BG31+BG32,BH26+BG31+BG33)","v":110.49},{"$f":"+IF(Simulador!$C$50=\"Si\",BI26+BH31+BH32,BI26+BH31+BH33)","v":110.49},{"$f":"+IF(Simulador!$C$50=\"Si\",BJ26+BI31+BI32,BJ26+BI31+BI33)","v":110.49},{"$f":"+IF(Simulador!$C$50=\"Si\",BK26+BJ31+BJ32,BK26+BJ31+BJ33)","v":110.49},{"$f":"+IF(Simulador!$C$50=\"Si\",BL26+BK31+BK32,BL26+BK31+BK33)","v":110.49},{"$f":"+IF(Simulador!$C$50=\"Si\",BM26+BL31+BL32,BM26+BL31+BL33)","v":110.49},{"$f":"+IF(Simulador!$C$50=\"Si\",BN26+BM31+BM32,BN26+BM31+BM33)","v":160.49},{"$f":"+IF(Simulador!$C$50=\"Si\",BO26+BN31+BN32,BO26+BN31+BN33)","v":160.49},{"$f":"+IF(Simulador!$C$50=\"Si\",BP26+BO31+BO32,BP26+BO31+BO33)","v":160.49},{"$f":"+IF(Simulador!$C$50=\"Si\",BQ26+BP31+BP32,BQ26+BP31+BP33)","v":160.49},{"$f":"+IF(Simulador!$C$50=\"Si\",BR26+BQ31+BQ32,BR26+BQ31+BQ33)","v":160.49},{"$f":"+IF(Simulador!$C$50=\"Si\",BS26+BR31+BR32,BS26+BR31+BR33)","v":160.49},{"$f":"+IF(Simulador!$C$50=\"Si\",BT26+BS31+BS32,BT26+BS31+BS33)","v":160.49},{"$f":"+IF(Simulador!$C$50=\"Si\",BU26+BT31+BT32,BU26+BT31+BT33)","v":160.49},{"$f":"+IF(Simulador!$C$50=\"Si\",BV26+BU31+BU32,BV26+BU31+BU33)","v":160.49},{"$f":"+IF(Simulador!$C$50=\"Si\",BW26+BV31+BV32,BW26+BV31+BV33)","v":160.49},{"$f":"+IF(Simulador!$C$50=\"Si\",BX26+BW31+BW32,BX26+BW31+BW33)","v":160.49},{"$f":"+IF(Simulador!$C$50=\"Si\",BY26+BX31+BX32,BY26+BX31+BX33)","v":161.13},{"$f":"+IF(Simulador!$C$50=\"Si\",BZ26+BY31+BY32,BZ26+BY31+BY33)","v":161.13},{"$f":"+IF(Simulador!$C$50=\"Si\",CA26+BZ31+BZ32,CA26+BZ31+BZ33)","v":161.13},{"$f":"+IF(Simulador!$C$50=\"Si\",CB26+CA31+CA32,CB26+CA31+CA33)","v":161.13},{"$f":"+IF(Simulador!$C$50=\"Si\",CC26+CB31+CB32,CC26+CB31+CB33)","v":161.13},{"$f":"+IF(Simulador!$C$50=\"Si\",CD26+CC31+CC32,CD26+CC31+CC33)","v":161.13},{"$f":"+IF(Simulador!$C$50=\"Si\",CE26+CD31+CD32,CE26+CD31+CD33)","v":161.13},{"$f":"+IF(Simulador!$C$50=\"Si\",CF26+CE31+CE32,CF26+CE31+CE33)","v":161.13},{"$f":"+IF(Simulador!$C$50=\"Si\",CG26+CF31+CF32,CG26+CF31+CF33)","v":161.13},{"$f":"+IF(Simulador!$C$50=\"Si\",CH26+CG31+CG32,CH26+CG31+CG33)","v":161.13},{"$f":"+IF(Simulador!$C$50=\"Si\",CI26+CH31+CH32,CI26+CH31+CH33)","v":161.13},{"$f":"+IF(Simulador!$C$50=\"Si\",CJ26+CI31+CI32,CJ26+CI31+CI33)","v":161.13},{"$f":"+IF(Simulador!$C$50=\"Si\",CK26+CJ31+CJ32,CK26+CJ31+CJ33)","v":161.13},{"$f":"+IF(Simulador!$C$50=\"Si\",CL26+CK31+CK32,CL26+CK31+CK33)","v":161.13},{"$f":"+IF(Simulador!$C$50=\"Si\",CM26+CL31+CL32,CM26+CL31+CL33)","v":161.13},{"$f":"+IF(Simulador!$C$50=\"Si\",CN26+CM31+CM32,CN26+CM31+CM33)","v":161.13},{"$f":"+IF(Simulador!$C$50=\"Si\",CO26+CN31+CN32,CO26+CN31+CN33)","v":161.13},{"$f":"+IF(Simulador!$C$50=\"Si\",CP26+CO31+CO32,CP26+CO31+CO33)","v":161.13},{"$f":"+IF(Simulador!$C$50=\"Si\",CQ26+CP31+CP32,CQ26+CP31+CP33)","v":161.13},{"$f":"+IF(Simulador!$C$50=\"Si\",CR26+CQ31+CQ32,CR26+CQ31+CQ33)","v":211.13},{"$f":"+IF(Simulador!$C$50=\"Si\",CS26+CR31+CR32,CS26+CR31+CR33)","v":211.13},{"$f":"+IF(Simulador!$C$50=\"Si\",CT26+CS31+CS32,CT26+CS31+CS33)","v":211.13},{"$f":"+IF(Simulador!$C$50=\"Si\",CU26+CT31+CT32,CU26+CT31+CT33)","v":211.13},{"$f":"+IF(Simulador!$C$50=\"Si\",CV26+CU31+CU32,CV26+CU31+CU33)","v":211.13},{"$f":"+IF(Simulador!$C$50=\"Si\",CW26+CV31+CV32,CW26+CV31+CV33)","v":211.13},{"$f":"+IF(Simulador!$C$50=\"Si\",CX26+CW31+CW32,CX26+CW31+CW33)","v":211.13},{"$f":"+IF(Simulador!$C$50=\"Si\",CY26+CX31+CX32,CY26+CX31+CX33)","v":211.13},{"$f":"+IF(Simulador!$C$50=\"Si\",CZ26+CY31+CY32,CZ26+CY31+CY33)","v":211.13},{"$f":"+IF(Simulador!$C$50=\"Si\",DA26+CZ31+CZ32,DA26+CZ31+CZ33)","v":211.13},{"$f":"+IF(Simulador!$C$50=\"Si\",DB26+DA31+DA32,DB26+DA31+DA33)","v":211.13},{"$f":"+IF(Simulador!$C$50=\"Si\",DC26+DB31+DB32,DC26+DB31+DB33)","v":211.13},{"$f":"+IF(Simulador!$C$50=\"Si\",DD26+DC31+DC32,DD26+DC31+DC33)","v":211.85999999999999},{"$f":"+IF(Simulador!$C$50=\"Si\",DE26+DD31+DD32,DE26+DD31+DD33)","v":211.85999999999999},{"$f":"+IF(Simulador!$C$50=\"Si\",DF26+DE31+DE32,DF26+DE31+DE33)","v":211.85999999999999},{"$f":"+IF(Simulador!$C$50=\"Si\",DG26+DF31+DF32,DG26+DF31+DF33)","v":211.85999999999999},{"$f":"+IF(Simulador!$C$50=\"Si\",DH26+DG31+DG32,DH26+DG31+DG33)","v":211.85999999999999},{"$f":"+IF(Simulador!$C$50=\"Si\",DI26+DH31+DH32,DI26+DH31+DH33)","v":211.85999999999999},{"$f":"+IF(Simulador!$C$50=\"Si\",DJ26+DI31+DI32,DJ26+DI31+DI33)","v":211.85999999999999},{"$f":"+IF(Simulador!$C$50=\"Si\",DK26+DJ31+DJ32,DK26+DJ31+DJ33)","v":211.85999999999999},{"$f":"+IF(Simulador!$C$50=\"Si\",DL26+DK31+DK32,DL26+DK31+DK33)","v":211.85999999999999},{"$f":"+IF(Simulador!$C$50=\"Si\",DM26+DL31+DL32,DM26+DL31+DL33)","v":211.85999999999999},{"$f":"+IF(Simulador!$C$50=\"Si\",DN26+DM31+DM32,DN26+DM31+DM33)","v":211.85999999999999},{"$f":"+IF(Simulador!$C$50=\"Si\",DO26+DN31+DN32,DO26+DN31+DN33)","v":211.85999999999999},{"$f":"+IF(Simulador!$C$50=\"Si\",DP26+DO31+DO32,DP26+DO31+DO33)","v":211.85999999999999},{"$f":"+IF(Simulador!$C$50=\"Si\",DQ26+DP31+DP32,DQ26+DP31+DP33)","v":211.85999999999999},{"$f":"+IF(Simulador!$C$50=\"Si\",DR26+DQ31+DQ32,DR26+DQ31+DQ33)","v":211.85999999999999},{"$f":"+IF(Simulador!$C$50=\"Si\",DS26+DR31+DR32,DS26+DR31+DR33)","v":211.85999999999999},{"$f":"+IF(Simulador!$C$50=\"Si\",DT26+DS31+DS32,DT26+DS31+DS33)","v":211.85999999999999},{"$f":"+IF(Simulador!$C$50=\"Si\",DU26+DT31+DT32,DU26+DT31+DT33)","v":211.85999999999999},{"$f":"+IF(Simulador!$C$50=\"Si\",DV26+DU31+DU32,DV26+DU31+DU33)","v":211.85999999999999},{"$f":"+IF(Simulador!$C$50=\"Si\",DW26+DV31+DV32,DW26+DV31+DV33)","v":261.86},{"$f":"+IF(Simulador!$C$50=\"Si\",DX26+DW31+DW32,DX26+DW31+DW33)","v":261.86},{"$f":"+IF(Simulador!$C$50=\"Si\",DY26+DX31+DX32,DY26+DX31+DX33)","v":261.86},{"$f":"+IF(Simulador!$C$50=\"Si\",DZ26+DY31+DY32,DZ26+DY31+DY33)","v":261.86},{"$f":"+IF(Simulador!$C$50=\"Si\",EA26+DZ31+DZ32,EA26+DZ31+DZ33)","v":261.86},{"$f":"+IF(Simulador!$C$50=\"Si\",EB26+EA31+EA32,EB26+EA31+EA33)","v":261.86},{"$f":"+IF(Simulador!$C$50=\"Si\",EC26+EB31+EB32,EC26+EB31+EB33)","v":261.86},{"$f":"+IF(Simulador!$C$50=\"Si\",ED26+EC31+EC32,ED26+EC31+EC33)","v":261.86},{"$f":"+IF(Simulador!$C$50=\"Si\",EE26+ED31+ED32,EE26+ED31+ED33)","v":261.86},{"$f":"+IF(Simulador!$C$50=\"Si\",EF26+EE31+EE32,EF26+EE31+EE33)","v":262.78000000000003},{"$f":"+IF(Simulador!$C$50=\"Si\",EG26+EF31+EF32,EG26+EF31+EF33)","v":262.78000000000003},{"$f":"+IF(Simulador!$C$50=\"Si\",EH26+EG31+EG32,EH26+EG31+EG33)","v":262.78000000000003},{"$f":"+IF(Simulador!$C$50=\"Si\",EI26+EH31+EH32,EI26+EH31+EH33)","v":262.78000000000003},{"$f":"+IF(Simulador!$C$50=\"Si\",EJ26+EI31+EI32,EJ26+EI31+EI33)","v":262.78000000000003},{"$f":"+IF(Simulador!$C$50=\"Si\",EK26+EJ31+EJ32,EK26+EJ31+EJ33)","v":262.78000000000003},{"$f":"+IF(Simulador!$C$50=\"Si\",EL26+EK31+EK32,EL26+EK31+EK33)","v":262.78000000000003},{"$f":"+IF(Simulador!$C$50=\"Si\",EM26+EL31+EL32,EM26+EL31+EL33)","v":262.78000000000003},{"$f":"+IF(Simulador!$C$50=\"Si\",EN26+EM31+EM32,EN26+EM31+EM33)","v":262.78000000000003},{"$f":"+IF(Simulador!$C$50=\"Si\",EO26+EN31+EN32,EO26+EN31+EN33)","v":262.78000000000003},{"$f":"+IF(Simulador!$C$50=\"Si\",EP26+EO31+EO32,EP26+EO31+EO33)","v":262.78000000000003},{"$f":"+IF(Simulador!$C$50=\"Si\",EQ26+EP31+EP32,EQ26+EP31+EP33)","v":262.78000000000003},{"$f":"+IF(Simulador!$C$50=\"Si\",ER26+EQ31+EQ32,ER26+EQ31+EQ33)","v":262.78000000000003},{"$f":"+IF(Simulador!$C$50=\"Si\",ES26+ER31+ER32,ES26+ER31+ER33)","v":262.78000000000003},{"$f":"+IF(Simulador!$C$50=\"Si\",ET26+ES31+ES32,ET26+ES31+ES33)","v":262.78000000000003},{"$f":"+IF(Simulador!$C$50=\"Si\",EU26+ET31+ET32,EU26+ET31+ET33)","v":262.78000000000003},{"$f":"+IF(Simulador!$C$50=\"Si\",EV26+EU31+EU32,EV26+EU31+EU33)","v":262.78000000000003},{"$f":"+IF(Simulador!$C$50=\"Si\",EW26+EV31+EV32,EW26+EV31+EV33)","v":262.78000000000003},{"$f":"+IF(Simulador!$C$50=\"Si\",EX26+EW31+EW32,EX26+EW31+EW33)","v":262.78000000000003},{"$f":"+IF(Simulador!$C$50=\"Si\",EY26+EX31+EX32,EY26+EX31+EX33)","v":262.78000000000003},{"$f":"+IF(Simulador!$C$50=\"Si\",EZ26+EY31+EY32,EZ26+EY31+EY33)","v":262.78000000000003},{"$f":"+IF(Simulador!$C$50=\"Si\",FA26+EZ31+EZ32,FA26+EZ31+EZ33)","v":312.78000000000003},{"$f":"+IF(Simulador!$C$50=\"Si\",FB26+FA31+FA32,FB26+FA31+FA33)","v":312.78000000000003},{"$f":"+IF(Simulador!$C$50=\"Si\",FC26+FB31+FB32,FC26+FB31+FB33)","v":312.78000000000003},{"$f":"+IF(Simulador!$C$50=\"Si\",FD26+FC31+FC32,FD26+FC31+FC33)","v":312.78000000000003},{"$f":"+IF(Simulador!$C$50=\"Si\",FE26+FD31+FD32,FE26+FD31+FD33)","v":312.78000000000003},{"$f":"+IF(Simulador!$C$50=\"Si\",FF26+FE31+FE32,FF26+FE31+FE33)","v":312.78000000000003},{"$f":"+IF(Simulador!$C$50=\"Si\",FG26+FF31+FF32,FG26+FF31+FF33)","v":312.78000000000003},{"$f":"+IF(Simulador!$C$50=\"Si\",FH26+FG31+FG32,FH26+FG31+FG33)","v":312.78000000000003},{"$f":"+IF(Simulador!$C$50=\"Si\",FI26+FH31+FH32,FI26+FH31+FH33)","v":312.78000000000003},{"$f":"+IF(Simulador!$C$50=\"Si\",FJ26+FI31+FI32,FJ26+FI31+FI33)","v":312.78000000000003},{"$f":"+IF(Simulador!$C$50=\"Si\",FK26+FJ31+FJ32,FK26+FJ31+FJ33)","v":312.78000000000003},{"$f":"+IF(Simulador!$C$50=\"Si\",FL26+FK31+FK32,FL26+FK31+FK33)","v":314.06},{"$f":"+IF(Simulador!$C$50=\"Si\",FM26+FL31+FL32,FM26+FL31+FL33)","v":314.06},{"$f":"+IF(Simulador!$C$50=\"Si\",FN26+FM31+FM32,FN26+FM31+FM33)","v":314.06},{"$f":"+IF(Simulador!$C$50=\"Si\",FO26+FN31+FN32,FO26+FN31+FN33)","v":314.06},{"$f":"+IF(Simulador!$C$50=\"Si\",FP26+FO31+FO32,FP26+FO31+FO33)","v":314.06},{"$f":"+IF(Simulador!$C$50=\"Si\",FQ26+FP31+FP32,FQ26+FP31+FP33)","v":314.06},{"$f":"+IF(Simulador!$C$50=\"Si\",FR26+FQ31+FQ32,FR26+FQ31+FQ33)","v":314.06},{"$f":"+IF(Simulador!$C$50=\"Si\",FS26+FR31+FR32,FS26+FR31+FR33)","v":314.06},{"$f":"+IF(Simulador!$C$50=\"Si\",FT26+FS31+FS32,FT26+FS31+FS33)","v":314.06},{"$f":"+IF(Simulador!$C$50=\"Si\",FU26+FT31+FT32,FU26+FT31+FT33)","v":314.06},{"$f":"+IF(Simulador!$C$50=\"Si\",FV26+FU31+FU32,FV26+FU31+FU33)","v":314.06},{"$f":"+IF(Simulador!$C$50=\"Si\",FW26+FV31+FV32,FW26+FV31+FV33)","v":314.06},{"$f":"+IF(Simulador!$C$50=\"Si\",FX26+FW31+FW32,FX26+FW31+FW33)","v":314.06},{"$f":"+IF(Simulador!$C$50=\"Si\",FY26+FX31+FX32,FY26+FX31+FX33)","v":314.06},{"$f":"+IF(Simulador!$C$50=\"Si\",FZ26+FY31+FY32,FZ26+FY31+FY33)","v":314.06},{"$f":"+IF(Simulador!$C$50=\"Si\",GA26+FZ31+FZ32,GA26+FZ31+FZ33)","v":314.06},{"$f":"+IF(Simulador!$C$50=\"Si\",GB26+GA31+GA32,GB26+GA31+GA33)","v":314.06},{"$f":"+IF(Simulador!$C$50=\"Si\",GC26+GB31+GB32,GC26+GB31+GB33)","v":314.06},{"$f":"+IF(Simulador!$C$50=\"Si\",GD26+GC31+GC32,GD26+GC31+GC33)","v":314.06},{"$f":"+IF(Simulador!$C$50=\"Si\",GE26+GD31+GD32,GE26+GD31+GD33)","v":314.06},{"$f":"+IF(Simulador!$C$50=\"Si\",GF26+GE31+GE32,GF26+GE31+GE33)","v":364.06},{"$f":"+IF(Simulador!$C$50=\"Si\",GG26+GF31+GF32,GG26+GF31+GF33)","v":364.06},{"$f":"+IF(Simulador!$C$50=\"Si\",GH26+GG31+GG32,GH26+GG31+GG33)","v":364.06},{"$f":"+IF(Simulador!$C$50=\"Si\",GI26+GH31+GH32,GI26+GH31+GH33)","v":364.06},{"$f":"+IF(Simulador!$C$50=\"Si\",GJ26+GI31+GI32,GJ26+GI31+GI33)","v":364.06},{"$f":"+IF(Simulador!$C$50=\"Si\",GK26+GJ31+GJ32,GK26+GJ31+GJ33)","v":364.06},{"$f":"+IF(Simulador!$C$50=\"Si\",GL26+GK31+GK32,GL26+GK31+GK33)","v":364.06},{"$f":"+IF(Simulador!$C$50=\"Si\",GM26+GL31+GL32,GM26+GL31+GL33)","v":364.06},{"$f":"+IF(Simulador!$C$50=\"Si\",GN26+GM31+GM32,GN26+GM31+GM33)","v":364.06},{"$f":"+IF(Simulador!$C$50=\"Si\",GO26+GN31+GN32,GO26+GN31+GN33)","v":364.06},{"$f":"+IF(Simulador!$C$50=\"Si\",GP26+GO31+GO32,GP26+GO31+GO33)","v":364.06},{"$f":"+IF(Simulador!$C$50=\"Si\",GQ26+GP31+GP32,GQ26+GP31+GP33)","v":365.4},{"$f":"+IF(Simulador!$C$50=\"Si\",GR26+GQ31+GQ32,GR26+GQ31+GQ33)","v":365.4},{"$f":"+IF(Simulador!$C$50=\"Si\",GS26+GR31+GR32,GS26+GR31+GR33)","v":365.4},{"$f":"+IF(Simulador!$C$50=\"Si\",GT26+GS31+GS32,GT26+GS31+GS33)","v":365.4},{"$f":"+IF(Simulador!$C$50=\"Si\",GU26+GT31+GT32,GU26+GT31+GT33)","v":365.4},{"$f":"+IF(Simulador!$C$50=\"Si\",GV26+GU31+GU32,GV26+GU31+GU33)","v":365.4},{"$f":"+IF(Simulador!$C$50=\"Si\",GW26+GV31+GV32,GW26+GV31+GV33)","v":365.4},{"$f":"+IF(Simulador!$C$50=\"Si\",GX26+GW31+GW32,GX26+GW31+GW33)","v":365.4},{"$f":"+IF(Simulador!$C$50=\"Si\",GY26+GX31+GX32,GY26+GX31+GX33)","v":365.4},{"$f":"+IF(Simulador!$C$50=\"Si\",GZ26+GY31+GY32,GZ26+GY31+GY33)","v":365.4},{"$f":"+IF(Simulador!$C$50=\"Si\",HA26+GZ31+GZ32,HA26+GZ31+GZ33)","v":365.4},{"$f":"+IF(Simulador!$C$50=\"Si\",HB26+HA31+HA32,HB26+HA31+HA33)","v":365.4},{"$f":"+IF(Simulador!$C$50=\"Si\",HC26+HB31+HB32,HC26+HB31+HB33)","v":365.4},{"$f":"+IF(Simulador!$C$50=\"Si\",HD26+HC31+HC32,HD26+HC31+HC33)","v":365.4},{"$f":"+IF(Simulador!$C$50=\"Si\",HE26+HD31+HD32,HE26+HD31+HD33)","v":365.4},{"$f":"+IF(Simulador!$C$50=\"Si\",HF26+HE31+HE32,HF26+HE31+HE33)","v":365.4},{"$f":"+IF(Simulador!$C$50=\"Si\",HG26+HF31+HF32,HG26+HF31+HF33)","v":365.4},{"$f":"+IF(Simulador!$C$50=\"Si\",HH26+HG31+HG32,HH26+HG31+HG33)","v":365.4},{"$f":"+IF(Simulador!$C$50=\"Si\",HI26+HH31+HH32,HI26+HH31+HH33)","v":365.4},{"$f":"+IF(Simulador!$C$50=\"Si\",HJ26+HI31+HI32,HJ26+HI31+HI33)","v":365.4},{"$f":"+IF(Simulador!$C$50=\"Si\",HK26+HJ31+HJ32,HK26+HJ31+HJ33)","v":415.4},{"$f":"+IF(Simulador!$C$50=\"Si\",HL26+HK31+HK32,HL26+HK31+HK33)","v":415.4},{"$f":"+IF(Simulador!$C$50=\"Si\",HM26+HL31+HL32,HM26+HL31+HL33)","v":415.4},{"$f":"+IF(Simulador!$C$50=\"Si\",HN26+HM31+HM32,HN26+HM31+HM33)","v":415.4},{"$f":"+IF(Simulador!$C$50=\"Si\",HO26+HN31+HN32,HO26+HN31+HN33)","v":415.4},{"$f":"+IF(Simulador!$C$50=\"Si\",HP26+HO31+HO32,HP26+HO31+HO33)","v":415.4},{"$f":"+IF(Simulador!$C$50=\"Si\",HQ26+HP31+HP32,HQ26+HP31+HP33)","v":415.4},{"$f":"+IF(Simulador!$C$50=\"Si\",HR26+HQ31+HQ32,HR26+HQ31+HQ33)","v":415.4},{"$f":"+IF(Simulador!$C$50=\"Si\",HS26+HR31+HR32,HS26+HR31+HR33)","v":416.87},{"$f":"+IF(Simulador!$C$50=\"Si\",HT26+HS31+HS32,HT26+HS31+HS33)","v":416.87},{"$f":"+IF(Simulador!$C$50=\"Si\",HU26+HT31+HT32,HU26+HT31+HT33)","v":416.87},{"$f":"+IF(Simulador!$C$50=\"Si\",HV26+HU31+HU32,HV26+HU31+HU33)","v":416.87},{"$f":"+IF(Simulador!$C$50=\"Si\",HW26+HV31+HV32,HW26+HV31+HV33)","v":416.87},{"$f":"+IF(Simulador!$C$50=\"Si\",HX26+HW31+HW32,HX26+HW31+HW33)","v":416.87},{"$f":"+IF(Simulador!$C$50=\"Si\",HY26+HX31+HX32,HY26+HX31+HX33)","v":416.87},{"$f":"+IF(Simulador!$C$50=\"Si\",HZ26+HY31+HY32,HZ26+HY31+HY33)","v":416.87},{"$f":"+IF(Simulador!$C$50=\"Si\",IA26+HZ31+HZ32,IA26+HZ31+HZ33)","v":416.87},{"$f":"+IF(Simulador!$C$50=\"Si\",IB26+IA31+IA32,IB26+IA31+IA33)","v":416.87},{"$f":"+IF(Simulador!$C$50=\"Si\",IC26+IB31+IB32,IC26+IB31+IB33)","v":416.87},{"$f":"+IF(Simulador!$C$50=\"Si\",ID26+IC31+IC32,ID26+IC31+IC33)","v":416.87},{"$f":"+IF(Simulador!$C$50=\"Si\",IE26+ID31+ID32,IE26+ID31+ID33)","v":416.87},{"$f":"+IF(Simulador!$C$50=\"Si\",IF26+IE31+IE32,IF26+IE31+IE33)","v":416.87},{"$f":"+IF(Simulador!$C$50=\"Si\",IG26+IF31+IF32,IG26+IF31+IF33)","v":416.87},{"$f":"+IF(Simulador!$C$50=\"Si\",IH26+IG31+IG32,IH26+IG31+IG33)","v":416.87},{"$f":"+IF(Simulador!$C$50=\"Si\",II26+IH31+IH32,II26+IH31+IH33)","v":416.87},{"$f":"+IF(Simulador!$C$50=\"Si\",IJ26+II31+II32,IJ26+II31+II33)","v":416.87},{"$f":"+IF(Simulador!$C$50=\"Si\",IK26+IJ31+IJ32,IK26+IJ31+IJ33)","v":416.87},{"$f":"+IF(Simulador!$C$50=\"Si\",IL26+IK31+IK32,IL26+IK31+IK33)","v":416.87},{"$f":"+IF(Simulador!$C$50=\"Si\",IM26+IL31+IL32,IM26+IL31+IL33)","v":466.87},{"$f":"+IF(Simulador!$C$50=\"Si\",IN26+IM31+IM32,IN26+IM31+IM33)","v":466.87},{"$f":"+IF(Simulador!$C$50=\"Si\",IO26+IN31+IN32,IO26+IN31+IN33)","v":466.87},{"$f":"+IF(Simulador!$C$50=\"Si\",IP26+IO31+IO32,IP26+IO31+IO33)","v":466.87},{"$f":"+IF(Simulador!$C$50=\"Si\",IQ26+IP31+IP32,IQ26+IP31+IP33)","v":466.87},{"$f":"+IF(Simulador!$C$50=\"Si\",IR26+IQ31+IQ32,IR26+IQ31+IQ33)","v":466.87},{"$f":"+IF(Simulador!$C$50=\"Si\",IS26+IR31+IR32,IS26+IR31+IR33)","v":466.87},{"$f":"+IF(Simulador!$C$50=\"Si\",IT26+IS31+IS32,IT26+IS31+IS33)","v":466.87},{"$f":"+IF(Simulador!$C$50=\"Si\",IU26+IT31+IT32,IU26+IT31+IT33)","v":466.87},{"$f":"+IF(Simulador!$C$50=\"Si\",IV26+IU31+IU32,IV26+IU31+IU33)","v":466.87},{"$f":"+IF(Simulador!$C$50=\"Si\",IW26+IV31+IV32,IW26+IV31+IV33)","v":466.87},{"$f":"+IF(Simulador!$C$50=\"Si\",IX26+IW31+IW32,IX26+IW31+IW33)","v":466.87},{"$f":"+IF(Simulador!$C$50=\"Si\",IY26+IX31+IX32,IY26+IX31+IX33)","v":468.79},{"$f":"+IF(Simulador!$C$50=\"Si\",IZ26+IY31+IY32,IZ26+IY31+IY33)","v":468.79},{"$f":"+IF(Simulador!$C$50=\"Si\",JA26+IZ31+IZ32,JA26+IZ31+IZ33)","v":468.79},{"$f":"+IF(Simulador!$C$50=\"Si\",JB26+JA31+JA32,JB26+JA31+JA33)","v":468.79},{"$f":"+IF(Simulador!$C$50=\"Si\",JC26+JB31+JB32,JC26+JB31+JB33)","v":468.79},{"$f":"+IF(Simulador!$C$50=\"Si\",JD26+JC31+JC32,JD26+JC31+JC33)","v":468.79},{"$f":"+IF(Simulador!$C$50=\"Si\",JE26+JD31+JD32,JE26+JD31+JD33)","v":468.79},{"$f":"+IF(Simulador!$C$50=\"Si\",JF26+JE31+JE32,JF26+JE31+JE33)","v":468.79},{"$f":"+IF(Simulador!$C$50=\"Si\",JG26+JF31+JF32,JG26+JF31+JF33)","v":468.79},{"$f":"+IF(Simulador!$C$50=\"Si\",JH26+JG31+JG32,JH26+JG31+JG33)","v":468.79},{"$f":"+IF(Simulador!$C$50=\"Si\",JI26+JH31+JH32,JI26+JH31+JH33)","v":468.79},{"$f":"+IF(Simulador!$C$50=\"Si\",JJ26+JI31+JI32,JJ26+JI31+JI33)","v":468.79},{"$f":"+IF(Simulador!$C$50=\"Si\",JK26+JJ31+JJ32,JK26+JJ31+JJ33)","v":468.79},{"$f":"+IF(Simulador!$C$50=\"Si\",JL26+JK31+JK32,JL26+JK31+JK33)","v":468.79},{"$f":"+IF(Simulador!$C$50=\"Si\",JM26+JL31+JL32,JM26+JL31+JL33)","v":468.79},{"$f":"+IF(Simulador!$C$50=\"Si\",JN26+JM31+JM32,JN26+JM31+JM33)","v":468.79},{"$f":"+IF(Simulador!$C$50=\"Si\",JO26+JN31+JN32,JO26+JN31+JN33)","v":468.79},{"$f":"+IF(Simulador!$C$50=\"Si\",JP26+JO31+JO32,JP26+JO31+JO33)","v":468.79},{"$f":"+IF(Simulador!$C$50=\"Si\",JQ26+JP31+JP32,JQ26+JP31+JP33)","v":468.79},{"$f":"+IF(Simulador!$C$50=\"Si\",JR26+JQ31+JQ32,JR26+JQ31+JQ33)","v":518.79},{"$f":"+IF(Simulador!$C$50=\"Si\",JS26+JR31+JR32,JS26+JR31+JR33)","v":518.79},{"$f":"+IF(Simulador!$C$50=\"Si\",JT26+JS31+JS32,JT26+JS31+JS33)","v":518.79},{"$f":"+IF(Simulador!$C$50=\"Si\",JU26+JT31+JT32,JU26+JT31+JT33)","v":518.79},{"$f":"+IF(Simulador!$C$50=\"Si\",JV26+JU31+JU32,JV26+JU31+JU33)","v":518.79},{"$f":"+IF(Simulador!$C$50=\"Si\",JW26+JV31+JV32,JW26+JV31+JV33)","v":518.79},{"$f":"+IF(Simulador!$C$50=\"Si\",JX26+JW31+JW32,JX26+JW31+JW33)","v":518.79},{"$f":"+IF(Simulador!$C$50=\"Si\",JY26+JX31+JX32,JY26+JX31+JX33)","v":518.79},{"$f":"+IF(Simulador!$C$50=\"Si\",JZ26+JY31+JY32,JZ26+JY31+JY33)","v":518.79},{"$f":"+IF(Simulador!$C$50=\"Si\",KA26+JZ31+JZ32,KA26+JZ31+JZ33)","v":518.79},{"$f":"+IF(Simulador!$C$50=\"Si\",KB26+KA31+KA32,KB26+KA31+KA33)","v":518.79},{"$f":"+IF(Simulador!$C$50=\"Si\",KC26+KB31+KB32,KC26+KB31+KB33)","v":520.89},{"$f":"+IF(Simulador!$C$50=\"Si\",KD26+KC31+KC32,KD26+KC31+KC33)","v":520.89},{"$f":"+IF(Simulador!$C$50=\"Si\",KE26+KD31+KD32,KE26+KD31+KD33)","v":520.89},{"$f":"+IF(Simulador!$C$50=\"Si\",KF26+KE31+KE32,KF26+KE31+KE33)","v":520.89},{"$f":"+IF(Simulador!$C$50=\"Si\",KG26+KF31+KF32,KG26+KF31+KF33)","v":520.89},{"$f":"+IF(Simulador!$C$50=\"Si\",KH26+KG31+KG32,KH26+KG31+KG33)","v":520.89},{"$f":"+IF(Simulador!$C$50=\"Si\",KI26+KH31+KH32,KI26+KH31+KH33)","v":520.89},{"$f":"+IF(Simulador!$C$50=\"Si\",KJ26+KI31+KI32,KJ26+KI31+KI33)","v":520.89},{"$f":"+IF(Simulador!$C$50=\"Si\",KK26+KJ31+KJ32,KK26+KJ31+KJ33)","v":520.89},{"$f":"+IF(Simulador!$C$50=\"Si\",KL26+KK31+KK32,KL26+KK31+KK33)","v":520.89},{"$f":"+IF(Simulador!$C$50=\"Si\",KM26+KL31+KL32,KM26+KL31+KL33)","v":520.89},{"$f":"+IF(Simulador!$C$50=\"Si\",KN26+KM31+KM32,KN26+KM31+KM33)","v":520.89},{"$f":"+IF(Simulador!$C$50=\"Si\",KO26+KN31+KN32,KO26+KN31+KN33)","v":520.89},{"$f":"+IF(Simulador!$C$50=\"Si\",KP26+KO31+KO32,KP26+KO31+KO33)","v":520.89},{"$f":"+IF(Simulador!$C$50=\"Si\",KQ26+KP31+KP32,KQ26+KP31+KP33)","v":520.89},{"$f":"+IF(Simulador!$C$50=\"Si\",KR26+KQ31+KQ32,KR26+KQ31+KQ33)","v":520.89},{"$f":"+IF(Simulador!$C$50=\"Si\",KS26+KR31+KR32,KS26+KR31+KR33)","v":520.89},{"$f":"+IF(Simulador!$C$50=\"Si\",KT26+KS31+KS32,KT26+KS31+KS33)","v":520.89},{"$f":"+IF(Simulador!$C$50=\"Si\",KU26+KT31+KT32,KU26+KT31+KT33)","v":520.89},{"$f":"+IF(Simulador!$C$50=\"Si\",KV26+KU31+KU32,KV26+KU31+KU33)","v":570.89},{"$f":"+IF(Simulador!$C$50=\"Si\",KW26+KV31+KV32,KW26+KV31+KV33)","v":570.89},{"$f":"+IF(Simulador!$C$50=\"Si\",KX26+KW31+KW32,KX26+KW31+KW33)","v":570.89},{"$f":"+IF(Simulador!$C$50=\"Si\",KY26+KX31+KX32,KY26+KX31+KX33)","v":570.89},{"$f":"+IF(Simulador!$C$50=\"Si\",KZ26+KY31+KY32,KZ26+KY31+KY33)","v":570.89},{"$f":"+IF(Simulador!$C$50=\"Si\",LA26+KZ31+KZ32,LA26+KZ31+KZ33)","v":570.89},{"$f":"+IF(Simulador!$C$50=\"Si\",LB26+LA31+LA32,LB26+LA31+LA33)","v":570.89},{"$f":"+IF(Simulador!$C$50=\"Si\",LC26+LB31+LB32,LC26+LB31+LB33)","v":570.89},{"$f":"+IF(Simulador!$C$50=\"Si\",LD26+LC31+LC32,LD26+LC31+LC33)","v":570.89},{"$f":"+IF(Simulador!$C$50=\"Si\",LE26+LD31+LD32,LE26+LD31+LD33)","v":570.89},{"$f":"+IF(Simulador!$C$50=\"Si\",LF26+LE31+LE32,LF26+LE31+LE33)","v":573.01},{"$f":"+IF(Simulador!$C$50=\"Si\",LG26+LF31+LF32,LG26+LF31+LF33)","v":573.01},{"$f":"+IF(Simulador!$C$50=\"Si\",LH26+LG31+LG32,LH26+LG31+LG33)","v":573.01},{"$f":"+IF(Simulador!$C$50=\"Si\",LI26+LH31+LH32,LI26+LH31+LH33)","v":573.01},{"$f":"+IF(Simulador!$C$50=\"Si\",LJ26+LI31+LI32,LJ26+LI31+LI33)","v":573.01},{"$f":"+IF(Simulador!$C$50=\"Si\",LK26+LJ31+LJ32,LK26+LJ31+LJ33)","v":573.01},{"$f":"+IF(Simulador!$C$50=\"Si\",LL26+LK31+LK32,LL26+LK31+LK33)","v":573.01},{"$f":"+IF(Simulador!$C$50=\"Si\",LM26+LL31+LL32,LM26+LL31+LL33)","v":573.01},{"$f":"+IF(Simulador!$C$50=\"Si\",LN26+LM31+LM32,LN26+LM31+LM33)","v":573.01},{"$f":"+IF(Simulador!$C$50=\"Si\",LO26+LN31+LN32,LO26+LN31+LN33)","v":573.01},{"$f":"+IF(Simulador!$C$50=\"Si\",LP26+LO31+LO32,LP26+LO31+LO33)","v":573.01},{"$f":"+IF(Simulador!$C$50=\"Si\",LQ26+LP31+LP32,LQ26+LP31+LP33)","v":573.01},{"$f":"+IF(Simulador!$C$50=\"Si\",LR26+LQ31+LQ32,LR26+LQ31+LQ33)","v":573.01},{"$f":"+IF(Simulador!$C$50=\"Si\",LS26+LR31+LR32,LS26+LR31+LR33)","v":573.01},{"$f":"+IF(Simulador!$C$50=\"Si\",LT26+LS31+LS32,LT26+LS31+LS33)","v":573.01},{"$f":"+IF(Simulador!$C$50=\"Si\",LU26+LT31+LT32,LU26+LT31+LT33)","v":573.01},{"$f":"+IF(Simulador!$C$50=\"Si\",LV26+LU31+LU32,LV26+LU31+LU33)","v":573.01},{"$f":"+IF(Simulador!$C$50=\"Si\",LW26+LV31+LV32,LW26+LV31+LV33)","v":573.01},{"$f":"+IF(Simulador!$C$50=\"Si\",LX26+LW31+LW32,LX26+LW31+LW33)","v":573.01},{"$f":"+IF(Simulador!$C$50=\"Si\",LY26+LX31+LX32,LY26+LX31+LX33)","v":573.01},{"$f":"+IF(Simulador!$C$50=\"Si\",LZ26+LY31+LY32,LZ26+LY31+LY33)","v":573.01},{"$f":"+IF(Simulador!$C$50=\"Si\",MA26+LZ31+LZ32,MA26+LZ31+LZ33)","v":623.01},{"$f":"+IF(Simulador!$C$50=\"Si\",MB26+MA31+MA32,MB26+MA31+MA33)","v":623.01},{"$f":"+IF(Simulador!$C$50=\"Si\",MC26+MB31+MB32,MC26+MB31+MB33)","v":623.01},{"$f":"+IF(Simulador!$C$50=\"Si\",MD26+MC31+MC32,MD26+MC31+MC33)","v":623.01},{"$f":"+IF(Simulador!$C$50=\"Si\",ME26+MD31+MD32,ME26+MD31+MD33)","v":623.01},{"$f":"+IF(Simulador!$C$50=\"Si\",MF26+ME31+ME32,MF26+ME31+ME33)","v":623.01},{"$f":"+IF(Simulador!$C$50=\"Si\",MG26+MF31+MF32,MG26+MF31+MF33)","v":623.01},{"$f":"+IF(Simulador!$C$50=\"Si\",MH26+MG31+MG32,MH26+MG31+MG33)","v":623.01},{"$f":"+IF(Simulador!$C$50=\"Si\",MI26+MH31+MH32,MI26+MH31+MH33)","v":623.01},{"$f":"+IF(Simulador!$C$50=\"Si\",MJ26+MI31+MI32,MJ26+MI31+MI33)","v":623.01},{"$f":"+IF(Simulador!$C$50=\"Si\",MK26+MJ31+MJ32,MK26+MJ31+MJ33)","v":623.01},{"$f":"+IF(Simulador!$C$50=\"Si\",ML26+MK31+MK32,ML26+MK31+MK33)","v":625.66999999999996},{"$f":"+IF(Simulador!$C$50=\"Si\",MM26+ML31+ML32,MM26+ML31+ML33)","v":625.66999999999996},{"$f":"+IF(Simulador!$C$50=\"Si\",MN26+MM31+MM32,MN26+MM31+MM33)","v":625.66999999999996},{"$f":"+IF(Simulador!$C$50=\"Si\",MO26+MN31+MN32,MO26+MN31+MN33)","v":625.66999999999996},{"$f":"+IF(Simulador!$C$50=\"Si\",MP26+MO31+MO32,MP26+MO31+MO33)","v":625.66999999999996},{"$f":"+IF(Simulador!$C$50=\"Si\",MQ26+MP31+MP32,MQ26+MP31+MP33)","v":625.66999999999996},{"$f":"+IF(Simulador!$C$50=\"Si\",MR26+MQ31+MQ32,MR26+MQ31+MQ33)","v":625.66999999999996},{"$f":"+IF(Simulador!$C$50=\"Si\",MS26+MR31+MR32,MS26+MR31+MR33)","v":625.66999999999996},{"$f":"+IF(Simulador!$C$50=\"Si\",MT26+MS31+MS32,MT26+MS31+MS33)","v":625.66999999999996},{"$f":"+IF(Simulador!$C$50=\"Si\",MU26+MT31+MT32,MU26+MT31+MT33)","v":625.66999999999996},{"$f":"+IF(Simulador!$C$50=\"Si\",MV26+MU31+MU32,MV26+MU31+MU33)","v":625.66999999999996},{"$f":"+IF(Simulador!$C$50=\"Si\",MW26+MV31+MV32,MW26+MV31+MV33)","v":625.66999999999996},{"$f":"+IF(Simulador!$C$50=\"Si\",MX26+MW31+MW32,MX26+MW31+MW33)","v":625.66999999999996},{"$f":"+IF(Simulador!$C$50=\"Si\",MY26+MX31+MX32,MY26+MX31+MX33)","v":625.66999999999996},{"$f":"+IF(Simulador!$C$50=\"Si\",MZ26+MY31+MY32,MZ26+MY31+MY33)","v":625.66999999999996},{"$f":"+IF(Simulador!$C$50=\"Si\",NA26+MZ31+MZ32,NA26+MZ31+MZ33)","v":625.66999999999996},{"$f":"+IF(Simulador!$C$50=\"Si\",NB26+NA31+NA32,NB26+NA31+NA33)","v":625.66999999999996},{"$f":"+IF(Simulador!$C$50=\"Si\",NC26+NB31+NB32,NC26+NB31+NB33)","v":625.66999999999996},{"$f":"+IF(Simulador!$C$50=\"Si\",ND26+NC31+NC32,ND26+NC31+NC33)","v":625.66999999999996},{"$f":"+IF(Simulador!$C$50=\"Si\",NE26+ND31+ND32,NE26+ND31+ND33)","v":675.67},{"$f":"+IF(Simulador!$C$50=\"Si\",NF26+NE31+NE32,NF26+NE31+NE33)","v":675.67},{"$f":"+IF(Simulador!$C$50=\"Si\",NG26+NF31+NF32,NG26+NF31+NF33)","v":675.67},{"$f":"+IF(Simulador!$C$50=\"Si\",NH26+NG31+NG32,NH26+NG31+NG33)","v":675.67},{"$f":"+IF(Simulador!$C$50=\"Si\",NI26+NH31+NH32,NI26+NH31+NH33)","v":675.67},{"$f":"+IF(Simulador!$C$50=\"Si\",NJ26+NI31+NI32,NJ26+NI31+NI33)","v":675.67},{"$f":"+IF(Simulador!$C$50=\"Si\",NK26+NJ31+NJ32,NK26+NJ31+NJ33)","v":675.67},{"$f":"+IF(Simulador!$C$50=\"Si\",NL26+NK31+NK32,NL26+NK31+NK33)","v":675.67},{"$f":"+IF(Simulador!$C$50=\"Si\",NM26+NL31+NL32,NM26+NL31+NL33)","v":675.67},{"$f":"+IF(Simulador!$C$50=\"Si\",NN26+NM31+NM32,NN26+NM31+NM33)","v":675.67},{"$f":"+IF(Simulador!$C$50=\"Si\",NO26+NN31+NN32,NO26+NN31+NN33)","v":675.67},{"$f":"+IF(Simulador!$C$50=\"Si\",NP26+NO31+NO32,NP26+NO31+NO33)","v":675.67},{"$f":"+IF(Simulador!$C$50=\"Si\",NQ26+NP31+NP32,NQ26+NP31+NP33)","v":678.45999999999992},{"$f":"+IF(Simulador!$C$50=\"Si\",NR26+NQ31+NQ32,NR26+NQ31+NQ33)","v":678.45999999999992},{"$f":"+IF(Simulador!$C$50=\"Si\",NS26+NR31+NR32,NS26+NR31+NR33)","v":678.45999999999992},{"$f":"+IF(Simulador!$C$50=\"Si\",NT26+NS31+NS32,NT26+NS31+NS33)","v":678.45999999999992},{"$f":"+IF(Simulador!$C$50=\"Si\",NU26+NT31+NT32,NU26+NT31+NT33)","v":678.45999999999992},{"$f":"+IF(Simulador!$C$50=\"Si\",NV26+NU31+NU32,NV26+NU31+NU33)","v":678.45999999999992},{"$f":"+IF(Simulador!$C$50=\"Si\",NW26+NV31+NV32,NW26+NV31+NV33)","v":678.45999999999992},{"$f":"+IF(Simulador!$C$50=\"Si\",NX26+NW31+NW32,NX26+NW31+NW33)","v":678.45999999999992},{"$f":"+IF(Simulador!$C$50=\"Si\",NY26+NX31+NX32,NY26+NX31+NX33)","v":678.45999999999992},{"$f":"+IF(Simulador!$C$50=\"Si\",NZ26+NY31+NY32,NZ26+NY31+NY33)","v":678.45999999999992},{"$f":"+IF(Simulador!$C$50=\"Si\",OA26+NZ31+NZ32,OA26+NZ31+NZ33)","v":678.45999999999992},{"$f":"+IF(Simulador!$C$50=\"Si\",OB26+OA31+OA32,OB26+OA31+OA33)","v":678.45999999999992},{"$f":"+IF(Simulador!$C$50=\"Si\",OC26+OB31+OB32,OC26+OB31+OB33)","v":678.45999999999992},{"$f":"+IF(Simulador!$C$50=\"Si\",OD26+OC31+OC32,OD26+OC31+OC33)","v":678.45999999999992},{"$f":"+IF(Simulador!$C$50=\"Si\",OE26+OD31+OD32,OE26+OD31+OD33)","v":678.45999999999992},{"$f":"+IF(Simulador!$C$50=\"Si\",OF26+OE31+OE32,OF26+OE31+OE33)","v":678.45999999999992},{"$f":"+IF(Simulador!$C$50=\"Si\",OG26+OF31+OF32,OG26+OF31+OF33)","v":678.45999999999992},{"$f":"+IF(Simulador!$C$50=\"Si\",OH26+OG31+OG32,OH26+OG31+OG33)","v":678.45999999999992},{"$f":"+IF(Simulador!$C$50=\"Si\",OI26+OH31+OH32,OI26+OH31+OH33)","v":678.45999999999992},{"$f":"+IF(Simulador!$C$50=\"Si\",OJ26+OI31+OI32,OJ26+OI31+OI33)","v":728.45999999999992},{"$f":"+IF(Simulador!$C$50=\"Si\",OK26+OJ31+OJ32,OK26+OJ31+OJ33)","v":728.45999999999992},{"$f":"+IF(Simulador!$C$50=\"Si\",OL26+OK31+OK32,OL26+OK31+OK33)","v":728.45999999999992},{"$f":"+IF(Simulador!$C$50=\"Si\",OM26+OL31+OL32,OM26+OL31+OL33)","v":728.45999999999992},{"$f":"+IF(Simulador!$C$50=\"Si\",ON26+OM31+OM32,ON26+OM31+OM33)","v":728.45999999999992},{"$f":"+IF(Simulador!$C$50=\"Si\",OO26+ON31+ON32,OO26+ON31+ON33)","v":728.45999999999992},{"$f":"+IF(Simulador!$C$50=\"Si\",OP26+OO31+OO32,OP26+OO31+OO33)","v":728.45999999999992},{"$f":"+IF(Simulador!$C$50=\"Si\",OQ26+OP31+OP32,OQ26+OP31+OP33)","v":728.45999999999992},{"$f":"+IF(Simulador!$C$50=\"Si\",OR26+OQ31+OQ32,OR26+OQ31+OQ33)","v":728.45999999999992},{"$f":"+IF(Simulador!$C$50=\"Si\",OS26+OR31+OR32,OS26+OR31+OR33)","v":728.45999999999992},{"$f":"+IF(Simulador!$C$50=\"Si\",OT26+OS31+OS32,OT26+OS31+OS33)","v":728.45999999999992},{"$f":"+IF(Simulador!$C$50=\"Si\",OU26+OT31+OT32,OU26+OT31+OT33)","v":728.45999999999992},{"$f":"+IF(Simulador!$C$50=\"Si\",OV26+OU31+OU32,OV26+OU31+OU33)","v":731.3599999999999},{"$f":"+IF(Simulador!$C$50=\"Si\",OW26+OV31+OV32,OW26+OV31+OV33)","v":731.3599999999999},{"$f":"+IF(Simulador!$C$50=\"Si\",OX26+OW31+OW32,OX26+OW31+OW33)","v":731.3599999999999},{"$f":"+IF(Simulador!$C$50=\"Si\",OY26+OX31+OX32,OY26+OX31+OX33)","v":731.3599999999999},{"$f":"+IF(Simulador!$C$50=\"Si\",OZ26+OY31+OY32,OZ26+OY31+OY33)","v":731.3599999999999},{"$f":"+IF(Simulador!$C$50=\"Si\",PA26+OZ31+OZ32,PA26+OZ31+OZ33)","v":731.3599999999999},{"$f":"+IF(Simulador!$C$50=\"Si\",PB26+PA31+PA32,PB26+PA31+PA33)","v":731.3599999999999},{"$f":"+IF(Simulador!$C$50=\"Si\",PC26+PB31+PB32,PC26+PB31+PB33)","v":731.3599999999999},{"$f":"+IF(Simulador!$C$50=\"Si\",PD26+PC31+PC32,PD26+PC31+PC33)","v":731.3599999999999},{"$f":"+IF(Simulador!$C$50=\"Si\",PE26+PD31+PD32,PE26+PD31+PD33)","v":731.3599999999999},{"$f":"+IF(Simulador!$C$50=\"Si\",PF26+PE31+PE32,PF26+PE31+PE33)","v":731.3599999999999},{"$f":"+IF(Simulador!$C$50=\"Si\",PG26+PF31+PF32,PG26+PF31+PF33)","v":731.3599999999999},{"$f":"+IF(Simulador!$C$50=\"Si\",PH26+PG31+PG32,PH26+PG31+PG33)","v":731.3599999999999},{"$f":"+IF(Simulador!$C$50=\"Si\",PI26+PH31+PH32,PI26+PH31+PH33)","v":731.3599999999999},{"$f":"+IF(Simulador!$C$50=\"Si\",PJ26+PI31+PI32,PJ26+PI31+PI33)","v":731.3599999999999},{"$f":"+IF(Simulador!$C$50=\"Si\",PK26+PJ31+PJ32,PK26+PJ31+PJ33)","v":731.3599999999999},{"$f":"+IF(Simulador!$C$50=\"Si\",PL26+PK31+PK32,PL26+PK31+PK33)","v":731.3599999999999},{"$f":"+IF(Simulador!$C$50=\"Si\",PM26+PL31+PL32,PM26+PL31+PL33)","v":731.3599999999999},{"$f":"+IF(Simulador!$C$50=\"Si\",PN26+PM31+PM32,PN26+PM31+PM33)","v":731.3599999999999},{"$f":"+IF(Simulador!$C$50=\"Si\",PO26+PN31+PN32,PO26+PN31+PN33)","v":781.3599999999999},{"$f":"+IF(Simulador!$C$50=\"Si\",PP26+PO31+PO32,PP26+PO31+PO33)","v":781.3599999999999},{"$f":"+IF(Simulador!$C$50=\"Si\",PQ26+PP31+PP32,PQ26+PP31+PP33)","v":781.3599999999999},{"$f":"+IF(Simulador!$C$50=\"Si\",PR26+PQ31+PQ32,PR26+PQ31+PQ33)","v":781.3599999999999},{"$f":"+IF(Simulador!$C$50=\"Si\",PS26+PR31+PR32,PS26+PR31+PR33)","v":781.3599999999999},{"$f":"+IF(Simulador!$C$50=\"Si\",PT26+PS31+PS32,PT26+PS31+PS33)","v":781.3599999999999},{"$f":"+IF(Simulador!$C$50=\"Si\",PU26+PT31+PT32,PU26+PT31+PT33)","v":781.3599999999999},{"$f":"+IF(Simulador!$C$50=\"Si\",PV26+PU31+PU32,PV26+PU31+PU33)","v":781.3599999999999},{"$f":"+IF(Simulador!$C$50=\"Si\",PW26+PV31+PV32,PW26+PV31+PV33)","v":781.3599999999999},{"$f":"+IF(Simulador!$C$50=\"Si\",PX26+PW31+PW32,PX26+PW31+PW33)","v":781.3599999999999},{"$f":"+IF(Simulador!$C$50=\"Si\",PY26+PX31+PX32,PY26+PX31+PX33)","v":781.3599999999999},{"$f":"+IF(Simulador!$C$50=\"Si\",PZ26+PY31+PY32,PZ26+PY31+PY33)","v":784.45999999999992},{"$f":"+IF(Simulador!$C$50=\"Si\",QA26+PZ31+PZ32,QA26+PZ31+PZ33)","v":784.45999999999992},{"$f":"+IF(Simulador!$C$50=\"Si\",QB26+QA31+QA32,QB26+QA31+QA33)","v":784.45999999999992},{"$f":"+IF(Simulador!$C$50=\"Si\",QC26+QB31+QB32,QC26+QB31+QB33)","v":784.45999999999992},{"$f":"+IF(Simulador!$C$50=\"Si\",QD26+QC31+QC32,QD26+QC31+QC33)","v":784.45999999999992},{"$f":"+IF(Simulador!$C$50=\"Si\",QE26+QD31+QD32,QE26+QD31+QD33)","v":784.45999999999992},{"$f":"+IF(Simulador!$C$50=\"Si\",QF26+QE31+QE32,QF26+QE31+QE33)","v":784.45999999999992},{"$f":"+IF(Simulador!$C$50=\"Si\",QG26+QF31+QF32,QG26+QF31+QF33)","v":784.45999999999992},{"$f":"+IF(Simulador!$C$50=\"Si\",QH26+QG31+QG32,QH26+QG31+QG33)","v":784.45999999999992},{"$f":"+IF(Simulador!$C$50=\"Si\",QI26+QH31+QH32,QI26+QH31+QH33)","v":784.45999999999992},{"$f":"+IF(Simulador!$C$50=\"Si\",QJ26+QI31+QI32,QJ26+QI31+QI33)","v":784.45999999999992},{"$f":"+IF(Simulador!$C$50=\"Si\",QK26+QJ31+QJ32,QK26+QJ31+QJ33)","v":784.45999999999992},{"$f":"+IF(Simulador!$C$50=\"Si\",QL26+QK31+QK32,QL26+QK31+QK33)","v":784.45999999999992},{"$f":"+IF(Simulador!$C$50=\"Si\",QM26+QL31+QL32,QM26+QL31+QL33)","v":784.45999999999992},{"$f":"+IF(Simulador!$C$50=\"Si\",QN26+QM31+QM32,QN26+QM31+QM33)","v":784.45999999999992},{"$f":"+IF(Simulador!$C$50=\"Si\",QO26+QN31+QN32,QO26+QN31+QN33)","v":784.45999999999992},{"$f":"+IF(Simulador!$C$50=\"Si\",QP26+QO31+QO32,QP26+QO31+QO33)","v":784.45999999999992},{"$f":"+IF(Simulador!$C$50=\"Si\",QQ26+QP31+QP32,QQ26+QP31+QP33)","v":784.45999999999992},{"$f":"+IF(Simulador!$C$50=\"Si\",QR26+QQ31+QQ32,QR26+QQ31+QQ33)","v":784.45999999999992},{"$f":"+IF(Simulador!$C$50=\"Si\",QS26+QR31+QR32,QS26+QR31+QR33)","v":834.45999999999992},{"$f":"+IF(Simulador!$C$50=\"Si\",QT26+QS31+QS32,QT26+QS31+QS33)","v":834.45999999999992},{"$f":"+IF(Simulador!$C$50=\"Si\",QU26+QT31+QT32,QU26+QT31+QT33)","v":834.45999999999992},{"$f":"+IF(Simulador!$C$50=\"Si\",QV26+QU31+QU32,QV26+QU31+QU33)","v":834.45999999999992},{"$f":"+IF(Simulador!$C$50=\"Si\",QW26+QV31+QV32,QW26+QV31+QV33)","v":834.45999999999992},{"$f":"+IF(Simulador!$C$50=\"Si\",QX26+QW31+QW32,QX26+QW31+QW33)","v":834.45999999999992},{"$f":"+IF(Simulador!$C$50=\"Si\",QY26+QX31+QX32,QY26+QX31+QX33)","v":834.45999999999992},{"$f":"+IF(Simulador!$C$50=\"Si\",QZ26+QY31+QY32,QZ26+QY31+QY33)","v":834.45999999999992},{"$f":"+IF(Simulador!$C$50=\"Si\",RA26+QZ31+QZ32,RA26+QZ31+QZ33)","v":834.45999999999992},{"$f":"+IF(Simulador!$C$50=\"Si\",RB26+RA31+RA32,RB26+RA31+RA33)","v":834.45999999999992},{"$f":"+IF(Simulador!$C$50=\"Si\",RC26+RB31+RB32,RC26+RB31+RB33)","v":834.45999999999992},{"$f":"+IF(Simulador!$C$50=\"Si\",RD26+RC31+RC32,RD26+RC31+RC33)","v":837.8599999999999},{"$f":"+IF(Simulador!$C$50=\"Si\",RE26+RD31+RD32,RE26+RD31+RD33)","v":837.8599999999999},{"$f":"+IF(Simulador!$C$50=\"Si\",RF26+RE31+RE32,RF26+RE31+RE33)","v":837.8599999999999},{"$f":"+IF(Simulador!$C$50=\"Si\",RG26+RF31+RF32,RG26+RF31+RF33)","v":837.8599999999999},{"$f":"+IF(Simulador!$C$50=\"Si\",RH26+RG31+RG32,RH26+RG31+RG33)","v":837.8599999999999},{"$f":"+IF(Simulador!$C$50=\"Si\",RI26+RH31+RH32,RI26+RH31+RH33)","v":837.8599999999999},{"$f":"+IF(Simulador!$C$50=\"Si\",RJ26+RI31+RI32,RJ26+RI31+RI33)","v":837.8599999999999},{"$f":"+IF(Simulador!$C$50=\"Si\",RK26+RJ31+RJ32,RK26+RJ31+RJ33)","v":837.8599999999999},{"$f":"+IF(Simulador!$C$50=\"Si\",RL26+RK31+RK32,RL26+RK31+RK33)","v":837.8599999999999},{"$f":"+IF(Simulador!$C$50=\"Si\",RM26+RL31+RL32,RM26+RL31+RL33)","v":837.8599999999999},{"$f":"+IF(Simulador!$C$50=\"Si\",RN26+RM31+RM32,RN26+RM31+RM33)","v":837.8599999999999},{"$f":"+IF(Simulador!$C$50=\"Si\",RO26+RN31+RN32,RO26+RN31+RN33)","v":837.8599999999999},{"$f":"+IF(Simulador!$C$50=\"Si\",RP26+RO31+RO32,RP26+RO31+RO33)","v":837.8599999999999},{"$f":"+IF(Simulador!$C$50=\"Si\",RQ26+RP31+RP32,RQ26+RP31+RP33)","v":837.8599999999999},{"$f":"+IF(Simulador!$C$50=\"Si\",RR26+RQ31+RQ32,RR26+RQ31+RQ33)","v":837.8599999999999},{"$f":"+IF(Simulador!$C$50=\"Si\",RS26+RR31+RR32,RS26+RR31+RR33)","v":837.8599999999999},{"$f":"+IF(Simulador!$C$50=\"Si\",RT26+RS31+RS32,RT26+RS31+RS33)","v":837.8599999999999},{"$f":"+IF(Simulador!$C$50=\"Si\",RU26+RT31+RT32,RU26+RT31+RT33)","v":837.8599999999999},{"$f":"+IF(Simulador!$C$50=\"Si\",RV26+RU31+RU32,RV26+RU31+RU33)","v":837.8599999999999},{"$f":"+IF(Simulador!$C$50=\"Si\",RW26+RV31+RV32,RW26+RV31+RV33)","v":837.8599999999999},{"$f":"+IF(Simulador!$C$50=\"Si\",RX26+RW31+RW32,RX26+RW31+RW33)","v":887.8599999999999},{"$f":"+IF(Simulador!$C$50=\"Si\",RY26+RX31+RX32,RY26+RX31+RX33)","v":887.8599999999999},{"$f":"+IF(Simulador!$C$50=\"Si\",RZ26+RY31+RY32,RZ26+RY31+RY33)","v":887.8599999999999},{"$f":"+IF(Simulador!$C$50=\"Si\",SA26+RZ31+RZ32,SA26+RZ31+RZ33)","v":887.8599999999999},{"$f":"+IF(Simulador!$C$50=\"Si\",SB26+SA31+SA32,SB26+SA31+SA33)","v":887.8599999999999},{"$f":"+IF(Simulador!$C$50=\"Si\",SC26+SB31+SB32,SC26+SB31+SB33)","v":887.8599999999999},{"$f":"+IF(Simulador!$C$50=\"Si\",SD26+SC31+SC32,SD26+SC31+SC33)","v":887.8599999999999},{"$f":"+IF(Simulador!$C$50=\"Si\",SE26+SD31+SD32,SE26+SD31+SD33)","v":887.8599999999999},{"$f":"+IF(Simulador!$C$50=\"Si\",SF26+SE31+SE32,SF26+SE31+SE33)","v":887.8599999999999},{"$f":"+IF(Simulador!$C$50=\"Si\",SG26+SF31+SF32,SG26+SF31+SF33)","v":887.8599999999999},{"$f":"+IF(Simulador!$C$50=\"Si\",SH26+SG31+SG32,SH26+SG31+SG33)","v":887.8599999999999},{"$f":"+IF(Simulador!$C$50=\"Si\",SI26+SH31+SH32,SI26+SH31+SH33)","v":891.57999999999993},{"$f":"+IF(Simulador!$C$50=\"Si\",SJ26+SI31+SI32,SJ26+SI31+SI33)","v":891.57999999999993},{"$f":"+IF(Simulador!$C$50=\"Si\",SK26+SJ31+SJ32,SK26+SJ31+SJ33)","v":891.57999999999993},{"$f":"+IF(Simulador!$C$50=\"Si\",SL26+SK31+SK32,SL26+SK31+SK33)","v":891.57999999999993},{"$f":"+IF(Simulador!$C$50=\"Si\",SM26+SL31+SL32,SM26+SL31+SL33)","v":891.57999999999993},{"$f":"+IF(Simulador!$C$50=\"Si\",SN26+SM31+SM32,SN26+SM31+SM33)","v":891.57999999999993},{"$f":"+IF(Simulador!$C$50=\"Si\",SO26+SN31+SN32,SO26+SN31+SN33)","v":891.57999999999993},{"$f":"+IF(Simulador!$C$50=\"Si\",SP26+SO31+SO32,SP26+SO31+SO33)","v":891.57999999999993},{"$f":"+IF(Simulador!$C$50=\"Si\",SQ26+SP31+SP32,SQ26+SP31+SP33)","v":891.57999999999993},{"$f":"+IF(Simulador!$C$50=\"Si\",SR26+SQ31+SQ32,SR26+SQ31+SQ33)","v":891.57999999999993},{"$f":"+IF(Simulador!$C$50=\"Si\",SS26+SR31+SR32,SS26+SR31+SR33)","v":891.57999999999993},{"$f":"+IF(Simulador!$C$50=\"Si\",ST26+SS31+SS32,ST26+SS31+SS33)","v":891.57999999999993},{"$f":"+IF(Simulador!$C$50=\"Si\",SU26+ST31+ST32,SU26+ST31+ST33)","v":891.57999999999993},{"$f":"+IF(Simulador!$C$50=\"Si\",SV26+SU31+SU32,SV26+SU31+SU33)","v":891.57999999999993},{"$f":"+IF(Simulador!$C$50=\"Si\",SW26+SV31+SV32,SW26+SV31+SV33)","v":891.57999999999993},{"$f":"+IF(Simulador!$C$50=\"Si\",SX26+SW31+SW32,SX26+SW31+SW33)","v":891.57999999999993},{"$f":"+IF(Simulador!$C$50=\"Si\",SY26+SX31+SX32,SY26+SX31+SX33)","v":891.57999999999993},{"$f":"+IF(Simulador!$C$50=\"Si\",SZ26+SY31+SY32,SZ26+SY31+SY33)","v":891.57999999999993},{"$f":"+IF(Simulador!$C$50=\"Si\",TA26+SZ31+SZ32,TA26+SZ31+SZ33)","v":891.57999999999993},{"$f":"+IF(Simulador!$C$50=\"Si\",TB26+TA31+TA32,TB26+TA31+TA33)","v":941.57999999999993},{"$f":"+IF(Simulador!$C$50=\"Si\",TC26+TB31+TB32,TC26+TB31+TB33)","v":941.57999999999993},{"$f":"+IF(Simulador!$C$50=\"Si\",TD26+TC31+TC32,TD26+TC31+TC33)","v":941.57999999999993},{"$f":"+IF(Simulador!$C$50=\"Si\",TE26+TD31+TD32,TE26+TD31+TD33)","v":941.57999999999993},{"$f":"+IF(Simulador!$C$50=\"Si\",TF26+TE31+TE32,TF26+TE31+TE33)","v":941.57999999999993},{"$f":"+IF(Simulador!$C$50=\"Si\",TG26+TF31+TF32,TG26+TF31+TF33)","v":941.57999999999993},{"$f":"+IF(Simulador!$C$50=\"Si\",TH26+TG31+TG32,TH26+TG31+TG33)","v":941.57999999999993},{"$f":"+IF(Simulador!$C$50=\"Si\",TI26+TH31+TH32,TI26+TH31+TH33)","v":941.57999999999993},{"$f":"+IF(Simulador!$C$50=\"Si\",TJ26+TI31+TI32,TJ26+TI31+TI33)","v":941.57999999999993},{"$f":"+IF(Simulador!$C$50=\"Si\",TK26+TJ31+TJ32,TK26+TJ31+TJ33)","v":941.57999999999993},{"$f":"+IF(Simulador!$C$50=\"Si\",TL26+TK31+TK32,TL26+TK31+TK33)","v":941.57999999999993},{"$f":"+IF(Simulador!$C$50=\"Si\",TM26+TL31+TL32,TM26+TL31+TL33)","v":945.28},{"$f":"+IF(Simulador!$C$50=\"Si\",TN26+TM31+TM32,TN26+TM31+TM33)","v":945.28},{"$f":"+IF(Simulador!$C$50=\"Si\",TO26+TN31+TN32,TO26+TN31+TN33)","v":945.28},{"$f":"+IF(Simulador!$C$50=\"Si\",TP26+TO31+TO32,TP26+TO31+TO33)","v":945.28},{"$f":"+IF(Simulador!$C$50=\"Si\",TQ26+TP31+TP32,TQ26+TP31+TP33)","v":945.28},{"$f":"+IF(Simulador!$C$50=\"Si\",TR26+TQ31+TQ32,TR26+TQ31+TQ33)","v":945.28},{"$f":"+IF(Simulador!$C$50=\"Si\",TS26+TR31+TR32,TS26+TR31+TR33)","v":945.28},{"$f":"+IF(Simulador!$C$50=\"Si\",TT26+TS31+TS32,TT26+TS31+TS33)","v":945.28},{"$f":"+IF(Simulador!$C$50=\"Si\",TU26+TT31+TT32,TU26+TT31+TT33)","v":945.28},{"$f":"+IF(Simulador!$C$50=\"Si\",TV26+TU31+TU32,TV26+TU31+TU33)","v":945.28},{"$f":"+IF(Simulador!$C$50=\"Si\",TW26+TV31+TV32,TW26+TV31+TV33)","v":945.28},{"$f":"+IF(Simulador!$C$50=\"Si\",TX26+TW31+TW32,TX26+TW31+TW33)","v":945.28},{"$f":"+IF(Simulador!$C$50=\"Si\",TY26+TX31+TX32,TY26+TX31+TX33)","v":945.28},{"$f":"+IF(Simulador!$C$50=\"Si\",TZ26+TY31+TY32,TZ26+TY31+TY33)","v":945.28},{"$f":"+IF(Simulador!$C$50=\"Si\",UA26+TZ31+TZ32,UA26+TZ31+TZ33)","v":945.28},{"$f":"+IF(Simulador!$C$50=\"Si\",UB26+UA31+UA32,UB26+UA31+UA33)","v":945.28},{"$f":"+IF(Simulador!$C$50=\"Si\",UC26+UB31+UB32,UC26+UB31+UB33)","v":945.28},{"$f":"+IF(Simulador!$C$50=\"Si\",UD26+UC31+UC32,UD26+UC31+UC33)","v":945.28},{"$f":"+IF(Simulador!$C$50=\"Si\",UE26+UD31+UD32,UE26+UD31+UD33)","v":945.28},{"$f":"+IF(Simulador!$C$50=\"Si\",UF26+UE31+UE32,UF26+UE31+UE33)","v":945.28},{"$f":"+IF(Simulador!$C$50=\"Si\",UG26+UF31+UF32,UG26+UF31+UF33)","v":995.28},{"$f":"+IF(Simulador!$C$50=\"Si\",UH26+UG31+UG32,UH26+UG31+UG33)","v":995.28},{"$f":"+IF(Simulador!$C$50=\"Si\",UI26+UH31+UH32,UI26+UH31+UH33)","v":995.28},{"$f":"+IF(Simulador!$C$50=\"Si\",UJ26+UI31+UI32,UJ26+UI31+UI33)","v":995.28},{"$f":"+IF(Simulador!$C$50=\"Si\",UK26+UJ31+UJ32,UK26+UJ31+UJ33)","v":995.28},{"$f":"+IF(Simulador!$C$50=\"Si\",UL26+UK31+UK32,UL26+UK31+UK33)","v":995.28},{"$f":"+IF(Simulador!$C$50=\"Si\",UM26+UL31+UL32,UM26+UL31+UL33)","v":995.28},{"$f":"+IF(Simulador!$C$50=\"Si\",UN26+UM31+UM32,UN26+UM31+UM33)","v":995.28},{"$f":"+IF(Simulador!$C$50=\"Si\",UO26+UN31+UN32,UO26+UN31+UN33)","v":995.28},{"$f":"+IF(Simulador!$C$50=\"Si\",UP26+UO31+UO32,UP26+UO31+UO33)","v":995.28},{"$f":"+IF(Simulador!$C$50=\"Si\",UQ26+UP31+UP32,UQ26+UP31+UP33)","v":999.27},{"$f":"+IF(Simulador!$C$50=\"Si\",UR26+UQ31+UQ32,UR26+UQ31+UQ33)","v":999.27},{"$f":"+IF(Simulador!$C$50=\"Si\",US26+UR31+UR32,US26+UR31+UR33)","v":999.27},{"$f":"+IF(Simulador!$C$50=\"Si\",UT26+US31+US32,UT26+US31+US33)","v":999.27},{"$f":"+IF(Simulador!$C$50=\"Si\",UU26+UT31+UT32,UU26+UT31+UT33)","v":999.27},{"$f":"+IF(Simulador!$C$50=\"Si\",UV26+UU31+UU32,UV26+UU31+UU33)","v":999.27},{"$f":"+IF(Simulador!$C$50=\"Si\",UW26+UV31+UV32,UW26+UV31+UV33)","v":999.27},{"$f":"+IF(Simulador!$C$50=\"Si\",UX26+UW31+UW32,UX26+UW31+UW33)","v":999.27},{"$f":"+IF(Simulador!$C$50=\"Si\",UY26+UX31+UX32,UY26+UX31+UX33)","v":999.27},{"$f":"+IF(Simulador!$C$50=\"Si\",UZ26+UY31+UY32,UZ26+UY31+UY33)","v":999.27},{"$f":"+IF(Simulador!$C$50=\"Si\",VA26+UZ31+UZ32,VA26+UZ31+UZ33)","v":999.27},{"$f":"+IF(Simulador!$C$50=\"Si\",VB26+VA31+VA32,VB26+VA31+VA33)","v":999.27},{"$f":"+IF(Simulador!$C$50=\"Si\",VC26+VB31+VB32,VC26+VB31+VB33)","v":999.27},{"$f":"+IF(Simulador!$C$50=\"Si\",VD26+VC31+VC32,VD26+VC31+VC33)","v":999.27},{"$f":"+IF(Simulador!$C$50=\"Si\",VE26+VD31+VD32,VE26+VD31+VD33)","v":999.27},{"$f":"+IF(Simulador!$C$50=\"Si\",VF26+VE31+VE32,VF26+VE31+VE33)","v":999.27},{"$f":"+IF(Simulador!$C$50=\"Si\",VG26+VF31+VF32,VG26+VF31+VF33)","v":999.27},{"$f":"+IF(Simulador!$C$50=\"Si\",VH26+VG31+VG32,VH26+VG31+VG33)","v":999.27},{"$f":"+IF(Simulador!$C$50=\"Si\",VI26+VH31+VH32,VI26+VH31+VH33)","v":999.27},{"$f":"+IF(Simulador!$C$50=\"Si\",VJ26+VI31+VI32,VJ26+VI31+VI33)","v":999.27},{"$f":"+IF(Simulador!$C$50=\"Si\",VK26+VJ31+VJ32,VK26+VJ31+VJ33)","v":999.27},{"$f":"+IF(Simulador!$C$50=\"Si\",VL26+VK31+VK32,VL26+VK31+VK33)","v":1049.27},{"$f":"+IF(Simulador!$C$50=\"Si\",VM26+VL31+VL32,VM26+VL31+VL33)","v":1049.27},{"$f":"+IF(Simulador!$C$50=\"Si\",VN26+VM31+VM32,VN26+VM31+VM33)","v":1049.27},{"$f":"+IF(Simulador!$C$50=\"Si\",VO26+VN31+VN32,VO26+VN31+VN33)","v":1049.27},{"$f":"+IF(Simulador!$C$50=\"Si\",VP26+VO31+VO32,VP26+VO31+VO33)","v":1049.27},{"$f":"+IF(Simulador!$C$50=\"Si\",VQ26+VP31+VP32,VQ26+VP31+VP33)","v":1049.27},{"$f":"+IF(Simulador!$C$50=\"Si\",VR26+VQ31+VQ32,VR26+VQ31+VQ33)","v":1049.27},{"$f":"+IF(Simulador!$C$50=\"Si\",VS26+VR31+VR32,VS26+VR31+VR33)","v":1053.25},{"$f":"+IF(Simulador!$C$50=\"Si\",VT26+VS31+VS32,VT26+VS31+VS33)","v":1053.25},{"$f":"+IF(Simulador!$C$50=\"Si\",VU26+VT31+VT32,VU26+VT31+VT33)","v":1053.25},{"$f":"+IF(Simulador!$C$50=\"Si\",VV26+VU31+VU32,VV26+VU31+VU33)","v":1053.25},{"$f":"+IF(Simulador!$C$50=\"Si\",VW26+VV31+VV32,VW26+VV31+VV33)","v":1053.25},{"$f":"+IF(Simulador!$C$50=\"Si\",VX26+VW31+VW32,VX26+VW31+VW33)","v":1053.25},{"$f":"+IF(Simulador!$C$50=\"Si\",VY26+VX31+VX32,VY26+VX31+VX33)","v":1053.25},{"$f":"+IF(Simulador!$C$50=\"Si\",VZ26+VY31+VY32,VZ26+VY31+VY33)","v":1053.25},{"$f":"+IF(Simulador!$C$50=\"Si\",WA26+VZ31+VZ32,WA26+VZ31+VZ33)","v":1053.25},{"$f":"+IF(Simulador!$C$50=\"Si\",WB26+WA31+WA32,WB26+WA31+WA33)","v":1053.25},{"$f":"+IF(Simulador!$C$50=\"Si\",WC26+WB31+WB32,WC26+WB31+WB33)","v":1053.25},{"$f":"+IF(Simulador!$C$50=\"Si\",WD26+WC31+WC32,WD26+WC31+WC33)","v":1053.25},{"$f":"+IF(Simulador!$C$50=\"Si\",WE26+WD31+WD32,WE26+WD31+WD33)","v":1053.25},{"$f":"+IF(Simulador!$C$50=\"Si\",WF26+WE31+WE32,WF26+WE31+WE33)","v":1053.25},{"$f":"+IF(Simulador!$C$50=\"Si\",WG26+WF31+WF32,WG26+WF31+WF33)","v":1053.25},{"$f":"+IF(Simulador!$C$50=\"Si\",WH26+WG31+WG32,WH26+WG31+WG33)","v":1053.25},{"$f":"+IF(Simulador!$C$50=\"Si\",WI26+WH31+WH32,WI26+WH31+WH33)","v":1053.25},{"$f":"+IF(Simulador!$C$50=\"Si\",WJ26+WI31+WI32,WJ26+WI31+WI33)","v":1053.25},{"$f":"+IF(Simulador!$C$50=\"Si\",WK26+WJ31+WJ32,WK26+WJ31+WJ33)","v":1053.25},{"$f":"+IF(Simulador!$C$50=\"Si\",WL26+WK31+WK32,WL26+WK31+WK33)","v":1053.25},{"$f":"+IF(Simulador!$C$50=\"Si\",WM26+WL31+WL32,WM26+WL31+WL33)","v":1053.25},{"$f":"+IF(Simulador!$C$50=\"Si\",WN26+WM31+WM32,WN26+WM31+WM33)","v":1103.25},{"$f":"+IF(Simulador!$C$50=\"Si\",WO26+WN31+WN32,WO26+WN31+WN33)","v":1103.25},{"$f":"+IF(Simulador!$C$50=\"Si\",WP26+WO31+WO32,WP26+WO31+WO33)","v":1103.25},{"$f":"+IF(Simulador!$C$50=\"Si\",WQ26+WP31+WP32,WQ26+WP31+WP33)","v":1103.25},{"$f":"+IF(Simulador!$C$50=\"Si\",WR26+WQ31+WQ32,WR26+WQ31+WQ33)","v":1103.25},{"$f":"+IF(Simulador!$C$50=\"Si\",WS26+WR31+WR32,WS26+WR31+WR33)","v":1103.25},{"$f":"+IF(Simulador!$C$50=\"Si\",WT26+WS31+WS32,WT26+WS31+WS33)","v":1103.25},{"$f":"+IF(Simulador!$C$50=\"Si\",WU26+WT31+WT32,WU26+WT31+WT33)","v":1103.25},{"$f":"+IF(Simulador!$C$50=\"Si\",WV26+WU31+WU32,WV26+WU31+WU33)","v":1103.25},{"$f":"+IF(Simulador!$C$50=\"Si\",WW26+WV31+WV32,WW26+WV31+WV33)","v":1103.25},{"$f":"+IF(Simulador!$C$50=\"Si\",WX26+WW31+WW32,WX26+WW31+WW33)","v":1103.25},{"$f":"+IF(Simulador!$C$50=\"Si\",WY26+WX31+WX32,WY26+WX31+WX33)","v":1103.25},{"$f":"+IF(Simulador!$C$50=\"Si\",WZ26+WY31+WY32,WZ26+WY31+WY33)","v":1108.2},{"$f":"+IF(Simulador!$C$50=\"Si\",XA26+WZ31+WZ32,XA26+WZ31+WZ33)","v":1108.2},{"$f":"+IF(Simulador!$C$50=\"Si\",XB26+XA31+XA32,XB26+XA31+XA33)","v":1108.2},{"$f":"+IF(Simulador!$C$50=\"Si\",XC26+XB31+XB32,XC26+XB31+XB33)","v":1108.2},{"$f":"+IF(Simulador!$C$50=\"Si\",XD26+XC31+XC32,XD26+XC31+XC33)","v":1108.2},{"$f":"+IF(Simulador!$C$50=\"Si\",XE26+XD31+XD32,XE26+XD31+XD33)","v":1108.2},{"$f":"+IF(Simulador!$C$50=\"Si\",XF26+XE31+XE32,XF26+XE31+XE33)","v":1108.2},{"$f":"+IF(Simulador!$C$50=\"Si\",XG26+XF31+XF32,XG26+XF31+XF33)","v":1108.2},{"$f":"+IF(Simulador!$C$50=\"Si\",XH26+XG31+XG32,XH26+XG31+XG33)","v":1108.2},{"$f":"+IF(Simulador!$C$50=\"Si\",XI26+XH31+XH32,XI26+XH31+XH33)","v":1108.2},{"$f":"+IF(Simulador!$C$50=\"Si\",XJ26+XI31+XI32,XJ26+XI31+XI33)","v":1108.2},{"$f":"+IF(Simulador!$C$50=\"Si\",XK26+XJ31+XJ32,XK26+XJ31+XJ33)","v":1108.2},{"$f":"+IF(Simulador!$C$50=\"Si\",XL26+XK31+XK32,XL26+XK31+XK33)","v":1108.2},{"$f":"+IF(Simulador!$C$50=\"Si\",XM26+XL31+XL32,XM26+XL31+XL33)","v":1108.2},{"$f":"+IF(Simulador!$C$50=\"Si\",XN26+XM31+XM32,XN26+XM31+XM33)","v":1108.2},{"$f":"+IF(Simulador!$C$50=\"Si\",XO26+XN31+XN32,XO26+XN31+XN33)","v":1108.2},{"$f":"+IF(Simulador!$C$50=\"Si\",XP26+XO31+XO32,XP26+XO31+XO33)","v":1108.2},{"$f":"+IF(Simulador!$C$50=\"Si\",XQ26+XP31+XP32,XQ26+XP31+XP33)","v":1108.2},{"$f":"+IF(Simulador!$C$50=\"Si\",XR26+XQ31+XQ32,XR26+XQ31+XQ33)","v":1108.2},{"$f":"+IF(Simulador!$C$50=\"Si\",XS26+XR31+XR32,XS26+XR31+XR33)","v":1158.2},{"$f":"+IF(Simulador!$C$50=\"Si\",XT26+XS31+XS32,XT26+XS31+XS33)","v":1158.2},{"$f":"+IF(Simulador!$C$50=\"Si\",XU26+XT31+XT32,XU26+XT31+XT33)","v":1158.2},{"$f":"+IF(Simulador!$C$50=\"Si\",XV26+XU31+XU32,XV26+XU31+XU33)","v":1158.2},{"$f":"+IF(Simulador!$C$50=\"Si\",XW26+XV31+XV32,XW26+XV31+XV33)","v":1158.2},{"$f":"+IF(Simulador!$C$50=\"Si\",XX26+XW31+XW32,XX26+XW31+XW33)","v":1158.2},{"$f":"+IF(Simulador!$C$50=\"Si\",XY26+XX31+XX32,XY26+XX31+XX33)","v":1158.2},{"$f":"+IF(Simulador!$C$50=\"Si\",XZ26+XY31+XY32,XZ26+XY31+XY33)","v":1158.2},{"$f":"+IF(Simulador!$C$50=\"Si\",YA26+XZ31+XZ32,YA26+XZ31+XZ33)","v":1158.2},{"$f":"+IF(Simulador!$C$50=\"Si\",YB26+YA31+YA32,YB26+YA31+YA33)","v":1158.2},{"$f":"+IF(Simulador!$C$50=\"Si\",YC26+YB31+YB32,YC26+YB31+YB33)","v":1162.6400000000001},{"$f":"+IF(Simulador!$C$50=\"Si\",YD26+YC31+YC32,YD26+YC31+YC33)","v":1162.6400000000001},{"$f":"+IF(Simulador!$C$50=\"Si\",YE26+YD31+YD32,YE26+YD31+YD33)","v":1162.6400000000001},{"$f":"+IF(Simulador!$C$50=\"Si\",YF26+YE31+YE32,YF26+YE31+YE33)","v":1162.6400000000001},{"$f":"+IF(Simulador!$C$50=\"Si\",YG26+YF31+YF32,YG26+YF31+YF33)","v":1162.6400000000001},{"$f":"+IF(Simulador!$C$50=\"Si\",YH26+YG31+YG32,YH26+YG31+YG33)","v":1162.6400000000001},{"$f":"+IF(Simulador!$C$50=\"Si\",YI26+YH31+YH32,YI26+YH31+YH33)","v":1162.6400000000001},{"$f":"+IF(Simulador!$C$50=\"Si\",YJ26+YI31+YI32,YJ26+YI31+YI33)","v":1162.6400000000001},{"$f":"+IF(Simulador!$C$50=\"Si\",YK26+YJ31+YJ32,YK26+YJ31+YJ33)","v":1162.6400000000001},{"$f":"+IF(Simulador!$C$50=\"Si\",YL26+YK31+YK32,YL26+YK31+YK33)","v":1162.6400000000001},{"$f":"+IF(Simulador!$C$50=\"Si\",YM26+YL31+YL32,YM26+YL31+YL33)","v":1162.6400000000001},{"$f":"+IF(Simulador!$C$50=\"Si\",YN26+YM31+YM32,YN26+YM31+YM33)","v":1162.6400000000001},{"$f":"+IF(Simulador!$C$50=\"Si\",YO26+YN31+YN32,YO26+YN31+YN33)","v":1162.6400000000001},{"$f":"+IF(Simulador!$C$50=\"Si\",YP26+YO31+YO32,YP26+YO31+YO33)","v":1162.6400000000001},{"$f":"+IF(Simulador!$C$50=\"Si\",YQ26+YP31+YP32,YQ26+YP31+YP33)","v":1162.6400000000001},{"$f":"+IF(Simulador!$C$50=\"Si\",YR26+YQ31+YQ32,YR26+YQ31+YQ33)","v":1162.6400000000001},{"$f":"+IF(Simulador!$C$50=\"Si\",YS26+YR31+YR32,YS26+YR31+YR33)","v":1162.6400000000001},{"$f":"+IF(Simulador!$C$50=\"Si\",YT26+YS31+YS32,YT26+YS31+YS33)","v":1162.6400000000001},{"$f":"+IF(Simulador!$C$50=\"Si\",YU26+YT31+YT32,YU26+YT31+YT33)","v":1162.6400000000001},{"$f":"+IF(Simulador!$C$50=\"Si\",YV26+YU31+YU32,YV26+YU31+YU33)","v":1162.6400000000001},{"$f":"+IF(Simulador!$C$50=\"Si\",YW26+YV31+YV32,YW26+YV31+YV33)","v":1212.6400000000001},{"$f":"+IF(Simulador!$C$50=\"Si\",YX26+YW31+YW32,YX26+YW31+YW33)","v":1212.6400000000001},{"$f":"+IF(Simulador!$C$50=\"Si\",YY26+YX31+YX32,YY26+YX31+YX33)","v":1212.6400000000001},{"$f":"+IF(Simulador!$C$50=\"Si\",YZ26+YY31+YY32,YZ26+YY31+YY33)","v":1212.6400000000001},{"$f":"+IF(Simulador!$C$50=\"Si\",ZA26+YZ31+YZ32,ZA26+YZ31+YZ33)","v":1212.6400000000001},{"$f":"+IF(Simulador!$C$50=\"Si\",ZB26+ZA31+ZA32,ZB26+ZA31+ZA33)","v":1212.6400000000001},{"$f":"+IF(Simulador!$C$50=\"Si\",ZC26+ZB31+ZB32,ZC26+ZB31+ZB33)","v":1212.6400000000001},{"$f":"+IF(Simulador!$C$50=\"Si\",ZD26+ZC31+ZC32,ZD26+ZC31+ZC33)","v":1212.6400000000001},{"$f":"+IF(Simulador!$C$50=\"Si\",ZE26+ZD31+ZD32,ZE26+ZD31+ZD33)","v":1212.6400000000001},{"$f":"+IF(Simulador!$C$50=\"Si\",ZF26+ZE31+ZE32,ZF26+ZE31+ZE33)","v":1212.6400000000001},{"$f":"+IF(Simulador!$C$50=\"Si\",ZG26+ZF31+ZF32,ZG26+ZF31+ZF33)","v":1212.6400000000001},{"$f":"+IF(Simulador!$C$50=\"Si\",ZH26+ZG31+ZG32,ZH26+ZG31+ZG33)","v":1212.6400000000001},{"$f":"+IF(Simulador!$C$50=\"Si\",ZI26+ZH31+ZH32,ZI26+ZH31+ZH33)","v":1217.8700000000001},{"$f":"+IF(Simulador!$C$50=\"Si\",ZJ26+ZI31+ZI32,ZJ26+ZI31+ZI33)","v":1217.8700000000001},{"$f":"+IF(Simulador!$C$50=\"Si\",ZK26+ZJ31+ZJ32,ZK26+ZJ31+ZJ33)","v":1217.8700000000001},{"$f":"+IF(Simulador!$C$50=\"Si\",ZL26+ZK31+ZK32,ZL26+ZK31+ZK33)","v":1217.8700000000001},{"$f":"+IF(Simulador!$C$50=\"Si\",ZM26+ZL31+ZL32,ZM26+ZL31+ZL33)","v":1217.8700000000001},{"$f":"+IF(Simulador!$C$50=\"Si\",ZN26+ZM31+ZM32,ZN26+ZM31+ZM33)","v":1217.8700000000001},{"$f":"+IF(Simulador!$C$50=\"Si\",ZO26+ZN31+ZN32,ZO26+ZN31+ZN33)","v":1217.8700000000001},{"$f":"+IF(Simulador!$C$50=\"Si\",ZP26+ZO31+ZO32,ZP26+ZO31+ZO33)","v":1217.8700000000001},{"$f":"+IF(Simulador!$C$50=\"Si\",ZQ26+ZP31+ZP32,ZQ26+ZP31+ZP33)","v":1217.8700000000001},{"$f":"+IF(Simulador!$C$50=\"Si\",ZR26+ZQ31+ZQ32,ZR26+ZQ31+ZQ33)","v":1217.8700000000001},{"$f":"+IF(Simulador!$C$50=\"Si\",ZS26+ZR31+ZR32,ZS26+ZR31+ZR33)","v":1217.8700000000001},{"$f":"+IF(Simulador!$C$50=\"Si\",ZT26+ZS31+ZS32,ZT26+ZS31+ZS33)","v":1217.8700000000001},{"$f":"+IF(Simulador!$C$50=\"Si\",ZU26+ZT31+ZT32,ZU26+ZT31+ZT33)","v":1217.8700000000001},{"$f":"+IF(Simulador!$C$50=\"Si\",ZV26+ZU31+ZU32,ZV26+ZU31+ZU33)","v":1217.8700000000001},{"$f":"+IF(Simulador!$C$50=\"Si\",ZW26+ZV31+ZV32,ZW26+ZV31+ZV33)","v":1217.8700000000001},{"$f":"+IF(Simulador!$C$50=\"Si\",ZX26+ZW31+ZW32,ZX26+ZW31+ZW33)","v":1217.8700000000001},{"$f":"+IF(Simulador!$C$50=\"Si\",ZY26+ZX31+ZX32,ZY26+ZX31+ZX33)","v":1217.8700000000001},{"$f":"+IF(Simulador!$C$50=\"Si\",ZZ26+ZY31+ZY32,ZZ26+ZY31+ZY33)","v":1217.8700000000001},{"$f":"+IF(Simulador!$C$50=\"Si\",AAA26+ZZ31+ZZ32,AAA26+ZZ31+ZZ33)","v":1217.8700000000001},{"$f":"+IF(Simulador!$C$50=\"Si\",AAB26+AAA31+AAA32,AAB26+AAA31+AAA33)","v":1267.8700000000001},{"$f":"+IF(Simulador!$C$50=\"Si\",AAC26+AAB31+AAB32,AAC26+AAB31+AAB33)","v":1267.8700000000001},{"$f":"+IF(Simulador!$C$50=\"Si\",AAD26+AAC31+AAC32,AAD26+AAC31+AAC33)","v":1267.8700000000001},{"$f":"+IF(Simulador!$C$50=\"Si\",AAE26+AAD31+AAD32,AAE26+AAD31+AAD33)","v":1267.8700000000001},{"$f":"+IF(Simulador!$C$50=\"Si\",AAF26+AAE31+AAE32,AAF26+AAE31+AAE33)","v":1267.8700000000001},{"$f":"+IF(Simulador!$C$50=\"Si\",AAG26+AAF31+AAF32,AAG26+AAF31+AAF33)","v":1267.8700000000001},{"$f":"+IF(Simulador!$C$50=\"Si\",AAH26+AAG31+AAG32,AAH26+AAG31+AAG33)","v":1267.8700000000001},{"$f":"+IF(Simulador!$C$50=\"Si\",AAI26+AAH31+AAH32,AAI26+AAH31+AAH33)","v":1267.8700000000001},{"$f":"+IF(Simulador!$C$50=\"Si\",AAJ26+AAI31+AAI32,AAJ26+AAI31+AAI33)","v":1267.8700000000001},{"$f":"+IF(Simulador!$C$50=\"Si\",AAK26+AAJ31+AAJ32,AAK26+AAJ31+AAJ33)","v":1267.8700000000001},{"$f":"+IF(Simulador!$C$50=\"Si\",AAL26+AAK31+AAK32,AAL26+AAK31+AAK33)","v":1267.8700000000001},{"$f":"+IF(Simulador!$C$50=\"Si\",AAM26+AAL31+AAL32,AAM26+AAL31+AAL33)","v":1273.0700000000002},{"$f":"+IF(Simulador!$C$50=\"Si\",AAN26+AAM31+AAM32,AAN26+AAM31+AAM33)","v":1273.0700000000002},{"$f":"+IF(Simulador!$C$50=\"Si\",AAO26+AAN31+AAN32,AAO26+AAN31+AAN33)","v":1273.0700000000002},{"$f":"+IF(Simulador!$C$50=\"Si\",AAP26+AAO31+AAO32,AAP26+AAO31+AAO33)","v":1273.0700000000002},{"$f":"+IF(Simulador!$C$50=\"Si\",AAQ26+AAP31+AAP32,AAQ26+AAP31+AAP33)","v":1273.0700000000002},{"$f":"+IF(Simulador!$C$50=\"Si\",AAR26+AAQ31+AAQ32,AAR26+AAQ31+AAQ33)","v":1273.0700000000002},{"$f":"+IF(Simulador!$C$50=\"Si\",AAS26+AAR31+AAR32,AAS26+AAR31+AAR33)","v":1273.0700000000002},{"$f":"+IF(Simulador!$C$50=\"Si\",AAT26+AAS31+AAS32,AAT26+AAS31+AAS33)","v":1273.0700000000002},{"$f":"+IF(Simulador!$C$50=\"Si\",AAU26+AAT31+AAT32,AAU26+AAT31+AAT33)","v":1273.0700000000002}]
[null,"Capitalización de interés bloqueado",0,{"$f":"+IF((INDEX($C$17:$AAT$17,D17-1)=Simulador!$B$40),C37,0)","v":0},{"$f":"+IF((INDEX($C$17:$AAT$17,E17-1)=Simulador!$B$40),D37,0)","v":0},{"$f":"+IF((INDEX($C$17:$AAT$17,F17-1)=Simulador!$B$40),E37,0)","v":0},{"$f":"+IF((INDEX($C$17:$AAT$17,G17-1)=Simulador!$B$40),F37,0)","v":0},{"$f":"+IF((INDEX($C$17:$AAT$17,H17-1)=Simulador!$B$40),G37,0)","v":0},{"$f":"+IF((INDEX($C$17:$AAT$17,I17-1)=Simulador!$B$40),H37,0)","v":0},{"$f":"+IF((INDEX($C$17:$AAT$17,J17-1)=Simulador!$B$40),I37,0)","v":0},{"$f":"+IF((INDEX($C$17:$AAT$17,K17-1)=Simulador!$B$40),J37,0)","v":0},{"$f":"+IF((INDEX($C$17:$AAT$17,L17-1)=Simulador!$B$40),K37,0)","v":0},{"$f":"+IF((INDEX($C$17:$AAT$17,M17-1)=Simulador!$B$40),L37,0)","v":0},{"$f":"+IF((INDEX($C$17:$AAT$17,N17-1)=Simulador!$B$40),M37,0)","v":0},{"$f":"+IF((INDEX($C$17:$AAT$17,O17-1)=Simulador!$B$40),N37,0)","v":0},{"$f":"+IF((INDEX($C$17:$AAT$17,P17-1)=Simulador!$B$40),O37,0)","v":0},{"$f":"+IF((INDEX($C$17:$AAT$17,Q17-1)=Simulador!$B$40),P37,0)","v":0},{"$f":"+IF((INDEX($C$17:$AAT$17,R17-1)=Simulador!$B$40),Q37,0)","v":0},{"$f":"+IF((INDEX($C$17:$AAT$17,S17-1)=Simulador!$B$40),R37,0)","v":0},{"$f":"+IF((INDEX($C$17:$AAT$17,T17-1)=Simulador!$B$40),S37,0)","v":0},{"$f":"+IF((INDEX($C$17:$AAT$17,U17-1)=Simulador!$B$40),T37,0)","v":0},{"$f":"+IF((INDEX($C$17:$AAT$17,V17-1)=Simulador!$B$40),U37,0)","v":0},{"$f":"+IF((INDEX($C$17:$AAT$17,W17-1)=Simulador!$B$40),V37,0)","v":0},{"$f":"+IF((INDEX($C$17:$AAT$17,X17-1)=Simulador!$B$40),W37,0)","v":0},{"$f":"+IF((INDEX($C$17:$AAT$17,Y17-1)=Simulador!$B$40),X37,0)","v":0},{"$f":"+IF((INDEX($C$17:$AAT$17,Z17-1)=Simulador!$B$40),Y37,0)","v":0},{"$f":"+IF((INDEX($C$17:$AAT$17,AA17-1)=Simulador!$B$40),Z37,0)","v":0},{"$f":"+IF((INDEX($C$17:$AAT$17,AB17-1)=Simulador!$B$40),AA37,0)","v":0},{"$f":"+IF((INDEX($C$17:$AAT$17,AC17-1)=Simulador!$B$40),AB37,0)","v":0},{"$f":"+IF((INDEX($C$17:$AAT$17,AD17-1)=Simulador!$B$40),AC37,0)","v":0},{"$f":"+IF((INDEX($C$17:$AAT$17,AE17-1)=Simulador!$B$40),AD37,0)","v":0},{"$f":"+IF((INDEX($C$17:$AAT$17,AF17-1)=Simulador!$B$40),AE37,0)","v":0},{"$f":"+IF((INDEX($C$17:$AAT$17,AG17-1)=Simulador!$B$40),AF37,0)","v":0},{"$f":"+IF((INDEX($C$17:$AAT$17,AH17-1)=Simulador!$B$40),AG37,0)","v":0},{"$f":"+IF((INDEX($C$17:$AAT$17,AI17-1)=Simulador!$B$40),AH37,0)","v":0},{"$f":"+IF((INDEX($C$17:$AAT$17,AJ17-1)=Simulador!$B$40),AI37,0)","v":0},{"$f":"+IF((INDEX($C$17:$AAT$17,AK17-1)=Simulador!$B$40),AJ37,0)","v":0},{"$f":"+IF((INDEX($C$17:$AAT$17,AL17-1)=Simulador!$B$40),AK37,0)","v":0},{"$f":"+IF((INDEX($C$17:$AAT$17,AM17-1)=Simulador!$B$40),AL37,0)","v":0},{"$f":"+IF((INDEX($C$17:$AAT$17,AN17-1)=Simulador!$B$40),AM37,0)","v":0},{"$f":"+IF((INDEX($C$17:$AAT$17,AO17-1)=Simulador!$B$40),AN37,0)","v":0},{"$f":"+IF((INDEX($C$17:$AAT$17,AP17-1)=Simulador!$B$40),AO37,0)","v":0},{"$f":"+IF((INDEX($C$17:$AAT$17,AQ17-1)=Simulador!$B$40),AP37,0)","v":0},{"$f":"+IF((INDEX($C$17:$AAT$17,AR17-1)=Simulador!$B$40),AQ37,0)","v":0},{"$f":"+IF((INDEX($C$17:$AAT$17,AS17-1)=Simulador!$B$40),AR37,0)","v":0},{"$f":"+IF((INDEX($C$17:$AAT$17,AT17-1)=Simulador!$B$40),AS37,0)","v":0},{"$f":"+IF((INDEX($C$17:$AAT$17,AU17-1)=Simulador!$B$40),AT37,0)","v":0},{"$f":"+IF((INDEX($C$17:$AAT$17,AV17-1)=Simulador!$B$40),AU37,0)","v":0},{"$f":"+IF((INDEX($C$17:$AAT$17,AW17-1)=Simulador!$B$40),AV37,0)","v":0},{"$f":"+IF((INDEX($C$17:$AAT$17,AX17-1)=Simulador!$B$40),AW37,0)","v":0},{"$f":"+IF((INDEX($C$17:$AAT$17,AY17-1)=Simulador!$B$40),AX37,0)","v":0},{"$f":"+IF((INDEX($C$17:$AAT$17,AZ17-1)=Simulador!$B$40),AY37,0)","v":0},{"$f":"+IF((INDEX($C$17:$AAT$17,BA17-1)=Simulador!$B$40),AZ37,0)","v":0},{"$f":"+IF((INDEX($C$17:$AAT$17,BB17-1)=Simulador!$B$40),BA37,0)","v":0},{"$f":"+IF((INDEX($C$17:$AAT$17,BC17-1)=Simulador!$B$40),BB37,0)","v":0},{"$f":"+IF((INDEX($C$17:$AAT$17,BD17-1)=Simulador!$B$40),BC37,0)","v":0},{"$f":"+IF((INDEX($C$17:$AAT$17,BE17-1)=Simulador!$B$40),BD37,0)","v":0},{"$f":"+IF((INDEX($C$17:$AAT$17,BF17-1)=Simulador!$B$40),BE37,0)","v":0},{"$f":"+IF((INDEX($C$17:$AAT$17,BG17-1)=Simulador!$B$40),BF37,0)","v":0},{"$f":"+IF((INDEX($C$17:$AAT$17,BH17-1)=Simulador!$B$40),BG37,0)","v":0},{"$f":"+IF((INDEX($C$17:$AAT$17,BI17-1)=Simulador!$B$40),BH37,0)","v":0},{"$f":"+IF((INDEX($C$17:$AAT$17,BJ17-1)=Simulador!$B$40),BI37,0)","v":0},{"$f":"+IF((INDEX($C$17:$AAT$17,BK17-1)=Simulador!$B$40),BJ37,0)","v":0},{"$f":"+IF((INDEX($C$17:$AAT$17,BL17-1)=Simulador!$B$40),BK37,0)","v":0},{"$f":"+IF((INDEX($C$17:$AAT$17,BM17-1)=Simulador!$B$40),BL37,0)","v":0},{"$f":"+IF((INDEX($C$17:$AAT$17,BN17-1)=Simulador!$B$40),BM37,0)","v":0},{"$f":"+IF((INDEX($C$17:$AAT$17,BO17-1)=Simulador!$B$40),BN37,0)","v":0},{"$f":"+IF((INDEX($C$17:$AAT$17,BP17-1)=Simulador!$B$40),BO37,0)","v":0},{"$f":"+IF((INDEX($C$17:$AAT$17,BQ17-1)=Simulador!$B$40),BP37,0)","v":0},{"$f":"+IF((INDEX($C$17:$AAT$17,BR17-1)=Simulador!$B$40),BQ37,0)","v":0},{"$f":"+IF((INDEX($C$17:$AAT$17,BS17-1)=Simulador!$B$40),BR37,0)","v":0},{"$f":"+IF((INDEX($C$17:$AAT$17,BT17-1)=Simulador!$B$40),BS37,0)","v":0},{"$f":"+IF((INDEX($C$17:$AAT$17,BU17-1)=Simulador!$B$40),BT37,0)","v":0},{"$f":"+IF((INDEX($C$17:$AAT$17,BV17-1)=Simulador!$B$40),BU37,0)","v":0},{"$f":"+IF((INDEX($C$17:$AAT$17,BW17-1)=Simulador!$B$40),BV37,0)","v":0},{"$f":"+IF((INDEX($C$17:$AAT$17,BX17-1)=Simulador!$B$40),BW37,0)","v":0},{"$f":"+IF((INDEX($C$17:$AAT$17,BY17-1)=Simulador!$B$40),BX37,0)","v":0},{"$f":"+IF((INDEX($C$17:$AAT$17,BZ17-1)=Simulador!$B$40),BY37,0)","v":0},{"$f":"+IF((INDEX($C$17:$AAT$17,CA17-1)=Simulador!$B$40),BZ37,0)","v":0},{"$f":"+IF((INDEX($C$17:$AAT$17,CB17-1)=Simulador!$B$40),CA37,0)","v":0},{"$f":"+IF((INDEX($C$17:$AAT$17,CC17-1)=Simulador!$B$40),CB37,0)","v":0},{"$f":"+IF((INDEX($C$17:$AAT$17,CD17-1)=Simulador!$B$40),CC37,0)","v":0},{"$f":"+IF((INDEX($C$17:$AAT$17,CE17-1)=Simulador!$B$40),CD37,0)","v":0},{"$f":"+IF((INDEX($C$17:$AAT$17,CF17-1)=Simulador!$B$40),CE37,0)","v":0},{"$f":"+IF((INDEX($C$17:$AAT$17,CG17-1)=Simulador!$B$40),CF37,0)","v":0},{"$f":"+IF((INDEX($C$17:$AAT$17,CH17-1)=Simulador!$B$40),CG37,0)","v":0},{"$f":"+IF((INDEX($C$17:$AAT$17,CI17-1)=Simulador!$B$40),CH37,0)","v":0},{"$f":"+IF((INDEX($C$17:$AAT$17,CJ17-1)=Simulador!$B$40),CI37,0)","v":0},{"$f":"+IF((INDEX($C$17:$AAT$17,CK17-1)=Simulador!$B$40),CJ37,0)","v":0},{"$f":"+IF((INDEX($C$17:$AAT$17,CL17-1)=Simulador!$B$40),CK37,0)","v":0},{"$f":"+IF((INDEX($C$17:$AAT$17,CM17-1)=Simulador!$B$40),CL37,0)","v":0},{"$f":"+IF((INDEX($C$17:$AAT$17,CN17-1)=Simulador!$B$40),CM37,0)","v":0},{"$f":"+IF((INDEX($C$17:$AAT$17,CO17-1)=Simulador!$B$40),CN37,0)","v":1.4700000000000011},{"$f":"+IF((INDEX($C$17:$AAT$17,CP17-1)=Simulador!$B$40),CO37,0)","v":0},{"$f":"+IF((INDEX($C$17:$AAT$17,CQ17-1)=Simulador!$B$40),CP37,0)","v":0},{"$f":"+IF((INDEX($C$17:$AAT$17,CR17-1)=Simulador!$B$40),CQ37,0)","v":0},{"$f":"+IF((INDEX($C$17:$AAT$17,CS17-1)=Simulador!$B$40),CR37,0)","v":0},{"$f":"+IF((INDEX($C$17:$AAT$17,CT17-1)=Simulador!$B$40),CS37,0)","v":0},{"$f":"+IF((INDEX($C$17:$AAT$17,CU17-1)=Simulador!$B$40),CT37,0)","v":0},{"$f":"+IF((INDEX($C$17:$AAT$17,CV17-1)=Simulador!$B$40),CU37,0)","v":0},{"$f":"+IF((INDEX($C$17:$AAT$17,CW17-1)=Simulador!$B$40),CV37,0)","v":0},{"$f":"+IF((INDEX($C$17:$AAT$17,CX17-1)=Simulador!$B$40),CW37,0)","v":0},{"$f":"+IF((INDEX($C$17:$AAT$17,CY17-1)=Simulador!$B$40),CX37,0)","v":0},{"$f":"+IF((INDEX($C$17:$AAT$17,CZ17-1)=Simulador!$B$40),CY37,0)","v":0},{"$f":"+IF((INDEX($C$17:$AAT$17,DA17-1)=Simulador!$B$40),CZ37,0)","v":0},{"$f":"+IF((INDEX($C$17:$AAT$17,DB17-1)=Simulador!$B$40),DA37,0)","v":0},{"$f":"+IF((INDEX($C$17:$AAT$17,DC17-1)=Simulador!$B$40),DB37,0)","v":0},{"$f":"+IF((INDEX($C$17:$AAT$17,DD17-1)=Simulador!$B$40),DC37,0)","v":0},{"$f":"+IF((INDEX($C$17:$AAT$17,DE17-1)=Simulador!$B$40),DD37,0)","v":0},{"$f":"+IF((INDEX($C$17:$AAT$17,DF17-1)=Simulador!$B$40),DE37,0)","v":0},{"$f":"+IF((INDEX($C$17:$AAT$17,DG17-1)=Simulador!$B$40),DF37,0)","v":0},{"$f":"+IF((INDEX($C$17:$AAT$17,DH17-1)=Simulador!$B$40),DG37,0)","v":0},{"$f":"+IF((INDEX($C$17:$AAT$17,DI17-1)=Simulador!$B$40),DH37,0)","v":0},{"$f":"+IF((INDEX($C$17:$AAT$17,DJ17-1)=Simulador!$B$40),DI37,0)","v":0},{"$f":"+IF((INDEX($C$17:$AAT$17,DK17-1)=Simulador!$B$40),DJ37,0)","v":0},{"$f":"+IF((INDEX($C$17:$AAT$17,DL17-1)=Simulador!$B$40),DK37,0)","v":0},{"$f":"+IF((INDEX($C$17:$AAT$17,DM17-1)=Simulador!$B$40),DL37,0)","v":0},{"$f":"+IF((INDEX($C$17:$AAT$17,DN17-1)=Simulador!$B$40),DM37,0)","v":0},{"$f":"+IF((INDEX($C$17:$AAT$17,DO17-1)=Simulador!$B$40),DN37,0)","v":0},{"$f":"+IF((INDEX($C$17:$AAT$17,DP17-1)=Simulador!$B$40),DO37,0)","v":0},{"$f":"+IF((INDEX($C$17:$AAT$17,DQ17-1)=Simulador!$B$40),DP37,0)","v":0},{"$f":"+IF((INDEX($C$17:$AAT$17,DR17-1)=Simulador!$B$40),DQ37,0)","v":0},{"$f":"+IF((INDEX($C$17:$AAT$17,DS17-1)=Simulador!$B$40),DR37,0)","v":0},{"$f":"+IF((INDEX($C$17:$AAT$17,DT17-1)=Simulador!$B$40),DS37,0)","v":0},{"$f":"+IF((INDEX($C$17:$AAT$17,DU17-1)=Simulador!$B$40),DT37,0)","v":0},{"$f":"+IF((INDEX($C$17:$AAT$17,DV17-1)=Simulador!$B$40),DU37,0)","v":0},{"$f":"+IF((INDEX($C$17:$AAT$17,DW17-1)=Simulador!$B$40),DV37,0)","v":0},{"$f":"+IF((INDEX($C$17:$AAT$17,DX17-1)=Simulador!$B$40),DW37,0)","v":0},{"$f":"+IF((INDEX($C$17:$AAT$17,DY17-1)=Simulador!$B$40),DX37,0)","v":0},{"$f":"+IF((INDEX($C$17:$AAT$17,DZ17-1)=Simulador!$B$40),DY37,0)","v":0},{"$f":"+IF((INDEX($C$17:$AAT$17,EA17-1)=Simulador!$B$40),DZ37,0)","v":0},{"$f":"+IF((INDEX($C$17:$AAT$17,EB17-1)=Simulador!$B$40),EA37,0)","v":0},{"$f":"+IF((INDEX($C$17:$AAT$17,EC17-1)=Simulador!$B$40),EB37,0)","v":0},{"$f":"+IF((INDEX($C$17:$AAT$17,ED17-1)=Simulador!$B$40),EC37,0)","v":0},{"$f":"+IF((INDEX($C$17:$AAT$17,EE17-1)=Simulador!$B$40),ED37,0)","v":0},{"$f":"+IF((INDEX($C$17:$AAT$17,EF17-1)=Simulador!$B$40),EE37,0)","v":0},{"$f":"+IF((INDEX($C$17:$AAT$17,EG17-1)=Simulador!$B$40),EF37,0)","v":0},{"$f":"+IF((INDEX($C$17:$AAT$17,EH17-1)=Simulador!$B$40),EG37,0)","v":0},{"$f":"+IF((INDEX($C$17:$AAT$17,EI17-1)=Simulador!$B$40),EH37,0)","v":0},{"$f":"+IF((INDEX($C$17:$AAT$17,EJ17-1)=Simulador!$B$40),EI37,0)","v":0},{"$f":"+IF((INDEX($C$17:$AAT$17,EK17-1)=Simulador!$B$40),EJ37,0)","v":0},{"$f":"+IF((INDEX($C$17:$AAT$17,EL17-1)=Simulador!$B$40),EK37,0)","v":0},{"$f":"+IF((INDEX($C$17:$AAT$17,EM17-1)=Simulador!$B$40),EL37,0)","v":0},{"$f":"+IF((INDEX($C$17:$AAT$17,EN17-1)=Simulador!$B$40),EM37,0)","v":0},{"$f":"+IF((INDEX($C$17:$AAT$17,EO17-1)=Simulador!$B$40),EN37,0)","v":0},{"$f":"+IF((INDEX($C$17:$AAT$17,EP17-1)=Simulador!$B$40),EO37,0)","v":0},{"$f":"+IF((INDEX($C$17:$AAT$17,EQ17-1)=Simulador!$B$40),EP37,0)","v":0},{"$f":"+IF((INDEX($C$17:$AAT$17,ER17-1)=Simulador!$B$40),EQ37,0)","v":0},{"$f":"+IF((INDEX($C$17:$AAT$17,ES17-1)=Simulador!$B$40),ER37,0)","v":0},{"$f":"+IF((INDEX($C$17:$AAT$17,ET17-1)=Simulador!$B$40),ES37,0)","v":0},{"$f":"+IF((INDEX($C$17:$AAT$17,EU17-1)=Simulador!$B$40),ET37,0)","v":0},{"$f":"+IF((INDEX($C$17:$AAT$17,EV17-1)=Simulador!$B$40),EU37,0)","v":0},{"$f":"+IF((INDEX($C$17:$AAT$17,EW17-1)=Simulador!$B$40),EV37,0)","v":0},{"$f":"+IF((INDEX($C$17:$AAT$17,EX17-1)=Simulador!$B$40),EW37,0)","v":0},{"$f":"+IF((INDEX($C$17:$AAT$17,EY17-1)=Simulador!$B$40),EX37,0)","v":0},{"$f":"+IF((INDEX($C$17:$AAT$17,EZ17-1)=Simulador!$B$40),EY37,0)","v":0},{"$f":"+IF((INDEX($C$17:$AAT$17,FA17-1)=Simulador!$B$40),EZ37,0)","v":0},{"$f":"+IF((INDEX($C$17:$AAT$17,FB17-1)=Simulador!$B$40),FA37,0)","v":0},{"$f":"+IF((INDEX($C$17:$AAT$17,FC17-1)=Simulador!$B$40),FB37,0)","v":0},{"$f":"+IF((INDEX($C$17:$AAT$17,FD17-1)=Simulador!$B$40),FC37,0)","v":0},{"$f":"+IF((INDEX($C$17:$AAT$17,FE17-1)=Simulador!$B$40),FD37,0)","v":0},{"$f":"+IF((INDEX($C$17:$AAT$17,FF17-1)=Simulador!$B$40),FE37,0)","v":0},{"$f":"+IF((INDEX($C$17:$AAT$17,FG17-1)=Simulador!$B$40),FF37,0)","v":0},{"$f":"+IF((INDEX($C$17:$AAT$17,FH17-1)=Simulador!$B$40),FG37,0)","v":0},{"$f":"+IF((INDEX($C$17:$AAT$17,FI17-1)=Simulador!$B$40),FH37,0)","v":0},{"$f":"+IF((INDEX($C$17:$AAT$17,FJ17-1)=Simulador!$B$40),FI37,0)","v":0},{"$f":"+IF((INDEX($C$17:$AAT$17,FK17-1)=Simulador!$B$40),FJ37,0)","v":0},{"$f":"+IF((INDEX($C$17:$AAT$17,FL17-1)=Simulador!$B$40),FK37,0)","v":0},{"$f":"+IF((INDEX($C$17:$AAT$17,FM17-1)=Simulador!$B$40),FL37,0)","v":0},{"$f":"+IF((INDEX($C$17:$AAT$17,FN17-1)=Simulador!$B$40),FM37,0)","v":0},{"$f":"+IF((INDEX($C$17:$AAT$17,FO17-1)=Simulador!$B$40),FN37,0)","v":0},{"$f":"+IF((INDEX($C$17:$AAT$17,FP17-1)=Simulador!$B$40),FO37,0)","v":0},{"$f":"+IF((INDEX($C$17:$AAT$17,FQ17-1)=Simulador!$B$40),FP37,0)","v":0},{"$f":"+IF((INDEX($C$17:$AAT$17,FR17-1)=Simulador!$B$40),FQ37,0)","v":0},{"$f":"+IF((INDEX($C$17:$AAT$17,FS17-1)=Simulador!$B$40),FR37,0)","v":0},{"$f":"+IF((INDEX($C$17:$AAT$17,FT17-1)=Simulador!$B$40),FS37,0)","v":0},{"$f":"+IF((INDEX($C$17:$AAT$17,FU17-1)=Simulador!$B$40),FT37,0)","v":0},{"$f":"+IF((INDEX($C$17:$AAT$17,FV17-1)=Simulador!$B$40),FU37,0)","v":0},{"$f":"+IF((INDEX($C$17:$AAT$17,FW17-1)=Simulador!$B$40),FV37,0)","v":0},{"$f":"+IF((INDEX($C$17:$AAT$17,FX17-1)=Simulador!$B$40),FW37,0)","v":0},{"$f":"+IF((INDEX($C$17:$AAT$17,FY17-1)=Simulador!$B$40),FX37,0)","v":0},{"$f":"+IF((INDEX($C$17:$AAT$17,FZ17-1)=Simulador!$B$40),FY37,0)","v":0},{"$f":"+IF((INDEX($C$17:$AAT$17,GA17-1)=Simulador!$B$40),FZ37,0)","v":0},{"$f":"+IF((INDEX($C$17:$AAT$17,GB17-1)=Simulador!$B$40),GA37,0)","v":0},{"$f":"+IF((INDEX($C$17:$AAT$17,GC17-1)=Simulador!$B$40),GB37,0)","v":0},{"$f":"+IF((INDEX($C$17:$AAT$17,GD17-1)=Simulador!$B$40),GC37,0)","v":0},{"$f":"+IF((INDEX($C$17:$AAT$17,GE17-1)=Simulador!$B$40),GD37,0)","v":0},{"$f":"+IF((INDEX($C$17:$AAT$17,GF17-1)=Simulador!$B$40),GE37,0)","v":0},{"$f":"+IF((INDEX($C$17:$AAT$17,GG17-1)=Simulador!$B$40),GF37,0)","v":0},{"$f":"+IF((INDEX($C$17:$AAT$17,GH17-1)=Simulador!$B$40),GG37,0)","v":0},{"$f":"+IF((INDEX($C$17:$AAT$17,GI17-1)=Simulador!$B$40),GH37,0)","v":0},{"$f":"+IF((INDEX($C$17:$AAT$17,GJ17-1)=Simulador!$B$40),GI37,0)","v":0},{"$f":"+IF((INDEX($C$17:$AAT$17,GK17-1)=Simulador!$B$40),GJ37,0)","v":0},{"$f":"+IF((INDEX($C$17:$AAT$17,GL17-1)=Simulador!$B$40),GK37,0)","v":0},{"$f":"+IF((INDEX($C$17:$AAT$17,GM17-1)=Simulador!$B$40),GL37,0)","v":0},{"$f":"+IF((INDEX($C$17:$AAT$17,GN17-1)=Simulador!$B$40),GM37,0)","v":0},{"$f":"+IF((INDEX($C$17:$AAT$17,GO17-1)=Simulador!$B$40),GN37,0)","v":0},{"$f":"+IF((INDEX($C$17:$AAT$17,GP17-1)=Simulador!$B$40),GO37,0)","v":0},{"$f":"+IF((INDEX($C$17:$AAT$17,GQ17-1)=Simulador!$B$40),GP37,0)","v":0},{"$f":"+IF((INDEX($C$17:$AAT$17,GR17-1)=Simulador!$B$40),GQ37,0)","v":0},{"$f":"+IF((INDEX($C$17:$AAT$17,GS17-1)=Simulador!$B$40),GR37,0)","v":0},{"$f":"+IF((INDEX($C$17:$AAT$17,GT17-1)=Simulador!$B$40),GS37,0)","v":0},{"$f":"+IF((INDEX($C$17:$AAT$17,GU17-1)=Simulador!$B$40),GT37,0)","v":0},{"$f":"+IF((INDEX($C$17:$AAT$17,GV17-1)=Simulador!$B$40),GU37,0)","v":0},{"$f":"+IF((INDEX($C$17:$AAT$17,GW17-1)=Simulador!$B$40),GV37,0)","v":0},{"$f":"+IF((INDEX($C$17:$AAT$17,GX17-1)=Simulador!$B$40),GW37,0)","v":0},{"$f":"+IF((INDEX($C$17:$AAT$17,GY17-1)=Simulador!$B$40),GX37,0)","v":0},{"$f":"+IF((INDEX($C$17:$AAT$17,GZ17-1)=Simulador!$B$40),GY37,0)","v":0},{"$f":"+IF((INDEX($C$17:$AAT$17,HA17-1)=Simulador!$B$40),GZ37,0)","v":0},{"$f":"+IF((INDEX($C$17:$AAT$17,HB17-1)=Simulador!$B$40),HA37,0)","v":0},{"$f":"+IF((INDEX($C$17:$AAT$17,HC17-1)=Simulador!$B$40),HB37,0)","v":0},{"$f":"+IF((INDEX($C$17:$AAT$17,HD17-1)=Simulador!$B$40),HC37,0)","v":0},{"$f":"+IF((INDEX($C$17:$AAT$17,HE17-1)=Simulador!$B$40),HD37,0)","v":0},{"$f":"+IF((INDEX($C$17:$AAT$17,HF17-1)=Simulador!$B$40),HE37,0)","v":0},{"$f":"+IF((INDEX($C$17:$AAT$17,HG17-1)=Simulador!$B$40),HF37,0)","v":0},{"$f":"+IF((INDEX($C$17:$AAT$17,HH17-1)=Simulador!$B$40),HG37,0)","v":0},{"$f":"+IF((INDEX($C$17:$AAT$17,HI17-1)=Simulador!$B$40),HH37,0)","v":0},{"$f":"+IF((INDEX($C$17:$AAT$17,HJ17-1)=Simulador!$B$40),HI37,0)","v":0},{"$f":"+IF((INDEX($C$17:$AAT$17,HK17-1)=Simulador!$B$40),HJ37,0)","v":0},{"$f":"+IF((INDEX($C$17:$AAT$17,HL17-1)=Simulador!$B$40),HK37,0)","v":0},{"$f":"+IF((INDEX($C$17:$AAT$17,HM17-1)=Simulador!$B$40),HL37,0)","v":0},{"$f":"+IF((INDEX($C$17:$AAT$17,HN17-1)=Simulador!$B$40),HM37,0)","v":0},{"$f":"+IF((INDEX($C$17:$AAT$17,HO17-1)=Simulador!$B$40),HN37,0)","v":0},{"$f":"+IF((INDEX($C$17:$AAT$17,HP17-1)=Simulador!$B$40),HO37,0)","v":0},{"$f":"+IF((INDEX($C$17:$AAT$17,HQ17-1)=Simulador!$B$40),HP37,0)","v":0},{"$f":"+IF((INDEX($C$17:$AAT$17,HR17-1)=Simulador!$B$40),HQ37,0)","v":0},{"$f":"+IF((INDEX($C$17:$AAT$17,HS17-1)=Simulador!$B$40),HR37,0)","v":0},{"$f":"+IF((INDEX($C$17:$AAT$17,HT17-1)=Simulador!$B$40),HS37,0)","v":0},{"$f":"+IF((INDEX($C$17:$AAT$17,HU17-1)=Simulador!$B$40),HT37,0)","v":0},{"$f":"+IF((INDEX($C$17:$AAT$17,HV17-1)=Simulador!$B$40),HU37,0)","v":0},{"$f":"+IF((INDEX($C$17:$AAT$17,HW17-1)=Simulador!$B$40),HV37,0)","v":0},{"$f":"+IF((INDEX($C$17:$AAT$17,HX17-1)=Simulador!$B$40),HW37,0)","v":0},{"$f":"+IF((INDEX($C$17:$AAT$17,HY17-1)=Simulador!$B$40),HX37,0)","v":0},{"$f":"+IF((INDEX($C$17:$AAT$17,HZ17-1)=Simulador!$B$40),HY37,0)","v":0},{"$f":"+IF((INDEX($C$17:$AAT$17,IA17-1)=Simulador!$B$40),HZ37,0)","v":0},{"$f":"+IF((INDEX($C$17:$AAT$17,IB17-1)=Simulador!$B$40),IA37,0)","v":0},{"$f":"+IF((INDEX($C$17:$AAT$17,IC17-1)=Simulador!$B$40),IB37,0)","v":0},{"$f":"+IF((INDEX($C$17:$AAT$17,ID17-1)=Simulador!$B$40),IC37,0)","v":0},{"$f":"+IF((INDEX($C$17:$AAT$17,IE17-1)=Simulador!$B$40),ID37,0)","v":0},{"$f":"+IF((INDEX($C$17:$AAT$17,IF17-1)=Simulador!$B$40),IE37,0)","v":0},{"$f":"+IF((INDEX($C$17:$AAT$17,IG17-1)=Simulador!$B$40),IF37,0)","v":0},{"$f":"+IF((INDEX($C$17:$AAT$17,IH17-1)=Simulador!$B$40),IG37,0)","v":0},{"$f":"+IF((INDEX($C$17:$AAT$17,II17-1)=Simulador!$B$40),IH37,0)","v":0},{"$f":"+IF((INDEX($C$17:$AAT$17,IJ17-1)=Simulador!$B$40),II37,0)","v":0},{"$f":"+IF((INDEX($C$17:$AAT$17,IK17-1)=Simulador!$B$40),IJ37,0)","v":0},{"$f":"+IF((INDEX($C$17:$AAT$17,IL17-1)=Simulador!$B$40),IK37,0)","v":0},{"$f":"+IF((INDEX($C$17:$AAT$17,IM17-1)=Simulador!$B$40),IL37,0)","v":0},{"$f":"+IF((INDEX($C$17:$AAT$17,IN17-1)=Simulador!$B$40),IM37,0)","v":0},{"$f":"+IF((INDEX($C$17:$AAT$17,IO17-1)=Simulador!$B$40),IN37,0)","v":0},{"$f":"+IF((INDEX($C$17:$AAT$17,IP17-1)=Simulador!$B$40),IO37,0)","v":0},{"$f":"+IF((INDEX($C$17:$AAT$17,IQ17-1)=Simulador!$B$40),IP37,0)","v":0},{"$f":"+IF((INDEX($C$17:$AAT$17,IR17-1)=Simulador!$B$40),IQ37,0)","v":0},{"$f":"+IF((INDEX($C$17:$AAT$17,IS17-1)=Simulador!$B$40),IR37,0)","v":0},{"$f":"+IF((INDEX($C$17:$AAT$17,IT17-1)=Simulador!$B$40),IS37,0)","v":0},{"$f":"+IF((INDEX($C$17:$AAT$17,IU17-1)=Simulador!$B$40),IT37,0)","v":0},{"$f":"+IF((INDEX($C$17:$AAT$17,IV17-1)=Simulador!$B$40),IU37,0)","v":0},{"$f":"+IF((INDEX($C$17:$AAT$17,IW17-1)=Simulador!$B$40),IV37,0)","v":0},{"$f":"+IF((INDEX($C$17:$AAT$17,IX17-1)=Simulador!$B$40),IW37,0)","v":0},{"$f":"+IF((INDEX($C$17:$AAT$17,IY17-1)=Simulador!$B$40),IX37,0)","v":0},{"$f":"+IF((INDEX($C$17:$AAT$17,IZ17-1)=Simulador!$B$40),IY37,0)","v":0},{"$f":"+IF((INDEX($C$17:$AAT$17,JA17-1)=Simulador!$B$40),IZ37,0)","v":0},{"$f":"+IF((INDEX($C$17:$AAT$17,JB17-1)=Simulador!$B$40),JA37,0)","v":0},{"$f":"+IF((INDEX($C$17:$AAT$17,JC17-1)=Simulador!$B$40),JB37,0)","v":0},{"$f":"+IF((INDEX($C$17:$AAT$17,JD17-1)=Simulador!$B$40),JC37,0)","v":0},{"$f":"+IF((INDEX($C$17:$AAT$17,JE17-1)=Simulador!$B$40),JD37,0)","v":0},{"$f":"+IF((INDEX($C$17:$AAT$17,JF17-1)=Simulador!$B$40),JE37,0)","v":0},{"$f":"+IF((INDEX($C$17:$AAT$17,JG17-1)=Simulador!$B$40),JF37,0)","v":0},{"$f":"+IF((INDEX($C$17:$AAT$17,JH17-1)=Simulador!$B$40),JG37,0)","v":0},{"$f":"+IF((INDEX($C$17:$AAT$17,JI17-1)=Simulador!$B$40),JH37,0)","v":0},{"$f":"+IF((INDEX($C$17:$AAT$17,JJ17-1)=Simulador!$B$40),JI37,0)","v":0},{"$f":"+IF((INDEX($C$17:$AAT$17,JK17-1)=Simulador!$B$40),JJ37,0)","v":0},{"$f":"+IF((INDEX($C$17:$AAT$17,JL17-1)=Simulador!$B$40),JK37,0)","v":0},{"$f":"+IF((INDEX($C$17:$AAT$17,JM17-1)=Simulador!$B$40),JL37,0)","v":0},{"$f":"+IF((INDEX($C$17:$AAT$17,JN17-1)=Simulador!$B$40),JM37,0)","v":0},{"$f":"+IF((INDEX($C$17:$AAT$17,JO17-1)=Simulador!$B$40),JN37,0)","v":0},{"$f":"+IF((INDEX($C$17:$AAT$17,JP17-1)=Simulador!$B$40),JO37,0)","v":0},{"$f":"+IF((INDEX($C$17:$AAT$17,JQ17-1)=Simulador!$B$40),JP37,0)","v":0},{"$f":"+IF((INDEX($C$17:$AAT$17,JR17-1)=Simulador!$B$40),JQ37,0)","v":0},{"$f":"+IF((INDEX($C$17:$AAT$17,JS17-1)=Simulador!$B$40),JR37,0)","v":0},{"$f":"+IF((INDEX($C$17:$AAT$17,JT17-1)=Simulador!$B$40),JS37,0)","v":0},{"$f":"+IF((INDEX($C$17:$AAT$17,JU17-1)=Simulador!$B$40),JT37,0)","v":0},{"$f":"+IF((INDEX($C$17:$AAT$17,JV17-1)=Simulador!$B$40),JU37,0)","v":0},{"$f":"+IF((INDEX($C$17:$AAT$17,JW17-1)=Simulador!$B$40),JV37,0)","v":0},{"$f":"+IF((INDEX($C$17:$AAT$17,JX17-1)=Simulador!$B$40),JW37,0)","v":0},{"$f":"+IF((INDEX($C$17:$AAT$17,JY17-1)=Simulador!$B$40),JX37,0)","v":0},{"$f":"+IF((INDEX($C$17:$AAT$17,JZ17-1)=Simulador!$B$40),JY37,0)","v":0},{"$f":"+IF((INDEX($C$17:$AAT$17,KA17-1)=Simulador!$B$40),JZ37,0)","v":0},{"$f":"+IF((INDEX($C$17:$AAT$17,KB17-1)=Simulador!$B$40),KA37,0)","v":0},{"$f":"+IF((INDEX($C$17:$AAT$17,KC17-1)=Simulador!$B$40),KB37,0)","v":0},{"$f":"+IF((INDEX($C$17:$AAT$17,KD17-1)=Simulador!$B$40),KC37,0)","v":0},{"$f":"+IF((INDEX($C$17:$AAT$17,KE17-1)=Simulador!$B$40),KD37,0)","v":0},{"$f":"+IF((INDEX($C$17:$AAT$17,KF17-1)=Simulador!$B$40),KE37,0)","v":0},{"$f":"+IF((INDEX($C$17:$AAT$17,KG17-1)=Simulador!$B$40),KF37,0)","v":0},{"$f":"+IF((INDEX($C$17:$AAT$17,KH17-1)=Simulador!$B$40),KG37,0)","v":0},{"$f":"+IF((INDEX($C$17:$AAT$17,KI17-1)=Simulador!$B$40),KH37,0)","v":0},{"$f":"+IF((INDEX($C$17:$AAT$17,KJ17-1)=Simulador!$B$40),KI37,0)","v":0},{"$f":"+IF((INDEX($C$17:$AAT$17,KK17-1)=Simulador!$B$40),KJ37,0)","v":0},{"$f":"+IF((INDEX($C$17:$AAT$17,KL17-1)=Simulador!$B$40),KK37,0)","v":0},{"$f":"+IF((INDEX($C$17:$AAT$17,KM17-1)=Simulador!$B$40),KL37,0)","v":0},{"$f":"+IF((INDEX($C$17:$AAT$17,KN17-1)=Simulador!$B$40),KM37,0)","v":0},{"$f":"+IF((INDEX($C$17:$AAT$17,KO17-1)=Simulador!$B$40),KN37,0)","v":0},{"$f":"+IF((INDEX($C$17:$AAT$17,KP17-1)=Simulador!$B$40),KO37,0)","v":0},{"$f":"+IF((INDEX($C$17:$AAT$17,KQ17-1)=Simulador!$B$40),KP37,0)","v":0},{"$f":"+IF((INDEX($C$17:$AAT$17,KR17-1)=Simulador!$B$40),KQ37,0)","v":0},{"$f":"+IF((INDEX($C$17:$AAT$17,KS17-1)=Simulador!$B$40),KR37,0)","v":0},{"$f":"+IF((INDEX($C$17:$AAT$17,KT17-1)=Simulador!$B$40),KS37,0)","v":0},{"$f":"+IF((INDEX($C$17:$AAT$17,KU17-1)=Simulador!$B$40),KT37,0)","v":0},{"$f":"+IF((INDEX($C$17:$AAT$17,KV17-1)=Simulador!$B$40),KU37,0)","v":0},{"$f":"+IF((INDEX($C$17:$AAT$17,KW17-1)=Simulador!$B$40),KV37,0)","v":0},{"$f":"+IF((INDEX($C$17:$AAT$17,KX17-1)=Simulador!$B$40),KW37,0)","v":0},{"$f":"+IF((INDEX($C$17:$AAT$17,KY17-1)=Simulador!$B$40),KX37,0)","v":0},{"$f":"+IF((INDEX($C$17:$AAT$17,KZ17-1)=Simulador!$B$40),KY37,0)","v":0},{"$f":"+IF((INDEX($C$17:$AAT$17,LA17-1)=Simulador!$B$40),KZ37,0)","v":0},{"$f":"+IF((INDEX($C$17:$AAT$17,LB17-1)=Simulador!$B$40),LA37,0)","v":0},{"$f":"+IF((INDEX($C$17:$AAT$17,LC17-1)=Simulador!$B$40),LB37,0)","v":0},{"$f":"+IF((INDEX($C$17:$AAT$17,LD17-1)=Simulador!$B$40),LC37,0)","v":0},{"$f":"+IF((INDEX($C$17:$AAT$17,LE17-1)=Simulador!$B$40),LD37,0)","v":0},{"$f":"+IF((INDEX($C$17:$AAT$17,LF17-1)=Simulador!$B$40),LE37,0)","v":0},{"$f":"+IF((INDEX($C$17:$AAT$17,LG17-1)=Simulador!$B$40),LF37,0)","v":0},{"$f":"+IF((INDEX($C$17:$AAT$17,LH17-1)=Simulador!$B$40),LG37,0)","v":0},{"$f":"+IF((INDEX($C$17:$AAT$17,LI17-1)=Simulador!$B$40),LH37,0)","v":0},{"$f":"+IF((INDEX($C$17:$AAT$17,LJ17-1)=Simulador!$B$40),LI37,0)","v":0},{"$f":"+IF((INDEX($C$17:$AAT$17,LK17-1)=Simulador!$B$40),LJ37,0)","v":0},{"$f":"+IF((INDEX($C$17:$AAT$17,LL17-1)=Simulador!$B$40),LK37,0)","v":0},{"$f":"+IF((INDEX($C$17:$AAT$17,LM17-1)=Simulador!$B$40),LL37,0)","v":0},{"$f":"+IF((INDEX($C$17:$AAT$17,LN17-1)=Simulador!$B$40),LM37,0)","v":0},{"$f":"+IF((INDEX($C$17:$AAT$17,LO17-1)=Simulador!$B$40),LN37,0)","v":0},{"$f":"+IF((INDEX($C$17:$AAT$17,LP17-1)=Simulador!$B$40),LO37,0)","v":0},{"$f":"+IF((INDEX($C$17:$AAT$17,LQ17-1)=Simulador!$B$40),LP37,0)","v":0},{"$f":"+IF((INDEX($C$17:$AAT$17,LR17-1)=Simulador!$B$40),LQ37,0)","v":0},{"$f":"+IF((INDEX($C$17:$AAT$17,LS17-1)=Simulador!$B$40),LR37,0)","v":0},{"$f":"+IF((INDEX($C$17:$AAT$17,LT17-1)=Simulador!$B$40),LS37,0)","v":0},{"$f":"+IF((INDEX($C$17:$AAT$17,LU17-1)=Simulador!$B$40),LT37,0)","v":0},{"$f":"+IF((INDEX($C$17:$AAT$17,LV17-1)=Simulador!$B$40),LU37,0)","v":0},{"$f":"+IF((INDEX($C$17:$AAT$17,LW17-1)=Simulador!$B$40),LV37,0)","v":0},{"$f":"+IF((INDEX($C$17:$AAT$17,LX17-1)=Simulador!$B$40),LW37,0)","v":0},{"$f":"+IF((INDEX($C$17:$AAT$17,LY17-1)=Simulador!$B$40),LX37,0)","v":0},{"$f":"+IF((INDEX($C$17:$AAT$17,LZ17-1)=Simulador!$B$40),LY37,0)","v":0},{"$f":"+IF((INDEX($C$17:$AAT$17,MA17-1)=Simulador!$B$40),LZ37,0)","v":0},{"$f":"+IF((INDEX($C$17:$AAT$17,MB17-1)=Simulador!$B$40),MA37,0)","v":0},{"$f":"+IF((INDEX($C$17:$AAT$17,MC17-1)=Simulador!$B$40),MB37,0)","v":0},{"$f":"+IF((INDEX($C$17:$AAT$17,MD17-1)=Simulador!$B$40),MC37,0)","v":0},{"$f":"+IF((INDEX($C$17:$AAT$17,ME17-1)=Simulador!$B$40),MD37,0)","v":0},{"$f":"+IF((INDEX($C$17:$AAT$17,MF17-1)=Simulador!$B$40),ME37,0)","v":0},{"$f":"+IF((INDEX($C$17:$AAT$17,MG17-1)=Simulador!$B$40),MF37,0)","v":0},{"$f":"+IF((INDEX($C$17:$AAT$17,MH17-1)=Simulador!$B$40),MG37,0)","v":0},{"$f":"+IF((INDEX($C$17:$AAT$17,MI17-1)=Simulador!$B$40),MH37,0)","v":0},{"$f":"+IF((INDEX($C$17:$AAT$17,MJ17-1)=Simulador!$B$40),MI37,0)","v":0},{"$f":"+IF((INDEX($C$17:$AAT$17,MK17-1)=Simulador!$B$40),MJ37,0)","v":0},{"$f":"+IF((INDEX($C$17:$AAT$17,ML17-1)=Simulador!$B$40),MK37,0)","v":0},{"$f":"+IF((INDEX($C$17:$AAT$17,MM17-1)=Simulador!$B$40),ML37,0)","v":0},{"$f":"+IF((INDEX($C$17:$AAT$17,MN17-1)=Simulador!$B$40),MM37,0)","v":0},{"$f":"+IF((INDEX($C$17:$AAT$17,MO17-1)=Simulador!$B$40),MN37,0)","v":0},{"$f":"+IF((INDEX($C$17:$AAT$17,MP17-1)=Simulador!$B$40),MO37,0)","v":0},{"$f":"+IF((INDEX($C$17:$AAT$17,MQ17-1)=Simulador!$B$40),MP37,0)","v":0},{"$f":"+IF((INDEX($C$17:$AAT$17,MR17-1)=Simulador!$B$40),MQ37,0)","v":0},{"$f":"+IF((INDEX($C$17:$AAT$17,MS17-1)=Simulador!$B$40),MR37,0)","v":0},{"$f":"+IF((INDEX($C$17:$AAT$17,MT17-1)=Simulador!$B$40),MS37,0)","v":0},{"$f":"+IF((INDEX($C$17:$AAT$17,MU17-1)=Simulador!$B$40),MT37,0)","v":0},{"$f":"+IF((INDEX($C$17:$AAT$17,MV17-1)=Simulador!$B$40),MU37,0)","v":0},{"$f":"+IF((INDEX($C$17:$AAT$17,MW17-1)=Simulador!$B$40),MV37,0)","v":0},{"$f":"+IF((INDEX($C$17:$AAT$17,MX17-1)=Simulador!$B$40),MW37,0)","v":0},{"$f":"+IF((INDEX($C$17:$AAT$17,MY17-1)=Simulador!$B$40),MX37,0)","v":0},{"$f":"+IF((INDEX($C$17:$AAT$17,MZ17-1)=Simulador!$B$40),MY37,0)","v":0},{"$f":"+IF((INDEX($C$17:$AAT$17,NA17-1)=Simulador!$B$40),MZ37,0)","v":0},{"$f":"+IF((INDEX($C$17:$AAT$17,NB17-1)=Simulador!$B$40),NA37,0)","v":0},{"$f":"+IF((INDEX($C$17:$AAT$17,NC17-1)=Simulador!$B$40),NB37,0)","v":0},{"$f":"+IF((INDEX($C$17:$AAT$17,ND17-1)=Simulador!$B$40),NC37,0)","v":0},{"$f":"+IF((INDEX($C$17:$AAT$17,NE17-1)=Simulador!$B$40),ND37,0)","v":0},{"$f":"+IF((INDEX($C$17:$AAT$17,NF17-1)=Simulador!$B$40),NE37,0)","v":0},{"$f":"+IF((INDEX($C$17:$AAT$17,NG17-1)=Simulador!$B$40),NF37,0)","v":0},{"$f":"+IF((INDEX($C$17:$AAT$17,NH17-1)=Simulador!$B$40),NG37,0)","v":0},{"$f":"+IF((INDEX($C$17:$AAT$17,NI17-1)=Simulador!$B$40),NH37,0)","v":0},{"$f":"+IF((INDEX($C$17:$AAT$17,NJ17-1)=Simulador!$B$40),NI37,0)","v":0},{"$f":"+IF((INDEX($C$17:$AAT$17,NK17-1)=Simulador!$B$40),NJ37,0)","v":0},{"$f":"+IF((INDEX($C$17:$AAT$17,NL17-1)=Simulador!$B$40),NK37,0)","v":0},{"$f":"+IF((INDEX($C$17:$AAT$17,NM17-1)=Simulador!$B$40),NL37,0)","v":0},{"$f":"+IF((INDEX($C$17:$AAT$17,NN17-1)=Simulador!$B$40),NM37,0)","v":0},{"$f":"+IF((INDEX($C$17:$AAT$17,NO17-1)=Simulador!$B$40),NN37,0)","v":0},{"$f":"+IF((INDEX($C$17:$AAT$17,NP17-1)=Simulador!$B$40),NO37,0)","v":0},{"$f":"+IF((INDEX($C$17:$AAT$17,NQ17-1)=Simulador!$B$40),NP37,0)","v":0},{"$f":"+IF((INDEX($C$17:$AAT$17,NR17-1)=Simulador!$B$40),NQ37,0)","v":0},{"$f":"+IF((INDEX($C$17:$AAT$17,NS17-1)=Simulador!$B$40),NR37,0)","v":0},{"$f":"+IF((INDEX($C$17:$AAT$17,NT17-1)=Simulador!$B$40),NS37,0)","v":0},{"$f":"+IF((INDEX($C$17:$AAT$17,NU17-1)=Simulador!$B$40),NT37,0)","v":0},{"$f":"+IF((INDEX($C$17:$AAT$17,NV17-1)=Simulador!$B$40),NU37,0)","v":0},{"$f":"+IF((INDEX($C$17:$AAT$17,NW17-1)=Simulador!$B$40),NV37,0)","v":0},{"$f":"+IF((INDEX($C$17:$AAT$17,NX17-1)=Simulador!$B$40),NW37,0)","v":0},{"$f":"+IF((INDEX($C$17:$AAT$17,NY17-1)=Simulador!$B$40),NX37,0)","v":0},{"$f":"+IF((INDEX($C$17:$AAT$17,NZ17-1)=Simulador!$B$40),NY37,0)","v":0},{"$f":"+IF((INDEX($C$17:$AAT$17,OA17-1)=Simulador!$B$40),NZ37,0)","v":0},{"$f":"+IF((INDEX($C$17:$AAT$17,OB17-1)=Simulador!$B$40),OA37,0)","v":0},{"$f":"+IF((INDEX($C$17:$AAT$17,OC17-1)=Simulador!$B$40),OB37,0)","v":0},{"$f":"+IF((INDEX($C$17:$AAT$17,OD17-1)=Simulador!$B$40),OC37,0)","v":0},{"$f":"+IF((INDEX($C$17:$AAT$17,OE17-1)=Simulador!$B$40),OD37,0)","v":0},{"$f":"+IF((INDEX($C$17:$AAT$17,OF17-1)=Simulador!$B$40),OE37,0)","v":0},{"$f":"+IF((INDEX($C$17:$AAT$17,OG17-1)=Simulador!$B$40),OF37,0)","v":0},{"$f":"+IF((INDEX($C$17:$AAT$17,OH17-1)=Simulador!$B$40),OG37,0)","v":0},{"$f":"+IF((INDEX($C$17:$AAT$17,OI17-1)=Simulador!$B$40),OH37,0)","v":0},{"$f":"+IF((INDEX($C$17:$AAT$17,OJ17-1)=Simulador!$B$40),OI37,0)","v":0},{"$f":"+IF((INDEX($C$17:$AAT$17,OK17-1)=Simulador!$B$40),OJ37,0)","v":0},{"$f":"+IF((INDEX($C$17:$AAT$17,OL17-1)=Simulador!$B$40),OK37,0)","v":0},{"$f":"+IF((INDEX($C$17:$AAT$17,OM17-1)=Simulador!$B$40),OL37,0)","v":0},{"$f":"+IF((INDEX($C$17:$AAT$17,ON17-1)=Simulador!$B$40),OM37,0)","v":0},{"$f":"+IF((INDEX($C$17:$AAT$17,OO17-1)=Simulador!$B$40),ON37,0)","v":0},{"$f":"+IF((INDEX($C$17:$AAT$17,OP17-1)=Simulador!$B$40),OO37,0)","v":0},{"$f":"+IF((INDEX($C$17:$AAT$17,OQ17-1)=Simulador!$B$40),OP37,0)","v":0},{"$f":"+IF((INDEX($C$17:$AAT$17,OR17-1)=Simulador!$B$40),OQ37,0)","v":0},{"$f":"+IF((INDEX($C$17:$AAT$17,OS17-1)=Simulador!$B$40),OR37,0)","v":0},{"$f":"+IF((INDEX($C$17:$AAT$17,OT17-1)=Simulador!$B$40),OS37,0)","v":0},{"$f":"+IF((INDEX($C$17:$AAT$17,OU17-1)=Simulador!$B$40),OT37,0)","v":0},{"$f":"+IF((INDEX($C$17:$AAT$17,OV17-1)=Simulador!$B$40),OU37,0)","v":0},{"$f":"+IF((INDEX($C$17:$AAT$17,OW17-1)=Simulador!$B$40),OV37,0)","v":0},{"$f":"+IF((INDEX($C$17:$AAT$17,OX17-1)=Simulador!$B$40),OW37,0)","v":0},{"$f":"+IF((INDEX($C$17:$AAT$17,OY17-1)=Simulador!$B$40),OX37,0)","v":0},{"$f":"+IF((INDEX($C$17:$AAT$17,OZ17-1)=Simulador!$B$40),OY37,0)","v":0},{"$f":"+IF((INDEX($C$17:$AAT$17,PA17-1)=Simulador!$B$40),OZ37,0)","v":0},{"$f":"+IF((INDEX($C$17:$AAT$17,PB17-1)=Simulador!$B$40),PA37,0)","v":0},{"$f":"+IF((INDEX($C$17:$AAT$17,PC17-1)=Simulador!$B$40),PB37,0)","v":0},{"$f":"+IF((INDEX($C$17:$AAT$17,PD17-1)=Simulador!$B$40),PC37,0)","v":0},{"$f":"+IF((INDEX($C$17:$AAT$17,PE17-1)=Simulador!$B$40),PD37,0)","v":0},{"$f":"+IF((INDEX($C$17:$AAT$17,PF17-1)=Simulador!$B$40),PE37,0)","v":0},{"$f":"+IF((INDEX($C$17:$AAT$17,PG17-1)=Simulador!$B$40),PF37,0)","v":0},{"$f":"+IF((INDEX($C$17:$AAT$17,PH17-1)=Simulador!$B$40),PG37,0)","v":0},{"$f":"+IF((INDEX($C$17:$AAT$17,PI17-1)=Simulador!$B$40),PH37,0)","v":0},{"$f":"+IF((INDEX($C$17:$AAT$17,PJ17-1)=Simulador!$B$40),PI37,0)","v":0},{"$f":"+IF((INDEX($C$17:$AAT$17,PK17-1)=Simulador!$B$40),PJ37,0)","v":0},{"$f":"+IF((INDEX($C$17:$AAT$17,PL17-1)=Simulador!$B$40),PK37,0)","v":0},{"$f":"+IF((INDEX($C$17:$AAT$17,PM17-1)=Simulador!$B$40),PL37,0)","v":0},{"$f":"+IF((INDEX($C$17:$AAT$17,PN17-1)=Simulador!$B$40),PM37,0)","v":0},{"$f":"+IF((INDEX($C$17:$AAT$17,PO17-1)=Simulador!$B$40),PN37,0)","v":0},{"$f":"+IF((INDEX($C$17:$AAT$17,PP17-1)=Simulador!$B$40),PO37,0)","v":0},{"$f":"+IF((INDEX($C$17:$AAT$17,PQ17-1)=Simulador!$B$40),PP37,0)","v":0},{"$f":"+IF((INDEX($C$17:$AAT$17,PR17-1)=Simulador!$B$40),PQ37,0)","v":0},{"$f":"+IF((INDEX($C$17:$AAT$17,PS17-1)=Simulador!$B$40),PR37,0)","v":0},{"$f":"+IF((INDEX($C$17:$AAT$17,PT17-1)=Simulador!$B$40),PS37,0)","v":0},{"$f":"+IF((INDEX($C$17:$AAT$17,PU17-1)=Simulador!$B$40),PT37,0)","v":0},{"$f":"+IF((INDEX($C$17:$AAT$17,PV17-1)=Simulador!$B$40),PU37,0)","v":0},{"$f":"+IF((INDEX($C$17:$AAT$17,PW17-1)=Simulador!$B$40),PV37,0)","v":0},{"$f":"+IF((INDEX($C$17:$AAT$17,PX17-1)=Simulador!$B$40),PW37,0)","v":0},{"$f":"+IF((INDEX($C$17:$AAT$17,PY17-1)=Simulador!$B$40),PX37,0)","v":0},{"$f":"+IF((INDEX($C$17:$AAT$17,PZ17-1)=Simulador!$B$40),PY37,0)","v":0},{"$f":"+IF((INDEX($C$17:$AAT$17,QA17-1)=Simulador!$B$40),PZ37,0)","v":0},{"$f":"+IF((INDEX($C$17:$AAT$17,QB17-1)=Simulador!$B$40),QA37,0)","v":0},{"$f":"+IF((INDEX($C$17:$AAT$17,QC17-1)=Simulador!$B$40),QB37,0)","v":0},{"$f":"+IF((INDEX($C$17:$AAT$17,QD17-1)=Simulador!$B$40),QC37,0)","v":0},{"$f":"+IF((INDEX($C$17:$AAT$17,QE17-1)=Simulador!$B$40),QD37,0)","v":0},{"$f":"+IF((INDEX($C$17:$AAT$17,QF17-1)=Simulador!$B$40),QE37,0)","v":0},{"$f":"+IF((INDEX($C$17:$AAT$17,QG17-1)=Simulador!$B$40),QF37,0)","v":0},{"$f":"+IF((INDEX($C$17:$AAT$17,QH17-1)=Simulador!$B$40),QG37,0)","v":0},{"$f":"+IF((INDEX($C$17:$AAT$17,QI17-1)=Simulador!$B$40),QH37,0)","v":0},{"$f":"+IF((INDEX($C$17:$AAT$17,QJ17-1)=Simulador!$B$40),QI37,0)","v":0},{"$f":"+IF((INDEX($C$17:$AAT$17,QK17-1)=Simulador!$B$40),QJ37,0)","v":0},{"$f":"+IF((INDEX($C$17:$AAT$17,QL17-1)=Simulador!$B$40),QK37,0)","v":0},{"$f":"+IF((INDEX($C$17:$AAT$17,QM17-1)=Simulador!$B$40),QL37,0)","v":0},{"$f":"+IF((INDEX($C$17:$AAT$17,QN17-1)=Simulador!$B$40),QM37,0)","v":0},{"$f":"+IF((INDEX($C$17:$AAT$17,QO17-1)=Simulador!$B$40),QN37,0)","v":0},{"$f":"+IF((INDEX($C$17:$AAT$17,QP17-1)=Simulador!$B$40),QO37,0)","v":0},{"$f":"+IF((INDEX($C$17:$AAT$17,QQ17-1)=Simulador!$B$40),QP37,0)","v":0},{"$f":"+IF((INDEX($C$17:$AAT$17,QR17-1)=Simulador!$B$40),QQ37,0)","v":0},{"$f":"+IF((INDEX($C$17:$AAT$17,QS17-1)=Simulador!$B$40),QR37,0)","v":0},{"$f":"+IF((INDEX($C$17:$AAT$17,QT17-1)=Simulador!$B$40),QS37,0)","v":0},{"$f":"+IF((INDEX($C$17:$AAT$17,QU17-1)=Simulador!$B$40),QT37,0)","v":0},{"$f":"+IF((INDEX($C$17:$AAT$17,QV17-1)=Simulador!$B$40),QU37,0)","v":0},{"$f":"+IF((INDEX($C$17:$AAT$17,QW17-1)=Simulador!$B$40),QV37,0)","v":0},{"$f":"+IF((INDEX($C$17:$AAT$17,QX17-1)=Simulador!$B$40),QW37,0)","v":0},{"$f":"+IF((INDEX($C$17:$AAT$17,QY17-1)=Simulador!$B$40),QX37,0)","v":0},{"$f":"+IF((INDEX($C$17:$AAT$17,QZ17-1)=Simulador!$B$40),QY37,0)","v":0},{"$f":"+IF((INDEX($C$17:$AAT$17,RA17-1)=Simulador!$B$40),QZ37,0)","v":0},{"$f":"+IF((INDEX($C$17:$AAT$17,RB17-1)=Simulador!$B$40),RA37,0)","v":0},{"$f":"+IF((INDEX($C$17:$AAT$17,RC17-1)=Simulador!$B$40),RB37,0)","v":0},{"$f":"+IF((INDEX($C$17:$AAT$17,RD17-1)=Simulador!$B$40),RC37,0)","v":0},{"$f":"+IF((INDEX($C$17:$AAT$17,RE17-1)=Simulador!$B$40),RD37,0)","v":0},{"$f":"+IF((INDEX($C$17:$AAT$17,RF17-1)=Simulador!$B$40),RE37,0)","v":0},{"$f":"+IF((INDEX($C$17:$AAT$17,RG17-1)=Simulador!$B$40),RF37,0)","v":0},{"$f":"+IF((INDEX($C$17:$AAT$17,RH17-1)=Simulador!$B$40),RG37,0)","v":0},{"$f":"+IF((INDEX($C$17:$AAT$17,RI17-1)=Simulador!$B$40),RH37,0)","v":0},{"$f":"+IF((INDEX($C$17:$AAT$17,RJ17-1)=Simulador!$B$40),RI37,0)","v":0},{"$f":"+IF((INDEX($C$17:$AAT$17,RK17-1)=Simulador!$B$40),RJ37,0)","v":0},{"$f":"+IF((INDEX($C$17:$AAT$17,RL17-1)=Simulador!$B$40),RK37,0)","v":0},{"$f":"+IF((INDEX($C$17:$AAT$17,RM17-1)=Simulador!$B$40),RL37,0)","v":0},{"$f":"+IF((INDEX($C$17:$AAT$17,RN17-1)=Simulador!$B$40),RM37,0)","v":0},{"$f":"+IF((INDEX($C$17:$AAT$17,RO17-1)=Simulador!$B$40),RN37,0)","v":0},{"$f":"+IF((INDEX($C$17:$AAT$17,RP17-1)=Simulador!$B$40),RO37,0)","v":0},{"$f":"+IF((INDEX($C$17:$AAT$17,RQ17-1)=Simulador!$B$40),RP37,0)","v":0},{"$f":"+IF((INDEX($C$17:$AAT$17,RR17-1)=Simulador!$B$40),RQ37,0)","v":0},{"$f":"+IF((INDEX($C$17:$AAT$17,RS17-1)=Simulador!$B$40),RR37,0)","v":0},{"$f":"+IF((INDEX($C$17:$AAT$17,RT17-1)=Simulador!$B$40),RS37,0)","v":0},{"$f":"+IF((INDEX($C$17:$AAT$17,RU17-1)=Simulador!$B$40),RT37,0)","v":0},{"$f":"+IF((INDEX($C$17:$AAT$17,RV17-1)=Simulador!$B$40),RU37,0)","v":0},{"$f":"+IF((INDEX($C$17:$AAT$17,RW17-1)=Simulador!$B$40),RV37,0)","v":0},{"$f":"+IF((INDEX($C$17:$AAT$17,RX17-1)=Simulador!$B$40),RW37,0)","v":0},{"$f":"+IF((INDEX($C$17:$AAT$17,RY17-1)=Simulador!$B$40),RX37,0)","v":0},{"$f":"+IF((INDEX($C$17:$AAT$17,RZ17-1)=Simulador!$B$40),RY37,0)","v":0},{"$f":"+IF((INDEX($C$17:$AAT$17,SA17-1)=Simulador!$B$40),RZ37,0)","v":0},{"$f":"+IF((INDEX($C$17:$AAT$17,SB17-1)=Simulador!$B$40),SA37,0)","v":0},{"$f":"+IF((INDEX($C$17:$AAT$17,SC17-1)=Simulador!$B$40),SB37,0)","v":0},{"$f":"+IF((INDEX($C$17:$AAT$17,SD17-1)=Simulador!$B$40),SC37,0)","v":0},{"$f":"+IF((INDEX($C$17:$AAT$17,SE17-1)=Simulador!$B$40),SD37,0)","v":0},{"$f":"+IF((INDEX($C$17:$AAT$17,SF17-1)=Simulador!$B$40),SE37,0)","v":0},{"$f":"+IF((INDEX($C$17:$AAT$17,SG17-1)=Simulador!$B$40),SF37,0)","v":0},{"$f":"+IF((INDEX($C$17:$AAT$17,SH17-1)=Simulador!$B$40),SG37,0)","v":0},{"$f":"+IF((INDEX($C$17:$AAT$17,SI17-1)=Simulador!$B$40),SH37,0)","v":0},{"$f":"+IF((INDEX($C$17:$AAT$17,SJ17-1)=Simulador!$B$40),SI37,0)","v":0},{"$f":"+IF((INDEX($C$17:$AAT$17,SK17-1)=Simulador!$B$40),SJ37,0)","v":0},{"$f":"+IF((INDEX($C$17:$AAT$17,SL17-1)=Simulador!$B$40),SK37,0)","v":0},{"$f":"+IF((INDEX($C$17:$AAT$17,SM17-1)=Simulador!$B$40),SL37,0)","v":0},{"$f":"+IF((INDEX($C$17:$AAT$17,SN17-1)=Simulador!$B$40),SM37,0)","v":0},{"$f":"+IF((INDEX($C$17:$AAT$17,SO17-1)=Simulador!$B$40),SN37,0)","v":0},{"$f":"+IF((INDEX($C$17:$AAT$17,SP17-1)=Simulador!$B$40),SO37,0)","v":0},{"$f":"+IF((INDEX($C$17:$AAT$17,SQ17-1)=Simulador!$B$40),SP37,0)","v":0},{"$f":"+IF((INDEX($C$17:$AAT$17,SR17-1)=Simulador!$B$40),SQ37,0)","v":0},{"$f":"+IF((INDEX($C$17:$AAT$17,SS17-1)=Simulador!$B$40),SR37,0)","v":0},{"$f":"+IF((INDEX($C$17:$AAT$17,ST17-1)=Simulador!$B$40),SS37,0)","v":0},{"$f":"+IF((INDEX($C$17:$AAT$17,SU17-1)=Simulador!$B$40),ST37,0)","v":0},{"$f":"+IF((INDEX($C$17:$AAT$17,SV17-1)=Simulador!$B$40),SU37,0)","v":0},{"$f":"+IF((INDEX($C$17:$AAT$17,SW17-1)=Simulador!$B$40),SV37,0)","v":0},{"$f":"+IF((INDEX($C$17:$AAT$17,SX17-1)=Simulador!$B$40),SW37,0)","v":0},{"$f":"+IF((INDEX($C$17:$AAT$17,SY17-1)=Simulador!$B$40),SX37,0)","v":0},{"$f":"+IF((INDEX($C$17:$AAT$17,SZ17-1)=Simulador!$B$40),SY37,0)","v":0},{"$f":"+IF((INDEX($C$17:$AAT$17,TA17-1)=Simulador!$B$40),SZ37,0)","v":0},{"$f":"+IF((INDEX($C$17:$AAT$17,TB17-1)=Simulador!$B$40),TA37,0)","v":0},{"$f":"+IF((INDEX($C$17:$AAT$17,TC17-1)=Simulador!$B$40),TB37,0)","v":0},{"$f":"+IF((INDEX($C$17:$AAT$17,TD17-1)=Simulador!$B$40),TC37,0)","v":0},{"$f":"+IF((INDEX($C$17:$AAT$17,TE17-1)=Simulador!$B$40),TD37,0)","v":0},{"$f":"+IF((INDEX($C$17:$AAT$17,TF17-1)=Simulador!$B$40),TE37,0)","v":0},{"$f":"+IF((INDEX($C$17:$AAT$17,TG17-1)=Simulador!$B$40),TF37,0)","v":0},{"$f":"+IF((INDEX($C$17:$AAT$17,TH17-1)=Simulador!$B$40),TG37,0)","v":0},{"$f":"+IF((INDEX($C$17:$AAT$17,TI17-1)=Simulador!$B$40),TH37,0)","v":0},{"$f":"+IF((INDEX($C$17:$AAT$17,TJ17-1)=Simulador!$B$40),TI37,0)","v":0},{"$f":"+IF((INDEX($C$17:$AAT$17,TK17-1)=Simulador!$B$40),TJ37,0)","v":0},{"$f":"+IF((INDEX($C$17:$AAT$17,TL17-1)=Simulador!$B$40),TK37,0)","v":0},{"$f":"+IF((INDEX($C$17:$AAT$17,TM17-1)=Simulador!$B$40),TL37,0)","v":0},{"$f":"+IF((INDEX($C$17:$AAT$17,TN17-1)=Simulador!$B$40),TM37,0)","v":0},{"$f":"+IF((INDEX($C$17:$AAT$17,TO17-1)=Simulador!$B$40),TN37,0)","v":0},{"$f":"+IF((INDEX($C$17:$AAT$17,TP17-1)=Simulador!$B$40),TO37,0)","v":0},{"$f":"+IF((INDEX($C$17:$AAT$17,TQ17-1)=Simulador!$B$40),TP37,0)","v":0},{"$f":"+IF((INDEX($C$17:$AAT$17,TR17-1)=Simulador!$B$40),TQ37,0)","v":0},{"$f":"+IF((INDEX($C$17:$AAT$17,TS17-1)=Simulador!$B$40),TR37,0)","v":0},{"$f":"+IF((INDEX($C$17:$AAT$17,TT17-1)=Simulador!$B$40),TS37,0)","v":0},{"$f":"+IF((INDEX($C$17:$AAT$17,TU17-1)=Simulador!$B$40),TT37,0)","v":0},{"$f":"+IF((INDEX($C$17:$AAT$17,TV17-1)=Simulador!$B$40),TU37,0)","v":0},{"$f":"+IF((INDEX($C$17:$AAT$17,TW17-1)=Simulador!$B$40),TV37,0)","v":0},{"$f":"+IF((INDEX($C$17:$AAT$17,TX17-1)=Simulador!$B$40),TW37,0)","v":0},{"$f":"+IF((INDEX($C$17:$AAT$17,TY17-1)=Simulador!$B$40),TX37,0)","v":0},{"$f":"+IF((INDEX($C$17:$AAT$17,TZ17-1)=Simulador!$B$40),TY37,0)","v":0},{"$f":"+IF((INDEX($C$17:$AAT$17,UA17-1)=Simulador!$B$40),TZ37,0)","v":0},{"$f":"+IF((INDEX($C$17:$AAT$17,UB17-1)=Simulador!$B$40),UA37,0)","v":0},{"$f":"+IF((INDEX($C$17:$AAT$17,UC17-1)=Simulador!$B$40),UB37,0)","v":0},{"$f":"+IF((INDEX($C$17:$AAT$17,UD17-1)=Simulador!$B$40),UC37,0)","v":0},{"$f":"+IF((INDEX($C$17:$AAT$17,UE17-1)=Simulador!$B$40),UD37,0)","v":0},{"$f":"+IF((INDEX($C$17:$AAT$17,UF17-1)=Simulador!$B$40),UE37,0)","v":0},{"$f":"+IF((INDEX($C$17:$AAT$17,UG17-1)=Simulador!$B$40),UF37,0)","v":0},{"$f":"+IF((INDEX($C$17:$AAT$17,UH17-1)=Simulador!$B$40),UG37,0)","v":0},{"$f":"+IF((INDEX($C$17:$AAT$17,UI17-1)=Simulador!$B$40),UH37,0)","v":0},{"$f":"+IF((INDEX($C$17:$AAT$17,UJ17-1)=Simulador!$B$40),UI37,0)","v":0},{"$f":"+IF((INDEX($C$17:$AAT$17,UK17-1)=Simulador!$B$40),UJ37,0)","v":0},{"$f":"+IF((INDEX($C$17:$AAT$17,UL17-1)=Simulador!$B$40),UK37,0)","v":0},{"$f":"+IF((INDEX($C$17:$AAT$17,UM17-1)=Simulador!$B$40),UL37,0)","v":0},{"$f":"+IF((INDEX($C$17:$AAT$17,UN17-1)=Simulador!$B$40),UM37,0)","v":0},{"$f":"+IF((INDEX($C$17:$AAT$17,UO17-1)=Simulador!$B$40),UN37,0)","v":0},{"$f":"+IF((INDEX($C$17:$AAT$17,UP17-1)=Simulador!$B$40),UO37,0)","v":0},{"$f":"+IF((INDEX($C$17:$AAT$17,UQ17-1)=Simulador!$B$40),UP37,0)","v":0},{"$f":"+IF((INDEX($C$17:$AAT$17,UR17-1)=Simulador!$B$40),UQ37,0)","v":0},{"$f":"+IF((INDEX($C$17:$AAT$17,US17-1)=Simulador!$B$40),UR37,0)","v":0},{"$f":"+IF((INDEX($C$17:$AAT$17,UT17-1)=Simulador!$B$40),US37,0)","v":0},{"$f":"+IF((INDEX($C$17:$AAT$17,UU17-1)=Simulador!$B$40),UT37,0)","v":0},{"$f":"+IF((INDEX($C$17:$AAT$17,UV17-1)=Simulador!$B$40),UU37,0)","v":0},{"$f":"+IF((INDEX($C$17:$AAT$17,UW17-1)=Simulador!$B$40),UV37,0)","v":0},{"$f":"+IF((INDEX($C$17:$AAT$17,UX17-1)=Simulador!$B$40),UW37,0)","v":0},{"$f":"+IF((INDEX($C$17:$AAT$17,UY17-1)=Simulador!$B$40),UX37,0)","v":0},{"$f":"+IF((INDEX($C$17:$AAT$17,UZ17-1)=Simulador!$B$40),UY37,0)","v":0},{"$f":"+IF((INDEX($C$17:$AAT$17,VA17-1)=Simulador!$B$40),UZ37,0)","v":0},{"$f":"+IF((INDEX($C$17:$AAT$17,VB17-1)=Simulador!$B$40),VA37,0)","v":0},{"$f":"+IF((INDEX($C$17:$AAT$17,VC17-1)=Simulador!$B$40),VB37,0)","v":0},{"$f":"+IF((INDEX($C$17:$AAT$17,VD17-1)=Simulador!$B$40),VC37,0)","v":0},{"$f":"+IF((INDEX($C$17:$AAT$17,VE17-1)=Simulador!$B$40),VD37,0)","v":0},{"$f":"+IF((INDEX($C$17:$AAT$17,VF17-1)=Simulador!$B$40),VE37,0)","v":0},{"$f":"+IF((INDEX($C$17:$AAT$17,VG17-1)=Simulador!$B$40),VF37,0)","v":0},{"$f":"+IF((INDEX($C$17:$AAT$17,VH17-1)=Simulador!$B$40),VG37,0)","v":0},{"$f":"+IF((INDEX($C$17:$AAT$17,VI17-1)=Simulador!$B$40),VH37,0)","v":0},{"$f":"+IF((INDEX($C$17:$AAT$17,VJ17-1)=Simulador!$B$40),VI37,0)","v":0},{"$f":"+IF((INDEX($C$17:$AAT$17,VK17-1)=Simulador!$B$40),VJ37,0)","v":0},{"$f":"+IF((INDEX($C$17:$AAT$17,VL17-1)=Simulador!$B$40),VK37,0)","v":0},{"$f":"+IF((INDEX($C$17:$AAT$17,VM17-1)=Simulador!$B$40),VL37,0)","v":0},{"$f":"+IF((INDEX($C$17:$AAT$17,VN17-1)=Simulador!$B$40),VM37,0)","v":0},{"$f":"+IF((INDEX($C$17:$AAT$17,VO17-1)=Simulador!$B$40),VN37,0)","v":0},{"$f":"+IF((INDEX($C$17:$AAT$17,VP17-1)=Simulador!$B$40),VO37,0)","v":0},{"$f":"+IF((INDEX($C$17:$AAT$17,VQ17-1)=Simulador!$B$40),VP37,0)","v":0},{"$f":"+IF((INDEX($C$17:$AAT$17,VR17-1)=Simulador!$B$40),VQ37,0)","v":0},{"$f":"+IF((INDEX($C$17:$AAT$17,VS17-1)=Simulador!$B$40),VR37,0)","v":0},{"$f":"+IF((INDEX($C$17:$AAT$17,VT17-1)=Simulador!$B$40),VS37,0)","v":0},{"$f":"+IF((INDEX($C$17:$AAT$17,VU17-1)=Simulador!$B$40),VT37,0)","v":0},{"$f":"+IF((INDEX($C$17:$AAT$17,VV17-1)=Simulador!$B$40),VU37,0)","v":0},{"$f":"+IF((INDEX($C$17:$AAT$17,VW17-1)=Simulador!$B$40),VV37,0)","v":0},{"$f":"+IF((INDEX($C$17:$AAT$17,VX17-1)=Simulador!$B$40),VW37,0)","v":0},{"$f":"+IF((INDEX($C$17:$AAT$17,VY17-1)=Simulador!$B$40),VX37,0)","v":0},{"$f":"+IF((INDEX($C$17:$AAT$17,VZ17-1)=Simulador!$B$40),VY37,0)","v":0},{"$f":"+IF((INDEX($C$17:$AAT$17,WA17-1)=Simulador!$B$40),VZ37,0)","v":0},{"$f":"+IF((INDEX($C$17:$AAT$17,WB17-1)=Simulador!$B$40),WA37,0)","v":0},{"$f":"+IF((INDEX($C$17:$AAT$17,WC17-1)=Simulador!$B$40),WB37,0)","v":0},{"$f":"+IF((INDEX($C$17:$AAT$17,WD17-1)=Simulador!$B$40),WC37,0)","v":0},{"$f":"+IF((INDEX($C$17:$AAT$17,WE17-1)=Simulador!$B$40),WD37,0)","v":0},{"$f":"+IF((INDEX($C$17:$AAT$17,WF17-1)=Simulador!$B$40),WE37,0)","v":0},{"$f":"+IF((INDEX($C$17:$AAT$17,WG17-1)=Simulador!$B$40),WF37,0)","v":0},{"$f":"+IF((INDEX($C$17:$AAT$17,WH17-1)=Simulador!$B$40),WG37,0)","v":0},{"$f":"+IF((INDEX($C$17:$AAT$17,WI17-1)=Simulador!$B$40),WH37,0)","v":0},{"$f":"+IF((INDEX($C$17:$AAT$17,WJ17-1)=Simulador!$B$40),WI37,0)","v":0},{"$f":"+IF((INDEX($C$17:$AAT$17,WK17-1)=Simulador!$B$40),WJ37,0)","v":0},{"$f":"+IF((INDEX($C$17:$AAT$17,WL17-1)=Simulador!$B$40),WK37,0)","v":0},{"$f":"+IF((INDEX($C$17:$AAT$17,WM17-1)=Simulador!$B$40),WL37,0)","v":0},{"$f":"+IF((INDEX($C$17:$AAT$17,WN17-1)=Simulador!$B$40),WM37,0)","v":0},{"$f":"+IF((INDEX($C$17:$AAT$17,WO17-1)=Simulador!$B$40),WN37,0)","v":0},{"$f":"+IF((INDEX($C$17:$AAT$17,WP17-1)=Simulador!$B$40),WO37,0)","v":0},{"$f":"+IF((INDEX($C$17:$AAT$17,WQ17-1)=Simulador!$B$40),WP37,0)","v":0},{"$f":"+IF((INDEX($C$17:$AAT$17,WR17-1)=Simulador!$B$40),WQ37,0)","v":0},{"$f":"+IF((INDEX($C$17:$AAT$17,WS17-1)=Simulador!$B$40),WR37,0)","v":0},{"$f":"+IF((INDEX($C$17:$AAT$17,WT17-1)=Simulador!$B$40),WS37,0)","v":0},{"$f":"+IF((INDEX($C$17:$AAT$17,WU17-1)=Simulador!$B$40),WT37,0)","v":0},{"$f":"+IF((INDEX($C$17:$AAT$17,WV17-1)=Simulador!$B$40),WU37,0)","v":0},{"$f":"+IF((INDEX($C$17:$AAT$17,WW17-1)=Simulador!$B$40),WV37,0)","v":0},{"$f":"+IF((INDEX($C$17:$AAT$17,WX17-1)=Simulador!$B$40),WW37,0)","v":0},{"$f":"+IF((INDEX($C$17:$AAT$17,WY17-1)=Simulador!$B$40),WX37,0)","v":0},{"$f":"+IF((INDEX($C$17:$AAT$17,WZ17-1)=Simulador!$B$40),WY37,0)","v":0},{"$f":"+IF((INDEX($C$17:$AAT$17,XA17-1)=Simulador!$B$40),WZ37,0)","v":0},{"$f":"+IF((INDEX($C$17:$AAT$17,XB17-1)=Simulador!$B$40),XA37,0)","v":0},{"$f":"+IF((INDEX($C$17:$AAT$17,XC17-1)=Simulador!$B$40),XB37,0)","v":0},{"$f":"+IF((INDEX($C$17:$AAT$17,XD17-1)=Simulador!$B$40),XC37,0)","v":0},{"$f":"+IF((INDEX($C$17:$AAT$17,XE17-1)=Simulador!$B$40),XD37,0)","v":0},{"$f":"+IF((INDEX($C$17:$AAT$17,XF17-1)=Simulador!$B$40),XE37,0)","v":0},{"$f":"+IF((INDEX($C$17:$AAT$17,XG17-1)=Simulador!$B$40),XF37,0)","v":0},{"$f":"+IF((INDEX($C$17:$AAT$17,XH17-1)=Simulador!$B$40),XG37,0)","v":0},{"$f":"+IF((INDEX($C$17:$AAT$17,XI17-1)=Simulador!$B$40),XH37,0)","v":0},{"$f":"+IF((INDEX($C$17:$AAT$17,XJ17-1)=Simulador!$B$40),XI37,0)","v":0},{"$f":"+IF((INDEX($C$17:$AAT$17,XK17-1)=Simulador!$B$40),XJ37,0)","v":0},{"$f":"+IF((INDEX($C$17:$AAT$17,XL17-1)=Simulador!$B$40),XK37,0)","v":0},{"$f":"+IF((INDEX($C$17:$AAT$17,XM17-1)=Simulador!$B$40),XL37,0)","v":0},{"$f":"+IF((INDEX($C$17:$AAT$17,XN17-1)=Simulador!$B$40),XM37,0)","v":0},{"$f":"+IF((INDEX($C$17:$AAT$17,XO17-1)=Simulador!$B$40),XN37,0)","v":0},{"$f":"+IF((INDEX($C$17:$AAT$17,XP17-1)=Simulador!$B$40),XO37,0)","v":0},{"$f":"+IF((INDEX($C$17:$AAT$17,XQ17-1)=Simulador!$B$40),XP37,0)","v":0},{"$f":"+IF((INDEX($C$17:$AAT$17,XR17-1)=Simulador!$B$40),XQ37,0)","v":0},{"$f":"+IF((INDEX($C$17:$AAT$17,XS17-1)=Simulador!$B$40),XR37,0)","v":0},{"$f":"+IF((INDEX($C$17:$AAT$17,XT17-1)=Simulador!$B$40),XS37,0)","v":0},{"$f":"+IF((INDEX($C$17:$AAT$17,XU17-1)=Simulador!$B$40),XT37,0)","v":0},{"$f":"+IF((INDEX($C$17:$AAT$17,XV17-1)=Simulador!$B$40),XU37,0)","v":0},{"$f":"+IF((INDEX($C$17:$AAT$17,XW17-1)=Simulador!$B$40),XV37,0)","v":0},{"$f":"+IF((INDEX($C$17:$AAT$17,XX17-1)=Simulador!$B$40),XW37,0)","v":0},{"$f":"+IF((INDEX($C$17:$AAT$17,XY17-1)=Simulador!$B$40),XX37,0)","v":0},{"$f":"+IF((INDEX($C$17:$AAT$17,XZ17-1)=Simulador!$B$40),XY37,0)","v":0},{"$f":"+IF((INDEX($C$17:$AAT$17,YA17-1)=Simulador!$B$40),XZ37,0)","v":0},{"$f":"+IF((INDEX($C$17:$AAT$17,YB17-1)=Simulador!$B$40),YA37,0)","v":0},{"$f":"+IF((INDEX($C$17:$AAT$17,YC17-1)=Simulador!$B$40),YB37,0)","v":0},{"$f":"+IF((INDEX($C$17:$AAT$17,YD17-1)=Simulador!$B$40),YC37,0)","v":0},{"$f":"+IF((INDEX($C$17:$AAT$17,YE17-1)=Simulador!$B$40),YD37,0)","v":0},{"$f":"+IF((INDEX($C$17:$AAT$17,YF17-1)=Simulador!$B$40),YE37,0)","v":0},{"$f":"+IF((INDEX($C$17:$AAT$17,YG17-1)=Simulador!$B$40),YF37,0)","v":0},{"$f":"+IF((INDEX($C$17:$AAT$17,YH17-1)=Simulador!$B$40),YG37,0)","v":0},{"$f":"+IF((INDEX($C$17:$AAT$17,YI17-1)=Simulador!$B$40),YH37,0)","v":0},{"$f":"+IF((INDEX($C$17:$AAT$17,YJ17-1)=Simulador!$B$40),YI37,0)","v":0},{"$f":"+IF((INDEX($C$17:$AAT$17,YK17-1)=Simulador!$B$40),YJ37,0)","v":0},{"$f":"+IF((INDEX($C$17:$AAT$17,YL17-1)=Simulador!$B$40),YK37,0)","v":0},{"$f":"+IF((INDEX($C$17:$AAT$17,YM17-1)=Simulador!$B$40),YL37,0)","v":0},{"$f":"+IF((INDEX($C$17:$AAT$17,YN17-1)=Simulador!$B$40),YM37,0)","v":0},{"$f":"+IF((INDEX($C$17:$AAT$17,YO17-1)=Simulador!$B$40),YN37,0)","v":0},{"$f":"+IF((INDEX($C$17:$AAT$17,YP17-1)=Simulador!$B$40),YO37,0)","v":0},{"$f":"+IF((INDEX($C$17:$AAT$17,YQ17-1)=Simulador!$B$40),YP37,0)","v":0},{"$f":"+IF((INDEX($C$17:$AAT$17,YR17-1)=Simulador!$B$40),YQ37,0)","v":0},{"$f":"+IF((INDEX($C$17:$AAT$17,YS17-1)=Simulador!$B$40),YR37,0)","v":0},{"$f":"+IF((INDEX($C$17:$AAT$17,YT17-1)=Simulador!$B$40),YS37,0)","v":0},{"$f":"+IF((INDEX($C$17:$AAT$17,YU17-1)=Simulador!$B$40),YT37,0)","v":0},{"$f":"+IF((INDEX($C$17:$AAT$17,YV17-1)=Simulador!$B$40),YU37,0)","v":0},{"$f":"+IF((INDEX($C$17:$AAT$17,YW17-1)=Simulador!$B$40),YV37,0)","v":0},{"$f":"+IF((INDEX($C$17:$AAT$17,YX17-1)=Simulador!$B$40),YW37,0)","v":0},{"$f":"+IF((INDEX($C$17:$AAT$17,YY17-1)=Simulador!$B$40),YX37,0)","v":0},{"$f":"+IF((INDEX($C$17:$AAT$17,YZ17-1)=Simulador!$B$40),YY37,0)","v":0},{"$f":"+IF((INDEX($C$17:$AAT$17,ZA17-1)=Simulador!$B$40),YZ37,0)","v":0},{"$f":"+IF((INDEX($C$17:$AAT$17,ZB17-1)=Simulador!$B$40),ZA37,0)","v":0},{"$f":"+IF((INDEX($C$17:$AAT$17,ZC17-1)=Simulador!$B$40),ZB37,0)","v":0},{"$f":"+IF((INDEX($C$17:$AAT$17,ZD17-1)=Simulador!$B$40),ZC37,0)","v":0},{"$f":"+IF((INDEX($C$17:$AAT$17,ZE17-1)=Simulador!$B$40),ZD37,0)","v":0},{"$f":"+IF((INDEX($C$17:$AAT$17,ZF17-1)=Simulador!$B$40),ZE37,0)","v":0},{"$f":"+IF((INDEX($C$17:$AAT$17,ZG17-1)=Simulador!$B$40),ZF37,0)","v":0},{"$f":"+IF((INDEX($C$17:$AAT$17,ZH17-1)=Simulador!$B$40),ZG37,0)","v":0},{"$f":"+IF((INDEX($C$17:$AAT$17,ZI17-1)=Simulador!$B$40),ZH37,0)","v":0},{"$f":"+IF((INDEX($C$17:$AAT$17,ZJ17-1)=Simulador!$B$40),ZI37,0)","v":0},{"$f":"+IF((INDEX($C$17:$AAT$17,ZK17-1)=Simulador!$B$40),ZJ37,0)","v":0},{"$f":"+IF((INDEX($C$17:$AAT$17,ZL17-1)=Simulador!$B$40),ZK37,0)","v":0},{"$f":"+IF((INDEX($C$17:$AAT$17,ZM17-1)=Simulador!$B$40),ZL37,0)","v":0},{"$f":"+IF((INDEX($C$17:$AAT$17,ZN17-1)=Simulador!$B$40),ZM37,0)","v":0},{"$f":"+IF((INDEX($C$17:$AAT$17,ZO17-1)=Simulador!$B$40),ZN37,0)","v":0},{"$f":"+IF((INDEX($C$17:$AAT$17,ZP17-1)=Simulador!$B$40),ZO37,0)","v":0},{"$f":"+IF((INDEX($C$17:$AAT$17,ZQ17-1)=Simulador!$B$40),ZP37,0)","v":0},{"$f":"+IF((INDEX($C$17:$AAT$17,ZR17-1)=Simulador!$B$40),ZQ37,0)","v":0},{"$f":"+IF((INDEX($C$17:$AAT$17,ZS17-1)=Simulador!$B$40),ZR37,0)","v":0},{"$f":"+IF((INDEX($C$17:$AAT$17,ZT17-1)=Simulador!$B$40),ZS37,0)","v":0},{"$f":"+IF((INDEX($C$17:$AAT$17,ZU17-1)=Simulador!$B$40),ZT37,0)","v":0},{"$f":"+IF((INDEX($C$17:$AAT$17,ZV17-1)=Simulador!$B$40),ZU37,0)","v":0},{"$f":"+IF((INDEX($C$17:$AAT$17,ZW17-1)=Simulador!$B$40),ZV37,0)","v":0},{"$f":"+IF((INDEX($C$17:$AAT$17,ZX17-1)=Simulador!$B$40),ZW37,0)","v":0},{"$f":"+IF((INDEX($C$17:$AAT$17,ZY17-1)=Simulador!$B$40),ZX37,0)","v":0},{"$f":"+IF((INDEX($C$17:$AAT$17,ZZ17-1)=Simulador!$B$40),ZY37,0)","v":0},{"$f":"+IF((INDEX($C$17:$AAT$17,AAA17-1)=Simulador!$B$40),ZZ37,0)","v":0},{"$f":"+IF((INDEX($C$17:$AAT$17,AAB17-1)=Simulador!$B$40),AAA37,0)","v":0},{"$f":"+IF((INDEX($C$17:$AAT$17,AAC17-1)=Simulador!$B$40),AAB37,0)","v":0},{"$f":"+IF((INDEX($C$17:$AAT$17,AAD17-1)=Simulador!$B$40),AAC37,0)","v":0},{"$f":"+IF((INDEX($C$17:$AAT$17,AAE17-1)=Simulador!$B$40),AAD37,0)","v":0},{"$f":"+IF((INDEX($C$17:$AAT$17,AAF17-1)=Simulador!$B$40),AAE37,0)","v":0},{"$f":"+IF((INDEX($C$17:$AAT$17,AAG17-1)=Simulador!$B$40),AAF37,0)","v":0},{"$f":"+IF((INDEX($C$17:$AAT$17,AAH17-1)=Simulador!$B$40),AAG37,0)","v":0},{"$f":"+IF((INDEX($C$17:$AAT$17,AAI17-1)=Simulador!$B$40),AAH37,0)","v":0},{"$f":"+IF((INDEX($C$17:$AAT$17,AAJ17-1)=Simulador!$B$40),AAI37,0)","v":0},{"$f":"+IF((INDEX($C$17:$AAT$17,AAK17-1)=Simulador!$B$40),AAJ37,0)","v":0},{"$f":"+IF((INDEX($C$17:$AAT$17,AAL17-1)=Simulador!$B$40),AAK37,0)","v":0},{"$f":"+IF((INDEX($C$17:$AAT$17,AAM17-1)=Simulador!$B$40),AAL37,0)","v":0},{"$f":"+IF((INDEX($C$17:$AAT$17,AAN17-1)=Simulador!$B$40),AAM37,0)","v":0},{"$f":"+IF((INDEX($C$17:$AAT$17,AAO17-1)=Simulador!$B$40),AAN37,0)","v":0},{"$f":"+IF((INDEX($C$17:$AAT$17,AAP17-1)=Simulador!$B$40),AAO37,0)","v":0},{"$f":"+IF((INDEX($C$17:$AAT$17,AAQ17-1)=Simulador!$B$40),AAP37,0)","v":0},{"$f":"+IF((INDEX($C$17:$AAT$17,AAR17-1)=Simulador!$B$40),AAQ37,0)","v":0},{"$f":"+IF((INDEX($C$17:$AAT$17,AAS17-1)=Simulador!$B$40),AAR37,0)","v":0},{"$f":"+IF((INDEX($C$17:$AAT$17,AAT17-1)=Simulador!$B$40),AAS37,0)","v":0},{"$f":"+IF((INDEX($C$17:$AAT$17,AAU17-1)=Simulador!$B$40),AAT37,0)","v":0}]
[null,"Capitalización de interés no bloqueado",0,{"$f":"+IF(D15=\"Sí\",C36,0)","v":0},0,0,0,0,0,0,0,0,0,0,0.10999999999999999,0,0,0,0,0,0,0,0,0,0,0,0,0,0,0,0,0,0,0,0,0,0,0,0,0,0,0,0,0.38000000000000012,0,0,0,0,0,0,0,0,0,0,0,0,0,0,0,0,0,0,0,0,0,0,0,{"$f":"+IF(BP15=\"Sí\",BO36,0)","v":0},0,0,0,0,0,0,0,0.64000000000000024,0,0,0,0,0,0,0,0,0,0,0,0,0,0,0,0,0,0,0,0,0,0,0,0,0,0,0,0,0,0,0.73000000000000032,0,0,0,0,0,0,0,0,0,0,0,0,0,0,0,0,0,0,0,0,0,0,0,0,{"$f":"+IF(EB15=\"Sí\",EA36,0)","v":0},0,0,0.9200000000000006,0,0,0,0,0,0,0,0,0,0,0,0,0,0,0,0,0,0,0,0,0,0,0,0,0,0,0,0,0,0,0,1.2800000000000005,0,0,0,0,0,0,0,0,0,0,0,0,0,0,0,0,0,0,0,0,0,0,0,0,0,0,0,0,{"$f":"+IF(GN15=\"Sí\",GM36,0)","v":0},0,1.3400000000000005,0,0,0,0,0,0,0,0,0,0,0,0,0,0,0,0,0,0,0,0,0,0,0,0,0,0,0,1.4700000000000006,0,0,0,0,0,0,0,0,0,0,0,0,0,0,0,0,0,0,0,0,0,0,0,0,0,0,0,0,0,0,0,1.9200000000000013,0,{"$f":"+IF(IZ15=\"Sí\",IY36,0)","v":0},0,0,0,0,0,0,0,0,0,0,0,0,0,0,0,0,0,0,0,0,0,0,0,0,0,0,0,2.100000000000001,0,0,0,0,0,0,0,0,0,0,0,0,0,0,0,0,0,0,0,0,0,0,0,0,0,0,0,0,2.1200000000000014,0,0,0,0,0,0,{"$f":"+IF(LL15=\"Sí\",LK36,0)","v":0},0,0,0,0,0,0,0,0,0,0,0,0,0,0,0,0,0,0,0,0,0,0,0,0,2.6599999999999997,0,0,0,0,0,0,0,0,0,0,0,0,0,0,0,0,0,0,0,0,0,0,0,0,0,0,0,0,0,0,2.7899999999999996,0,0,0,0,0,0,0,{"$f":"+IF(NX15=\"Sí\",NW36,0)","v":0},0,0,0,0,0,0,0,0,0,0,0,0,0,0,0,0,0,0,0,0,0,0,2.9000000000000012,0,0,0,0,0,0,0,0,0,0,0,0,0,0,0,0,0,0,0,0,0,0,0,0,0,0,0,0,0,3.0999999999999992,0,0,0,0,0,0,0,0,0,0,{"$f":"+IF(QJ15=\"Sí\",QI36,0)","v":0},0,0,0,0,0,0,0,0,0,0,0,0,0,0,0,0,0,0,3.4000000000000017,0,0,0,0,0,0,0,0,0,0,0,0,0,0,0,0,0,0,0,0,0,0,0,0,0,0,0,0,0,0,3.7200000000000024,0,0,0,0,0,0,0,0,0,0,0,0,0,{"$f":"+IF(SV15=\"Sí\",SU36,0)","v":0},0,0,0,0,0,0,0,0,0,0,0,0,0,0,0,3.7,0,0,0,0,0,0,0,0,0,0,0,0,0,0,0,0,0,0,0,0,0,0,0,0,0,0,0,0,0,3.9899999999999998,0,0,0,0,0,0,0,0,0,0,0,0,0,0,0,0,0,{"$f":"+IF(VH15=\"Sí\",VG36,0)","v":0},0,0,0,0,0,0,0,0,0,3.9800000000000013,0,0,0,0,0,0,0,0,0,0,0,0,0,0,0,0,0,0,0,0,0,0,0,0,0,0,0,0,0,0,0,0,4.9500000000000011,0,0,0,0,0,0,0,0,0,0,0,0,0,0,0,0,0,0,0,0,{"$f":"+IF(XT15=\"Sí\",XS36,0)","v":0},0,0,0,0,0,0,0,4.4400000000000004,0,0,0,0,0,0,0,0,0,0,0,0,0,0,0,0,0,0,0,0,0,0,0,0,0,0,0,0,0,0,0,5.23,0,0,0,0,0,0,0,0,0,0,0,0,0,0,0,0,0,0,0,0,0,0,0,{"$f":"+IF(AAF15=\"Sí\",AAE36,0)","v":0},0,0,0,0,0,5.1999999999999975,0,0,0,0,0,0,0,0,0]
[null,"Ahorro Acumulado + interés",{"$f":"+IF(Simulador!$C$50=\"Si\",C31+C32,C31+C33)","v":10},{"$f":"+IF(Simulador!$C$50=\"Si\",D31+D32,D31+D33)","v":60},{"$f":"+IF(Simulador!$C$50=\"Si\",E31+E32,E31+E33)","v":60},{"$f":"+IF(Simulador!$C$50=\"Si\",F31+F32,F31+F33)","v":60},{"$f":"+IF(Simulador!$C$50=\"Si\",G31+G32,G31+G33)","v":60},{"$f":"+IF(Simulador!$C$50=\"Si\",H31+H32,H31+H33)","v":60},{"$f":"+IF(Simulador!$C$50=\"Si\",I31+I32,I31+I33)","v":60},{"$f":"+IF(Simulador!$C$50=\"Si\",J31+J32,J31+J33)","v":60},{"$f":"+IF(Simulador!$C$50=\"Si\",K31+K32,K31+K33)","v":60},{"$f":"+IF(Simulador!$C$50=\"Si\",L31+L32,L31+L33)","v":60},{"$f":"+IF(Simulador!$C$50=\"Si\",M31+M32,M31+M33)","v":60},{"$f":"+IF(Simulador!$C$50=\"Si\",N31+N32,N31+N33)","v":60},{"$f":"+IF(Simulador!$C$50=\"Si\",O31+O32,O31+O33)","v":60.11},{"$f":"+IF(Simulador!$C$50=\"Si\",P31+P32,P31+P33)","v":60.11},{"$f":"+IF(Simulador!$C$50=\"Si\",Q31+Q32,Q31+Q33)","v":60.11},{"$f":"+IF(Simulador!$C$50=\"Si\",R31+R32,R31+R33)","v":60.11},{"$f":"+IF(Simulador!$C$50=\"Si\",S31+S32,S31+S33)","v":60.11},{"$f":"+IF(Simulador!$C$50=\"Si\",T31+T32,T31+T33)","v":60.11},{"$f":"+IF(Simulador!$C$50=\"Si\",U31+U32,U31+U33)","v":60.11},{"$f":"+IF(Simulador!$C$50=\"Si\",V31+V32,V31+V33)","v":60.11},{"$f":"+IF(Simulador!$C$50=\"Si\",W31+W32,W31+W33)","v":60.11},{"$f":"+IF(Simulador!$C$50=\"Si\",X31+X32,X31+X33)","v":60.11},{"$f":"+IF(Simulador!$C$50=\"Si\",Y31+Y32,Y31+Y33)","v":60.11},{"$f":"+IF(Simulador!$C$50=\"Si\",Z31+Z32,Z31+Z33)","v":60.11},{"$f":"+IF(Simulador!$C$50=\"Si\",AA31+AA32,AA31+AA33)","v":60.11},{"$f":"+IF(Simulador!$C$50=\"Si\",AB31+AB32,AB31+AB33)","v":60.11},{"$f":"+IF(Simulador!$C$50=\"Si\",AC31+AC32,AC31+AC33)","v":60.11},{"$f":"+IF(Simulador!$C$50=\"Si\",AD31+AD32,AD31+AD33)","v":60.11},{"$f":"+IF(Simulador!$C$50=\"Si\",AE31+AE32,AE31+AE33)","v":60.11},{"$f":"+IF(Simulador!$C$50=\"Si\",AF31+AF32,AF31+AF33)","v":60.11},{"$f":"+IF(Simulador!$C$50=\"Si\",AG31+AG32,AG31+AG33)","v":60.11},{"$f":"+IF(Simulador!$C$50=\"Si\",AH31+AH32,AH31+AH33)","v":60.11},{"$f":"+IF(Simulador!$C$50=\"Si\",AI31+AI32,AI31+AI33)","v":110.11},{"$f":"+IF(Simulador!$C$50=\"Si\",AJ31+AJ32,AJ31+AJ33)","v":110.11},{"$f":"+IF(Simulador!$C$50=\"Si\",AK31+AK32,AK31+AK33)","v":110.11},{"$f":"+IF(Simulador!$C$50=\"Si\",AL31+AL32,AL31+AL33)","v":110.11},{"$f":"+IF(Simulador!$C$50=\"Si\",AM31+AM32,AM31+AM33)","v":110.11},{"$f":"+IF(Simulador!$C$50=\"Si\",AN31+AN32,AN31+AN33)","v":110.11},{"$f":"+IF(Simulador!$C$50=\"Si\",AO31+AO32,AO31+AO33)","v":110.11},{"$f":"+IF(Simulador!$C$50=\"Si\",AP31+AP32,AP31+AP33)","v":110.11},{"$f":"+IF(Simulador!$C$50=\"Si\",AQ31+AQ32,AQ31+AQ33)","v":110.11},{"$f":"+IF(Simulador!$C$50=\"Si\",AR31+AR32,AR31+AR33)","v":110.49},{"$f":"+IF(Simulador!$C$50=\"Si\",AS31+AS32,AS31+AS33)","v":110.49},{"$f":"+IF(Simulador!$C$50=\"Si\",AT31+AT32,AT31+AT33)","v":110.49},{"$f":"+IF(Simulador!$C$50=\"Si\",AU31+AU32,AU31+AU33)","v":110.49},{"$f":"+IF(Simulador!$C$50=\"Si\",AV31+AV32,AV31+AV33)","v":110.49},{"$f":"+IF(Simulador!$C$50=\"Si\",AW31+AW32,AW31+AW33)","v":110.49},{"$f":"+IF(Simulador!$C$50=\"Si\",AX31+AX32,AX31+AX33)","v":110.49},{"$f":"+IF(Simulador!$C$50=\"Si\",AY31+AY32,AY31+AY33)","v":110.49},{"$f":"+IF(Simulador!$C$50=\"Si\",AZ31+AZ32,AZ31+AZ33)","v":110.49},{"$f":"+IF(Simulador!$C$50=\"Si\",BA31+BA32,BA31+BA33)","v":110.49},{"$f":"+IF(Simulador!$C$50=\"Si\",BB31+BB32,BB31+BB33)","v":110.49},{"$f":"+IF(Simulador!$C$50=\"Si\",BC31+BC32,BC31+BC33)","v":110.49},{"$f":"+IF(Simulador!$C$50=\"Si\",BD31+BD32,BD31+BD33)","v":110.49},{"$f":"+IF(Simulador!$C$50=\"Si\",BE31+BE32,BE31+BE33)","v":110.49},{"$f":"+IF(Simulador!$C$50=\"Si\",BF31+BF32,BF31+BF33)","v":110.49},{"$f":"+IF(Simulador!$C$50=\"Si\",BG31+BG32,BG31+BG33)","v":110.49},{"$f":"+IF(Simulador!$C$50=\"Si\",BH31+BH32,BH31+BH33)","v":110.49},{"$f":"+IF(Simulador!$C$50=\"Si\",BI31+BI32,BI31+BI33)","v":110.49},{"$f":"+IF(Simulador!$C$50=\"Si\",BJ31+BJ32,BJ31+BJ33)","v":110.49},{"$f":"+IF(Simulador!$C$50=\"Si\",BK31+BK32,BK31+BK33)","v":110.49},{"$f":"+IF(Simulador!$C$50=\"Si\",BL31+BL32,BL31+BL33)","v":110.49},{"$f":"+IF(Simulador!$C$50=\"Si\",BM31+BM32,BM31+BM33)","v":110.49},{"$f":"+IF(Simulador!$C$50=\"Si\",BN31+BN32,BN31+BN33)","v":160.49},{"$f":"+IF(Simulador!$C$50=\"Si\",BO31+BO32,BO31+BO33)","v":160.49},{"$f":"+IF(Simulador!$C$50=\"Si\",BP31+BP32,BP31+BP33)","v":160.49},{"$f":"+IF(Simulador!$C$50=\"Si\",BQ31+BQ32,BQ31+BQ33)","v":160.49},{"$f":"+IF(Simulador!$C$50=\"Si\",BR31+BR32,BR31+BR33)","v":160.49},{"$f":"+IF(Simulador!$C$50=\"Si\",BS31+BS32,BS31+BS33)","v":160.49},{"$f":"+IF(Simulador!$C$50=\"Si\",BT31+BT32,BT31+BT33)","v":160.49},{"$f":"+IF(Simulador!$C$50=\"Si\",BU31+BU32,BU31+BU33)","v":160.49},{"$f":"+IF(Simulador!$C$50=\"Si\",BV31+BV32,BV31+BV33)","v":160.49},{"$f":"+IF(Simulador!$C$50=\"Si\",BW31+BW32,BW31+BW33)","v":160.49},{"$f":"+IF(Simulador!$C$50=\"Si\",BX31+BX32,BX31+BX33)","v":161.13},{"$f":"+IF(Simulador!$C$50=\"Si\",BY31+BY32,BY31+BY33)","v":161.13},{"$f":"+IF(Simulador!$C$50=\"Si\",BZ31+BZ32,BZ31+BZ33)","v":161.13},{"$f":"+IF(Simulador!$C$50=\"Si\",CA31+CA32,CA31+CA33)","v":161.13},{"$f":"+IF(Simulador!$C$50=\"Si\",CB31+CB32,CB31+CB33)","v":161.13},{"$f":"+IF(Simulador!$C$50=\"Si\",CC31+CC32,CC31+CC33)","v":161.13},{"$f":"+IF(Simulador!$C$50=\"Si\",CD31+CD32,CD31+CD33)","v":161.13},{"$f":"+IF(Simulador!$C$50=\"Si\",CE31+CE32,CE31+CE33)","v":161.13},{"$f":"+IF(Simulador!$C$50=\"Si\",CF31+CF32,CF31+CF33)","v":161.13},{"$f":"+IF(Simulador!$C$50=\"Si\",CG31+CG32,CG31+CG33)","v":161.13},{"$f":"+IF(Simulador!$C$50=\"Si\",CH31+CH32,CH31+CH33)","v":161.13},{"$f":"+IF(Simulador!$C$50=\"Si\",CI31+CI32,CI31+CI33)","v":161.13},{"$f":"+IF(Simulador!$C$50=\"Si\",CJ31+CJ32,CJ31+CJ33)","v":161.13},{"$f":"+IF(Simulador!$C$50=\"Si\",CK31+CK32,CK31+CK33)","v":161.13},{"$f":"+IF(Simulador!$C$50=\"Si\",CL31+CL32,CL31+CL33)","v":161.13},{"$f":"+IF(Simulador!$C$50=\"Si\",CM31+CM32,CM31+CM33)","v":161.13},{"$f":"+IF(Simulador!$C$50=\"Si\",CN31+CN32,CN31+CN33)","v":161.13},{"$f":"+IF(Simulador!$C$50=\"Si\",CO31+CO32,CO31+CO33)","v":161.13},{"$f":"+IF(Simulador!$C$50=\"Si\",CP31+CP32,CP31+CP33)","v":161.13},{"$f":"+IF(Simulador!$C$50=\"Si\",CQ31+CQ32,CQ31+CQ33)","v":161.13},{"$f":"+IF(Simulador!$C$50=\"Si\",CR31+CR32,CR31+CR33)","v":211.13},{"$f":"+IF(Simulador!$C$50=\"Si\",CS31+CS32,CS31+CS33)","v":211.13},{"$f":"+IF(Simulador!$C$50=\"Si\",CT31+CT32,CT31+CT33)","v":211.13},{"$f":"+IF(Simulador!$C$50=\"Si\",CU31+CU32,CU31+CU33)","v":211.13},{"$f":"+IF(Simulador!$C$50=\"Si\",CV31+CV32,CV31+CV33)","v":211.13},{"$f":"+IF(Simulador!$C$50=\"Si\",CW31+CW32,CW31+CW33)","v":211.13},{"$f":"+IF(Simulador!$C$50=\"Si\",CX31+CX32,CX31+CX33)","v":211.13},{"$f":"+IF(Simulador!$C$50=\"Si\",CY31+CY32,CY31+CY33)","v":211.13},{"$f":"+IF(Simulador!$C$50=\"Si\",CZ31+CZ32,CZ31+CZ33)","v":211.13},{"$f":"+IF(Simulador!$C$50=\"Si\",DA31+DA32,DA31+DA33)","v":211.13},{"$f":"+IF(Simulador!$C$50=\"Si\",DB31+DB32,DB31+DB33)","v":211.13},{"$f":"+IF(Simulador!$C$50=\"Si\",DC31+DC32,DC31+DC33)","v":211.85999999999999},{"$f":"+IF(Simulador!$C$50=\"Si\",DD31+DD32,DD31+DD33)","v":211.85999999999999},{"$f":"+IF(Simulador!$C$50=\"Si\",DE31+DE32,DE31+DE33)","v":211.85999999999999},{"$f":"+IF(Simulador!$C$50=\"Si\",DF31+DF32,DF31+DF33)","v":211.85999999999999},{"$f":"+IF(Simulador!$C$50=\"Si\",DG31+DG32,DG31+DG33)","v":211.85999999999999},{"$f":"+IF(Simulador!$C$50=\"Si\",DH31+DH32,DH31+DH33)","v":211.85999999999999},{"$f":"+IF(Simulador!$C$50=\"Si\",DI31+DI32,DI31+DI33)","v":211.85999999999999},{"$f":"+IF(Simulador!$C$50=\"Si\",DJ31+DJ32,DJ31+DJ33)","v":211.85999999999999},{"$f":"+IF(Simulador!$C$50=\"Si\",DK31+DK32,DK31+DK33)","v":211.85999999999999},{"$f":"+IF(Simulador!$C$50=\"Si\",DL31+DL32,DL31+DL33)","v":211.85999999999999},{"$f":"+IF(Simulador!$C$50=\"Si\",DM31+DM32,DM31+DM33)","v":211.85999999999999},{"$f":"+IF(Simulador!$C$50=\"Si\",DN31+DN32,DN31+DN33)","v":211.85999999999999},{"$f":"+IF(Simulador!$C$50=\"Si\",DO31+DO32,DO31+DO33)","v":211.85999999999999},{"$f":"+IF(Simulador!$C$50=\"Si\",DP31+DP32,DP31+DP33)","v":211.85999999999999},{"$f":"+IF(Simulador!$C$50=\"Si\",DQ31+DQ32,DQ31+DQ33)","v":211.85999999999999},{"$f":"+IF(Simulador!$C$50=\"Si\",DR31+DR32,DR31+DR33)","v":211.85999999999999},{"$f":"+IF(Simulador!$C$50=\"Si\",DS31+DS32,DS31+DS33)","v":211.85999999999999},{"$f":"+IF(Simulador!$C$50=\"Si\",DT31+DT32,DT31+DT33)","v":211.85999999999999},{"$f":"+IF(Simulador!$C$50=\"Si\",DU31+DU32,DU31+DU33)","v":211.85999999999999},{"$f":"+IF(Simulador!$C$50=\"Si\",DV31+DV32,DV31+DV33)","v":211.85999999999999},{"$f":"+IF(Simulador!$C$50=\"Si\",DW31+DW32,DW31+DW33)","v":261.86},{"$f":"+IF(Simulador!$C$50=\"Si\",DX31+DX32,DX31+DX33)","v":261.86},{"$f":"+IF(Simulador!$C$50=\"Si\",DY31+DY32,DY31+DY33)","v":261.86},{"$f":"+IF(Simulador!$C$50=\"Si\",DZ31+DZ32,DZ31+DZ33)","v":261.86},{"$f":"+IF(Simulador!$C$50=\"Si\",EA31+EA32,EA31+EA33)","v":261.86},{"$f":"+IF(Simulador!$C$50=\"Si\",EB31+EB32,EB31+EB33)","v":261.86},{"$f":"+IF(Simulador!$C$50=\"Si\",EC31+EC32,EC31+EC33)","v":261.86},{"$f":"+IF(Simulador!$C$50=\"Si\",ED31+ED32,ED31+ED33)","v":261.86},{"$f":"+IF(Simulador!$C$50=\"Si\",EE31+EE32,EE31+EE33)","v":262.78000000000003},{"$f":"+IF(Simulador!$C$50=\"Si\",EF31+EF32,EF31+EF33)","v":262.78000000000003},{"$f":"+IF(Simulador!$C$50=\"Si\",EG31+EG32,EG31+EG33)","v":262.78000000000003},{"$f":"+IF(Simulador!$C$50=\"Si\",EH31+EH32,EH31+EH33)","v":262.78000000000003},{"$f":"+IF(Simulador!$C$50=\"Si\",EI31+EI32,EI31+EI33)","v":262.78000000000003},{"$f":"+IF(Simulador!$C$50=\"Si\",EJ31+EJ32,EJ31+EJ33)","v":262.78000000000003},{"$f":"+IF(Simulador!$C$50=\"Si\",EK31+EK32,EK31+EK33)","v":262.78000000000003},{"$f":"+IF(Simulador!$C$50=\"Si\",EL31+EL32,EL31+EL33)","v":262.78000000000003},{"$f":"+IF(Simulador!$C$50=\"Si\",EM31+EM32,EM31+EM33)","v":262.78000000000003},{"$f":"+IF(Simulador!$C$50=\"Si\",EN31+EN32,EN31+EN33)","v":262.78000000000003},{"$f":"+IF(Simulador!$C$50=\"Si\",EO31+EO32,EO31+EO33)","v":262.78000000000003},{"$f":"+IF(Simulador!$C$50=\"Si\",EP31+EP32,EP31+EP33)","v":262.78000000000003},{"$f":"+IF(Simulador!$C$50=\"Si\",EQ31+EQ32,EQ31+EQ33)","v":262.78000000000003},{"$f":"+IF(Simulador!$C$50=\"Si\",ER31+ER32,ER31+ER33)","v":262.78000000000003},{"$f":"+IF(Simulador!$C$50=\"Si\",ES31+ES32,ES31+ES33)","v":262.78000000000003},{"$f":"+IF(Simulador!$C$50=\"Si\",ET31+ET32,ET31+ET33)","v":262.78000000000003},{"$f":"+IF(Simulador!$C$50=\"Si\",EU31+EU32,EU31+EU33)","v":262.78000000000003},{"$f":"+IF(Simulador!$C$50=\"Si\",EV31+EV32,EV31+EV33)","v":262.78000000000003},{"$f":"+IF(Simulador!$C$50=\"Si\",EW31+EW32,EW31+EW33)","v":262.78000000000003},{"$f":"+IF(Simulador!$C$50=\"Si\",EX31+EX32,EX31+EX33)","v":262.78000000000003},{"$f":"+IF(Simulador!$C$50=\"Si\",EY31+EY32,EY31+EY33)","v":262.78000000000003},{"$f":"+IF(Simulador!$C$50=\"Si\",EZ31+EZ32,EZ31+EZ33)","v":262.78000000000003},{"$f":"+IF(Simulador!$C$50=\"Si\",FA31+FA32,FA31+FA33)","v":312.78000000000003},{"$f":"+IF(Simulador!$C$50=\"Si\",FB31+FB32,FB31+FB33)","v":312.78000000000003},{"$f":"+IF(Simulador!$C$50=\"Si\",FC31+FC32,FC31+FC33)","v":312.78000000000003},{"$f":"+IF(Simulador!$C$50=\"Si\",FD31+FD32,FD31+FD33)","v":312.78000000000003},{"$f":"+IF(Simulador!$C$50=\"Si\",FE31+FE32,FE31+FE33)","v":312.78000000000003},{"$f":"+IF(Simulador!$C$50=\"Si\",FF31+FF32,FF31+FF33)","v":312.78000000000003},{"$f":"+IF(Simulador!$C$50=\"Si\",FG31+FG32,FG31+FG33)","v":312.78000000000003},{"$f":"+IF(Simulador!$C$50=\"Si\",FH31+FH32,FH31+FH33)","v":312.78000000000003},{"$f":"+IF(Simulador!$C$50=\"Si\",FI31+FI32,FI31+FI33)","v":312.78000000000003},{"$f":"+IF(Simulador!$C$50=\"Si\",FJ31+FJ32,FJ31+FJ33)","v":312.78000000000003},{"$f":"+IF(Simulador!$C$50=\"Si\",FK31+FK32,FK31+FK33)","v":314.06},{"$f":"+IF(Simulador!$C$50=\"Si\",FL31+FL32,FL31+FL33)","v":314.06},{"$f":"+IF(Simulador!$C$50=\"Si\",FM31+FM32,FM31+FM33)","v":314.06},{"$f":"+IF(Simulador!$C$50=\"Si\",FN31+FN32,FN31+FN33)","v":314.06},{"$f":"+IF(Simulador!$C$50=\"Si\",FO31+FO32,FO31+FO33)","v":314.06},{"$f":"+IF(Simulador!$C$50=\"Si\",FP31+FP32,FP31+FP33)","v":314.06},{"$f":"+IF(Simulador!$C$50=\"Si\",FQ31+FQ32,FQ31+FQ33)","v":314.06},{"$f":"+IF(Simulador!$C$50=\"Si\",FR31+FR32,FR31+FR33)","v":314.06},{"$f":"+IF(Simulador!$C$50=\"Si\",FS31+FS32,FS31+FS33)","v":314.06},{"$f":"+IF(Simulador!$C$50=\"Si\",FT31+FT32,FT31+FT33)","v":314.06},{"$f":"+IF(Simulador!$C$50=\"Si\",FU31+FU32,FU31+FU33)","v":314.06},{"$f":"+IF(Simulador!$C$50=\"Si\",FV31+FV32,FV31+FV33)","v":314.06},{"$f":"+IF(Simulador!$C$50=\"Si\",FW31+FW32,FW31+FW33)","v":314.06},{"$f":"+IF(Simulador!$C$50=\"Si\",FX31+FX32,FX31+FX33)","v":314.06},{"$f":"+IF(Simulador!$C$50=\"Si\",FY31+FY32,FY31+FY33)","v":314.06},{"$f":"+IF(Simulador!$C$50=\"Si\",FZ31+FZ32,FZ31+FZ33)","v":314.06},{"$f":"+IF(Simulador!$C$50=\"Si\",GA31+GA32,GA31+GA33)","v":314.06},{"$f":"+IF(Simulador!$C$50=\"Si\",GB31+GB32,GB31+GB33)","v":314.06},{"$f":"+IF(Simulador!$C$50=\"Si\",GC31+GC32,GC31+GC33)","v":314.06},{"$f":"+IF(Simulador!$C$50=\"Si\",GD31+GD32,GD31+GD33)","v":314.06},{"$f":"+IF(Simulador!$C$50=\"Si\",GE31+GE32,GE31+GE33)","v":314.06},{"$f":"+IF(Simulador!$C$50=\"Si\",GF31+GF32,GF31+GF33)","v":364.06},{"$f":"+IF(Simulador!$C$50=\"Si\",GG31+GG32,GG31+GG33)","v":364.06},{"$f":"+IF(Simulador!$C$50=\"Si\",GH31+GH32,GH31+GH33)","v":364.06},{"$f":"+IF(Simulador!$C$50=\"Si\",GI31+GI32,GI31+GI33)","v":364.06},{"$f":"+IF(Simulador!$C$50=\"Si\",GJ31+GJ32,GJ31+GJ33)","v":364.06},{"$f":"+IF(Simulador!$C$50=\"Si\",GK31+GK32,GK31+GK33)","v":364.06},{"$f":"+IF(Simulador!$C$50=\"Si\",GL31+GL32,GL31+GL33)","v":364.06},{"$f":"+IF(Simulador!$C$50=\"Si\",GM31+GM32,GM31+GM33)","v":364.06},{"$f":"+IF(Simulador!$C$50=\"Si\",GN31+GN32,GN31+GN33)","v":364.06},{"$f":"+IF(Simulador!$C$50=\"Si\",GO31+GO32,GO31+GO33)","v":364.06},{"$f":"+IF(Simulador!$C$50=\"Si\",GP31+GP32,GP31+GP33)","v":365.4},{"$f":"+IF(Simulador!$C$50=\"Si\",GQ31+GQ32,GQ31+GQ33)","v":365.4},{"$f":"+IF(Simulador!$C$50=\"Si\",GR31+GR32,GR31+GR33)","v":365.4},{"$f":"+IF(Simulador!$C$50=\"Si\",GS31+GS32,GS31+GS33)","v":365.4},{"$f":"+IF(Simulador!$C$50=\"Si\",GT31+GT32,GT31+GT33)","v":365.4},{"$f":"+IF(Simulador!$C$50=\"Si\",GU31+GU32,GU31+GU33)","v":365.4},{"$f":"+IF(Simulador!$C$50=\"Si\",GV31+GV32,GV31+GV33)","v":365.4},{"$f":"+IF(Simulador!$C$50=\"Si\",GW31+GW32,GW31+GW33)","v":365.4},{"$f":"+IF(Simulador!$C$50=\"Si\",GX31+GX32,GX31+GX33)","v":365.4},{"$f":"+IF(Simulador!$C$50=\"Si\",GY31+GY32,GY31+GY33)","v":365.4},{"$f":"+IF(Simulador!$C$50=\"Si\",GZ31+GZ32,GZ31+GZ33)","v":365.4},{"$f":"+IF(Simulador!$C$50=\"Si\",HA31+HA32,HA31+HA33)","v":365.4},{"$f":"+IF(Simulador!$C$50=\"Si\",HB31+HB32,HB31+HB33)","v":365.4},{"$f":"+IF(Simulador!$C$50=\"Si\",HC31+HC32,HC31+HC33)","v":365.4},{"$f":"+IF(Simulador!$C$50=\"Si\",HD31+HD32,HD31+HD33)","v":365.4},{"$f":"+IF(Simulador!$C$50=\"Si\",HE31+HE32,HE31+HE33)","v":365.4},{"$f":"+IF(Simulador!$C$50=\"Si\",HF31+HF32,HF31+HF33)","v":365.4},{"$f":"+IF(Simulador!$C$50=\"Si\",HG31+HG32,HG31+HG33)","v":365.4},{"$f":"+IF(Simulador!$C$50=\"Si\",HH31+HH32,HH31+HH33)","v":365.4},{"$f":"+IF(Simulador!$C$50=\"Si\",HI31+HI32,HI31+HI33)","v":365.4},{"$f":"+IF(Simulador!$C$50=\"Si\",HJ31+HJ32,HJ31+HJ33)","v":365.4},{"$f":"+IF(Simulador!$C$50=\"Si\",HK31+HK32,HK31+HK33)","v":415.4},{"$f":"+IF(Simulador!$C$50=\"Si\",HL31+HL32,HL31+HL33)","v":415.4},{"$f":"+IF(Simulador!$C$50=\"Si\",HM31+HM32,HM31+HM33)","v":415.4},{"$f":"+IF(Simulador!$C$50=\"Si\",HN31+HN32,HN31+HN33)","v":415.4},{"$f":"+IF(Simulador!$C$50=\"Si\",HO31+HO32,HO31+HO33)","v":415.4},{"$f":"+IF(Simulador!$C$50=\"Si\",HP31+HP32,HP31+HP33)","v":415.4},{"$f":"+IF(Simulador!$C$50=\"Si\",HQ31+HQ32,HQ31+HQ33)","v":415.4},{"$f":"+IF(Simulador!$C$50=\"Si\",HR31+HR32,HR31+HR33)","v":416.87},{"$f":"+IF(Simulador!$C$50=\"Si\",HS31+HS32,HS31+HS33)","v":416.87},{"$f":"+IF(Simulador!$C$50=\"Si\",HT31+HT32,HT31+HT33)","v":416.87},{"$f":"+IF(Simulador!$C$50=\"Si\",HU31+HU32,HU31+HU33)","v":416.87},{"$f":"+IF(Simulador!$C$50=\"Si\",HV31+HV32,HV31+HV33)","v":416.87},{"$f":"+IF(Simulador!$C$50=\"Si\",HW31+HW32,HW31+HW33)","v":416.87},{"$f":"+IF(Simulador!$C$50=\"Si\",HX31+HX32,HX31+HX33)","v":416.87},{"$f":"+IF(Simulador!$C$50=\"Si\",HY31+HY32,HY31+HY33)","v":416.87},{"$f":"+IF(Simulador!$C$50=\"Si\",HZ31+HZ32,HZ31+HZ33)","v":416.87},{"$f":"+IF(Simulador!$C$50=\"Si\",IA31+IA32,IA31+IA33)","v":416.87},{"$f":"+IF(Simulador!$C$50=\"Si\",IB31+IB32,IB31+IB33)","v":416.87},{"$f":"+IF(Simulador!$C$50=\"Si\",IC31+IC32,IC31+IC33)","v":416.87},{"$f":"+IF(Simulador!$C$50=\"Si\",ID31+ID32,ID31+ID33)","v":416.87},{"$f":"+IF(Simulador!$C$50=\"Si\",IE31+IE32,IE31+IE33)","v":416.87},{"$f":"+IF(Simulador!$C$50=\"Si\",IF31+IF32,IF31+IF33)","v":416.87},{"$f":"+IF(Simulador!$C$50=\"Si\",IG31+IG32,IG31+IG33)","v":416.87},{"$f":"+IF(Simulador!$C$50=\"Si\",IH31+IH32,IH31+IH33)","v":416.87},{"$f":"+IF(Simulador!$C$50=\"Si\",II31+II32,II31+II33)","v":416.87},{"$f":"+IF(Simulador!$C$50=\"Si\",IJ31+IJ32,IJ31+IJ33)","v":416.87},{"$f":"+IF(Simulador!$C$50=\"Si\",IK31+IK32,IK31+IK33)","v":416.87},{"$f":"+IF(Simulador!$C$50=\"Si\",IL31+IL32,IL31+IL33)","v":416.87},{"$f":"+IF(Simulador!$C$50=\"Si\",IM31+IM32,IM31+IM33)","v":466.87},{"$f":"+IF(Simulador!$C$50=\"Si\",IN31+IN32,IN31+IN33)","v":466.87},{"$f":"+IF(Simulador!$C$50=\"Si\",IO31+IO32,IO31+IO33)","v":466.87},{"$f":"+IF(Simulador!$C$50=\"Si\",IP31+IP32,IP31+IP33)","v":466.87},{"$f":"+IF(Simulador!$C$50=\"Si\",IQ31+IQ32,IQ31+IQ33)","v":466.87},{"$f":"+IF(Simulador!$C$50=\"Si\",IR31+IR32,IR31+IR33)","v":466.87},{"$f":"+IF(Simulador!$C$50=\"Si\",IS31+IS32,IS31+IS33)","v":466.87},{"$f":"+IF(Simulador!$C$50=\"Si\",IT31+IT32,IT31+IT33)","v":466.87},{"$f":"+IF(Simulador!$C$50=\"Si\",IU31+IU32,IU31+IU33)","v":466.87},{"$f":"+IF(Simulador!$C$50=\"Si\",IV31+IV32,IV31+IV33)","v":466.87},{"$f":"+IF(Simulador!$C$50=\"Si\",IW31+IW32,IW31+IW33)","v":466.87},{"$f":"+IF(Simulador!$C$50=\"Si\",IX31+IX32,IX31+IX33)","v":468.79},{"$f":"+IF(Simulador!$C$50=\"Si\",IY31+IY32,IY31+IY33)","v":468.79},{"$f":"+IF(Simulador!$C$50=\"Si\",IZ31+IZ32,IZ31+IZ33)","v":468.79},{"$f":"+IF(Simulador!$C$50=\"Si\",JA31+JA32,JA31+JA33)","v":468.79},{"$f":"+IF(Simulador!$C$50=\"Si\",JB31+JB32,JB31+JB33)","v":468.79},{"$f":"+IF(Simulador!$C$50=\"Si\",JC31+JC32,JC31+JC33)","v":468.79},{"$f":"+IF(Simulador!$C$50=\"Si\",JD31+JD32,JD31+JD33)","v":468.79},{"$f":"+IF(Simulador!$C$50=\"Si\",JE31+JE32,JE31+JE33)","v":468.79},{"$f":"+IF(Simulador!$C$50=\"Si\",JF31+JF32,JF31+JF33)","v":468.79},{"$f":"+IF(Simulador!$C$50=\"Si\",JG31+JG32,JG31+JG33)","v":468.79},{"$f":"+IF(Simulador!$C$50=\"Si\",JH31+JH32,JH31+JH33)","v":468.79},{"$f":"+IF(Simulador!$C$50=\"Si\",JI31+JI32,JI31+JI33)","v":468.79},{"$f":"+IF(Simulador!$C$50=\"Si\",JJ31+JJ32,JJ31+JJ33)","v":468.79},{"$f":"+IF(Simulador!$C$50=\"Si\",JK31+JK32,JK31+JK33)","v":468.79},{"$f":"+IF(Simulador!$C$50=\"Si\",JL31+JL32,JL31+JL33)","v":468.79},{"$f":"+IF(Simulador!$C$50=\"Si\",JM31+JM32,JM31+JM33)","v":468.79},{"$f":"+IF(Simulador!$C$50=\"Si\",JN31+JN32,JN31+JN33)","v":468.79},{"$f":"+IF(Simulador!$C$50=\"Si\",JO31+JO32,JO31+JO33)","v":468.79},{"$f":"+IF(Simulador!$C$50=\"Si\",JP31+JP32,JP31+JP33)","v":468.79},{"$f":"+IF(Simulador!$C$50=\"Si\",JQ31+JQ32,JQ31+JQ33)","v":468.79},{"$f":"+IF(Simulador!$C$50=\"Si\",JR31+JR32,JR31+JR33)","v":518.79},{"$f":"+IF(Simulador!$C$50=\"Si\",JS31+JS32,JS31+JS33)","v":518.79},{"$f":"+IF(Simulador!$C$50=\"Si\",JT31+JT32,JT31+JT33)","v":518.79},{"$f":"+IF(Simulador!$C$50=\"Si\",JU31+JU32,JU31+JU33)","v":518.79},{"$f":"+IF(Simulador!$C$50=\"Si\",JV31+JV32,JV31+JV33)","v":518.79},{"$f":"+IF(Simulador!$C$50=\"Si\",JW31+JW32,JW31+JW33)","v":518.79},{"$f":"+IF(Simulador!$C$50=\"Si\",JX31+JX32,JX31+JX33)","v":518.79},{"$f":"+IF(Simulador!$C$50=\"Si\",JY31+JY32,JY31+JY33)","v":518.79},{"$f":"+IF(Simulador!$C$50=\"Si\",JZ31+JZ32,JZ31+JZ33)","v":518.79},{"$f":"+IF(Simulador!$C$50=\"Si\",KA31+KA32,KA31+KA33)","v":518.79},{"$f":"+IF(Simulador!$C$50=\"Si\",KB31+KB32,KB31+KB33)","v":520.89},{"$f":"+IF(Simulador!$C$50=\"Si\",KC31+KC32,KC31+KC33)","v":520.89},{"$f":"+IF(Simulador!$C$50=\"Si\",KD31+KD32,KD31+KD33)","v":520.89},{"$f":"+IF(Simulador!$C$50=\"Si\",KE31+KE32,KE31+KE33)","v":520.89},{"$f":"+IF(Simulador!$C$50=\"Si\",KF31+KF32,KF31+KF33)","v":520.89},{"$f":"+IF(Simulador!$C$50=\"Si\",KG31+KG32,KG31+KG33)","v":520.89},{"$f":"+IF(Simulador!$C$50=\"Si\",KH31+KH32,KH31+KH33)","v":520.89},{"$f":"+IF(Simulador!$C$50=\"Si\",KI31+KI32,KI31+KI33)","v":520.89},{"$f":"+IF(Simulador!$C$50=\"Si\",KJ31+KJ32,KJ31+KJ33)","v":520.89},{"$f":"+IF(Simulador!$C$50=\"Si\",KK31+KK32,KK31+KK33)","v":520.89},{"$f":"+IF(Simulador!$C$50=\"Si\",KL31+KL32,KL31+KL33)","v":520.89},{"$f":"+IF(Simulador!$C$50=\"Si\",KM31+KM32,KM31+KM33)","v":520.89},{"$f":"+IF(Simulador!$C$50=\"Si\",KN31+KN32,KN31+KN33)","v":520.89},{"$f":"+IF(Simulador!$C$50=\"Si\",KO31+KO32,KO31+KO33)","v":520.89},{"$f":"+IF(Simulador!$C$50=\"Si\",KP31+KP32,KP31+KP33)","v":520.89},{"$f":"+IF(Simulador!$C$50=\"Si\",KQ31+KQ32,KQ31+KQ33)","v":520.89},{"$f":"+IF(Simulador!$C$50=\"Si\",KR31+KR32,KR31+KR33)","v":520.89},{"$f":"+IF(Simulador!$C$50=\"Si\",KS31+KS32,KS31+KS33)","v":520.89},{"$f":"+IF(Simulador!$C$50=\"Si\",KT31+KT32,KT31+KT33)","v":520.89},{"$f":"+IF(Simulador!$C$50=\"Si\",KU31+KU32,KU31+KU33)","v":520.89},{"$f":"+IF(Simulador!$C$50=\"Si\",KV31+KV32,KV31+KV33)","v":570.89},{"$f":"+IF(Simulador!$C$50=\"Si\",KW31+KW32,KW31+KW33)","v":570.89},{"$f":"+IF(Simulador!$C$50=\"Si\",KX31+KX32,KX31+KX33)","v":570.89},{"$f":"+IF(Simulador!$C$50=\"Si\",KY31+KY32,KY31+KY33)","v":570.89},{"$f":"+IF(Simulador!$C$50=\"Si\",KZ31+KZ32,KZ31+KZ33)","v":570.89},{"$f":"+IF(Simulador!$C$50=\"Si\",LA31+LA32,LA31+LA33)","v":570.89},{"$f":"+IF(Simulador!$C$50=\"Si\",LB31+LB32,LB31+LB33)","v":570.89},{"$f":"+IF(Simulador!$C$50=\"Si\",LC31+LC32,LC31+LC33)","v":570.89},{"$f":"+IF(Simulador!$C$50=\"Si\",LD31+LD32,LD31+LD33)","v":570.89},{"$f":"+IF(Simulador!$C$50=\"Si\",LE31+LE32,LE31+LE33)","v":573.01},{"$f":"+IF(Simulador!$C$50=\"Si\",LF31+LF32,LF31+LF33)","v":573.01},{"$f":"+IF(Simulador!$C$50=\"Si\",LG31+LG32,LG31+LG33)","v":573.01},{"$f":"+IF(Simulador!$C$50=\"Si\",LH31+LH32,LH31+LH33)","v":573.01},{"$f":"+IF(Simulador!$C$50=\"Si\",LI31+LI32,LI31+LI33)","v":573.01},{"$f":"+IF(Simulador!$C$50=\"Si\",LJ31+LJ32,LJ31+LJ33)","v":573.01},{"$f":"+IF(Simulador!$C$50=\"Si\",LK31+LK32,LK31+LK33)","v":573.01},{"$f":"+IF(Simulador!$C$50=\"Si\",LL31+LL32,LL31+LL33)","v":573.01},{"$f":"+IF(Simulador!$C$50=\"Si\",LM31+LM32,LM31+LM33)","v":573.01},{"$f":"+IF(Simulador!$C$50=\"Si\",LN31+LN32,LN31+LN33)","v":573.01},{"$f":"+IF(Simulador!$C$50=\"Si\",LO31+LO32,LO31+LO33)","v":573.01},{"$f":"+IF(Simulador!$C$50=\"Si\",LP31+LP32,LP31+LP33)","v":573.01},{"$f":"+IF(Simulador!$C$50=\"Si\",LQ31+LQ32,LQ31+LQ33)","v":573.01},{"$f":"+IF(Simulador!$C$50=\"Si\",LR31+LR32,LR31+LR33)","v":573.01},{"$f":"+IF(Simulador!$C$50=\"Si\",LS31+LS32,LS31+LS33)","v":573.01},{"$f":"+IF(Simulador!$C$50=\"Si\",LT31+LT32,LT31+LT33)","v":573.01},{"$f":"+IF(Simulador!$C$50=\"Si\",LU31+LU32,LU31+LU33)","v":573.01},{"$f":"+IF(Simulador!$C$50=\"Si\",LV31+LV32,LV31+LV33)","v":573.01},{"$f":"+IF(Simulador!$C$50=\"Si\",LW31+LW32,LW31+LW33)","v":573.01},{"$f":"+IF(Simulador!$C$50=\"Si\",LX31+LX32,LX31+LX33)","v":573.01},{"$f":"+IF(Simulador!$C$50=\"Si\",LY31+LY32,LY31+LY33)","v":573.01},{"$f":"+IF(Simulador!$C$50=\"Si\",LZ31+LZ32,LZ31+LZ33)","v":573.01},{"$f":"+IF(Simulador!$C$50=\"Si\",MA31+MA32,MA31+MA33)","v":623.01},{"$f":"+IF(Simulador!$C$50=\"Si\",MB31+MB32,MB31+MB33)","v":623.01},{"$f":"+IF(Simulador!$C$50=\"Si\",MC31+MC32,MC31+MC33)","v":623.01},{"$f":"+IF(Simulador!$C$50=\"Si\",MD31+MD32,MD31+MD33)","v":623.01},{"$f":"+IF(Simulador!$C$50=\"Si\",ME31+ME32,ME31+ME33)","v":623.01},{"$f":"+IF(Simulador!$C$50=\"Si\",MF31+MF32,MF31+MF33)","v":623.01},{"$f":"+IF(Simulador!$C$50=\"Si\",MG31+MG32,MG31+MG33)","v":623.01},{"$f":"+IF(Simulador!$C$50=\"Si\",MH31+MH32,MH31+MH33)","v":623.01},{"$f":"+IF(Simulador!$C$50=\"Si\",MI31+MI32,MI31+MI33)","v":623.01},{"$f":"+IF(Simulador!$C$50=\"Si\",MJ31+MJ32,MJ31+MJ33)","v":623.01},{"$f":"+IF(Simulador!$C$50=\"Si\",MK31+MK32,MK31+MK33)","v":625.66999999999996},{"$f":"+IF(Simulador!$C$50=\"Si\",ML31+ML32,ML31+ML33)","v":625.66999999999996},{"$f":"+IF(Simulador!$C$50=\"Si\",MM31+MM32,MM31+MM33)","v":625.66999999999996},{"$f":"+IF(Simulador!$C$50=\"Si\",MN31+MN32,MN31+MN33)","v":625.66999999999996},{"$f":"+IF(Simulador!$C$50=\"Si\",MO31+MO32,MO31+MO33)","v":625.66999999999996},{"$f":"+IF(Simulador!$C$50=\"Si\",MP31+MP32,MP31+MP33)","v":625.66999999999996},{"$f":"+IF(Simulador!$C$50=\"Si\",MQ31+MQ32,MQ31+MQ33)","v":625.66999999999996},{"$f":"+IF(Simulador!$C$50=\"Si\",MR31+MR32,MR31+MR33)","v":625.66999999999996},{"$f":"+IF(Simulador!$C$50=\"Si\",MS31+MS32,MS31+MS33)","v":625.66999999999996},{"$f":"+IF(Simulador!$C$50=\"Si\",MT31+MT32,MT31+MT33)","v":625.66999999999996},{"$f":"+IF(Simulador!$C$50=\"Si\",MU31+MU32,MU31+MU33)","v":625.66999999999996},{"$f":"+IF(Simulador!$C$50=\"Si\",MV31+MV32,MV31+MV33)","v":625.66999999999996},{"$f":"+IF(Simulador!$C$50=\"Si\",MW31+MW32,MW31+MW33)","v":625.66999999999996},{"$f":"+IF(Simulador!$C$50=\"Si\",MX31+MX32,MX31+MX33)","v":625.66999999999996},{"$f":"+IF(Simulador!$C$50=\"Si\",MY31+MY32,MY31+MY33)","v":625.66999999999996},{"$f":"+IF(Simulador!$C$50=\"Si\",MZ31+MZ32,MZ31+MZ33)","v":625.66999999999996},{"$f":"+IF(Simulador!$C$50=\"Si\",NA31+NA32,NA31+NA33)","v":625.66999999999996},{"$f":"+IF(Simulador!$C$50=\"Si\",NB31+NB32,NB31+NB33)","v":625.66999999999996},{"$f":"+IF(Simulador!$C$50=\"Si\",NC31+NC32,NC31+NC33)","v":625.66999999999996},{"$f":"+IF(Simulador!$C$50=\"Si\",ND31+ND32,ND31+ND33)","v":625.66999999999996},{"$f":"+IF(Simulador!$C$50=\"Si\",NE31+NE32,NE31+NE33)","v":675.67},{"$f":"+IF(Simulador!$C$50=\"Si\",NF31+NF32,NF31+NF33)","v":675.67},{"$f":"+IF(Simulador!$C$50=\"Si\",NG31+NG32,NG31+NG33)","v":675.67},{"$f":"+IF(Simulador!$C$50=\"Si\",NH31+NH32,NH31+NH33)","v":675.67},{"$f":"+IF(Simulador!$C$50=\"Si\",NI31+NI32,NI31+NI33)","v":675.67},{"$f":"+IF(Simulador!$C$50=\"Si\",NJ31+NJ32,NJ31+NJ33)","v":675.67},{"$f":"+IF(Simulador!$C$50=\"Si\",NK31+NK32,NK31+NK33)","v":675.67},{"$f":"+IF(Simulador!$C$50=\"Si\",NL31+NL32,NL31+NL33)","v":675.67},{"$f":"+IF(Simulador!$C$50=\"Si\",NM31+NM32,NM31+NM33)","v":675.67},{"$f":"+IF(Simulador!$C$50=\"Si\",NN31+NN32,NN31+NN33)","v":675.67},{"$f":"+IF(Simulador!$C$50=\"Si\",NO31+NO32,NO31+NO33)","v":675.67},{"$f":"+IF(Simulador!$C$50=\"Si\",NP31+NP32,NP31+NP33)","v":678.45999999999992},{"$f":"+IF(Simulador!$C$50=\"Si\",NQ31+NQ32,NQ31+NQ33)","v":678.45999999999992},{"$f":"+IF(Simulador!$C$50=\"Si\",NR31+NR32,NR31+NR33)","v":678.45999999999992},{"$f":"+IF(Simulador!$C$50=\"Si\",NS31+NS32,NS31+NS33)","v":678.45999999999992},{"$f":"+IF(Simulador!$C$50=\"Si\",NT31+NT32,NT31+NT33)","v":678.45999999999992},{"$f":"+IF(Simulador!$C$50=\"Si\",NU31+NU32,NU31+NU33)","v":678.45999999999992},{"$f":"+IF(Simulador!$C$50=\"Si\",NV31+NV32,NV31+NV33)","v":678.45999999999992},{"$f":"+IF(Simulador!$C$50=\"Si\",NW31+NW32,NW31+NW33)","v":678.45999999999992},{"$f":"+IF(Simulador!$C$50=\"Si\",NX31+NX32,NX31+NX33)","v":678.45999999999992},{"$f":"+IF(Simulador!$C$50=\"Si\",NY31+NY32,NY31+NY33)","v":678.45999999999992},{"$f":"+IF(Simulador!$C$50=\"Si\",NZ31+NZ32,NZ31+NZ33)","v":678.45999999999992},{"$f":"+IF(Simulador!$C$50=\"Si\",OA31+OA32,OA31+OA33)","v":678.45999999999992},{"$f":"+IF(Simulador!$C$50=\"Si\",OB31+OB32,OB31+OB33)","v":678.45999999999992},{"$f":"+IF(Simulador!$C$50=\"Si\",OC31+OC32,OC31+OC33)","v":678.45999999999992},{"$f":"+IF(Simulador!$C$50=\"Si\",OD31+OD32,OD31+OD33)","v":678.45999999999992},{"$f":"+IF(Simulador!$C$50=\"Si\",OE31+OE32,OE31+OE33)","v":678.45999999999992},{"$f":"+IF(Simulador!$C$50=\"Si\",OF31+OF32,OF31+OF33)","v":678.45999999999992},{"$f":"+IF(Simulador!$C$50=\"Si\",OG31+OG32,OG31+OG33)","v":678.45999999999992},{"$f":"+IF(Simulador!$C$50=\"Si\",OH31+OH32,OH31+OH33)","v":678.45999999999992},{"$f":"+IF(Simulador!$C$50=\"Si\",OI31+OI32,OI31+OI33)","v":678.45999999999992},{"$f":"+IF(Simulador!$C$50=\"Si\",OJ31+OJ32,OJ31+OJ33)","v":728.45999999999992},{"$f":"+IF(Simulador!$C$50=\"Si\",OK31+OK32,OK31+OK33)","v":728.45999999999992},{"$f":"+IF(Simulador!$C$50=\"Si\",OL31+OL32,OL31+OL33)","v":728.45999999999992},{"$f":"+IF(Simulador!$C$50=\"Si\",OM31+OM32,OM31+OM33)","v":728.45999999999992},{"$f":"+IF(Simulador!$C$50=\"Si\",ON31+ON32,ON31+ON33)","v":728.45999999999992},{"$f":"+IF(Simulador!$C$50=\"Si\",OO31+OO32,OO31+OO33)","v":728.45999999999992},{"$f":"+IF(Simulador!$C$50=\"Si\",OP31+OP32,OP31+OP33)","v":728.45999999999992},{"$f":"+IF(Simulador!$C$50=\"Si\",OQ31+OQ32,OQ31+OQ33)","v":728.45999999999992},{"$f":"+IF(Simulador!$C$50=\"Si\",OR31+OR32,OR31+OR33)","v":728.45999999999992},{"$f":"+IF(Simulador!$C$50=\"Si\",OS31+OS32,OS31+OS33)","v":728.45999999999992},{"$f":"+IF(Simulador!$C$50=\"Si\",OT31+OT32,OT31+OT33)","v":728.45999999999992},{"$f":"+IF(Simulador!$C$50=\"Si\",OU31+OU32,OU31+OU33)","v":731.3599999999999},{"$f":"+IF(Simulador!$C$50=\"Si\",OV31+OV32,OV31+OV33)","v":731.3599999999999},{"$f":"+IF(Simulador!$C$50=\"Si\",OW31+OW32,OW31+OW33)","v":731.3599999999999},{"$f":"+IF(Simulador!$C$50=\"Si\",OX31+OX32,OX31+OX33)","v":731.3599999999999},{"$f":"+IF(Simulador!$C$50=\"Si\",OY31+OY32,OY31+OY33)","v":731.3599999999999},{"$f":"+IF(Simulador!$C$50=\"Si\",OZ31+OZ32,OZ31+OZ33)","v":731.3599999999999},{"$f":"+IF(Simulador!$C$50=\"Si\",PA31+PA32,PA31+PA33)","v":731.3599999999999},{"$f":"+IF(Simulador!$C$50=\"Si\",PB31+PB32,PB31+PB33)","v":731.3599999999999},{"$f":"+IF(Simulador!$C$50=\"Si\",PC31+PC32,PC31+PC33)","v":731.3599999999999},{"$f":"+IF(Simulador!$C$50=\"Si\",PD31+PD32,PD31+PD33)","v":731.3599999999999},{"$f":"+IF(Simulador!$C$50=\"Si\",PE31+PE32,PE31+PE33)","v":731.3599999999999},{"$f":"+IF(Simulador!$C$50=\"Si\",PF31+PF32,PF31+PF33)","v":731.3599999999999},{"$f":"+IF(Simulador!$C$50=\"Si\",PG31+PG32,PG31+PG33)","v":731.3599999999999},{"$f":"+IF(Simulador!$C$50=\"Si\",PH31+PH32,PH31+PH33)","v":731.3599999999999},{"$f":"+IF(Simulador!$C$50=\"Si\",PI31+PI32,PI31+PI33)","v":731.3599999999999},{"$f":"+IF(Simulador!$C$50=\"Si\",PJ31+PJ32,PJ31+PJ33)","v":731.3599999999999},{"$f":"+IF(Simulador!$C$50=\"Si\",PK31+PK32,PK31+PK33)","v":731.3599999999999},{"$f":"+IF(Simulador!$C$50=\"Si\",PL31+PL32,PL31+PL33)","v":731.3599999999999},{"$f":"+IF(Simulador!$C$50=\"Si\",PM31+PM32,PM31+PM33)","v":731.3599999999999},{"$f":"+IF(Simulador!$C$50=\"Si\",PN31+PN32,PN31+PN33)","v":731.3599999999999},{"$f":"+IF(Simulador!$C$50=\"Si\",PO31+PO32,PO31+PO33)","v":781.3599999999999},{"$f":"+IF(Simulador!$C$50=\"Si\",PP31+PP32,PP31+PP33)","v":781.3599999999999},{"$f":"+IF(Simulador!$C$50=\"Si\",PQ31+PQ32,PQ31+PQ33)","v":781.3599999999999},{"$f":"+IF(Simulador!$C$50=\"Si\",PR31+PR32,PR31+PR33)","v":781.3599999999999},{"$f":"+IF(Simulador!$C$50=\"Si\",PS31+PS32,PS31+PS33)","v":781.3599999999999},{"$f":"+IF(Simulador!$C$50=\"Si\",PT31+PT32,PT31+PT33)","v":781.3599999999999},{"$f":"+IF(Simulador!$C$50=\"Si\",PU31+PU32,PU31+PU33)","v":781.3599999999999},{"$f":"+IF(Simulador!$C$50=\"Si\",PV31+PV32,PV31+PV33)","v":781.3599999999999},{"$f":"+IF(Simulador!$C$50=\"Si\",PW31+PW32,PW31+PW33)","v":781.3599999999999},{"$f":"+IF(Simulador!$C$50=\"Si\",PX31+PX32,PX31+PX33)","v":781.3599999999999},{"$f":"+IF(Simulador!$C$50=\"Si\",PY31+PY32,PY31+PY33)","v":784.45999999999992},{"$f":"+IF(Simulador!$C$50=\"Si\",PZ31+PZ32,PZ31+PZ33)","v":784.45999999999992},{"$f":"+IF(Simulador!$C$50=\"Si\",QA31+QA32,QA31+QA33)","v":784.45999999999992},{"$f":"+IF(Simulador!$C$50=\"Si\",QB31+QB32,QB31+QB33)","v":784.45999999999992},{"$f":"+IF(Simulador!$C$50=\"Si\",QC31+QC32,QC31+QC33)","v":784.45999999999992},{"$f":"+IF(Simulador!$C$50=\"Si\",QD31+QD32,QD31+QD33)","v":784.45999999999992},{"$f":"+IF(Simulador!$C$50=\"Si\",QE31+QE32,QE31+QE33)","v":784.45999999999992},{"$f":"+IF(Simulador!$C$50=\"Si\",QF31+QF32,QF31+QF33)","v":784.45999999999992},{"$f":"+IF(Simulador!$C$50=\"Si\",QG31+QG32,QG31+QG33)","v":784.45999999999992},{"$f":"+IF(Simulador!$C$50=\"Si\",QH31+QH32,QH31+QH33)","v":784.45999999999992},{"$f":"+IF(Simulador!$C$50=\"Si\",QI31+QI32,QI31+QI33)","v":784.45999999999992},{"$f":"+IF(Simulador!$C$50=\"Si\",QJ31+QJ32,QJ31+QJ33)","v":784.45999999999992},{"$f":"+IF(Simulador!$C$50=\"Si\",QK31+QK32,QK31+QK33)","v":784.45999999999992},{"$f":"+IF(Simulador!$C$50=\"Si\",QL31+QL32,QL31+QL33)","v":784.45999999999992},{"$f":"+IF(Simulador!$C$50=\"Si\",QM31+QM32,QM31+QM33)","v":784.45999999999992},{"$f":"+IF(Simulador!$C$50=\"Si\",QN31+QN32,QN31+QN33)","v":784.45999999999992},{"$f":"+IF(Simulador!$C$50=\"Si\",QO31+QO32,QO31+QO33)","v":784.45999999999992},{"$f":"+IF(Simulador!$C$50=\"Si\",QP31+QP32,QP31+QP33)","v":784.45999999999992},{"$f":"+IF(Simulador!$C$50=\"Si\",QQ31+QQ32,QQ31+QQ33)","v":784.45999999999992},{"$f":"+IF(Simulador!$C$50=\"Si\",QR31+QR32,QR31+QR33)","v":784.45999999999992},{"$f":"+IF(Simulador!$C$50=\"Si\",QS31+QS32,QS31+QS33)","v":834.45999999999992},{"$f":"+IF(Simulador!$C$50=\"Si\",QT31+QT32,QT31+QT33)","v":834.45999999999992},{"$f":"+IF(Simulador!$C$50=\"Si\",QU31+QU32,QU31+QU33)","v":834.45999999999992},{"$f":"+IF(Simulador!$C$50=\"Si\",QV31+QV32,QV31+QV33)","v":834.45999999999992},{"$f":"+IF(Simulador!$C$50=\"Si\",QW31+QW32,QW31+QW33)","v":834.45999999999992},{"$f":"+IF(Simulador!$C$50=\"Si\",QX31+QX32,QX31+QX33)","v":834.45999999999992},{"$f":"+IF(Simulador!$C$50=\"Si\",QY31+QY32,QY31+QY33)","v":834.45999999999992},{"$f":"+IF(Simulador!$C$50=\"Si\",QZ31+QZ32,QZ31+QZ33)","v":834.45999999999992},{"$f":"+IF(Simulador!$C$50=\"Si\",RA31+RA32,RA31+RA33)","v":834.45999999999992},{"$f":"+IF(Simulador!$C$50=\"Si\",RB31+RB32,RB31+RB33)","v":834.45999999999992},{"$f":"+IF(Simulador!$C$50=\"Si\",RC31+RC32,RC31+RC33)","v":837.8599999999999},{"$f":"+IF(Simulador!$C$50=\"Si\",RD31+RD32,RD31+RD33)","v":837.8599999999999},{"$f":"+IF(Simulador!$C$50=\"Si\",RE31+RE32,RE31+RE33)","v":837.8599999999999},{"$f":"+IF(Simulador!$C$50=\"Si\",RF31+RF32,RF31+RF33)","v":837.8599999999999},{"$f":"+IF(Simulador!$C$50=\"Si\",RG31+RG32,RG31+RG33)","v":837.8599999999999},{"$f":"+IF(Simulador!$C$50=\"Si\",RH31+RH32,RH31+RH33)","v":837.8599999999999},{"$f":"+IF(Simulador!$C$50=\"Si\",RI31+RI32,RI31+RI33)","v":837.8599999999999},{"$f":"+IF(Simulador!$C$50=\"Si\",RJ31+RJ32,RJ31+RJ33)","v":837.8599999999999},{"$f":"+IF(Simulador!$C$50=\"Si\",RK31+RK32,RK31+RK33)","v":837.8599999999999},{"$f":"+IF(Simulador!$C$50=\"Si\",RL31+RL32,RL31+RL33)","v":837.8599999999999},{"$f":"+IF(Simulador!$C$50=\"Si\",RM31+RM32,RM31+RM33)","v":837.8599999999999},{"$f":"+IF(Simulador!$C$50=\"Si\",RN31+RN32,RN31+RN33)","v":837.8599999999999},{"$f":"+IF(Simulador!$C$50=\"Si\",RO31+RO32,RO31+RO33)","v":837.8599999999999},{"$f":"+IF(Simulador!$C$50=\"Si\",RP31+RP32,RP31+RP33)","v":837.8599999999999},{"$f":"+IF(Simulador!$C$50=\"Si\",RQ31+RQ32,RQ31+RQ33)","v":837.8599999999999},{"$f":"+IF(Simulador!$C$50=\"Si\",RR31+RR32,RR31+RR33)","v":837.8599999999999},{"$f":"+IF(Simulador!$C$50=\"Si\",RS31+RS32,RS31+RS33)","v":837.8599999999999},{"$f":"+IF(Simulador!$C$50=\"Si\",RT31+RT32,RT31+RT33)","v":837.8599999999999},{"$f":"+IF(Simulador!$C$50=\"Si\",RU31+RU32,RU31+RU33)","v":837.8599999999999},{"$f":"+IF(Simulador!$C$50=\"Si\",RV31+RV32,RV31+RV33)","v":837.8599999999999},{"$f":"+IF(Simulador!$C$50=\"Si\",RW31+RW32,RW31+RW33)","v":837.8599999999999},{"$f":"+IF(Simulador!$C$50=\"Si\",RX31+RX32,RX31+RX33)","v":887.8599999999999},{"$f":"+IF(Simulador!$C$50=\"Si\",RY31+RY32,RY31+RY33)","v":887.8599999999999},{"$f":"+IF(Simulador!$C$50=\"Si\",RZ31+RZ32,RZ31+RZ33)","v":887.8599999999999},{"$f":"+IF(Simulador!$C$50=\"Si\",SA31+SA32,SA31+SA33)","v":887.8599999999999},{"$f":"+IF(Simulador!$C$50=\"Si\",SB31+SB32,SB31+SB33)","v":887.8599999999999},{"$f":"+IF(Simulador!$C$50=\"Si\",SC31+SC32,SC31+SC33)","v":887.8599999999999},{"$f":"+IF(Simulador!$C$50=\"Si\",SD31+SD32,SD31+SD33)","v":887.8599999999999},{"$f":"+IF(Simulador!$C$50=\"Si\",SE31+SE32,SE31+SE33)","v":887.8599999999999},{"$f":"+IF(Simulador!$C$50=\"Si\",SF31+SF32,SF31+SF33)","v":887.8599999999999},{"$f":"+IF(Simulador!$C$50=\"Si\",SG31+SG32,SG31+SG33)","v":887.8599999999999},{"$f":"+IF(Simulador!$C$50=\"Si\",SH31+SH32,SH31+SH33)","v":891.57999999999993},{"$f":"+IF(Simulador!$C$50=\"Si\",SI31+SI32,SI31+SI33)","v":891.57999999999993},{"$f":"+IF(Simulador!$C$50=\"Si\",SJ31+SJ32,SJ31+SJ33)","v":891.57999999999993},{"$f":"+IF(Simulador!$C$50=\"Si\",SK31+SK32,SK31+SK33)","v":891.57999999999993},{"$f":"+IF(Simulador!$C$50=\"Si\",SL31+SL32,SL31+SL33)","v":891.57999999999993},{"$f":"+IF(Simulador!$C$50=\"Si\",SM31+SM32,SM31+SM33)","v":891.57999999999993},{"$f":"+IF(Simulador!$C$50=\"Si\",SN31+SN32,SN31+SN33)","v":891.57999999999993},{"$f":"+IF(Simulador!$C$50=\"Si\",SO31+SO32,SO31+SO33)","v":891.57999999999993},{"$f":"+IF(Simulador!$C$50=\"Si\",SP31+SP32,SP31+SP33)","v":891.57999999999993},{"$f":"+IF(Simulador!$C$50=\"Si\",SQ31+SQ32,SQ31+SQ33)","v":891.57999999999993},{"$f":"+IF(Simulador!$C$50=\"Si\",SR31+SR32,SR31+SR33)","v":891.57999999999993},{"$f":"+IF(Simulador!$C$50=\"Si\",SS31+SS32,SS31+SS33)","v":891.57999999999993},{"$f":"+IF(Simulador!$C$50=\"Si\",ST31+ST32,ST31+ST33)","v":891.57999999999993},{"$f":"+IF(Simulador!$C$50=\"Si\",SU31+SU32,SU31+SU33)","v":891.57999999999993},{"$f":"+IF(Simulador!$C$50=\"Si\",SV31+SV32,SV31+SV33)","v":891.57999999999993},{"$f":"+IF(Simulador!$C$50=\"Si\",SW31+SW32,SW31+SW33)","v":891.57999999999993},{"$f":"+IF(Simulador!$C$50=\"Si\",SX31+SX32,SX31+SX33)","v":891.57999999999993},{"$f":"+IF(Simulador!$C$50=\"Si\",SY31+SY32,SY31+SY33)","v":891.57999999999993},{"$f":"+IF(Simulador!$C$50=\"Si\",SZ31+SZ32,SZ31+SZ33)","v":891.57999999999993},{"$f":"+IF(Simulador!$C$50=\"Si\",TA31+TA32,TA31+TA33)","v":891.57999999999993},{"$f":"+IF(Simulador!$C$50=\"Si\",TB31+TB32,TB31+TB33)","v":941.57999999999993},{"$f":"+IF(Simulador!$C$50=\"Si\",TC31+TC32,TC31+TC33)","v":941.57999999999993},{"$f":"+IF(Simulador!$C$50=\"Si\",TD31+TD32,TD31+TD33)","v":941.57999999999993},{"$f":"+IF(Simulador!$C$50=\"Si\",TE31+TE32,TE31+TE33)","v":941.57999999999993},{"$f":"+IF(Simulador!$C$50=\"Si\",TF31+TF32,TF31+TF33)","v":941.57999999999993},{"$f":"+IF(Simulador!$C$50=\"Si\",TG31+TG32,TG31+TG33)","v":941.57999999999993},{"$f":"+IF(Simulador!$C$50=\"Si\",TH31+TH32,TH31+TH33)","v":941.57999999999993},{"$f":"+IF(Simulador!$C$50=\"Si\",TI31+TI32,TI31+TI33)","v":941.57999999999993},{"$f":"+IF(Simulador!$C$50=\"Si\",TJ31+TJ32,TJ31+TJ33)","v":941.57999999999993},{"$f":"+IF(Simulador!$C$50=\"Si\",TK31+TK32,TK31+TK33)","v":941.57999999999993},{"$f":"+IF(Simulador!$C$50=\"Si\",TL31+TL32,TL31+TL33)","v":945.28},{"$f":"+IF(Simulador!$C$50=\"Si\",TM31+TM32,TM31+TM33)","v":945.28},{"$f":"+IF(Simulador!$C$50=\"Si\",TN31+TN32,TN31+TN33)","v":945.28},{"$f":"+IF(Simulador!$C$50=\"Si\",TO31+TO32,TO31+TO33)","v":945.28},{"$f":"+IF(Simulador!$C$50=\"Si\",TP31+TP32,TP31+TP33)","v":945.28},{"$f":"+IF(Simulador!$C$50=\"Si\",TQ31+TQ32,TQ31+TQ33)","v":945.28},{"$f":"+IF(Simulador!$C$50=\"Si\",TR31+TR32,TR31+TR33)","v":945.28},{"$f":"+IF(Simulador!$C$50=\"Si\",TS31+TS32,TS31+TS33)","v":945.28},{"$f":"+IF(Simulador!$C$50=\"Si\",TT31+TT32,TT31+TT33)","v":945.28},{"$f":"+IF(Simulador!$C$50=\"Si\",TU31+TU32,TU31+TU33)","v":945.28},{"$f":"+IF(Simulador!$C$50=\"Si\",TV31+TV32,TV31+TV33)","v":945.28},{"$f":"+IF(Simulador!$C$50=\"Si\",TW31+TW32,TW31+TW33)","v":945.28},{"$f":"+IF(Simulador!$C$50=\"Si\",TX31+TX32,TX31+TX33)","v":945.28},{"$f":"+IF(Simulador!$C$50=\"Si\",TY31+TY32,TY31+TY33)","v":945.28},{"$f":"+IF(Simulador!$C$50=\"Si\",TZ31+TZ32,TZ31+TZ33)","v":945.28},{"$f":"+IF(Simulador!$C$50=\"Si\",UA31+UA32,UA31+UA33)","v":945.28},{"$f":"+IF(Simulador!$C$50=\"Si\",UB31+UB32,UB31+UB33)","v":945.28},{"$f":"+IF(Simulador!$C$50=\"Si\",UC31+UC32,UC31+UC33)","v":945.28},{"$f":"+IF(Simulador!$C$50=\"Si\",UD31+UD32,UD31+UD33)","v":945.28},{"$f":"+IF(Simulador!$C$50=\"Si\",UE31+UE32,UE31+UE33)","v":945.28},{"$f":"+IF(Simulador!$C$50=\"Si\",UF31+UF32,UF31+UF33)","v":945.28},{"$f":"+IF(Simulador!$C$50=\"Si\",UG31+UG32,UG31+UG33)","v":995.28},{"$f":"+IF(Simulador!$C$50=\"Si\",UH31+UH32,UH31+UH33)","v":995.28},{"$f":"+IF(Simulador!$C$50=\"Si\",UI31+UI32,UI31+UI33)","v":995.28},{"$f":"+IF(Simulador!$C$50=\"Si\",UJ31+UJ32,UJ31+UJ33)","v":995.28},{"$f":"+IF(Simulador!$C$50=\"Si\",UK31+UK32,UK31+UK33)","v":995.28},{"$f":"+IF(Simulador!$C$50=\"Si\",UL31+UL32,UL31+UL33)","v":995.28},{"$f":"+IF(Simulador!$C$50=\"Si\",UM31+UM32,UM31+UM33)","v":995.28},{"$f":"+IF(Simulador!$C$50=\"Si\",UN31+UN32,UN31+UN33)","v":995.28},{"$f":"+IF(Simulador!$C$50=\"Si\",UO31+UO32,UO31+UO33)","v":995.28},{"$f":"+IF(Simulador!$C$50=\"Si\",UP31+UP32,UP31+UP33)","v":999.27},{"$f":"+IF(Simulador!$C$50=\"Si\",UQ31+UQ32,UQ31+UQ33)","v":999.27},{"$f":"+IF(Simulador!$C$50=\"Si\",UR31+UR32,UR31+UR33)","v":999.27},{"$f":"+IF(Simulador!$C$50=\"Si\",US31+US32,US31+US33)","v":999.27},{"$f":"+IF(Simulador!$C$50=\"Si\",UT31+UT32,UT31+UT33)","v":999.27},{"$f":"+IF(Simulador!$C$50=\"Si\",UU31+UU32,UU31+UU33)","v":999.27},{"$f":"+IF(Simulador!$C$50=\"Si\",UV31+UV32,UV31+UV33)","v":999.27},{"$f":"+IF(Simulador!$C$50=\"Si\",UW31+UW32,UW31+UW33)","v":999.27},{"$f":"+IF(Simulador!$C$50=\"Si\",UX31+UX32,UX31+UX33)","v":999.27},{"$f":"+IF(Simulador!$C$50=\"Si\",UY31+UY32,UY31+UY33)","v":999.27},{"$f":"+IF(Simulador!$C$50=\"Si\",UZ31+UZ32,UZ31+UZ33)","v":999.27},{"$f":"+IF(Simulador!$C$50=\"Si\",VA31+VA32,VA31+VA33)","v":999.27},{"$f":"+IF(Simulador!$C$50=\"Si\",VB31+VB32,VB31+VB33)","v":999.27},{"$f":"+IF(Simulador!$C$50=\"Si\",VC31+VC32,VC31+VC33)","v":999.27},{"$f":"+IF(Simulador!$C$50=\"Si\",VD31+VD32,VD31+VD33)","v":999.27},{"$f":"+IF(Simulador!$C$50=\"Si\",VE31+VE32,VE31+VE33)","v":999.27},{"$f":"+IF(Simulador!$C$50=\"Si\",VF31+VF32,VF31+VF33)","v":999.27},{"$f":"+IF(Simulador!$C$50=\"Si\",VG31+VG32,VG31+VG33)","v":999.27},{"$f":"+IF(Simulador!$C$50=\"Si\",VH31+VH32,VH31+VH33)","v":999.27},{"$f":"+IF(Simulador!$C$50=\"Si\",VI31+VI32,VI31+VI33)","v":999.27},{"$f":"+IF(Simulador!$C$50=\"Si\",VJ31+VJ32,VJ31+VJ33)","v":999.27},{"$f":"+IF(Simulador!$C$50=\"Si\",VK31+VK32,VK31+VK33)","v":999.27},{"$f":"+IF(Simulador!$C$50=\"Si\",VL31+VL32,VL31+VL33)","v":1049.27},{"$f":"+IF(Simulador!$C$50=\"Si\",VM31+VM32,VM31+VM33)","v":1049.27},{"$f":"+IF(Simulador!$C$50=\"Si\",VN31+VN32,VN31+VN33)","v":1049.27},{"$f":"+IF(Simulador!$C$50=\"Si\",VO31+VO32,VO31+VO33)","v":1049.27},{"$f":"+IF(Simulador!$C$50=\"Si\",VP31+VP32,VP31+VP33)","v":1049.27},{"$f":"+IF(Simulador!$C$50=\"Si\",VQ31+VQ32,VQ31+VQ33)","v":1049.27},{"$f":"+IF(Simulador!$C$50=\"Si\",VR31+VR32,VR31+VR33)","v":1053.25},{"$f":"+IF(Simulador!$C$50=\"Si\",VS31+VS32,VS31+VS33)","v":1053.25},{"$f":"+IF(Simulador!$C$50=\"Si\",VT31+VT32,VT31+VT33)","v":1053.25},{"$f":"+IF(Simulador!$C$50=\"Si\",VU31+VU32,VU31+VU33)","v":1053.25},{"$f":"+IF(Simulador!$C$50=\"Si\",VV31+VV32,VV31+VV33)","v":1053.25},{"$f":"+IF(Simulador!$C$50=\"Si\",VW31+VW32,VW31+VW33)","v":1053.25},{"$f":"+IF(Simulador!$C$50=\"Si\",VX31+VX32,VX31+VX33)","v":1053.25},{"$f":"+IF(Simulador!$C$50=\"Si\",VY31+VY32,VY31+VY33)","v":1053.25},{"$f":"+IF(Simulador!$C$50=\"Si\",VZ31+VZ32,VZ31+VZ33)","v":1053.25},{"$f":"+IF(Simulador!$C$50=\"Si\",WA31+WA32,WA31+WA33)","v":1053.25},{"$f":"+IF(Simulador!$C$50=\"Si\",WB31+WB32,WB31+WB33)","v":1053.25},{"$f":"+IF(Simulador!$C$50=\"Si\",WC31+WC32,WC31+WC33)","v":1053.25},{"$f":"+IF(Simulador!$C$50=\"Si\",WD31+WD32,WD31+WD33)","v":1053.25},{"$f":"+IF(Simulador!$C$50=\"Si\",WE31+WE32,WE31+WE33)","v":1053.25},{"$f":"+IF(Simulador!$C$50=\"Si\",WF31+WF32,WF31+WF33)","v":1053.25},{"$f":"+IF(Simulador!$C$50=\"Si\",WG31+WG32,WG31+WG33)","v":1053.25},{"$f":"+IF(Simulador!$C$50=\"Si\",WH31+WH32,WH31+WH33)","v":1053.25},{"$f":"+IF(Simulador!$C$50=\"Si\",WI31+WI32,WI31+WI33)","v":1053.25},{"$f":"+IF(Simulador!$C$50=\"Si\",WJ31+WJ32,WJ31+WJ33)","v":1053.25},{"$f":"+IF(Simulador!$C$50=\"Si\",WK31+WK32,WK31+WK33)","v":1053.25},{"$f":"+IF(Simulador!$C$50=\"Si\",WL31+WL32,WL31+WL33)","v":1053.25},{"$f":"+IF(Simulador!$C$50=\"Si\",WM31+WM32,WM31+WM33)","v":1053.25},{"$f":"+IF(Simulador!$C$50=\"Si\",WN31+WN32,WN31+WN33)","v":1103.25},{"$f":"+IF(Simulador!$C$50=\"Si\",WO31+WO32,WO31+WO33)","v":1103.25},{"$f":"+IF(Simulador!$C$50=\"Si\",WP31+WP32,WP31+WP33)","v":1103.25},{"$f":"+IF(Simulador!$C$50=\"Si\",WQ31+WQ32,WQ31+WQ33)","v":1103.25},{"$f":"+IF(Simulador!$C$50=\"Si\",WR31+WR32,WR31+WR33)","v":1103.25},{"$f":"+IF(Simulador!$C$50=\"Si\",WS31+WS32,WS31+WS33)","v":1103.25},{"$f":"+IF(Simulador!$C$50=\"Si\",WT31+WT32,WT31+WT33)","v":1103.25},{"$f":"+IF(Simulador!$C$50=\"Si\",WU31+WU32,WU31+WU33)","v":1103.25},{"$f":"+IF(Simulador!$C$50=\"Si\",WV31+WV32,WV31+WV33)","v":1103.25},{"$f":"+IF(Simulador!$C$50=\"Si\",WW31+WW32,WW31+WW33)","v":1103.25},{"$f":"+IF(Simulador!$C$50=\"Si\",WX31+WX32,WX31+WX33)","v":1103.25},{"$f":"+IF(Simulador!$C$50=\"Si\",WY31+WY32,WY31+WY33)","v":1108.2},{"$f":"+IF(Simulador!$C$50=\"Si\",WZ31+WZ32,WZ31+WZ33)","v":1108.2},{"$f":"+IF(Simulador!$C$50=\"Si\",XA31+XA32,XA31+XA33)","v":1108.2},{"$f":"+IF(Simulador!$C$50=\"Si\",XB31+XB32,XB31+XB33)","v":1108.2},{"$f":"+IF(Simulador!$C$50=\"Si\",XC31+XC32,XC31+XC33)","v":1108.2},{"$f":"+IF(Simulador!$C$50=\"Si\",XD31+XD32,XD31+XD33)","v":1108.2},{"$f":"+IF(Simulador!$C$50=\"Si\",XE31+XE32,XE31+XE33)","v":1108.2},{"$f":"+IF(Simulador!$C$50=\"Si\",XF31+XF32,XF31+XF33)","v":1108.2},{"$f":"+IF(Simulador!$C$50=\"Si\",XG31+XG32,XG31+XG33)","v":1108.2},{"$f":"+IF(Simulador!$C$50=\"Si\",XH31+XH32,XH31+XH33)","v":1108.2},{"$f":"+IF(Simulador!$C$50=\"Si\",XI31+XI32,XI31+XI33)","v":1108.2},{"$f":"+IF(Simulador!$C$50=\"Si\",XJ31+XJ32,XJ31+XJ33)","v":1108.2},{"$f":"+IF(Simulador!$C$50=\"Si\",XK31+XK32,XK31+XK33)","v":1108.2},{"$f":"+IF(Simulador!$C$50=\"Si\",XL31+XL32,XL31+XL33)","v":1108.2},{"$f":"+IF(Simulador!$C$50=\"Si\",XM31+XM32,XM31+XM33)","v":1108.2},{"$f":"+IF(Simulador!$C$50=\"Si\",XN31+XN32,XN31+XN33)","v":1108.2},{"$f":"+IF(Simulador!$C$50=\"Si\",XO31+XO32,XO31+XO33)","v":1108.2},{"$f":"+IF(Simulador!$C$50=\"Si\",XP31+XP32,XP31+XP33)","v":1108.2},{"$f":"+IF(Simulador!$C$50=\"Si\",XQ31+XQ32,XQ31+XQ33)","v":1108.2},{"$f":"+IF(Simulador!$C$50=\"Si\",XR31+XR32,XR31+XR33)","v":1108.2},{"$f":"+IF(Simulador!$C$50=\"Si\",XS31+XS32,XS31+XS33)","v":1158.2},{"$f":"+IF(Simulador!$C$50=\"Si\",XT31+XT32,XT31+XT33)","v":1158.2},{"$f":"+IF(Simulador!$C$50=\"Si\",XU31+XU32,XU31+XU33)","v":1158.2},{"$f":"+IF(Simulador!$C$50=\"Si\",XV31+XV32,XV31+XV33)","v":1158.2},{"$f":"+IF(Simulador!$C$50=\"Si\",XW31+XW32,XW31+XW33)","v":1158.2},{"$f":"+IF(Simulador!$C$50=\"Si\",XX31+XX32,XX31+XX33)","v":1158.2},{"$f":"+IF(Simulador!$C$50=\"Si\",XY31+XY32,XY31+XY33)","v":1158.2},{"$f":"+IF(Simulador!$C$50=\"Si\",XZ31+XZ32,XZ31+XZ33)","v":1158.2},{"$f":"+IF(Simulador!$C$50=\"Si\",YA31+YA32,YA31+YA33)","v":1158.2},{"$f":"+IF(Simulador!$C$50=\"Si\",YB31+YB32,YB31+YB33)","v":1162.6400000000001},{"$f":"+IF(Simulador!$C$50=\"Si\",YC31+YC32,YC31+YC33)","v":1162.6400000000001},{"$f":"+IF(Simulador!$C$50=\"Si\",YD31+YD32,YD31+YD33)","v":1162.6400000000001},{"$f":"+IF(Simulador!$C$50=\"Si\",YE31+YE32,YE31+YE33)","v":1162.6400000000001},{"$f":"+IF(Simulador!$C$50=\"Si\",YF31+YF32,YF31+YF33)","v":1162.6400000000001},{"$f":"+IF(Simulador!$C$50=\"Si\",YG31+YG32,YG31+YG33)","v":1162.6400000000001},{"$f":"+IF(Simulador!$C$50=\"Si\",YH31+YH32,YH31+YH33)","v":1162.6400000000001},{"$f":"+IF(Simulador!$C$50=\"Si\",YI31+YI32,YI31+YI33)","v":1162.6400000000001},{"$f":"+IF(Simulador!$C$50=\"Si\",YJ31+YJ32,YJ31+YJ33)","v":1162.6400000000001},{"$f":"+IF(Simulador!$C$50=\"Si\",YK31+YK32,YK31+YK33)","v":1162.6400000000001},{"$f":"+IF(Simulador!$C$50=\"Si\",YL31+YL32,YL31+YL33)","v":1162.6400000000001},{"$f":"+IF(Simulador!$C$50=\"Si\",YM31+YM32,YM31+YM33)","v":1162.6400000000001},{"$f":"+IF(Simulador!$C$50=\"Si\",YN31+YN32,YN31+YN33)","v":1162.6400000000001},{"$f":"+IF(Simulador!$C$50=\"Si\",YO31+YO32,YO31+YO33)","v":1162.6400000000001},{"$f":"+IF(Simulador!$C$50=\"Si\",YP31+YP32,YP31+YP33)","v":1162.6400000000001},{"$f":"+IF(Simulador!$C$50=\"Si\",YQ31+YQ32,YQ31+YQ33)","v":1162.6400000000001},{"$f":"+IF(Simulador!$C$50=\"Si\",YR31+YR32,YR31+YR33)","v":1162.6400000000001},{"$f":"+IF(Simulador!$C$50=\"Si\",YS31+YS32,YS31+YS33)","v":1162.6400000000001},{"$f":"+IF(Simulador!$C$50=\"Si\",YT31+YT32,YT31+YT33)","v":1162.6400000000001},{"$f":"+IF(Simulador!$C$50=\"Si\",YU31+YU32,YU31+YU33)","v":1162.6400000000001},{"$f":"+IF(Simulador!$C$50=\"Si\",YV31+YV32,YV31+YV33)","v":1162.6400000000001},{"$f":"+IF(Simulador!$C$50=\"Si\",YW31+YW32,YW31+YW33)","v":1212.6400000000001},{"$f":"+IF(Simulador!$C$50=\"Si\",YX31+YX32,YX31+YX33)","v":1212.6400000000001},{"$f":"+IF(Simulador!$C$50=\"Si\",YY31+YY32,YY31+YY33)","v":1212.6400000000001},{"$f":"+IF(Simulador!$C$50=\"Si\",YZ31+YZ32,YZ31+YZ33)","v":1212.6400000000001},{"$f":"+IF(Simulador!$C$50=\"Si\",ZA31+ZA32,ZA31+ZA33)","v":1212.6400000000001},{"$f":"+IF(Simulador!$C$50=\"Si\",ZB31+ZB32,ZB31+ZB33)","v":1212.6400000000001},{"$f":"+IF(Simulador!$C$50=\"Si\",ZC31+ZC32,ZC31+ZC33)","v":1212.6400000000001},{"$f":"+IF(Simulador!$C$50=\"Si\",ZD31+ZD32,ZD31+ZD33)","v":1212.6400000000001},{"$f":"+IF(Simulador!$C$50=\"Si\",ZE31+ZE32,ZE31+ZE33)","v":1212.6400000000001},{"$f":"+IF(Simulador!$C$50=\"Si\",ZF31+ZF32,ZF31+ZF33)","v":1212.6400000000001},{"$f":"+IF(Simulador!$C$50=\"Si\",ZG31+ZG32,ZG31+ZG33)","v":1212.6400000000001},{"$f":"+IF(Simulador!$C$50=\"Si\",ZH31+ZH32,ZH31+ZH33)","v":1217.8700000000001},{"$f":"+IF(Simulador!$C$50=\"Si\",ZI31+ZI32,ZI31+ZI33)","v":1217.8700000000001},{"$f":"+IF(Simulador!$C$50=\"Si\",ZJ31+ZJ32,ZJ31+ZJ33)","v":1217.8700000000001},{"$f":"+IF(Simulador!$C$50=\"Si\",ZK31+ZK32,ZK31+ZK33)","v":1217.8700000000001},{"$f":"+IF(Simulador!$C$50=\"Si\",ZL31+ZL32,ZL31+ZL33)","v":1217.8700000000001},{"$f":"+IF(Simulador!$C$50=\"Si\",ZM31+ZM32,ZM31+ZM33)","v":1217.8700000000001},{"$f":"+IF(Simulador!$C$50=\"Si\",ZN31+ZN32,ZN31+ZN33)","v":1217.8700000000001},{"$f":"+IF(Simulador!$C$50=\"Si\",ZO31+ZO32,ZO31+ZO33)","v":1217.8700000000001},{"$f":"+IF(Simulador!$C$50=\"Si\",ZP31+ZP32,ZP31+ZP33)","v":1217.8700000000001},{"$f":"+IF(Simulador!$C$50=\"Si\",ZQ31+ZQ32,ZQ31+ZQ33)","v":1217.8700000000001},{"$f":"+IF(Simulador!$C$50=\"Si\",ZR31+ZR32,ZR31+ZR33)","v":1217.8700000000001},{"$f":"+IF(Simulador!$C$50=\"Si\",ZS31+ZS32,ZS31+ZS33)","v":1217.8700000000001},{"$f":"+IF(Simulador!$C$50=\"Si\",ZT31+ZT32,ZT31+ZT33)","v":1217.8700000000001},{"$f":"+IF(Simulador!$C$50=\"Si\",ZU31+ZU32,ZU31+ZU33)","v":1217.8700000000001},{"$f":"+IF(Simulador!$C$50=\"Si\",ZV31+ZV32,ZV31+ZV33)","v":1217.8700000000001},{"$f":"+IF(Simulador!$C$50=\"Si\",ZW31+ZW32,ZW31+ZW33)","v":1217.8700000000001},{"$f":"+IF(Simulador!$C$50=\"Si\",ZX31+ZX32,ZX31+ZX33)","v":1217.8700000000001},{"$f":"+IF(Simulador!$C$50=\"Si\",ZY31+ZY32,ZY31+ZY33)","v":1217.8700000000001},{"$f":"+IF(Simulador!$C$50=\"Si\",ZZ31+ZZ32,ZZ31+ZZ33)","v":1217.8700000000001},{"$f":"+IF(Simulador!$C$50=\"Si\",AAA31+AAA32,AAA31+AAA33)","v":1217.8700000000001},{"$f":"+IF(Simulador!$C$50=\"Si\",AAB31+AAB32,AAB31+AAB33)","v":1267.8700000000001},{"$f":"+IF(Simulador!$C$50=\"Si\",AAC31+AAC32,AAC31+AAC33)","v":1267.8700000000001},{"$f":"+IF(Simulador!$C$50=\"Si\",AAD31+AAD32,AAD31+AAD33)","v":1267.8700000000001},{"$f":"+IF(Simulador!$C$50=\"Si\",AAE31+AAE32,AAE31+AAE33)","v":1267.8700000000001},{"$f":"+IF(Simulador!$C$50=\"Si\",AAF31+AAF32,AAF31+AAF33)","v":1267.8700000000001},{"$f":"+IF(Simulador!$C$50=\"Si\",AAG31+AAG32,AAG31+AAG33)","v":1267.8700000000001},{"$f":"+IF(Simulador!$C$50=\"Si\",AAH31+AAH32,AAH31+AAH33)","v":1267.8700000000001},{"$f":"+IF(Simulador!$C$50=\"Si\",AAI31+AAI32,AAI31+AAI33)","v":1267.8700000000001},{"$f":"+IF(Simulador!$C$50=\"Si\",AAJ31+AAJ32,AAJ31+AAJ33)","v":1267.8700000000001},{"$f":"+IF(Simulador!$C$50=\"Si\",AAK31+AAK32,AAK31+AAK33)","v":1267.8700000000001},{"$f":"+IF(Simulador!$C$50=\"Si\",AAL31+AAL32,AAL31+AAL33)","v":1273.0700000000002},{"$f":"+IF(Simulador!$C$50=\"Si\",AAM31+AAM32,AAM31+AAM33)","v":1273.0700000000002},{"$f":"+IF(Simulador!$C$50=\"Si\",AAN31+AAN32,AAN31+AAN33)","v":1273.0700000000002},{"$f":"+IF(Simulador!$C$50=\"Si\",AAO31+AAO32,AAO31+AAO33)","v":1273.0700000000002},{"$f":"+IF(Simulador!$C$50=\"Si\",AAP31+AAP32,AAP31+AAP33)","v":1273.0700000000002},{"$f":"+IF(Simulador!$C$50=\"Si\",AAQ31+AAQ32,AAQ31+AAQ33)","v":1273.0700000000002},{"$f":"+IF(Simulador!$C$50=\"Si\",AAR31+AAR32,AAR31+AAR33)","v":1273.0700000000002},{"$f":"+IF(Simulador!$C$50=\"Si\",AAS31+AAS32,AAS31+AAS33)","v":1273.0700000000002},{"$f":"+IF(Simulador!$C$50=\"Si\",AAT31+AAT32,AAT31+AAT33)","v":1273.0700000000002},{"$f":"+IF(Simulador!$C$50=\"Si\",AAU31+AAU32,AAU31+AAU33)","v":1273.0700000000002}]
[null,"Interés diario",{"$f":"+ROUND(ROUND(C34*(Simulador!$C$63/360),4),2)","v":0},{"$f":"+ROUND(ROUND(D34*(Simulador!$C$63/360),4),2)","v":0.01},{"$f":"+ROUND(ROUND(E34*(Simulador!$C$63/360),4),2)","v":0.01},{"$f":"+ROUND(ROUND(F34*(Simulador!$C$63/360),4),2)","v":0.01},{"$f":"+ROUND(ROUND(G34*(Simulador!$C$63/360),4),2)","v":0.01},{"$f":"+ROUND(ROUND(H34*(Simulador!$C$63/360),4),2)","v":0.01},{"$f":"+ROUND(ROUND(I34*(Simulador!$C$63/360),4),2)","v":0.01},{"$f":"+ROUND(ROUND(J34*(Simulador!$C$63/360),4),2)","v":0.01},{"$f":"+ROUND(ROUND(K34*(Simulador!$C$63/360),4),2)","v":0.01},{"$f":"+ROUND(ROUND(L34*(Simulador!$C$63/360),4),2)","v":0.01},{"$f":"+ROUND(ROUND(M34*(Simulador!$C$63/360),4),2)","v":0.01},{"$f":"+ROUND(ROUND(N34*(Simulador!$C$63/360),4),2)","v":0.01},{"$f":"+ROUND(ROUND(O34*(Simulador!$C$63/360),4),2)","v":0.01},{"$f":"+ROUND(ROUND(P34*(Simulador!$C$63/360),4),2)","v":0.01},{"$f":"+ROUND(ROUND(Q34*(Simulador!$C$63/360),4),2)","v":0.01},{"$f":"+ROUND(ROUND(R34*(Simulador!$C$63/360),4),2)","v":0.01},{"$f":"+ROUND(ROUND(S34*(Simulador!$C$63/360),4),2)","v":0.01},{"$f":"+ROUND(ROUND(T34*(Simulador!$C$63/360),4),2)","v":0.01},{"$f":"+ROUND(ROUND(U34*(Simulador!$C$63/360),4),2)","v":0.01},{"$f":"+ROUND(ROUND(V34*(Simulador!$C$63/360),4),2)","v":0.01},{"$f":"+ROUND(ROUND(W34*(Simulador!$C$63/360),4),2)","v":0.01},{"$f":"+ROUND(ROUND(X34*(Simulador!$C$63/360),4),2)","v":0.01},{"$f":"+ROUND(ROUND(Y34*(Simulador!$C$63/360),4),2)","v":0.01},{"$f":"+ROUND(ROUND(Z34*(Simulador!$C$63/360),4),2)","v":0.01},{"$f":"+ROUND(ROUND(AA34*(Simulador!$C$63/360),4),2)","v":0.01},{"$f":"+ROUND(ROUND(AB34*(Simulador!$C$63/360),4),2)","v":0.01},{"$f":"+ROUND(ROUND(AC34*(Simulador!$C$63/360),4),2)","v":0.01},{"$f":"+ROUND(ROUND(AD34*(Simulador!$C$63/360),4),2)","v":0.01},{"$f":"+ROUND(ROUND(AE34*(Simulador!$C$63/360),4),2)","v":0.01},{"$f":"+ROUND(ROUND(AF34*(Simulador!$C$63/360),4),2)","v":0.01},{"$f":"+ROUND(ROUND(AG34*(Simulador!$C$63/360),4),2)","v":0.01},{"$f":"+ROUND(ROUND(AH34*(Simulador!$C$63/360),4),2)","v":0.01},{"$f":"+ROUND(ROUND(AI34*(Simulador!$C$63/360),4),2)","v":0.02},{"$f":"+ROUND(ROUND(AJ34*(Simulador!$C$63/360),4),2)","v":0.02},{"$f":"+ROUND(ROUND(AK34*(Simulador!$C$63/360),4),2)","v":0.02},{"$f":"+ROUND(ROUND(AL34*(Simulador!$C$63/360),4),2)","v":0.02},{"$f":"+ROUND(ROUND(AM34*(Simulador!$C$63/360),4),2)","v":0.02},{"$f":"+ROUND(ROUND(AN34*(Simulador!$C$63/360),4),2)","v":0.02},{"$f":"+ROUND(ROUND(AO34*(Simulador!$C$63/360),4),2)","v":0.02},{"$f":"+ROUND(ROUND(AP34*(Simulador!$C$63/360),4),2)","v":0.02},{"$f":"+ROUND(ROUND(AQ34*(Simulador!$C$63/360),4),2)","v":0.02},{"$f":"+ROUND(ROUND(AR34*(Simulador!$C$63/360),4),2)","v":0.02},{"$f":"+ROUND(ROUND(AS34*(Simulador!$C$63/360),4),2)","v":0.02},{"$f":"+ROUND(ROUND(AT34*(Simulador!$C$63/360),4),2)","v":0.02},{"$f":"+ROUND(ROUND(AU34*(Simulador!$C$63/360),4),2)","v":0.02},{"$f":"+ROUND(ROUND(AV34*(Simulador!$C$63/360),4),2)","v":0.02},{"$f":"+ROUND(ROUND(AW34*(Simulador!$C$63/360),4),2)","v":0.02},{"$f":"+ROUND(ROUND(AX34*(Simulador!$C$63/360),4),2)","v":0.02},{"$f":"+ROUND(ROUND(AY34*(Simulador!$C$63/360),4),2)","v":0.02},{"$f":"+ROUND(ROUND(AZ34*(Simulador!$C$63/360),4),2)","v":0.02},{"$f":"+ROUND(ROUND(BA34*(Simulador!$C$63/360),4),2)","v":0.02},{"$f":"+ROUND(ROUND(BB34*(Simulador!$C$63/360),4),2)","v":0.02},{"$f":"+ROUND(ROUND(BC34*(Simulador!$C$63/360),4),2)","v":0.02},{"$f":"+ROUND(ROUND(BD34*(Simulador!$C$63/360),4),2)","v":0.02},{"$f":"+ROUND(ROUND(BE34*(Simulador!$C$63/360),4),2)","v":0.02},{"$f":"+ROUND(ROUND(BF34*(Simulador!$C$63/360),4),2)","v":0.02},{"$f":"+ROUND(ROUND(BG34*(Simulador!$C$63/360),4),2)","v":0.02},{"$f":"+ROUND(ROUND(BH34*(Simulador!$C$63/360),4),2)","v":0.02},{"$f":"+ROUND(ROUND(BI34*(Simulador!$C$63/360),4),2)","v":0.02},{"$f":"+ROUND(ROUND(BJ34*(Simulador!$C$63/360),4),2)","v":0.02},{"$f":"+ROUND(ROUND(BK34*(Simulador!$C$63/360),4),2)","v":0.02},{"$f":"+ROUND(ROUND(BL34*(Simulador!$C$63/360),4),2)","v":0.02},{"$f":"+ROUND(ROUND(BM34*(Simulador!$C$63/360),4),2)","v":0.02},{"$f":"+ROUND(ROUND(BN34*(Simulador!$C$63/360),4),2)","v":0.02},{"$f":"+ROUND(ROUND(BO34*(Simulador!$C$63/360),4),2)","v":0.02},{"$f":"+ROUND(ROUND(BP34*(Simulador!$C$63/360),4),2)","v":0.02},{"$f":"+ROUND(ROUND(BQ34*(Simulador!$C$63/360),4),2)","v":0.02},{"$f":"+ROUND(ROUND(BR34*(Simulador!$C$63/360),4),2)","v":0.02},{"$f":"+ROUND(ROUND(BS34*(Simulador!$C$63/360),4),2)","v":0.02},{"$f":"+ROUND(ROUND(BT34*(Simulador!$C$63/360),4),2)","v":0.02},{"$f":"+ROUND(ROUND(BU34*(Simulador!$C$63/360),4),2)","v":0.02},{"$f":"+ROUND(ROUND(BV34*(Simulador!$C$63/360),4),2)","v":0.02},{"$f":"+ROUND(ROUND(BW34*(Simulador!$C$63/360),4),2)","v":0.02},{"$f":"+ROUND(ROUND(BX34*(Simulador!$C$63/360),4),2)","v":0.02},{"$f":"+ROUND(ROUND(BY34*(Simulador!$C$63/360),4),2)","v":0.02},{"$f":"+ROUND(ROUND(BZ34*(Simulador!$C$63/360),4),2)","v":0.02},{"$f":"+ROUND(ROUND(CA34*(Simulador!$C$63/360),4),2)","v":0.02},{"$f":"+ROUND(ROUND(CB34*(Simulador!$C$63/360),4),2)","v":0.02},{"$f":"+ROUND(ROUND(CC34*(Simulador!$C$63/360),4),2)","v":0.02},{"$f":"+ROUND(ROUND(CD34*(Simulador!$C$63/360),4),2)","v":0.02},{"$f":"+ROUND(ROUND(CE34*(Simulador!$C$63/360),4),2)","v":0.02},{"$f":"+ROUND(ROUND(CF34*(Simulador!$C$63/360),4),2)","v":0.02},{"$f":"+ROUND(ROUND(CG34*(Simulador!$C$63/360),4),2)","v":0.02},{"$f":"+ROUND(ROUND(CH34*(Simulador!$C$63/360),4),2)","v":0.02},{"$f":"+ROUND(ROUND(CI34*(Simulador!$C$63/360),4),2)","v":0.02},{"$f":"+ROUND(ROUND(CJ34*(Simulador!$C$63/360),4),2)","v":0.02},{"$f":"+ROUND(ROUND(CK34*(Simulador!$C$63/360),4),2)","v":0.02},{"$f":"+ROUND(ROUND(CL34*(Simulador!$C$63/360),4),2)","v":0.02},{"$f":"+ROUND(ROUND(CM34*(Simulador!$C$63/360),4),2)","v":0.02},{"$f":"+ROUND(ROUND(CN34*(Simulador!$C$63/360),4),2)","v":0.02},{"$f":"+ROUND(ROUND(CO34*(Simulador!$C$63/360),4),2)","v":0.02},{"$f":"+ROUND(ROUND(CP34*(Simulador!$C$63/360),4),2)","v":0.02},{"$f":"+ROUND(ROUND(CQ34*(Simulador!$C$63/360),4),2)","v":0.02},{"$f":"+ROUND(ROUND(CR34*(Simulador!$C$63/360),4),2)","v":0.03},{"$f":"+ROUND(ROUND(CS34*(Simulador!$C$63/360),4),2)","v":0.03},{"$f":"+ROUND(ROUND(CT34*(Simulador!$C$63/360),4),2)","v":0.03},{"$f":"+ROUND(ROUND(CU34*(Simulador!$C$63/360),4),2)","v":0.03},{"$f":"+ROUND(ROUND(CV34*(Simulador!$C$63/360),4),2)","v":0.03},{"$f":"+ROUND(ROUND(CW34*(Simulador!$C$63/360),4),2)","v":0.03},{"$f":"+ROUND(ROUND(CX34*(Simulador!$C$63/360),4),2)","v":0.03},{"$f":"+ROUND(ROUND(CY34*(Simulador!$C$63/360),4),2)","v":0.03},{"$f":"+ROUND(ROUND(CZ34*(Simulador!$C$63/360),4),2)","v":0.03},{"$f":"+ROUND(ROUND(DA34*(Simulador!$C$63/360),4),2)","v":0.03},{"$f":"+ROUND(ROUND(DB34*(Simulador!$C$63/360),4),2)","v":0.03},{"$f":"+ROUND(ROUND(DC34*(Simulador!$C$63/360),4),2)","v":0.03},{"$f":"+ROUND(ROUND(DD34*(Simulador!$C$63/360),4),2)","v":0.03},{"$f":"+ROUND(ROUND(DE34*(Simulador!$C$63/360),4),2)","v":0.03},{"$f":"+ROUND(ROUND(DF34*(Simulador!$C$63/360),4),2)","v":0.03},{"$f":"+ROUND(ROUND(DG34*(Simulador!$C$63/360),4),2)","v":0.03},{"$f":"+ROUND(ROUND(DH34*(Simulador!$C$63/360),4),2)","v":0.03},{"$f":"+ROUND(ROUND(DI34*(Simulador!$C$63/360),4),2)","v":0.03},{"$f":"+ROUND(ROUND(DJ34*(Simulador!$C$63/360),4),2)","v":0.03},{"$f":"+ROUND(ROUND(DK34*(Simulador!$C$63/360),4),2)","v":0.03},{"$f":"+ROUND(ROUND(DL34*(Simulador!$C$63/360),4),2)","v":0.03},{"$f":"+ROUND(ROUND(DM34*(Simulador!$C$63/360),4),2)","v":0.03},{"$f":"+ROUND(ROUND(DN34*(Simulador!$C$63/360),4),2)","v":0.03},{"$f":"+ROUND(ROUND(DO34*(Simulador!$C$63/360),4),2)","v":0.03},{"$f":"+ROUND(ROUND(DP34*(Simulador!$C$63/360),4),2)","v":0.03},{"$f":"+ROUND(ROUND(DQ34*(Simulador!$C$63/360),4),2)","v":0.03},{"$f":"+ROUND(ROUND(DR34*(Simulador!$C$63/360),4),2)","v":0.03},{"$f":"+ROUND(ROUND(DS34*(Simulador!$C$63/360),4),2)","v":0.03},{"$f":"+ROUND(ROUND(DT34*(Simulador!$C$63/360),4),2)","v":0.03},{"$f":"+ROUND(ROUND(DU34*(Simulador!$C$63/360),4),2)","v":0.03},{"$f":"+ROUND(ROUND(DV34*(Simulador!$C$63/360),4),2)","v":0.03},{"$f":"+ROUND(ROUND(DW34*(Simulador!$C$63/360),4),2)","v":0.04},{"$f":"+ROUND(ROUND(DX34*(Simulador!$C$63/360),4),2)","v":0.04},{"$f":"+ROUND(ROUND(DY34*(Simulador!$C$63/360),4),2)","v":0.04},{"$f":"+ROUND(ROUND(DZ34*(Simulador!$C$63/360),4),2)","v":0.04},{"$f":"+ROUND(ROUND(EA34*(Simulador!$C$63/360),4),2)","v":0.04},{"$f":"+ROUND(ROUND(EB34*(Simulador!$C$63/360),4),2)","v":0.04},{"$f":"+ROUND(ROUND(EC34*(Simulador!$C$63/360),4),2)","v":0.04},{"$f":"+ROUND(ROUND(ED34*(Simulador!$C$63/360),4),2)","v":0.04},{"$f":"+ROUND(ROUND(EE34*(Simulador!$C$63/360),4),2)","v":0.04},{"$f":"+ROUND(ROUND(EF34*(Simulador!$C$63/360),4),2)","v":0.04},{"$f":"+ROUND(ROUND(EG34*(Simulador!$C$63/360),4),2)","v":0.04},{"$f":"+ROUND(ROUND(EH34*(Simulador!$C$63/360),4),2)","v":0.04},{"$f":"+ROUND(ROUND(EI34*(Simulador!$C$63/360),4),2)","v":0.04},{"$f":"+ROUND(ROUND(EJ34*(Simulador!$C$63/360),4),2)","v":0.04},{"$f":"+ROUND(ROUND(EK34*(Simulador!$C$63/360),4),2)","v":0.04},{"$f":"+ROUND(ROUND(EL34*(Simulador!$C$63/360),4),2)","v":0.04},{"$f":"+ROUND(ROUND(EM34*(Simulador!$C$63/360),4),2)","v":0.04},{"$f":"+ROUND(ROUND(EN34*(Simulador!$C$63/360),4),2)","v":0.04},{"$f":"+ROUND(ROUND(EO34*(Simulador!$C$63/360),4),2)","v":0.04},{"$f":"+ROUND(ROUND(EP34*(Simulador!$C$63/360),4),2)","v":0.04},{"$f":"+ROUND(ROUND(EQ34*(Simulador!$C$63/360),4),2)","v":0.04},{"$f":"+ROUND(ROUND(ER34*(Simulador!$C$63/360),4),2)","v":0.04},{"$f":"+ROUND(ROUND(ES34*(Simulador!$C$63/360),4),2)","v":0.04},{"$f":"+ROUND(ROUND(ET34*(Simulador!$C$63/360),4),2)","v":0.04},{"$f":"+ROUND(ROUND(EU34*(Simulador!$C$63/360),4),2)","v":0.04},{"$f":"+ROUND(ROUND(EV34*(Simulador!$C$63/360),4),2)","v":0.04},{"$f":"+ROUND(ROUND(EW34*(Simulador!$C$63/360),4),2)","v":0.04},{"$f":"+ROUND(ROUND(EX34*(Simulador!$C$63/360),4),2)","v":0.04},{"$f":"+ROUND(ROUND(EY34*(Simulador!$C$63/360),4),2)","v":0.04},{"$f":"+ROUND(ROUND(EZ34*(Simulador!$C$63/360),4),2)","v":0.04},{"$f":"+ROUND(ROUND(FA34*(Simulador!$C$63/360),4),2)","v":0.04},{"$f":"+ROUND(ROUND(FB34*(Simulador!$C$63/360),4),2)","v":0.04},{"$f":"+ROUND(ROUND(FC34*(Simulador!$C$63/360),4),2)","v":0.04},{"$f":"+ROUND(ROUND(FD34*(Simulador!$C$63/360),4),2)","v":0.04},{"$f":"+ROUND(ROUND(FE34*(Simulador!$C$63/360),4),2)","v":0.04},{"$f":"+ROUND(ROUND(FF34*(Simulador!$C$63/360),4),2)","v":0.04},{"$f":"+ROUND(ROUND(FG34*(Simulador!$C$63/360),4),2)","v":0.04},{"$f":"+ROUND(ROUND(FH34*(Simulador!$C$63/360),4),2)","v":0.04},{"$f":"+ROUND(ROUND(FI34*(Simulador!$C$63/360),4),2)","v":0.04},{"$f":"+ROUND(ROUND(FJ34*(Simulador!$C$63/360),4),2)","v":0.04},{"$f":"+ROUND(ROUND(FK34*(Simulador!$C$63/360),4),2)","v":0.04},{"$f":"+ROUND(ROUND(FL34*(Simulador!$C$63/360),4),2)","v":0.04},{"$f":"+ROUND(ROUND(FM34*(Simulador!$C$63/360),4),2)","v":0.04},{"$f":"+ROUND(ROUND(FN34*(Simulador!$C$63/360),4),2)","v":0.04},{"$f":"+ROUND(ROUND(FO34*(Simulador!$C$63/360),4),2)","v":0.04},{"$f":"+ROUND(ROUND(FP34*(Simulador!$C$63/360),4),2)","v":0.04},{"$f":"+ROUND(ROUND(FQ34*(Simulador!$C$63/360),4),2)","v":0.04},{"$f":"+ROUND(ROUND(FR34*(Simulador!$C$63/360),4),2)","v":0.04},{"$f":"+ROUND(ROUND(FS34*(Simulador!$C$63/360),4),2)","v":0.04},{"$f":"+ROUND(ROUND(FT34*(Simulador!$C$63/360),4),2)","v":0.04},{"$f":"+ROUND(ROUND(FU34*(Simulador!$C$63/360),4),2)","v":0.04},{"$f":"+ROUND(ROUND(FV34*(Simulador!$C$63/360),4),2)","v":0.04},{"$f":"+ROUND(ROUND(FW34*(Simulador!$C$63/360),4),2)","v":0.04},{"$f":"+ROUND(ROUND(FX34*(Simulador!$C$63/360),4),2)","v":0.04},{"$f":"+ROUND(ROUND(FY34*(Simulador!$C$63/360),4),2)","v":0.04},{"$f":"+ROUND(ROUND(FZ34*(Simulador!$C$63/360),4),2)","v":0.04},{"$f":"+ROUND(ROUND(GA34*(Simulador!$C$63/360),4),2)","v":0.04},{"$f":"+ROUND(ROUND(GB34*(Simulador!$C$63/360),4),2)","v":0.04},{"$f":"+ROUND(ROUND(GC34*(Simulador!$C$63/360),4),2)","v":0.04},{"$f":"+ROUND(ROUND(GD34*(Simulador!$C$63/360),4),2)","v":0.04},{"$f":"+ROUND(ROUND(GE34*(Simulador!$C$63/360),4),2)","v":0.04},{"$f":"+ROUND(ROUND(GF34*(Simulador!$C$63/360),4),2)","v":0.05},{"$f":"+ROUND(ROUND(GG34*(Simulador!$C$63/360),4),2)","v":0.05},{"$f":"+ROUND(ROUND(GH34*(Simulador!$C$63/360),4),2)","v":0.05},{"$f":"+ROUND(ROUND(GI34*(Simulador!$C$63/360),4),2)","v":0.05},{"$f":"+ROUND(ROUND(GJ34*(Simulador!$C$63/360),4),2)","v":0.05},{"$f":"+ROUND(ROUND(GK34*(Simulador!$C$63/360),4),2)","v":0.05},{"$f":"+ROUND(ROUND(GL34*(Simulador!$C$63/360),4),2)","v":0.05},{"$f":"+ROUND(ROUND(GM34*(Simulador!$C$63/360),4),2)","v":0.05},{"$f":"+ROUND(ROUND(GN34*(Simulador!$C$63/360),4),2)","v":0.05},{"$f":"+ROUND(ROUND(GO34*(Simulador!$C$63/360),4),2)","v":0.05},{"$f":"+ROUND(ROUND(GP34*(Simulador!$C$63/360),4),2)","v":0.05},{"$f":"+ROUND(ROUND(GQ34*(Simulador!$C$63/360),4),2)","v":0.05},{"$f":"+ROUND(ROUND(GR34*(Simulador!$C$63/360),4),2)","v":0.05},{"$f":"+ROUND(ROUND(GS34*(Simulador!$C$63/360),4),2)","v":0.05},{"$f":"+ROUND(ROUND(GT34*(Simulador!$C$63/360),4),2)","v":0.05},{"$f":"+ROUND(ROUND(GU34*(Simulador!$C$63/360),4),2)","v":0.05},{"$f":"+ROUND(ROUND(GV34*(Simulador!$C$63/360),4),2)","v":0.05},{"$f":"+ROUND(ROUND(GW34*(Simulador!$C$63/360),4),2)","v":0.05},{"$f":"+ROUND(ROUND(GX34*(Simulador!$C$63/360),4),2)","v":0.05},{"$f":"+ROUND(ROUND(GY34*(Simulador!$C$63/360),4),2)","v":0.05},{"$f":"+ROUND(ROUND(GZ34*(Simulador!$C$63/360),4),2)","v":0.05},{"$f":"+ROUND(ROUND(HA34*(Simulador!$C$63/360),4),2)","v":0.05},{"$f":"+ROUND(ROUND(HB34*(Simulador!$C$63/360),4),2)","v":0.05},{"$f":"+ROUND(ROUND(HC34*(Simulador!$C$63/360),4),2)","v":0.05},{"$f":"+ROUND(ROUND(HD34*(Simulador!$C$63/360),4),2)","v":0.05},{"$f":"+ROUND(ROUND(HE34*(Simulador!$C$63/360),4),2)","v":0.05},{"$f":"+ROUND(ROUND(HF34*(Simulador!$C$63/360),4),2)","v":0.05},{"$f":"+ROUND(ROUND(HG34*(Simulador!$C$63/360),4),2)","v":0.05},{"$f":"+ROUND(ROUND(HH34*(Simulador!$C$63/360),4),2)","v":0.05},{"$f":"+ROUND(ROUND(HI34*(Simulador!$C$63/360),4),2)","v":0.05},{"$f":"+ROUND(ROUND(HJ34*(Simulador!$C$63/360),4),2)","v":0.05},{"$f":"+ROUND(ROUND(HK34*(Simulador!$C$63/360),4),2)","v":0.06},{"$f":"+ROUND(ROUND(HL34*(Simulador!$C$63/360),4),2)","v":0.06},{"$f":"+ROUND(ROUND(HM34*(Simulador!$C$63/360),4),2)","v":0.06},{"$f":"+ROUND(ROUND(HN34*(Simulador!$C$63/360),4),2)","v":0.06},{"$f":"+ROUND(ROUND(HO34*(Simulador!$C$63/360),4),2)","v":0.06},{"$f":"+ROUND(ROUND(HP34*(Simulador!$C$63/360),4),2)","v":0.06},{"$f":"+ROUND(ROUND(HQ34*(Simulador!$C$63/360),4),2)","v":0.06},{"$f":"+ROUND(ROUND(HR34*(Simulador!$C$63/360),4),2)","v":0.06},{"$f":"+ROUND(ROUND(HS34*(Simulador!$C$63/360),4),2)","v":0.06},{"$f":"+ROUND(ROUND(HT34*(Simulador!$C$63/360),4),2)","v":0.06},{"$f":"+ROUND(ROUND(HU34*(Simulador!$C$63/360),4),2)","v":0.06},{"$f":"+ROUND(ROUND(HV34*(Simulador!$C$63/360),4),2)","v":0.06},{"$f":"+ROUND(ROUND(HW34*(Simulador!$C$63/360),4),2)","v":0.06},{"$f":"+ROUND(ROUND(HX34*(Simulador!$C$63/360),4),2)","v":0.06},{"$f":"+ROUND(ROUND(HY34*(Simulador!$C$63/360),4),2)","v":0.06},{"$f":"+ROUND(ROUND(HZ34*(Simulador!$C$63/360),4),2)","v":0.06},{"$f":"+ROUND(ROUND(IA34*(Simulador!$C$63/360),4),2)","v":0.06},{"$f":"+ROUND(ROUND(IB34*(Simulador!$C$63/360),4),2)","v":0.06},{"$f":"+ROUND(ROUND(IC34*(Simulador!$C$63/360),4),2)","v":0.06},{"$f":"+ROUND(ROUND(ID34*(Simulador!$C$63/360),4),2)","v":0.06},{"$f":"+ROUND(ROUND(IE34*(Simulador!$C$63/360),4),2)","v":0.06},{"$f":"+ROUND(ROUND(IF34*(Simulador!$C$63/360),4),2)","v":0.06},{"$f":"+ROUND(ROUND(IG34*(Simulador!$C$63/360),4),2)","v":0.06},{"$f":"+ROUND(ROUND(IH34*(Simulador!$C$63/360),4),2)","v":0.06},{"$f":"+ROUND(ROUND(II34*(Simulador!$C$63/360),4),2)","v":0.06},{"$f":"+ROUND(ROUND(IJ34*(Simulador!$C$63/360),4),2)","v":0.06},{"$f":"+ROUND(ROUND(IK34*(Simulador!$C$63/360),4),2)","v":0.06},{"$f":"+ROUND(ROUND(IL34*(Simulador!$C$63/360),4),2)","v":0.06},{"$f":"+ROUND(ROUND(IM34*(Simulador!$C$63/360),4),2)","v":0.06},{"$f":"+ROUND(ROUND(IN34*(Simulador!$C$63/360),4),2)","v":0.06},{"$f":"+ROUND(ROUND(IO34*(Simulador!$C$63/360),4),2)","v":0.06},{"$f":"+ROUND(ROUND(IP34*(Simulador!$C$63/360),4),2)","v":0.06},{"$f":"+ROUND(ROUND(IQ34*(Simulador!$C$63/360),4),2)","v":0.06},{"$f":"+ROUND(ROUND(IR34*(Simulador!$C$63/360),4),2)","v":0.06},{"$f":"+ROUND(ROUND(IS34*(Simulador!$C$63/360),4),2)","v":0.06},{"$f":"+ROUND(ROUND(IT34*(Simulador!$C$63/360),4),2)","v":0.06},{"$f":"+ROUND(ROUND(IU34*(Simulador!$C$63/360),4),2)","v":0.06},{"$f":"+ROUND(ROUND(IV34*(Simulador!$C$63/360),4),2)","v":0.06},{"$f":"+ROUND(ROUND(IW34*(Simulador!$C$63/360),4),2)","v":0.06},{"$f":"+ROUND(ROUND(IX34*(Simulador!$C$63/360),4),2)","v":7.0000000000000007E-2},{"$f":"+ROUND(ROUND(IY34*(Simulador!$C$63/360),4),2)","v":7.0000000000000007E-2},{"$f":"+ROUND(ROUND(IZ34*(Simulador!$C$63/360),4),2)","v":7.0000000000000007E-2},{"$f":"+ROUND(ROUND(JA34*(Simulador!$C$63/360),4),2)","v":7.0000000000000007E-2},{"$f":"+ROUND(ROUND(JB34*(Simulador!$C$63/360),4),2)","v":7.0000000000000007E-2},{"$f":"+ROUND(ROUND(JC34*(Simulador!$C$63/360),4),2)","v":7.0000000000000007E-2},{"$f":"+ROUND(ROUND(JD34*(Simulador!$C$63/360),4),2)","v":7.0000000000000007E-2},{"$f":"+ROUND(ROUND(JE34*(Simulador!$C$63/360),4),2)","v":7.0000000000000007E-2},{"$f":"+ROUND(ROUND(JF34*(Simulador!$C$63/360),4),2)","v":7.0000000000000007E-2},{"$f":"+ROUND(ROUND(JG34*(Simulador!$C$63/360),4),2)","v":7.0000000000000007E-2},{"$f":"+ROUND(ROUND(JH34*(Simulador!$C$63/360),4),2)","v":7.0000000000000007E-2},{"$f":"+ROUND(ROUND(JI34*(Simulador!$C$63/360),4),2)","v":7.0000000000000007E-2},{"$f":"+ROUND(ROUND(JJ34*(Simulador!$C$63/360),4),2)","v":7.0000000000000007E-2},{"$f":"+ROUND(ROUND(JK34*(Simulador!$C$63/360),4),2)","v":7.0000000000000007E-2},{"$f":"+ROUND(ROUND(JL34*(Simulador!$C$63/360),4),2)","v":7.0000000000000007E-2},{"$f":"+ROUND(ROUND(JM34*(Simulador!$C$63/360),4),2)","v":7.0000000000000007E-2},{"$f":"+ROUND(ROUND(JN34*(Simulador!$C$63/360),4),2)","v":7.0000000000000007E-2},{"$f":"+ROUND(ROUND(JO34*(Simulador!$C$63/360),4),2)","v":7.0000000000000007E-2},{"$f":"+ROUND(ROUND(JP34*(Simulador!$C$63/360),4),2)","v":7.0000000000000007E-2},{"$f":"+ROUND(ROUND(JQ34*(Simulador!$C$63/360),4),2)","v":7.0000000000000007E-2},{"$f":"+ROUND(ROUND(JR34*(Simulador!$C$63/360),4),2)","v":7.0000000000000007E-2},{"$f":"+ROUND(ROUND(JS34*(Simulador!$C$63/360),4),2)","v":7.0000000000000007E-2},{"$f":"+ROUND(ROUND(JT34*(Simulador!$C$63/360),4),2)","v":7.0000000000000007E-2},{"$f":"+ROUND(ROUND(JU34*(Simulador!$C$63/360),4),2)","v":7.0000000000000007E-2},{"$f":"+ROUND(ROUND(JV34*(Simulador!$C$63/360),4),2)","v":7.0000000000000007E-2},{"$f":"+ROUND(ROUND(JW34*(Simulador!$C$63/360),4),2)","v":7.0000000000000007E-2},{"$f":"+ROUND(ROUND(JX34*(Simulador!$C$63/360),4),2)","v":7.0000000000000007E-2},{"$f":"+ROUND(ROUND(JY34*(Simulador!$C$63/360),4),2)","v":7.0000000000000007E-2},{"$f":"+ROUND(ROUND(JZ34*(Simulador!$C$63/360),4),2)","v":7.0000000000000007E-2},{"$f":"+ROUND(ROUND(KA34*(Simulador!$C$63/360),4),2)","v":7.0000000000000007E-2},{"$f":"+ROUND(ROUND(KB34*(Simulador!$C$63/360),4),2)","v":7.0000000000000007E-2},{"$f":"+ROUND(ROUND(KC34*(Simulador!$C$63/360),4),2)","v":7.0000000000000007E-2},{"$f":"+ROUND(ROUND(KD34*(Simulador!$C$63/360),4),2)","v":7.0000000000000007E-2},{"$f":"+ROUND(ROUND(KE34*(Simulador!$C$63/360),4),2)","v":7.0000000000000007E-2},{"$f":"+ROUND(ROUND(KF34*(Simulador!$C$63/360),4),2)","v":7.0000000000000007E-2},{"$f":"+ROUND(ROUND(KG34*(Simulador!$C$63/360),4),2)","v":7.0000000000000007E-2},{"$f":"+ROUND(ROUND(KH34*(Simulador!$C$63/360),4),2)","v":7.0000000000000007E-2},{"$f":"+ROUND(ROUND(KI34*(Simulador!$C$63/360),4),2)","v":7.0000000000000007E-2},{"$f":"+ROUND(ROUND(KJ34*(Simulador!$C$63/360),4),2)","v":7.0000000000000007E-2},{"$f":"+ROUND(ROUND(KK34*(Simulador!$C$63/360),4),2)","v":7.0000000000000007E-2},{"$f":"+ROUND(ROUND(KL34*(Simulador!$C$63/360),4),2)","v":7.0000000000000007E-2},{"$f":"+ROUND(ROUND(KM34*(Simulador!$C$63/360),4),2)","v":7.0000000000000007E-2},{"$f":"+ROUND(ROUND(KN34*(Simulador!$C$63/360),4),2)","v":7.0000000000000007E-2},{"$f":"+ROUND(ROUND(KO34*(Simulador!$C$63/360),4),2)","v":7.0000000000000007E-2},{"$f":"+ROUND(ROUND(KP34*(Simulador!$C$63/360),4),2)","v":7.0000000000000007E-2},{"$f":"+ROUND(ROUND(KQ34*(Simulador!$C$63/360),4),2)","v":7.0000000000000007E-2},{"$f":"+ROUND(ROUND(KR34*(Simulador!$C$63/360),4),2)","v":7.0000000000000007E-2},{"$f":"+ROUND(ROUND(KS34*(Simulador!$C$63/360),4),2)","v":7.0000000000000007E-2},{"$f":"+ROUND(ROUND(KT34*(Simulador!$C$63/360),4),2)","v":7.0000000000000007E-2},{"$f":"+ROUND(ROUND(KU34*(Simulador!$C$63/360),4),2)","v":7.0000000000000007E-2},{"$f":"+ROUND(ROUND(KV34*(Simulador!$C$63/360),4),2)","v":0.08},{"$f":"+ROUND(ROUND(KW34*(Simulador!$C$63/360),4),2)","v":0.08},{"$f":"+ROUND(ROUND(KX34*(Simulador!$C$63/360),4),2)","v":0.08},{"$f":"+ROUND(ROUND(KY34*(Simulador!$C$63/360),4),2)","v":0.08},{"$f":"+ROUND(ROUND(KZ34*(Simulador!$C$63/360),4),2)","v":0.08},{"$f":"+ROUND(ROUND(LA34*(Simulador!$C$63/360),4),2)","v":0.08},{"$f":"+ROUND(ROUND(LB34*(Simulador!$C$63/360),4),2)","v":0.08},{"$f":"+ROUND(ROUND(LC34*(Simulador!$C$63/360),4),2)","v":0.08},{"$f":"+ROUND(ROUND(LD34*(Simulador!$C$63/360),4),2)","v":0.08},{"$f":"+ROUND(ROUND(LE34*(Simulador!$C$63/360),4),2)","v":0.08},{"$f":"+ROUND(ROUND(LF34*(Simulador!$C$63/360),4),2)","v":0.08},{"$f":"+ROUND(ROUND(LG34*(Simulador!$C$63/360),4),2)","v":0.08},{"$f":"+ROUND(ROUND(LH34*(Simulador!$C$63/360),4),2)","v":0.08},{"$f":"+ROUND(ROUND(LI34*(Simulador!$C$63/360),4),2)","v":0.08},{"$f":"+ROUND(ROUND(LJ34*(Simulador!$C$63/360),4),2)","v":0.08},{"$f":"+ROUND(ROUND(LK34*(Simulador!$C$63/360),4),2)","v":0.08},{"$f":"+ROUND(ROUND(LL34*(Simulador!$C$63/360),4),2)","v":0.08},{"$f":"+ROUND(ROUND(LM34*(Simulador!$C$63/360),4),2)","v":0.08},{"$f":"+ROUND(ROUND(LN34*(Simulador!$C$63/360),4),2)","v":0.08},{"$f":"+ROUND(ROUND(LO34*(Simulador!$C$63/360),4),2)","v":0.08},{"$f":"+ROUND(ROUND(LP34*(Simulador!$C$63/360),4),2)","v":0.08},{"$f":"+ROUND(ROUND(LQ34*(Simulador!$C$63/360),4),2)","v":0.08},{"$f":"+ROUND(ROUND(LR34*(Simulador!$C$63/360),4),2)","v":0.08},{"$f":"+ROUND(ROUND(LS34*(Simulador!$C$63/360),4),2)","v":0.08},{"$f":"+ROUND(ROUND(LT34*(Simulador!$C$63/360),4),2)","v":0.08},{"$f":"+ROUND(ROUND(LU34*(Simulador!$C$63/360),4),2)","v":0.08},{"$f":"+ROUND(ROUND(LV34*(Simulador!$C$63/360),4),2)","v":0.08},{"$f":"+ROUND(ROUND(LW34*(Simulador!$C$63/360),4),2)","v":0.08},{"$f":"+ROUND(ROUND(LX34*(Simulador!$C$63/360),4),2)","v":0.08},{"$f":"+ROUND(ROUND(LY34*(Simulador!$C$63/360),4),2)","v":0.08},{"$f":"+ROUND(ROUND(LZ34*(Simulador!$C$63/360),4),2)","v":0.08},{"$f":"+ROUND(ROUND(MA34*(Simulador!$C$63/360),4),2)","v":0.09},{"$f":"+ROUND(ROUND(MB34*(Simulador!$C$63/360),4),2)","v":0.09},{"$f":"+ROUND(ROUND(MC34*(Simulador!$C$63/360),4),2)","v":0.09},{"$f":"+ROUND(ROUND(MD34*(Simulador!$C$63/360),4),2)","v":0.09},{"$f":"+ROUND(ROUND(ME34*(Simulador!$C$63/360),4),2)","v":0.09},{"$f":"+ROUND(ROUND(MF34*(Simulador!$C$63/360),4),2)","v":0.09},{"$f":"+ROUND(ROUND(MG34*(Simulador!$C$63/360),4),2)","v":0.09},{"$f":"+ROUND(ROUND(MH34*(Simulador!$C$63/360),4),2)","v":0.09},{"$f":"+ROUND(ROUND(MI34*(Simulador!$C$63/360),4),2)","v":0.09},{"$f":"+ROUND(ROUND(MJ34*(Simulador!$C$63/360),4),2)","v":0.09},{"$f":"+ROUND(ROUND(MK34*(Simulador!$C$63/360),4),2)","v":0.09},{"$f":"+ROUND(ROUND(ML34*(Simulador!$C$63/360),4),2)","v":0.09},{"$f":"+ROUND(ROUND(MM34*(Simulador!$C$63/360),4),2)","v":0.09},{"$f":"+ROUND(ROUND(MN34*(Simulador!$C$63/360),4),2)","v":0.09},{"$f":"+ROUND(ROUND(MO34*(Simulador!$C$63/360),4),2)","v":0.09},{"$f":"+ROUND(ROUND(MP34*(Simulador!$C$63/360),4),2)","v":0.09},{"$f":"+ROUND(ROUND(MQ34*(Simulador!$C$63/360),4),2)","v":0.09},{"$f":"+ROUND(ROUND(MR34*(Simulador!$C$63/360),4),2)","v":0.09},{"$f":"+ROUND(ROUND(MS34*(Simulador!$C$63/360),4),2)","v":0.09},{"$f":"+ROUND(ROUND(MT34*(Simulador!$C$63/360),4),2)","v":0.09},{"$f":"+ROUND(ROUND(MU34*(Simulador!$C$63/360),4),2)","v":0.09},{"$f":"+ROUND(ROUND(MV34*(Simulador!$C$63/360),4),2)","v":0.09},{"$f":"+ROUND(ROUND(MW34*(Simulador!$C$63/360),4),2)","v":0.09},{"$f":"+ROUND(ROUND(MX34*(Simulador!$C$63/360),4),2)","v":0.09},{"$f":"+ROUND(ROUND(MY34*(Simulador!$C$63/360),4),2)","v":0.09},{"$f":"+ROUND(ROUND(MZ34*(Simulador!$C$63/360),4),2)","v":0.09},{"$f":"+ROUND(ROUND(NA34*(Simulador!$C$63/360),4),2)","v":0.09},{"$f":"+ROUND(ROUND(NB34*(Simulador!$C$63/360),4),2)","v":0.09},{"$f":"+ROUND(ROUND(NC34*(Simulador!$C$63/360),4),2)","v":0.09},{"$f":"+ROUND(ROUND(ND34*(Simulador!$C$63/360),4),2)","v":0.09},{"$f":"+ROUND(ROUND(NE34*(Simulador!$C$63/360),4),2)","v":0.09},{"$f":"+ROUND(ROUND(NF34*(Simulador!$C$63/360),4),2)","v":0.09},{"$f":"+ROUND(ROUND(NG34*(Simulador!$C$63/360),4),2)","v":0.09},{"$f":"+ROUND(ROUND(NH34*(Simulador!$C$63/360),4),2)","v":0.09},{"$f":"+ROUND(ROUND(NI34*(Simulador!$C$63/360),4),2)","v":0.09},{"$f":"+ROUND(ROUND(NJ34*(Simulador!$C$63/360),4),2)","v":0.09},{"$f":"+ROUND(ROUND(NK34*(Simulador!$C$63/360),4),2)","v":0.09},{"$f":"+ROUND(ROUND(NL34*(Simulador!$C$63/360),4),2)","v":0.09},{"$f":"+ROUND(ROUND(NM34*(Simulador!$C$63/360),4),2)","v":0.09},{"$f":"+ROUND(ROUND(NN34*(Simulador!$C$63/360),4),2)","v":0.09},{"$f":"+ROUND(ROUND(NO34*(Simulador!$C$63/360),4),2)","v":0.09},{"$f":"+ROUND(ROUND(NP34*(Simulador!$C$63/360),4),2)","v":0.09},{"$f":"+ROUND(ROUND(NQ34*(Simulador!$C$63/360),4),2)","v":0.09},{"$f":"+ROUND(ROUND(NR34*(Simulador!$C$63/360),4),2)","v":0.09},{"$f":"+ROUND(ROUND(NS34*(Simulador!$C$63/360),4),2)","v":0.09},{"$f":"+ROUND(ROUND(NT34*(Simulador!$C$63/360),4),2)","v":0.09},{"$f":"+ROUND(ROUND(NU34*(Simulador!$C$63/360),4),2)","v":0.09},{"$f":"+ROUND(ROUND(NV34*(Simulador!$C$63/360),4),2)","v":0.09},{"$f":"+ROUND(ROUND(NW34*(Simulador!$C$63/360),4),2)","v":0.09},{"$f":"+ROUND(ROUND(NX34*(Simulador!$C$63/360),4),2)","v":0.09},{"$f":"+ROUND(ROUND(NY34*(Simulador!$C$63/360),4),2)","v":0.09},{"$f":"+ROUND(ROUND(NZ34*(Simulador!$C$63/360),4),2)","v":0.09},{"$f":"+ROUND(ROUND(OA34*(Simulador!$C$63/360),4),2)","v":0.09},{"$f":"+ROUND(ROUND(OB34*(Simulador!$C$63/360),4),2)","v":0.09},{"$f":"+ROUND(ROUND(OC34*(Simulador!$C$63/360),4),2)","v":0.09},{"$f":"+ROUND(ROUND(OD34*(Simulador!$C$63/360),4),2)","v":0.09},{"$f":"+ROUND(ROUND(OE34*(Simulador!$C$63/360),4),2)","v":0.09},{"$f":"+ROUND(ROUND(OF34*(Simulador!$C$63/360),4),2)","v":0.09},{"$f":"+ROUND(ROUND(OG34*(Simulador!$C$63/360),4),2)","v":0.09},{"$f":"+ROUND(ROUND(OH34*(Simulador!$C$63/360),4),2)","v":0.09},{"$f":"+ROUND(ROUND(OI34*(Simulador!$C$63/360),4),2)","v":0.09},{"$f":"+ROUND(ROUND(OJ34*(Simulador!$C$63/360),4),2)","v":0.1},{"$f":"+ROUND(ROUND(OK34*(Simulador!$C$63/360),4),2)","v":0.1},{"$f":"+ROUND(ROUND(OL34*(Simulador!$C$63/360),4),2)","v":0.1},{"$f":"+ROUND(ROUND(OM34*(Simulador!$C$63/360),4),2)","v":0.1},{"$f":"+ROUND(ROUND(ON34*(Simulador!$C$63/360),4),2)","v":0.1},{"$f":"+ROUND(ROUND(OO34*(Simulador!$C$63/360),4),2)","v":0.1},{"$f":"+ROUND(ROUND(OP34*(Simulador!$C$63/360),4),2)","v":0.1},{"$f":"+ROUND(ROUND(OQ34*(Simulador!$C$63/360),4),2)","v":0.1},{"$f":"+ROUND(ROUND(OR34*(Simulador!$C$63/360),4),2)","v":0.1},{"$f":"+ROUND(ROUND(OS34*(Simulador!$C$63/360),4),2)","v":0.1},{"$f":"+ROUND(ROUND(OT34*(Simulador!$C$63/360),4),2)","v":0.1},{"$f":"+ROUND(ROUND(OU34*(Simulador!$C$63/360),4),2)","v":0.1},{"$f":"+ROUND(ROUND(OV34*(Simulador!$C$63/360),4),2)","v":0.1},{"$f":"+ROUND(ROUND(OW34*(Simulador!$C$63/360),4),2)","v":0.1},{"$f":"+ROUND(ROUND(OX34*(Simulador!$C$63/360),4),2)","v":0.1},{"$f":"+ROUND(ROUND(OY34*(Simulador!$C$63/360),4),2)","v":0.1},{"$f":"+ROUND(ROUND(OZ34*(Simulador!$C$63/360),4),2)","v":0.1},{"$f":"+ROUND(ROUND(PA34*(Simulador!$C$63/360),4),2)","v":0.1},{"$f":"+ROUND(ROUND(PB34*(Simulador!$C$63/360),4),2)","v":0.1},{"$f":"+ROUND(ROUND(PC34*(Simulador!$C$63/360),4),2)","v":0.1},{"$f":"+ROUND(ROUND(PD34*(Simulador!$C$63/360),4),2)","v":0.1},{"$f":"+ROUND(ROUND(PE34*(Simulador!$C$63/360),4),2)","v":0.1},{"$f":"+ROUND(ROUND(PF34*(Simulador!$C$63/360),4),2)","v":0.1},{"$f":"+ROUND(ROUND(PG34*(Simulador!$C$63/360),4),2)","v":0.1},{"$f":"+ROUND(ROUND(PH34*(Simulador!$C$63/360),4),2)","v":0.1},{"$f":"+ROUND(ROUND(PI34*(Simulador!$C$63/360),4),2)","v":0.1},{"$f":"+ROUND(ROUND(PJ34*(Simulador!$C$63/360),4),2)","v":0.1},{"$f":"+ROUND(ROUND(PK34*(Simulador!$C$63/360),4),2)","v":0.1},{"$f":"+ROUND(ROUND(PL34*(Simulador!$C$63/360),4),2)","v":0.1},{"$f":"+ROUND(ROUND(PM34*(Simulador!$C$63/360),4),2)","v":0.1},{"$f":"+ROUND(ROUND(PN34*(Simulador!$C$63/360),4),2)","v":0.1},{"$f":"+ROUND(ROUND(PO34*(Simulador!$C$63/360),4),2)","v":0.11},{"$f":"+ROUND(ROUND(PP34*(Simulador!$C$63/360),4),2)","v":0.11},{"$f":"+ROUND(ROUND(PQ34*(Simulador!$C$63/360),4),2)","v":0.11},{"$f":"+ROUND(ROUND(PR34*(Simulador!$C$63/360),4),2)","v":0.11},{"$f":"+ROUND(ROUND(PS34*(Simulador!$C$63/360),4),2)","v":0.11},{"$f":"+ROUND(ROUND(PT34*(Simulador!$C$63/360),4),2)","v":0.11},{"$f":"+ROUND(ROUND(PU34*(Simulador!$C$63/360),4),2)","v":0.11},{"$f":"+ROUND(ROUND(PV34*(Simulador!$C$63/360),4),2)","v":0.11},{"$f":"+ROUND(ROUND(PW34*(Simulador!$C$63/360),4),2)","v":0.11},{"$f":"+ROUND(ROUND(PX34*(Simulador!$C$63/360),4),2)","v":0.11},{"$f":"+ROUND(ROUND(PY34*(Simulador!$C$63/360),4),2)","v":0.11},{"$f":"+ROUND(ROUND(PZ34*(Simulador!$C$63/360),4),2)","v":0.11},{"$f":"+ROUND(ROUND(QA34*(Simulador!$C$63/360),4),2)","v":0.11},{"$f":"+ROUND(ROUND(QB34*(Simulador!$C$63/360),4),2)","v":0.11},{"$f":"+ROUND(ROUND(QC34*(Simulador!$C$63/360),4),2)","v":0.11},{"$f":"+ROUND(ROUND(QD34*(Simulador!$C$63/360),4),2)","v":0.11},{"$f":"+ROUND(ROUND(QE34*(Simulador!$C$63/360),4),2)","v":0.11},{"$f":"+ROUND(ROUND(QF34*(Simulador!$C$63/360),4),2)","v":0.11},{"$f":"+ROUND(ROUND(QG34*(Simulador!$C$63/360),4),2)","v":0.11},{"$f":"+ROUND(ROUND(QH34*(Simulador!$C$63/360),4),2)","v":0.11},{"$f":"+ROUND(ROUND(QI34*(Simulador!$C$63/360),4),2)","v":0.11},{"$f":"+ROUND(ROUND(QJ34*(Simulador!$C$63/360),4),2)","v":0.11},{"$f":"+ROUND(ROUND(QK34*(Simulador!$C$63/360),4),2)","v":0.11},{"$f":"+ROUND(ROUND(QL34*(Simulador!$C$63/360),4),2)","v":0.11},{"$f":"+ROUND(ROUND(QM34*(Simulador!$C$63/360),4),2)","v":0.11},{"$f":"+ROUND(ROUND(QN34*(Simulador!$C$63/360),4),2)","v":0.11},{"$f":"+ROUND(ROUND(QO34*(Simulador!$C$63/360),4),2)","v":0.11},{"$f":"+ROUND(ROUND(QP34*(Simulador!$C$63/360),4),2)","v":0.11},{"$f":"+ROUND(ROUND(QQ34*(Simulador!$C$63/360),4),2)","v":0.11},{"$f":"+ROUND(ROUND(QR34*(Simulador!$C$63/360),4),2)","v":0.11},{"$f":"+ROUND(ROUND(QS34*(Simulador!$C$63/360),4),2)","v":0.12},{"$f":"+ROUND(ROUND(QT34*(Simulador!$C$63/360),4),2)","v":0.12},{"$f":"+ROUND(ROUND(QU34*(Simulador!$C$63/360),4),2)","v":0.12},{"$f":"+ROUND(ROUND(QV34*(Simulador!$C$63/360),4),2)","v":0.12},{"$f":"+ROUND(ROUND(QW34*(Simulador!$C$63/360),4),2)","v":0.12},{"$f":"+ROUND(ROUND(QX34*(Simulador!$C$63/360),4),2)","v":0.12},{"$f":"+ROUND(ROUND(QY34*(Simulador!$C$63/360),4),2)","v":0.12},{"$f":"+ROUND(ROUND(QZ34*(Simulador!$C$63/360),4),2)","v":0.12},{"$f":"+ROUND(ROUND(RA34*(Simulador!$C$63/360),4),2)","v":0.12},{"$f":"+ROUND(ROUND(RB34*(Simulador!$C$63/360),4),2)","v":0.12},{"$f":"+ROUND(ROUND(RC34*(Simulador!$C$63/360),4),2)","v":0.12},{"$f":"+ROUND(ROUND(RD34*(Simulador!$C$63/360),4),2)","v":0.12},{"$f":"+ROUND(ROUND(RE34*(Simulador!$C$63/360),4),2)","v":0.12},{"$f":"+ROUND(ROUND(RF34*(Simulador!$C$63/360),4),2)","v":0.12},{"$f":"+ROUND(ROUND(RG34*(Simulador!$C$63/360),4),2)","v":0.12},{"$f":"+ROUND(ROUND(RH34*(Simulador!$C$63/360),4),2)","v":0.12},{"$f":"+ROUND(ROUND(RI34*(Simulador!$C$63/360),4),2)","v":0.12},{"$f":"+ROUND(ROUND(RJ34*(Simulador!$C$63/360),4),2)","v":0.12},{"$f":"+ROUND(ROUND(RK34*(Simulador!$C$63/360),4),2)","v":0.12},{"$f":"+ROUND(ROUND(RL34*(Simulador!$C$63/360),4),2)","v":0.12},{"$f":"+ROUND(ROUND(RM34*(Simulador!$C$63/360),4),2)","v":0.12},{"$f":"+ROUND(ROUND(RN34*(Simulador!$C$63/360),4),2)","v":0.12},{"$f":"+ROUND(ROUND(RO34*(Simulador!$C$63/360),4),2)","v":0.12},{"$f":"+ROUND(ROUND(RP34*(Simulador!$C$63/360),4),2)","v":0.12},{"$f":"+ROUND(ROUND(RQ34*(Simulador!$C$63/360),4),2)","v":0.12},{"$f":"+ROUND(ROUND(RR34*(Simulador!$C$63/360),4),2)","v":0.12},{"$f":"+ROUND(ROUND(RS34*(Simulador!$C$63/360),4),2)","v":0.12},{"$f":"+ROUND(ROUND(RT34*(Simulador!$C$63/360),4),2)","v":0.12},{"$f":"+ROUND(ROUND(RU34*(Simulador!$C$63/360),4),2)","v":0.12},{"$f":"+ROUND(ROUND(RV34*(Simulador!$C$63/360),4),2)","v":0.12},{"$f":"+ROUND(ROUND(RW34*(Simulador!$C$63/360),4),2)","v":0.12},{"$f":"+ROUND(ROUND(RX34*(Simulador!$C$63/360),4),2)","v":0.12},{"$f":"+ROUND(ROUND(RY34*(Simulador!$C$63/360),4),2)","v":0.12},{"$f":"+ROUND(ROUND(RZ34*(Simulador!$C$63/360),4),2)","v":0.12},{"$f":"+ROUND(ROUND(SA34*(Simulador!$C$63/360),4),2)","v":0.12},{"$f":"+ROUND(ROUND(SB34*(Simulador!$C$63/360),4),2)","v":0.12},{"$f":"+ROUND(ROUND(SC34*(Simulador!$C$63/360),4),2)","v":0.12},{"$f":"+ROUND(ROUND(SD34*(Simulador!$C$63/360),4),2)","v":0.12},{"$f":"+ROUND(ROUND(SE34*(Simulador!$C$63/360),4),2)","v":0.12},{"$f":"+ROUND(ROUND(SF34*(Simulador!$C$63/360),4),2)","v":0.12},{"$f":"+ROUND(ROUND(SG34*(Simulador!$C$63/360),4),2)","v":0.12},{"$f":"+ROUND(ROUND(SH34*(Simulador!$C$63/360),4),2)","v":0.12},{"$f":"+ROUND(ROUND(SI34*(Simulador!$C$63/360),4),2)","v":0.12},{"$f":"+ROUND(ROUND(SJ34*(Simulador!$C$63/360),4),2)","v":0.12},{"$f":"+ROUND(ROUND(SK34*(Simulador!$C$63/360),4),2)","v":0.12},{"$f":"+ROUND(ROUND(SL34*(Simulador!$C$63/360),4),2)","v":0.12},{"$f":"+ROUND(ROUND(SM34*(Simulador!$C$63/360),4),2)","v":0.12},{"$f":"+ROUND(ROUND(SN34*(Simulador!$C$63/360),4),2)","v":0.12},{"$f":"+ROUND(ROUND(SO34*(Simulador!$C$63/360),4),2)","v":0.12},{"$f":"+ROUND(ROUND(SP34*(Simulador!$C$63/360),4),2)","v":0.12},{"$f":"+ROUND(ROUND(SQ34*(Simulador!$C$63/360),4),2)","v":0.12},{"$f":"+ROUND(ROUND(SR34*(Simulador!$C$63/360),4),2)","v":0.12},{"$f":"+ROUND(ROUND(SS34*(Simulador!$C$63/360),4),2)","v":0.12},{"$f":"+ROUND(ROUND(ST34*(Simulador!$C$63/360),4),2)","v":0.12},{"$f":"+ROUND(ROUND(SU34*(Simulador!$C$63/360),4),2)","v":0.12},{"$f":"+ROUND(ROUND(SV34*(Simulador!$C$63/360),4),2)","v":0.12},{"$f":"+ROUND(ROUND(SW34*(Simulador!$C$63/360),4),2)","v":0.12},{"$f":"+ROUND(ROUND(SX34*(Simulador!$C$63/360),4),2)","v":0.12},{"$f":"+ROUND(ROUND(SY34*(Simulador!$C$63/360),4),2)","v":0.12},{"$f":"+ROUND(ROUND(SZ34*(Simulador!$C$63/360),4),2)","v":0.12},{"$f":"+ROUND(ROUND(TA34*(Simulador!$C$63/360),4),2)","v":0.12},{"$f":"+ROUND(ROUND(TB34*(Simulador!$C$63/360),4),2)","v":0.13},{"$f":"+ROUND(ROUND(TC34*(Simulador!$C$63/360),4),2)","v":0.13},{"$f":"+ROUND(ROUND(TD34*(Simulador!$C$63/360),4),2)","v":0.13},{"$f":"+ROUND(ROUND(TE34*(Simulador!$C$63/360),4),2)","v":0.13},{"$f":"+ROUND(ROUND(TF34*(Simulador!$C$63/360),4),2)","v":0.13},{"$f":"+ROUND(ROUND(TG34*(Simulador!$C$63/360),4),2)","v":0.13},{"$f":"+ROUND(ROUND(TH34*(Simulador!$C$63/360),4),2)","v":0.13},{"$f":"+ROUND(ROUND(TI34*(Simulador!$C$63/360),4),2)","v":0.13},{"$f":"+ROUND(ROUND(TJ34*(Simulador!$C$63/360),4),2)","v":0.13},{"$f":"+ROUND(ROUND(TK34*(Simulador!$C$63/360),4),2)","v":0.13},{"$f":"+ROUND(ROUND(TL34*(Simulador!$C$63/360),4),2)","v":0.13},{"$f":"+ROUND(ROUND(TM34*(Simulador!$C$63/360),4),2)","v":0.13},{"$f":"+ROUND(ROUND(TN34*(Simulador!$C$63/360),4),2)","v":0.13},{"$f":"+ROUND(ROUND(TO34*(Simulador!$C$63/360),4),2)","v":0.13},{"$f":"+ROUND(ROUND(TP34*(Simulador!$C$63/360),4),2)","v":0.13},{"$f":"+ROUND(ROUND(TQ34*(Simulador!$C$63/360),4),2)","v":0.13},{"$f":"+ROUND(ROUND(TR34*(Simulador!$C$63/360),4),2)","v":0.13},{"$f":"+ROUND(ROUND(TS34*(Simulador!$C$63/360),4),2)","v":0.13},{"$f":"+ROUND(ROUND(TT34*(Simulador!$C$63/360),4),2)","v":0.13},{"$f":"+ROUND(ROUND(TU34*(Simulador!$C$63/360),4),2)","v":0.13},{"$f":"+ROUND(ROUND(TV34*(Simulador!$C$63/360),4),2)","v":0.13},{"$f":"+ROUND(ROUND(TW34*(Simulador!$C$63/360),4),2)","v":0.13},{"$f":"+ROUND(ROUND(TX34*(Simulador!$C$63/360),4),2)","v":0.13},{"$f":"+ROUND(ROUND(TY34*(Simulador!$C$63/360),4),2)","v":0.13},{"$f":"+ROUND(ROUND(TZ34*(Simulador!$C$63/360),4),2)","v":0.13},{"$f":"+ROUND(ROUND(UA34*(Simulador!$C$63/360),4),2)","v":0.13},{"$f":"+ROUND(ROUND(UB34*(Simulador!$C$63/360),4),2)","v":0.13},{"$f":"+ROUND(ROUND(UC34*(Simulador!$C$63/360),4),2)","v":0.13},{"$f":"+ROUND(ROUND(UD34*(Simulador!$C$63/360),4),2)","v":0.13},{"$f":"+ROUND(ROUND(UE34*(Simulador!$C$63/360),4),2)","v":0.13},{"$f":"+ROUND(ROUND(UF34*(Simulador!$C$63/360),4),2)","v":0.13},{"$f":"+ROUND(ROUND(UG34*(Simulador!$C$63/360),4),2)","v":0.14000000000000001},{"$f":"+ROUND(ROUND(UH34*(Simulador!$C$63/360),4),2)","v":0.14000000000000001},{"$f":"+ROUND(ROUND(UI34*(Simulador!$C$63/360),4),2)","v":0.14000000000000001},{"$f":"+ROUND(ROUND(UJ34*(Simulador!$C$63/360),4),2)","v":0.14000000000000001},{"$f":"+ROUND(ROUND(UK34*(Simulador!$C$63/360),4),2)","v":0.14000000000000001},{"$f":"+ROUND(ROUND(UL34*(Simulador!$C$63/360),4),2)","v":0.14000000000000001},{"$f":"+ROUND(ROUND(UM34*(Simulador!$C$63/360),4),2)","v":0.14000000000000001},{"$f":"+ROUND(ROUND(UN34*(Simulador!$C$63/360),4),2)","v":0.14000000000000001},{"$f":"+ROUND(ROUND(UO34*(Simulador!$C$63/360),4),2)","v":0.14000000000000001},{"$f":"+ROUND(ROUND(UP34*(Simulador!$C$63/360),4),2)","v":0.14000000000000001},{"$f":"+ROUND(ROUND(UQ34*(Simulador!$C$63/360),4),2)","v":0.14000000000000001},{"$f":"+ROUND(ROUND(UR34*(Simulador!$C$63/360),4),2)","v":0.14000000000000001},{"$f":"+ROUND(ROUND(US34*(Simulador!$C$63/360),4),2)","v":0.14000000000000001},{"$f":"+ROUND(ROUND(UT34*(Simulador!$C$63/360),4),2)","v":0.14000000000000001},{"$f":"+ROUND(ROUND(UU34*(Simulador!$C$63/360),4),2)","v":0.14000000000000001},{"$f":"+ROUND(ROUND(UV34*(Simulador!$C$63/360),4),2)","v":0.14000000000000001},{"$f":"+ROUND(ROUND(UW34*(Simulador!$C$63/360),4),2)","v":0.14000000000000001},{"$f":"+ROUND(ROUND(UX34*(Simulador!$C$63/360),4),2)","v":0.14000000000000001},{"$f":"+ROUND(ROUND(UY34*(Simulador!$C$63/360),4),2)","v":0.14000000000000001},{"$f":"+ROUND(ROUND(UZ34*(Simulador!$C$63/360),4),2)","v":0.14000000000000001},{"$f":"+ROUND(ROUND(VA34*(Simulador!$C$63/360),4),2)","v":0.14000000000000001},{"$f":"+ROUND(ROUND(VB34*(Simulador!$C$63/360),4),2)","v":0.14000000000000001},{"$f":"+ROUND(ROUND(VC34*(Simulador!$C$63/360),4),2)","v":0.14000000000000001},{"$f":"+ROUND(ROUND(VD34*(Simulador!$C$63/360),4),2)","v":0.14000000000000001},{"$f":"+ROUND(ROUND(VE34*(Simulador!$C$63/360),4),2)","v":0.14000000000000001},{"$f":"+ROUND(ROUND(VF34*(Simulador!$C$63/360),4),2)","v":0.14000000000000001},{"$f":"+ROUND(ROUND(VG34*(Simulador!$C$63/360),4),2)","v":0.14000000000000001},{"$f":"+ROUND(ROUND(VH34*(Simulador!$C$63/360),4),2)","v":0.14000000000000001},{"$f":"+ROUND(ROUND(VI34*(Simulador!$C$63/360),4),2)","v":0.14000000000000001},{"$f":"+ROUND(ROUND(VJ34*(Simulador!$C$63/360),4),2)","v":0.14000000000000001},{"$f":"+ROUND(ROUND(VK34*(Simulador!$C$63/360),4),2)","v":0.14000000000000001},{"$f":"+ROUND(ROUND(VL34*(Simulador!$C$63/360),4),2)","v":0.15},{"$f":"+ROUND(ROUND(VM34*(Simulador!$C$63/360),4),2)","v":0.15},{"$f":"+ROUND(ROUND(VN34*(Simulador!$C$63/360),4),2)","v":0.15},{"$f":"+ROUND(ROUND(VO34*(Simulador!$C$63/360),4),2)","v":0.15},{"$f":"+ROUND(ROUND(VP34*(Simulador!$C$63/360),4),2)","v":0.15},{"$f":"+ROUND(ROUND(VQ34*(Simulador!$C$63/360),4),2)","v":0.15},{"$f":"+ROUND(ROUND(VR34*(Simulador!$C$63/360),4),2)","v":0.15},{"$f":"+ROUND(ROUND(VS34*(Simulador!$C$63/360),4),2)","v":0.15},{"$f":"+ROUND(ROUND(VT34*(Simulador!$C$63/360),4),2)","v":0.15},{"$f":"+ROUND(ROUND(VU34*(Simulador!$C$63/360),4),2)","v":0.15},{"$f":"+ROUND(ROUND(VV34*(Simulador!$C$63/360),4),2)","v":0.15},{"$f":"+ROUND(ROUND(VW34*(Simulador!$C$63/360),4),2)","v":0.15},{"$f":"+ROUND(ROUND(VX34*(Simulador!$C$63/360),4),2)","v":0.15},{"$f":"+ROUND(ROUND(VY34*(Simulador!$C$63/360),4),2)","v":0.15},{"$f":"+ROUND(ROUND(VZ34*(Simulador!$C$63/360),4),2)","v":0.15},{"$f":"+ROUND(ROUND(WA34*(Simulador!$C$63/360),4),2)","v":0.15},{"$f":"+ROUND(ROUND(WB34*(Simulador!$C$63/360),4),2)","v":0.15},{"$f":"+ROUND(ROUND(WC34*(Simulador!$C$63/360),4),2)","v":0.15},{"$f":"+ROUND(ROUND(WD34*(Simulador!$C$63/360),4),2)","v":0.15},{"$f":"+ROUND(ROUND(WE34*(Simulador!$C$63/360),4),2)","v":0.15},{"$f":"+ROUND(ROUND(WF34*(Simulador!$C$63/360),4),2)","v":0.15},{"$f":"+ROUND(ROUND(WG34*(Simulador!$C$63/360),4),2)","v":0.15},{"$f":"+ROUND(ROUND(WH34*(Simulador!$C$63/360),4),2)","v":0.15},{"$f":"+ROUND(ROUND(WI34*(Simulador!$C$63/360),4),2)","v":0.15},{"$f":"+ROUND(ROUND(WJ34*(Simulador!$C$63/360),4),2)","v":0.15},{"$f":"+ROUND(ROUND(WK34*(Simulador!$C$63/360),4),2)","v":0.15},{"$f":"+ROUND(ROUND(WL34*(Simulador!$C$63/360),4),2)","v":0.15},{"$f":"+ROUND(ROUND(WM34*(Simulador!$C$63/360),4),2)","v":0.15},{"$f":"+ROUND(ROUND(WN34*(Simulador!$C$63/360),4),2)","v":0.15},{"$f":"+ROUND(ROUND(WO34*(Simulador!$C$63/360),4),2)","v":0.15},{"$f":"+ROUND(ROUND(WP34*(Simulador!$C$63/360),4),2)","v":0.15},{"$f":"+ROUND(ROUND(WQ34*(Simulador!$C$63/360),4),2)","v":0.15},{"$f":"+ROUND(ROUND(WR34*(Simulador!$C$63/360),4),2)","v":0.15},{"$f":"+ROUND(ROUND(WS34*(Simulador!$C$63/360),4),2)","v":0.15},{"$f":"+ROUND(ROUND(WT34*(Simulador!$C$63/360),4),2)","v":0.15},{"$f":"+ROUND(ROUND(WU34*(Simulador!$C$63/360),4),2)","v":0.15},{"$f":"+ROUND(ROUND(WV34*(Simulador!$C$63/360),4),2)","v":0.15},{"$f":"+ROUND(ROUND(WW34*(Simulador!$C$63/360),4),2)","v":0.15},{"$f":"+ROUND(ROUND(WX34*(Simulador!$C$63/360),4),2)","v":0.15},{"$f":"+ROUND(ROUND(WY34*(Simulador!$C$63/360),4),2)","v":0.15},{"$f":"+ROUND(ROUND(WZ34*(Simulador!$C$63/360),4),2)","v":0.15},{"$f":"+ROUND(ROUND(XA34*(Simulador!$C$63/360),4),2)","v":0.15},{"$f":"+ROUND(ROUND(XB34*(Simulador!$C$63/360),4),2)","v":0.15},{"$f":"+ROUND(ROUND(XC34*(Simulador!$C$63/360),4),2)","v":0.15},{"$f":"+ROUND(ROUND(XD34*(Simulador!$C$63/360),4),2)","v":0.15},{"$f":"+ROUND(ROUND(XE34*(Simulador!$C$63/360),4),2)","v":0.15},{"$f":"+ROUND(ROUND(XF34*(Simulador!$C$63/360),4),2)","v":0.15},{"$f":"+ROUND(ROUND(XG34*(Simulador!$C$63/360),4),2)","v":0.15},{"$f":"+ROUND(ROUND(XH34*(Simulador!$C$63/360),4),2)","v":0.15},{"$f":"+ROUND(ROUND(XI34*(Simulador!$C$63/360),4),2)","v":0.15},{"$f":"+ROUND(ROUND(XJ34*(Simulador!$C$63/360),4),2)","v":0.15},{"$f":"+ROUND(ROUND(XK34*(Simulador!$C$63/360),4),2)","v":0.15},{"$f":"+ROUND(ROUND(XL34*(Simulador!$C$63/360),4),2)","v":0.15},{"$f":"+ROUND(ROUND(XM34*(Simulador!$C$63/360),4),2)","v":0.15},{"$f":"+ROUND(ROUND(XN34*(Simulador!$C$63/360),4),2)","v":0.15},{"$f":"+ROUND(ROUND(XO34*(Simulador!$C$63/360),4),2)","v":0.15},{"$f":"+ROUND(ROUND(XP34*(Simulador!$C$63/360),4),2)","v":0.15},{"$f":"+ROUND(ROUND(XQ34*(Simulador!$C$63/360),4),2)","v":0.15},{"$f":"+ROUND(ROUND(XR34*(Simulador!$C$63/360),4),2)","v":0.15},{"$f":"+ROUND(ROUND(XS34*(Simulador!$C$63/360),4),2)","v":0.16},{"$f":"+ROUND(ROUND(XT34*(Simulador!$C$63/360),4),2)","v":0.16},{"$f":"+ROUND(ROUND(XU34*(Simulador!$C$63/360),4),2)","v":0.16},{"$f":"+ROUND(ROUND(XV34*(Simulador!$C$63/360),4),2)","v":0.16},{"$f":"+ROUND(ROUND(XW34*(Simulador!$C$63/360),4),2)","v":0.16},{"$f":"+ROUND(ROUND(XX34*(Simulador!$C$63/360),4),2)","v":0.16},{"$f":"+ROUND(ROUND(XY34*(Simulador!$C$63/360),4),2)","v":0.16},{"$f":"+ROUND(ROUND(XZ34*(Simulador!$C$63/360),4),2)","v":0.16},{"$f":"+ROUND(ROUND(YA34*(Simulador!$C$63/360),4),2)","v":0.16},{"$f":"+ROUND(ROUND(YB34*(Simulador!$C$63/360),4),2)","v":0.16},{"$f":"+ROUND(ROUND(YC34*(Simulador!$C$63/360),4),2)","v":0.16},{"$f":"+ROUND(ROUND(YD34*(Simulador!$C$63/360),4),2)","v":0.16},{"$f":"+ROUND(ROUND(YE34*(Simulador!$C$63/360),4),2)","v":0.16},{"$f":"+ROUND(ROUND(YF34*(Simulador!$C$63/360),4),2)","v":0.16},{"$f":"+ROUND(ROUND(YG34*(Simulador!$C$63/360),4),2)","v":0.16},{"$f":"+ROUND(ROUND(YH34*(Simulador!$C$63/360),4),2)","v":0.16},{"$f":"+ROUND(ROUND(YI34*(Simulador!$C$63/360),4),2)","v":0.16},{"$f":"+ROUND(ROUND(YJ34*(Simulador!$C$63/360),4),2)","v":0.16},{"$f":"+ROUND(ROUND(YK34*(Simulador!$C$63/360),4),2)","v":0.16},{"$f":"+ROUND(ROUND(YL34*(Simulador!$C$63/360),4),2)","v":0.16},{"$f":"+ROUND(ROUND(YM34*(Simulador!$C$63/360),4),2)","v":0.16},{"$f":"+ROUND(ROUND(YN34*(Simulador!$C$63/360),4),2)","v":0.16},{"$f":"+ROUND(ROUND(YO34*(Simulador!$C$63/360),4),2)","v":0.16},{"$f":"+ROUND(ROUND(YP34*(Simulador!$C$63/360),4),2)","v":0.16},{"$f":"+ROUND(ROUND(YQ34*(Simulador!$C$63/360),4),2)","v":0.16},{"$f":"+ROUND(ROUND(YR34*(Simulador!$C$63/360),4),2)","v":0.16},{"$f":"+ROUND(ROUND(YS34*(Simulador!$C$63/360),4),2)","v":0.16},{"$f":"+ROUND(ROUND(YT34*(Simulador!$C$63/360),4),2)","v":0.16},{"$f":"+ROUND(ROUND(YU34*(Simulador!$C$63/360),4),2)","v":0.16},{"$f":"+ROUND(ROUND(YV34*(Simulador!$C$63/360),4),2)","v":0.16},{"$f":"+ROUND(ROUND(YW34*(Simulador!$C$63/360),4),2)","v":0.17},{"$f":"+ROUND(ROUND(YX34*(Simulador!$C$63/360),4),2)","v":0.17},{"$f":"+ROUND(ROUND(YY34*(Simulador!$C$63/360),4),2)","v":0.17},{"$f":"+ROUND(ROUND(YZ34*(Simulador!$C$63/360),4),2)","v":0.17},{"$f":"+ROUND(ROUND(ZA34*(Simulador!$C$63/360),4),2)","v":0.17},{"$f":"+ROUND(ROUND(ZB34*(Simulador!$C$63/360),4),2)","v":0.17},{"$f":"+ROUND(ROUND(ZC34*(Simulador!$C$63/360),4),2)","v":0.17},{"$f":"+ROUND(ROUND(ZD34*(Simulador!$C$63/360),4),2)","v":0.17},{"$f":"+ROUND(ROUND(ZE34*(Simulador!$C$63/360),4),2)","v":0.17},{"$f":"+ROUND(ROUND(ZF34*(Simulador!$C$63/360),4),2)","v":0.17},{"$f":"+ROUND(ROUND(ZG34*(Simulador!$C$63/360),4),2)","v":0.17},{"$f":"+ROUND(ROUND(ZH34*(Simulador!$C$63/360),4),2)","v":0.17},{"$f":"+ROUND(ROUND(ZI34*(Simulador!$C$63/360),4),2)","v":0.17},{"$f":"+ROUND(ROUND(ZJ34*(Simulador!$C$63/360),4),2)","v":0.17},{"$f":"+ROUND(ROUND(ZK34*(Simulador!$C$63/360),4),2)","v":0.17},{"$f":"+ROUND(ROUND(ZL34*(Simulador!$C$63/360),4),2)","v":0.17},{"$f":"+ROUND(ROUND(ZM34*(Simulador!$C$63/360),4),2)","v":0.17},{"$f":"+ROUND(ROUND(ZN34*(Simulador!$C$63/360),4),2)","v":0.17},{"$f":"+ROUND(ROUND(ZO34*(Simulador!$C$63/360),4),2)","v":0.17},{"$f":"+ROUND(ROUND(ZP34*(Simulador!$C$63/360),4),2)","v":0.17},{"$f":"+ROUND(ROUND(ZQ34*(Simulador!$C$63/360),4),2)","v":0.17},{"$f":"+ROUND(ROUND(ZR34*(Simulador!$C$63/360),4),2)","v":0.17},{"$f":"+ROUND(ROUND(ZS34*(Simulador!$C$63/360),4),2)","v":0.17},{"$f":"+ROUND(ROUND(ZT34*(Simulador!$C$63/360),4),2)","v":0.17},{"$f":"+ROUND(ROUND(ZU34*(Simulador!$C$63/360),4),2)","v":0.17},{"$f":"+ROUND(ROUND(ZV34*(Simulador!$C$63/360),4),2)","v":0.17},{"$f":"+ROUND(ROUND(ZW34*(Simulador!$C$63/360),4),2)","v":0.17},{"$f":"+ROUND(ROUND(ZX34*(Simulador!$C$63/360),4),2)","v":0.17},{"$f":"+ROUND(ROUND(ZY34*(Simulador!$C$63/360),4),2)","v":0.17},{"$f":"+ROUND(ROUND(ZZ34*(Simulador!$C$63/360),4),2)","v":0.17},{"$f":"+ROUND(ROUND(AAA34*(Simulador!$C$63/360),4),2)","v":0.17},{"$f":"+ROUND(ROUND(AAB34*(Simulador!$C$63/360),4),2)","v":0.18},{"$f":"+ROUND(ROUND(AAC34*(Simulador!$C$63/360),4),2)","v":0.18},{"$f":"+ROUND(ROUND(AAD34*(Simulador!$C$63/360),4),2)","v":0.18},{"$f":"+ROUND(ROUND(AAE34*(Simulador!$C$63/360),4),2)","v":0.18},{"$f":"+ROUND(ROUND(AAF34*(Simulador!$C$63/360),4),2)","v":0.18},{"$f":"+ROUND(ROUND(AAG34*(Simulador!$C$63/360),4),2)","v":0.18},{"$f":"+ROUND(ROUND(AAH34*(Simulador!$C$63/360),4),2)","v":0.18},{"$f":"+ROUND(ROUND(AAI34*(Simulador!$C$63/360),4),2)","v":0.18},{"$f":"+ROUND(ROUND(AAJ34*(Simulador!$C$63/360),4),2)","v":0.18},{"$f":"+ROUND(ROUND(AAK34*(Simulador!$C$63/360),4),2)","v":0.18},{"$f":"+ROUND(ROUND(AAL34*(Simulador!$C$63/360),4),2)","v":0.18},{"$f":"+ROUND(ROUND(AAM34*(Simulador!$C$63/360),4),2)","v":0.18},{"$f":"+ROUND(ROUND(AAN34*(Simulador!$C$63/360),4),2)","v":0.18},{"$f":"+ROUND(ROUND(AAO34*(Simulador!$C$63/360),4),2)","v":0.18},{"$f":"+ROUND(ROUND(AAP34*(Simulador!$C$63/360),4),2)","v":0.18},{"$f":"+ROUND(ROUND(AAQ34*(Simulador!$C$63/360),4),2)","v":0.18},{"$f":"+ROUND(ROUND(AAR34*(Simulador!$C$63/360),4),2)","v":0.18},{"$f":"+ROUND(ROUND(AAS34*(Simulador!$C$63/360),4),2)","v":0.18},{"$f":"+ROUND(ROUND(AAT34*(Simulador!$C$63/360),4),2)","v":0.18},{"$f":"+ROUND(ROUND(AAU34*(Simulador!$C$63/360),4),2)","v":0.18}]
[null,"Interés acumulado mensual",{"$f":"+C35","v":0},{"$f":"+D35+IF(D15=\"No\",C36,0)","v":0.01},0.02,0.03,0.04,0.05,6.0000000000000005E-2,7.0000000000000007E-2,0.08,0.09,9.9999999999999992E-2,0.10999999999999999,0.01,0.02,0.03,0.04,0.05,6.0000000000000005E-2,7.0000000000000007E-2,0.08,0.09,9.9999999999999992E-2,0.10999999999999999,0.11999999999999998,0.12999999999999998,0.13999999999999999,0.15,0.16,0.17,0.18000000000000002,0.19000000000000003,0.20000000000000004,0.22000000000000003,0.24000000000000002,0.26,0.28000000000000003,0.30000000000000004,0.32000000000000006,0.34000000000000008,0.3600000000000001,0.38000000000000012,0.02,0.04,0.06,0.08,0.1,0.12000000000000001,0.14000000000000001,0.16,0.18,0.19999999999999998,0.21999999999999997,0.23999999999999996,0.25999999999999995,0.27999999999999997,0.3,0.32,0.34,0.36000000000000004,0.38000000000000006,0.40000000000000008,0.4200000000000001,0.44000000000000011,0.46000000000000013,0.48000000000000015,{"$f":"+BP35+IF(BP15=\"No\",BO36,0)","v":0.50000000000000011},0.52000000000000013,0.54000000000000015,0.56000000000000016,0.58000000000000018,0.6000000000000002,0.62000000000000022,0.64000000000000024,0.02,0.04,0.06,0.08,0.1,0.12000000000000001,0.14000000000000001,0.16,0.18,0.19999999999999998,0.21999999999999997,0.23999999999999996,0.25999999999999995,0.27999999999999997,0.3,0.32,0.34,0.36000000000000004,0.38000000000000006,0.40000000000000008,0.43000000000000005,0.46000000000000008,0.4900000000000001,0.52000000000000013,0.55000000000000016,0.58000000000000018,0.61000000000000021,0.64000000000000024,0.67000000000000026,0.70000000000000029,0.73000000000000032,0.03,0.06,0.09,0.12,0.15,0.18,0.21,0.24,0.27,0.30000000000000004,0.33000000000000007,0.3600000000000001,0.39000000000000012,0.42000000000000015,0.45000000000000018,0.4800000000000002,0.51000000000000023,0.54000000000000026,0.57000000000000028,0.60000000000000031,0.64000000000000035,0.68000000000000038,0.72000000000000042,0.76000000000000045,0.80000000000000049,{"$f":"+EB35+IF(EB15=\"No\",EA36,0)","v":0.84000000000000052},0.88000000000000056,0.9200000000000006,0.04,0.08,0.12,0.16,0.2,0.24000000000000002,0.28000000000000003,0.32,0.36,0.39999999999999997,0.43999999999999995,0.47999999999999993,0.51999999999999991,0.55999999999999994,0.6,0.64,0.68,0.72000000000000008,0.76000000000000012,0.80000000000000016,0.84000000000000019,0.88000000000000023,0.92000000000000026,0.9600000000000003,1.0000000000000002,1.0400000000000003,1.0800000000000003,1.1200000000000003,1.1600000000000004,1.2000000000000004,1.2400000000000004,1.2800000000000005,0.04,0.08,0.12,0.16,0.2,0.24000000000000002,0.28000000000000003,0.32,0.36,0.39999999999999997,0.43999999999999995,0.47999999999999993,0.51999999999999991,0.55999999999999994,0.6,0.64,0.68,0.72000000000000008,0.76000000000000012,0.80000000000000016,0.84000000000000019,0.89000000000000024,0.94000000000000028,0.99000000000000032,1.0400000000000003,1.0900000000000003,1.1400000000000003,1.1900000000000004,1.2400000000000004,{"$f":"+GN35+IF(GN15=\"No\",GM36,0)","v":1.2900000000000005},1.3400000000000005,0.05,0.1,0.15000000000000002,0.2,0.25,0.3,0.35,0.39999999999999997,0.44999999999999996,0.49999999999999994,0.54999999999999993,0.6,0.65,0.70000000000000007,0.75000000000000011,0.80000000000000016,0.8500000000000002,0.90000000000000024,0.95000000000000029,1.0000000000000002,1.0500000000000003,1.1100000000000003,1.1700000000000004,1.2300000000000004,1.2900000000000005,1.3500000000000005,1.4100000000000006,1.4700000000000006,0.06,0.12,0.18,0.24,0.3,0.36,0.42,0.48,0.54,0.60000000000000009,0.66000000000000014,0.7200000000000002,0.78000000000000025,0.8400000000000003,0.90000000000000036,0.96000000000000041,1.0200000000000005,1.0800000000000005,1.1400000000000006,1.2000000000000006,1.2600000000000007,1.3200000000000007,1.3800000000000008,1.4400000000000008,1.5000000000000009,1.5600000000000009,1.620000000000001,1.680000000000001,1.7400000000000011,1.8000000000000012,1.8600000000000012,1.9200000000000013,7.0000000000000007E-2,0.14000000000000001,{"$f":"+IZ35+IF(IZ15=\"No\",IY36,0)","v":0.21000000000000002},0.28000000000000003,0.35000000000000003,0.42000000000000004,0.49000000000000005,0.56000000000000005,0.63000000000000012,0.70000000000000018,0.77000000000000024,0.8400000000000003,0.91000000000000036,0.98000000000000043,1.0500000000000005,1.1200000000000006,1.1900000000000006,1.2600000000000007,1.3300000000000007,1.4000000000000008,1.4700000000000009,1.5400000000000009,1.610000000000001,1.680000000000001,1.7500000000000011,1.8200000000000012,1.8900000000000012,1.9600000000000013,2.0300000000000011,2.100000000000001,7.0000000000000007E-2,0.14000000000000001,0.21000000000000002,0.28000000000000003,0.35000000000000003,0.42000000000000004,0.49000000000000005,0.56000000000000005,0.63000000000000012,0.70000000000000018,0.77000000000000024,0.8400000000000003,0.91000000000000036,0.98000000000000043,1.0500000000000005,1.1200000000000006,1.1900000000000006,1.2600000000000007,1.3300000000000007,1.4000000000000008,1.4800000000000009,1.5600000000000009,1.640000000000001,1.7200000000000011,1.8000000000000012,1.8800000000000012,1.9600000000000013,2.0400000000000014,2.1200000000000014,0.08,0.16,0.24,0.32,0.4,0.48000000000000004,0.56000000000000005,{"$f":"+LL35+IF(LL15=\"No\",LK36,0)","v":0.64},0.72,0.79999999999999993,0.87999999999999989,0.95999999999999985,1.0399999999999998,1.1199999999999999,1.2,1.28,1.36,1.4400000000000002,1.5200000000000002,1.6000000000000003,1.6800000000000004,1.7600000000000005,1.8500000000000005,1.9400000000000006,2.0300000000000007,2.1200000000000006,2.2100000000000004,2.3000000000000003,2.39,2.48,2.57,2.6599999999999997,0.09,0.18,0.27,0.36,0.44999999999999996,0.53999999999999992,0.62999999999999989,0.71999999999999986,0.80999999999999983,0.8999999999999998,0.98999999999999977,1.0799999999999998,1.17,1.26,1.35,1.4400000000000002,1.5300000000000002,1.6200000000000003,1.7100000000000004,1.8000000000000005,1.8900000000000006,1.9800000000000006,2.0700000000000007,2.1600000000000006,2.2500000000000004,2.3400000000000003,2.4300000000000002,2.52,2.61,2.6999999999999997,2.7899999999999996,0.09,0.18,0.27,0.36,0.44999999999999996,0.53999999999999992,0.62999999999999989,0.71999999999999986,{"$f":"+NX35+IF(NX15=\"No\",NW36,0)","v":0.80999999999999983},0.8999999999999998,0.98999999999999977,1.0799999999999998,1.17,1.26,1.35,1.4400000000000002,1.5300000000000002,1.6200000000000003,1.7100000000000004,1.8000000000000005,1.9000000000000006,2.0000000000000004,2.1000000000000005,2.2000000000000006,2.3000000000000007,2.4000000000000008,2.5000000000000009,2.600000000000001,2.7000000000000011,2.8000000000000012,2.9000000000000012,0.1,0.2,0.30000000000000004,0.4,0.5,0.6,0.7,0.79999999999999993,0.89999999999999991,0.99999999999999989,1.0999999999999999,1.2,1.3,1.4000000000000001,1.5000000000000002,1.6000000000000003,1.7000000000000004,1.8000000000000005,1.9000000000000006,2.0000000000000004,2.1100000000000003,2.2200000000000002,2.33,2.44,2.5499999999999998,2.6599999999999997,2.7699999999999996,2.8799999999999994,2.9899999999999993,3.0999999999999992,0.11,0.22,0.33,0.44,0.55000000000000004,0.66,0.77,0.88,0.99,1.1000000000000001,1.2100000000000002,{"$f":"+QJ35+IF(QJ15=\"No\",QI36,0)","v":1.3200000000000003},1.4300000000000004,1.5400000000000005,1.6500000000000006,1.7600000000000007,1.8700000000000008,1.9800000000000009,2.0900000000000007,2.2000000000000006,2.3200000000000007,2.4400000000000008,2.5600000000000009,2.680000000000001,2.8000000000000012,2.9200000000000013,3.0400000000000014,3.1600000000000015,3.2800000000000016,3.4000000000000017,0.12,0.24,0.36,0.48,0.6,0.72,0.84,0.96,1.08,1.2000000000000002,1.3200000000000003,1.4400000000000004,1.5600000000000005,1.6800000000000006,1.8000000000000007,1.9200000000000008,2.0400000000000009,2.160000000000001,2.2800000000000011,2.4000000000000012,2.5200000000000014,2.6400000000000015,2.7600000000000016,2.8800000000000017,3.0000000000000018,3.1200000000000019,3.240000000000002,3.3600000000000021,3.4800000000000022,3.6000000000000023,3.7200000000000024,0.12,0.24,0.36,0.48,0.6,0.72,0.84,0.96,1.08,1.2000000000000002,1.3200000000000003,1.4400000000000004,1.5600000000000005,1.6800000000000006,{"$f":"+SV35+IF(SV15=\"No\",SU36,0)","v":1.8000000000000007},1.9200000000000008,2.0400000000000009,2.160000000000001,2.2800000000000011,2.4000000000000012,2.5300000000000011,2.660000000000001,2.7900000000000009,2.9200000000000008,3.0500000000000007,3.1800000000000006,3.3100000000000005,3.4400000000000004,3.5700000000000003,3.7,0.13,0.26,0.39,0.52,0.65,0.78,0.91,1.04,1.17,1.2999999999999998,1.4299999999999997,1.5599999999999996,1.6899999999999995,1.8199999999999994,1.9499999999999993,2.0799999999999992,2.2099999999999991,2.339999999999999,2.4699999999999989,2.5999999999999988,2.7299999999999986,2.8699999999999988,3.0099999999999989,3.149999999999999,3.2899999999999991,3.4299999999999993,3.5699999999999994,3.7099999999999995,3.8499999999999996,3.9899999999999998,0.14000000000000001,0.28000000000000003,0.42000000000000004,0.56000000000000005,0.70000000000000007,0.84000000000000008,0.98000000000000009,1.1200000000000001,1.2600000000000002,1.4000000000000004,1.5400000000000005,1.6800000000000006,1.8200000000000007,1.9600000000000009,2.100000000000001,2.2400000000000011,2.3800000000000012,2.5200000000000014,{"$f":"+VH35+IF(VH15=\"No\",VG36,0)","v":2.6600000000000015},2.8000000000000016,2.9400000000000017,3.0800000000000018,3.2300000000000018,3.3800000000000017,3.5300000000000016,3.6800000000000015,3.8300000000000014,3.9800000000000013,0.15,0.3,0.44999999999999996,0.6,0.75,0.9,1.05,1.2,1.3499999999999999,1.4999999999999998,1.6499999999999997,1.7999999999999996,1.9499999999999995,2.0999999999999996,2.2499999999999996,2.3999999999999995,2.5499999999999994,2.6999999999999993,2.8499999999999992,2.9999999999999991,3.149999999999999,3.2999999999999989,3.4499999999999988,3.5999999999999988,3.7499999999999987,3.8999999999999986,4.0499999999999989,4.1999999999999993,4.3499999999999996,4.5,4.6500000000000004,4.8000000000000007,4.9500000000000011,0.15,0.3,0.44999999999999996,0.6,0.75,0.9,1.05,1.2,1.3499999999999999,1.4999999999999998,1.6499999999999997,1.7999999999999996,1.9499999999999995,2.0999999999999996,2.2499999999999996,2.3999999999999995,2.5499999999999994,2.6999999999999993,2.8499999999999992,2.9999999999999991,3.1599999999999993,{"$f":"+XT35+IF(XT15=\"No\",XS36,0)","v":3.3199999999999994},3.4799999999999995,3.6399999999999997,3.8,3.96,4.12,4.28,4.4400000000000004,0.16,0.32,0.48,0.64,0.8,0.96000000000000008,1.1200000000000001,1.28,1.44,1.5999999999999999,1.7599999999999998,1.9199999999999997,2.0799999999999996,2.2399999999999998,2.4,2.56,2.72,2.8800000000000003,3.0400000000000005,3.2000000000000006,3.3600000000000008,3.5300000000000007,3.7000000000000006,3.8700000000000006,4.0400000000000009,4.2100000000000009,4.3800000000000008,4.5500000000000007,4.7200000000000006,4.8900000000000006,5.0600000000000005,5.23,0.17,0.34,0.51,0.68,0.85000000000000009,1.02,1.19,1.3599999999999999,1.5299999999999998,1.6999999999999997,1.8699999999999997,2.0399999999999996,2.2099999999999995,2.3799999999999994,2.5499999999999994,2.7199999999999993,2.8899999999999992,3.0599999999999992,3.2299999999999991,3.399999999999999,3.5799999999999992,3.7599999999999993,3.9399999999999995,4.1199999999999992,{"$f":"+AAF35+IF(AAF15=\"No\",AAE36,0)","v":4.2999999999999989},4.4799999999999986,4.6599999999999984,4.8399999999999981,5.0199999999999978,5.1999999999999975,0.18,0.36,0.54,0.72,0.89999999999999991,1.0799999999999998,1.2599999999999998,1.4399999999999997,1.6199999999999997,1.7999999999999996]
[null,"Interés acumulado periodo",{"$f":"+C35","v":0},{"$f":"+C37+D35","v":0.01},0.02,0.03,0.04,0.05,6.0000000000000005E-2,7.0000000000000007E-2,0.08,0.09,9.9999999999999992E-2,0.10999999999999999,0.11999999999999998,0.12999999999999998,0.13999999999999999,0.15,0.16,0.17,0.18000000000000002,0.19000000000000003,0.20000000000000004,0.21000000000000005,0.22000000000000006,0.23000000000000007,0.24000000000000007,0.25000000000000006,0.26000000000000006,0.27000000000000007,0.28000000000000008,0.29000000000000009,0.3000000000000001,0.31000000000000011,0.33000000000000013,0.35000000000000014,0.37000000000000016,0.39000000000000018,0.4100000000000002,0.43000000000000022,0.45000000000000023,0.47000000000000025,0.49000000000000027,0.51000000000000023,0.53000000000000025,0.55000000000000027,0.57000000000000028,0.5900000000000003,0.61000000000000032,0.63000000000000034,0.65000000000000036,0.67000000000000037,0.69000000000000039,0.71000000000000041,0.73000000000000043,0.75000000000000044,0.77000000000000046,0.79000000000000048,0.8100000000000005,0.83000000000000052,0.85000000000000053,0.87000000000000055,0.89000000000000057,0.91000000000000059,0.9300000000000006,0.95000000000000062,0.97000000000000064,{"$f":"+BO37+BP35","v":0.99000000000000066},1.0100000000000007,1.0300000000000007,1.0500000000000007,1.0700000000000007,1.0900000000000007,1.1100000000000008,1.1300000000000008,1.1500000000000008,1.1700000000000008,1.1900000000000008,1.2100000000000009,1.2300000000000009,1.2500000000000009,1.2700000000000009,1.2900000000000009,1.3100000000000009,1.330000000000001,1.350000000000001,1.370000000000001,1.390000000000001,1.410000000000001,1.430000000000001,1.4500000000000011,1.4700000000000011,1.4900000000000011,1.5100000000000011,1.5300000000000011,1.5600000000000012,1.5900000000000012,1.6200000000000012,1.6500000000000012,1.6800000000000013,1.7100000000000013,1.7400000000000013,1.7700000000000014,1.8000000000000014,1.8300000000000014,1.8600000000000014,1.8900000000000015,1.9200000000000015,1.9500000000000015,1.9800000000000015,2.0100000000000016,2.0400000000000014,2.0700000000000012,2.100000000000001,2.1300000000000008,2.1600000000000006,2.1900000000000004,2.2200000000000002,2.25,2.2799999999999998,2.3099999999999996,2.3399999999999994,2.3699999999999992,2.399999999999999,2.4299999999999988,2.4599999999999986,2.4999999999999987,2.5399999999999987,2.5799999999999987,2.6199999999999988,2.6599999999999988,{"$f":"+EA37+EB35","v":2.6999999999999988},2.7399999999999989,2.7799999999999989,2.819999999999999,2.859999999999999,2.899999999999999,2.9399999999999991,2.9799999999999991,3.0199999999999991,3.0599999999999992,3.0999999999999992,3.1399999999999992,3.1799999999999993,3.2199999999999993,3.2599999999999993,3.2999999999999994,3.3399999999999994,3.3799999999999994,3.4199999999999995,3.4599999999999995,3.4999999999999996,3.5399999999999996,3.5799999999999996,3.6199999999999997,3.6599999999999997,3.6999999999999997,3.7399999999999998,3.78,3.82,3.86,3.9,3.94,3.98,4.0199999999999996,4.0599999999999996,4.0999999999999996,4.1399999999999997,4.18,4.22,4.26,4.3,4.34,4.38,4.42,4.46,4.5,4.54,4.58,4.62,4.66,4.7,4.74,4.78,4.82,4.8600000000000003,4.9000000000000004,4.95,5,5.05,5.0999999999999996,5.1499999999999995,5.1999999999999993,5.2499999999999991,5.2999999999999989,{"$f":"+GM37+GN35","v":5.3499999999999988},5.3999999999999986,5.4499999999999984,5.4999999999999982,5.549999999999998,5.5999999999999979,5.6499999999999977,5.6999999999999975,5.7499999999999973,5.7999999999999972,5.849999999999997,5.8999999999999968,5.9499999999999966,5.9999999999999964,6.0499999999999963,6.0999999999999961,6.1499999999999959,6.1999999999999957,6.2499999999999956,6.2999999999999954,6.3499999999999952,6.399999999999995,6.4499999999999948,6.5099999999999945,6.5699999999999941,6.6299999999999937,6.6899999999999933,6.7499999999999929,6.8099999999999925,6.8699999999999921,6.9299999999999917,6.9899999999999913,7.0499999999999909,7.1099999999999905,7.1699999999999902,7.2299999999999898,7.2899999999999894,7.349999999999989,7.4099999999999886,7.4699999999999882,7.5299999999999878,7.5899999999999874,7.649999999999987,7.7099999999999866,7.7699999999999863,7.8299999999999859,7.8899999999999855,7.9499999999999851,8.0099999999999856,8.0699999999999861,8.1299999999999866,8.1899999999999871,8.2499999999999876,8.3099999999999881,8.3699999999999886,8.4299999999999891,8.4899999999999896,8.5499999999999901,8.6099999999999905,8.669999999999991,8.7299999999999915,8.789999999999992,8.8599999999999923,8.9299999999999926,{"$f":"+IY37+IZ35","v":8.9999999999999929},9.0699999999999932,9.1399999999999935,9.2099999999999937,9.279999999999994,9.3499999999999943,9.4199999999999946,9.4899999999999949,9.5599999999999952,9.6299999999999955,9.6999999999999957,9.769999999999996,9.8399999999999963,9.9099999999999966,9.9799999999999969,10.049999999999997,10.119999999999997,10.189999999999998,10.259999999999998,10.329999999999998,10.399999999999999,10.469999999999999,10.54,10.61,10.68,10.75,10.82,10.89,10.96,11.030000000000001,11.100000000000001,11.170000000000002,11.240000000000002,11.310000000000002,11.380000000000003,11.450000000000003,11.520000000000003,11.590000000000003,11.660000000000004,11.730000000000004,11.800000000000004,11.870000000000005,11.940000000000005,12.010000000000005,12.080000000000005,12.150000000000006,12.220000000000006,12.290000000000006,12.370000000000006,12.450000000000006,12.530000000000006,12.610000000000007,12.690000000000007,12.770000000000007,12.850000000000007,12.930000000000007,13.010000000000007,13.090000000000007,13.170000000000007,13.250000000000007,13.330000000000007,13.410000000000007,13.490000000000007,13.570000000000007,{"$f":"+LK37+LL35","v":13.650000000000007},13.730000000000008,13.810000000000008,13.890000000000008,13.970000000000008,14.050000000000008,14.130000000000008,14.210000000000008,14.290000000000008,14.370000000000008,14.450000000000008,14.530000000000008,14.610000000000008,14.690000000000008,14.770000000000008,14.860000000000008,14.950000000000008,15.040000000000008,15.130000000000008,15.220000000000008,15.310000000000008,15.400000000000007,15.490000000000007,15.580000000000007,15.670000000000007,15.760000000000007,15.850000000000007,15.940000000000007,16.030000000000008,16.120000000000008,16.210000000000008,16.300000000000008,16.390000000000008,16.480000000000008,16.570000000000007,16.660000000000007,16.750000000000007,16.840000000000007,16.930000000000007,17.020000000000007,17.110000000000007,17.200000000000006,17.290000000000006,17.380000000000006,17.470000000000006,17.560000000000006,17.650000000000006,17.740000000000006,17.830000000000005,17.920000000000005,18.010000000000005,18.100000000000005,18.190000000000005,18.280000000000005,18.370000000000005,18.460000000000004,18.550000000000004,18.640000000000004,18.730000000000004,18.820000000000004,18.910000000000004,19.000000000000004,19.090000000000003,19.180000000000003,{"$f":"+NW37+NX35","v":19.270000000000003},19.360000000000003,19.450000000000003,19.540000000000003,19.630000000000003,19.720000000000002,19.810000000000002,19.900000000000002,19.990000000000002,20.080000000000002,20.170000000000002,20.260000000000002,20.360000000000003,20.460000000000004,20.560000000000006,20.660000000000007,20.760000000000009,20.86000000000001,20.960000000000012,21.060000000000013,21.160000000000014,21.260000000000016,21.360000000000017,21.460000000000019,21.56000000000002,21.660000000000021,21.760000000000023,21.860000000000024,21.960000000000026,22.060000000000027,22.160000000000029,22.26000000000003,22.360000000000031,22.460000000000033,22.560000000000034,22.660000000000036,22.760000000000037,22.860000000000039,22.96000000000004,23.060000000000041,23.160000000000043,23.260000000000044,23.360000000000046,23.470000000000045,23.580000000000044,23.690000000000044,23.800000000000043,23.910000000000043,24.020000000000042,24.130000000000042,24.240000000000041,24.350000000000041,24.46000000000004,24.570000000000039,24.680000000000039,24.790000000000038,24.900000000000038,25.010000000000037,25.120000000000037,25.230000000000036,25.340000000000035,25.450000000000035,25.560000000000034,25.670000000000034,{"$f":"+QI37+QJ35","v":25.780000000000033},25.890000000000033,26.000000000000032,26.110000000000031,26.220000000000031,26.33000000000003,26.44000000000003,26.550000000000029,26.660000000000029,26.78000000000003,26.900000000000031,27.020000000000032,27.140000000000033,27.260000000000034,27.380000000000035,27.500000000000036,27.620000000000037,27.740000000000038,27.860000000000039,27.98000000000004,28.100000000000041,28.220000000000041,28.340000000000042,28.460000000000043,28.580000000000044,28.700000000000045,28.820000000000046,28.940000000000047,29.060000000000048,29.180000000000049,29.30000000000005,29.420000000000051,29.540000000000052,29.660000000000053,29.780000000000054,29.900000000000055,30.020000000000056,30.140000000000057,30.260000000000058,30.380000000000059,30.50000000000006,30.620000000000061,30.740000000000062,30.860000000000063,30.980000000000064,31.100000000000065,31.220000000000066,31.340000000000067,31.460000000000068,31.580000000000069,31.70000000000007,31.820000000000071,31.940000000000072,32.060000000000073,32.180000000000071,32.300000000000068,32.420000000000066,32.540000000000063,32.660000000000061,32.780000000000058,32.900000000000055,33.020000000000053,33.14000000000005,33.260000000000048,{"$f":"+SU37+SV35","v":33.380000000000045},33.500000000000043,33.62000000000004,33.740000000000038,33.860000000000035,33.980000000000032,34.110000000000035,34.240000000000038,34.37000000000004,34.500000000000043,34.630000000000045,34.760000000000048,34.89000000000005,35.020000000000053,35.150000000000055,35.280000000000058,35.410000000000061,35.540000000000063,35.670000000000066,35.800000000000068,35.930000000000071,36.060000000000073,36.190000000000076,36.320000000000078,36.450000000000081,36.580000000000084,36.710000000000086,36.840000000000089,36.970000000000091,37.100000000000094,37.230000000000096,37.360000000000099,37.490000000000101,37.620000000000104,37.750000000000107,37.880000000000109,38.010000000000112,38.150000000000112,38.290000000000113,38.430000000000113,38.570000000000114,38.710000000000115,38.850000000000115,38.990000000000116,39.130000000000116,39.270000000000117,39.410000000000117,39.550000000000118,39.690000000000119,39.830000000000119,39.97000000000012,40.11000000000012,40.250000000000121,40.390000000000121,40.530000000000122,40.670000000000122,40.810000000000123,40.950000000000124,41.090000000000124,41.230000000000125,41.370000000000125,41.510000000000126,41.650000000000126,41.790000000000127,{"$f":"+VG37+VH35","v":41.930000000000128},42.070000000000128,42.210000000000129,42.350000000000129,42.500000000000128,42.650000000000126,42.800000000000125,42.950000000000124,43.100000000000122,43.250000000000121,43.400000000000119,43.550000000000118,43.700000000000117,43.850000000000115,44.000000000000114,44.150000000000112,44.300000000000111,44.450000000000109,44.600000000000108,44.750000000000107,44.900000000000105,45.050000000000104,45.200000000000102,45.350000000000101,45.500000000000099,45.650000000000098,45.800000000000097,45.950000000000095,46.100000000000094,46.250000000000092,46.400000000000091,46.55000000000009,46.700000000000088,46.850000000000087,47.000000000000085,47.150000000000084,47.300000000000082,47.450000000000081,47.60000000000008,47.750000000000078,47.900000000000077,48.050000000000075,48.200000000000074,48.350000000000072,48.500000000000071,48.65000000000007,48.800000000000068,48.950000000000067,49.100000000000065,49.250000000000064,49.400000000000063,49.550000000000061,49.70000000000006,49.850000000000058,50.000000000000057,50.150000000000055,50.300000000000054,50.450000000000053,50.600000000000051,50.75000000000005,50.900000000000048,51.050000000000047,51.200000000000045,51.360000000000042,{"$f":"+XS37+XT35","v":51.520000000000039},51.680000000000035,51.840000000000032,52.000000000000028,52.160000000000025,52.320000000000022,52.480000000000018,52.640000000000015,52.800000000000011,52.960000000000008,53.120000000000005,53.28,53.44,53.599999999999994,53.759999999999991,53.919999999999987,54.079999999999984,54.239999999999981,54.399999999999977,54.559999999999974,54.71999999999997,54.879999999999967,55.039999999999964,55.19999999999996,55.359999999999957,55.519999999999953,55.67999999999995,55.839999999999947,55.999999999999943,56.169999999999945,56.339999999999947,56.509999999999948,56.67999999999995,56.849999999999952,57.019999999999953,57.189999999999955,57.359999999999957,57.529999999999959,57.69999999999996,57.869999999999962,58.039999999999964,58.209999999999965,58.379999999999967,58.549999999999969,58.71999999999997,58.889999999999972,59.059999999999974,59.229999999999976,59.399999999999977,59.569999999999979,59.739999999999981,59.909999999999982,60.079999999999984,60.249999999999986,60.419999999999987,60.589999999999989,60.759999999999991,60.929999999999993,61.099999999999994,61.269999999999996,61.449999999999996,61.629999999999995,61.809999999999995,61.989999999999995,{"$f":"+AAE37+AAF35","v":62.169999999999995},62.349999999999994,62.529999999999994,62.709999999999994,62.889999999999993,63.069999999999993,63.249999999999993,63.429999999999993,63.609999999999992,63.789999999999992,63.969999999999992,64.149999999999991,64.33,64.510000000000005,64.690000000000012,64.870000000000019]
[]
[]
[null,"Sugerencia 1"]
[null,"Capital Acumulado",{"$f":"+C$26","v":10},{"$f":"+C41+D$26","v":60},60,60,60,60,60,60,60,60,60,60,60,60,60,60,60,60,60,60,60,60,60,60,60,60,60,60,60,60,60,60,110,110,110,110,110,110,110,110,110,110,110,110,110,110,110,110,110,110,110,110,110,110,110,110,110,110,110,110,110,110,110,160,160,{"$f":"+BO41+BP$26","v":160},160,160,160,160,160,160,160,160,160,160,160,160,160,160,160,160,160,160,160,160,160,160,160,160,160,160,160,210,210,210,210,210,210,210,210,210,210,210,210,210,210,210,210,210,210,210,210,210,210,210,210,210,210,210,210,210,210,210,260,260,260,260,260,{"$f":"+EA41+EB$26","v":260},260,260,260,260,260,260,260,260,260,260,260,260,260,260,260,260,260,260,260,260,260,260,260,260,310,310,310,310,310,310,310,310,310,310,310,310,310,310,310,310,310,310,310,310,310,310,310,310,310,310,310,310,310,310,310,360,360,360,360,360,360,360,360,{"$f":"+GM41+GN$26","v":360},360,360,360,360,360,360,360,360,360,360,360,360,360,360,360,360,360,360,360,360,360,360,410,410,410,410,410,410,410,410,410,410,410,410,410,410,410,410,410,410,410,410,410,410,410,410,410,410,410,410,460,460,460,460,460,460,460,460,460,460,460,460,460,{"$f":"+IY41+IZ$26","v":460},460,460,460,460,460,460,460,460,460,460,460,460,460,460,460,460,460,510,510,510,510,510,510,510,510,510,510,510,510,510,510,510,510,510,510,510,510,510,510,510,510,510,510,510,510,510,510,560,560,560,560,560,560,560,560,560,560,560,560,560,560,560,560,{"$f":"+LK41+LL$26","v":560},560,560,560,560,560,560,560,560,560,560,560,560,560,560,610,610,610,610,610,610,610,610,610,610,610,610,610,610,610,610,610,610,610,610,610,610,610,610,610,610,610,610,610,610,660,660,660,660,660,660,660,660,660,660,660,660,660,660,660,660,660,660,660,{"$f":"+NW41+NX$26","v":660},660,660,660,660,660,660,660,660,660,660,660,710,710,710,710,710,710,710,710,710,710,710,710,710,710,710,710,710,710,710,710,710,710,710,710,710,710,710,710,710,710,710,760,760,760,760,760,760,760,760,760,760,760,760,760,760,760,760,760,760,760,760,760,{"$f":"+QI41+QJ$26","v":760},760,760,760,760,760,760,760,760,810,810,810,810,810,810,810,810,810,810,810,810,810,810,810,810,810,810,810,810,810,810,810,810,810,810,810,810,810,810,810,860,860,860,860,860,860,860,860,860,860,860,860,860,860,860,860,860,860,860,860,860,860,860,860,{"$f":"+SU41+SV$26","v":860},860,860,860,860,860,910,910,910,910,910,910,910,910,910,910,910,910,910,910,910,910,910,910,910,910,910,910,910,910,910,910,910,910,910,910,910,960,960,960,960,960,960,960,960,960,960,960,960,960,960,960,960,960,960,960,960,960,960,960,960,960,960,960,{"$f":"+VG41+VH$26","v":960},960,960,960,1010,1010,1010,1010,1010,1010,1010,1010,1010,1010,1010,1010,1010,1010,1010,1010,1010,1010,1010,1010,1010,1010,1010,1010,1010,1010,1010,1010,1060,1060,1060,1060,1060,1060,1060,1060,1060,1060,1060,1060,1060,1060,1060,1060,1060,1060,1060,1060,1060,1060,1060,1060,1060,1060,1060,1060,1060,1060,1060,1110,{"$f":"+XS41+XT$26","v":1110},1110,1110,1110,1110,1110,1110,1110,1110,1110,1110,1110,1110,1110,1110,1110,1110,1110,1110,1110,1110,1110,1110,1110,1110,1110,1110,1110,1110,1160,1160,1160,1160,1160,1160,1160,1160,1160,1160,1160,1160,1160,1160,1160,1160,1160,1160,1160,1160,1160,1160,1160,1160,1160,1160,1160,1160,1160,1160,1160,1210,1210,1210,1210,{"$f":"+AAE41+AAF$26","v":1210},1210,1210,1210,1210,1210,1210,1210,1210,1210,1210,1210,1210,1210,1210,1210]
[null,"Capital Acumulado + interés",{"$f":"+C26","v":10},{"$f":"+IF(Simulador!$C$50=\"Si\",D$26+C42+C43,D$26+C42+C44)","v":60},{"$f":"+IF(Simulador!$C$50=\"Si\",E$26+D42+D43,E$26+D42+D44)","v":60},{"$f":"+IF(Simulador!$C$50=\"Si\",F$26+E42+E43,F$26+E42+E44)","v":60},{"$f":"+IF(Simulador!$C$50=\"Si\",G$26+F42+F43,G$26+F42+F44)","v":60},{"$f":"+IF(Simulador!$C$50=\"Si\",H$26+G42+G43,H$26+G42+G44)","v":60},{"$f":"+IF(Simulador!$C$50=\"Si\",I$26+H42+H43,I$26+H42+H44)","v":60},{"$f":"+IF(Simulador!$C$50=\"Si\",J$26+I42+I43,J$26+I42+I44)","v":60},{"$f":"+IF(Simulador!$C$50=\"Si\",K$26+J42+J43,K$26+J42+J44)","v":60},{"$f":"+IF(Simulador!$C$50=\"Si\",L$26+K42+K43,L$26+K42+K44)","v":60},{"$f":"+IF(Simulador!$C$50=\"Si\",M$26+L42+L43,M$26+L42+L44)","v":60},{"$f":"+IF(Simulador!$C$50=\"Si\",N$26+M42+M43,N$26+M42+M44)","v":60},{"$f":"+IF(Simulador!$C$50=\"Si\",O$26+N42+N43,O$26+N42+N44)","v":60},{"$f":"+IF(Simulador!$C$50=\"Si\",P$26+O42+O43,P$26+O42+O44)","v":60.11},{"$f":"+IF(Simulador!$C$50=\"Si\",Q$26+P42+P43,Q$26+P42+P44)","v":60.11},{"$f":"+IF(Simulador!$C$50=\"Si\",R$26+Q42+Q43,R$26+Q42+Q44)","v":60.11},{"$f":"+IF(Simulador!$C$50=\"Si\",S$26+R42+R43,S$26+R42+R44)","v":60.11},{"$f":"+IF(Simulador!$C$50=\"Si\",T$26+S42+S43,T$26+S42+S44)","v":60.11},{"$f":"+IF(Simulador!$C$50=\"Si\",U$26+T42+T43,U$26+T42+T44)","v":60.11},{"$f":"+IF(Simulador!$C$50=\"Si\",V$26+U42+U43,V$26+U42+U44)","v":60.11},{"$f":"+IF(Simulador!$C$50=\"Si\",W$26+V42+V43,W$26+V42+V44)","v":60.11},{"$f":"+IF(Simulador!$C$50=\"Si\",X$26+W42+W43,X$26+W42+W44)","v":60.11},{"$f":"+IF(Simulador!$C$50=\"Si\",Y$26+X42+X43,Y$26+X42+X44)","v":60.11},{"$f":"+IF(Simulador!$C$50=\"Si\",Z$26+Y42+Y43,Z$26+Y42+Y44)","v":60.11},{"$f":"+IF(Simulador!$C$50=\"Si\",AA$26+Z42+Z43,AA$26+Z42+Z44)","v":60.11},{"$f":"+IF(Simulador!$C$50=\"Si\",AB$26+AA42+AA43,AB$26+AA42+AA44)","v":60.11},{"$f":"+IF(Simulador!$C$50=\"Si\",AC$26+AB42+AB43,AC$26+AB42+AB44)","v":60.11},{"$f":"+IF(Simulador!$C$50=\"Si\",AD$26+AC42+AC43,AD$26+AC42+AC44)","v":60.11},{"$f":"+IF(Simulador!$C$50=\"Si\",AE$26+AD42+AD43,AE$26+AD42+AD44)","v":60.11},{"$f":"+IF(Simulador!$C$50=\"Si\",AF$26+AE42+AE43,AF$26+AE42+AE44)","v":60.11},{"$f":"+IF(Simulador!$C$50=\"Si\",AG$26+AF42+AF43,AG$26+AF42+AF44)","v":60.11},{"$f":"+IF(Simulador!$C$50=\"Si\",AH$26+AG42+AG43,AH$26+AG42+AG44)","v":60.11},{"$f":"+IF(Simulador!$C$50=\"Si\",AI$26+AH42+AH43,AI$26+AH42+AH44)","v":110.11},{"$f":"+IF(Simulador!$C$50=\"Si\",AJ$26+AI42+AI43,AJ$26+AI42+AI44)","v":110.11},{"$f":"+IF(Simulador!$C$50=\"Si\",AK$26+AJ42+AJ43,AK$26+AJ42+AJ44)","v":110.11},{"$f":"+IF(Simulador!$C$50=\"Si\",AL$26+AK42+AK43,AL$26+AK42+AK44)","v":110.11},{"$f":"+IF(Simulador!$C$50=\"Si\",AM$26+AL42+AL43,AM$26+AL42+AL44)","v":110.11},{"$f":"+IF(Simulador!$C$50=\"Si\",AN$26+AM42+AM43,AN$26+AM42+AM44)","v":110.11},{"$f":"+IF(Simulador!$C$50=\"Si\",AO$26+AN42+AN43,AO$26+AN42+AN44)","v":110.11},{"$f":"+IF(Simulador!$C$50=\"Si\",AP$26+AO42+AO43,AP$26+AO42+AO44)","v":110.11},{"$f":"+IF(Simulador!$C$50=\"Si\",AQ$26+AP42+AP43,AQ$26+AP42+AP44)","v":110.11},{"$f":"+IF(Simulador!$C$50=\"Si\",AR$26+AQ42+AQ43,AR$26+AQ42+AQ44)","v":110.11},{"$f":"+IF(Simulador!$C$50=\"Si\",AS$26+AR42+AR43,AS$26+AR42+AR44)","v":110.49},{"$f":"+IF(Simulador!$C$50=\"Si\",AT$26+AS42+AS43,AT$26+AS42+AS44)","v":110.49},{"$f":"+IF(Simulador!$C$50=\"Si\",AU$26+AT42+AT43,AU$26+AT42+AT44)","v":110.49},{"$f":"+IF(Simulador!$C$50=\"Si\",AV$26+AU42+AU43,AV$26+AU42+AU44)","v":110.49},{"$f":"+IF(Simulador!$C$50=\"Si\",AW$26+AV42+AV43,AW$26+AV42+AV44)","v":110.49},{"$f":"+IF(Simulador!$C$50=\"Si\",AX$26+AW42+AW43,AX$26+AW42+AW44)","v":110.49},{"$f":"+IF(Simulador!$C$50=\"Si\",AY$26+AX42+AX43,AY$26+AX42+AX44)","v":110.49},{"$f":"+IF(Simulador!$C$50=\"Si\",AZ$26+AY42+AY43,AZ$26+AY42+AY44)","v":110.49},{"$f":"+IF(Simulador!$C$50=\"Si\",BA$26+AZ42+AZ43,BA$26+AZ42+AZ44)","v":110.49},{"$f":"+IF(Simulador!$C$50=\"Si\",BB$26+BA42+BA43,BB$26+BA42+BA44)","v":110.49},{"$f":"+IF(Simulador!$C$50=\"Si\",BC$26+BB42+BB43,BC$26+BB42+BB44)","v":110.49},{"$f":"+IF(Simulador!$C$50=\"Si\",BD$26+BC42+BC43,BD$26+BC42+BC44)","v":110.49},{"$f":"+IF(Simulador!$C$50=\"Si\",BE$26+BD42+BD43,BE$26+BD42+BD44)","v":110.49},{"$f":"+IF(Simulador!$C$50=\"Si\",BF$26+BE42+BE43,BF$26+BE42+BE44)","v":110.49},{"$f":"+IF(Simulador!$C$50=\"Si\",BG$26+BF42+BF43,BG$26+BF42+BF44)","v":110.49},{"$f":"+IF(Simulador!$C$50=\"Si\",BH$26+BG42+BG43,BH$26+BG42+BG44)","v":110.49},{"$f":"+IF(Simulador!$C$50=\"Si\",BI$26+BH42+BH43,BI$26+BH42+BH44)","v":110.49},{"$f":"+IF(Simulador!$C$50=\"Si\",BJ$26+BI42+BI43,BJ$26+BI42+BI44)","v":110.49},{"$f":"+IF(Simulador!$C$50=\"Si\",BK$26+BJ42+BJ43,BK$26+BJ42+BJ44)","v":110.49},{"$f":"+IF(Simulador!$C$50=\"Si\",BL$26+BK42+BK43,BL$26+BK42+BK44)","v":110.49},{"$f":"+IF(Simulador!$C$50=\"Si\",BM$26+BL42+BL43,BM$26+BL42+BL44)","v":110.49},{"$f":"+IF(Simulador!$C$50=\"Si\",BN$26+BM42+BM43,BN$26+BM42+BM44)","v":160.49},{"$f":"+IF(Simulador!$C$50=\"Si\",BO$26+BN42+BN43,BO$26+BN42+BN44)","v":160.49},{"$f":"+IF(Simulador!$C$50=\"Si\",BP$26+BO42+BO43,BP$26+BO42+BO44)","v":160.49},{"$f":"+IF(Simulador!$C$50=\"Si\",BQ$26+BP42+BP43,BQ$26+BP42+BP44)","v":160.49},{"$f":"+IF(Simulador!$C$50=\"Si\",BR$26+BQ42+BQ43,BR$26+BQ42+BQ44)","v":160.49},{"$f":"+IF(Simulador!$C$50=\"Si\",BS$26+BR42+BR43,BS$26+BR42+BR44)","v":160.49},{"$f":"+IF(Simulador!$C$50=\"Si\",BT$26+BS42+BS43,BT$26+BS42+BS44)","v":160.49},{"$f":"+IF(Simulador!$C$50=\"Si\",BU$26+BT42+BT43,BU$26+BT42+BT44)","v":160.49},{"$f":"+IF(Simulador!$C$50=\"Si\",BV$26+BU42+BU43,BV$26+BU42+BU44)","v":160.49},{"$f":"+IF(Simulador!$C$50=\"Si\",BW$26+BV42+BV43,BW$26+BV42+BV44)","v":160.49},{"$f":"+IF(Simulador!$C$50=\"Si\",BX$26+BW42+BW43,BX$26+BW42+BW44)","v":160.49},{"$f":"+IF(Simulador!$C$50=\"Si\",BY$26+BX42+BX43,BY$26+BX42+BX44)","v":161.13},{"$f":"+IF(Simulador!$C$50=\"Si\",BZ$26+BY42+BY43,BZ$26+BY42+BY44)","v":161.13},{"$f":"+IF(Simulador!$C$50=\"Si\",CA$26+BZ42+BZ43,CA$26+BZ42+BZ44)","v":161.13},{"$f":"+IF(Simulador!$C$50=\"Si\",CB$26+CA42+CA43,CB$26+CA42+CA44)","v":161.13},{"$f":"+IF(Simulador!$C$50=\"Si\",CC$26+CB42+CB43,CC$26+CB42+CB44)","v":161.13},{"$f":"+IF(Simulador!$C$50=\"Si\",CD$26+CC42+CC43,CD$26+CC42+CC44)","v":161.13},{"$f":"+IF(Simulador!$C$50=\"Si\",CE$26+CD42+CD43,CE$26+CD42+CD44)","v":161.13},{"$f":"+IF(Simulador!$C$50=\"Si\",CF$26+CE42+CE43,CF$26+CE42+CE44)","v":161.13},{"$f":"+IF(Simulador!$C$50=\"Si\",CG$26+CF42+CF43,CG$26+CF42+CF44)","v":161.13},{"$f":"+IF(Simulador!$C$50=\"Si\",CH$26+CG42+CG43,CH$26+CG42+CG44)","v":161.13},{"$f":"+IF(Simulador!$C$50=\"Si\",CI$26+CH42+CH43,CI$26+CH42+CH44)","v":161.13},{"$f":"+IF(Simulador!$C$50=\"Si\",CJ$26+CI42+CI43,CJ$26+CI42+CI44)","v":161.13},{"$f":"+IF(Simulador!$C$50=\"Si\",CK$26+CJ42+CJ43,CK$26+CJ42+CJ44)","v":161.13},{"$f":"+IF(Simulador!$C$50=\"Si\",CL$26+CK42+CK43,CL$26+CK42+CK44)","v":161.13},{"$f":"+IF(Simulador!$C$50=\"Si\",CM$26+CL42+CL43,CM$26+CL42+CL44)","v":161.13},{"$f":"+IF(Simulador!$C$50=\"Si\",CN$26+CM42+CM43,CN$26+CM42+CM44)","v":161.13},{"$f":"+IF(Simulador!$C$50=\"Si\",CO$26+CN42+CN43,CO$26+CN42+CN44)","v":161.13},{"$f":"+IF(Simulador!$C$50=\"Si\",CP$26+CO42+CO43,CP$26+CO42+CO44)","v":161.13},{"$f":"+IF(Simulador!$C$50=\"Si\",CQ$26+CP42+CP43,CQ$26+CP42+CP44)","v":161.13},{"$f":"+IF(Simulador!$C$50=\"Si\",CR$26+CQ42+CQ43,CR$26+CQ42+CQ44)","v":211.13},{"$f":"+IF(Simulador!$C$50=\"Si\",CS$26+CR42+CR43,CS$26+CR42+CR44)","v":211.13},{"$f":"+IF(Simulador!$C$50=\"Si\",CT$26+CS42+CS43,CT$26+CS42+CS44)","v":211.13},{"$f":"+IF(Simulador!$C$50=\"Si\",CU$26+CT42+CT43,CU$26+CT42+CT44)","v":211.13},{"$f":"+IF(Simulador!$C$50=\"Si\",CV$26+CU42+CU43,CV$26+CU42+CU44)","v":211.13},{"$f":"+IF(Simulador!$C$50=\"Si\",CW$26+CV42+CV43,CW$26+CV42+CV44)","v":211.13},{"$f":"+IF(Simulador!$C$50=\"Si\",CX$26+CW42+CW43,CX$26+CW42+CW44)","v":211.13},{"$f":"+IF(Simulador!$C$50=\"Si\",CY$26+CX42+CX43,CY$26+CX42+CX44)","v":211.13},{"$f":"+IF(Simulador!$C$50=\"Si\",CZ$26+CY42+CY43,CZ$26+CY42+CY44)","v":211.13},{"$f":"+IF(Simulador!$C$50=\"Si\",DA$26+CZ42+CZ43,DA$26+CZ42+CZ44)","v":211.13},{"$f":"+IF(Simulador!$C$50=\"Si\",DB$26+DA42+DA43,DB$26+DA42+DA44)","v":211.13},{"$f":"+IF(Simulador!$C$50=\"Si\",DC$26+DB42+DB43,DC$26+DB42+DB44)","v":211.13},{"$f":"+IF(Simulador!$C$50=\"Si\",DD$26+DC42+DC43,DD$26+DC42+DC44)","v":211.85999999999999},{"$f":"+IF(Simulador!$C$50=\"Si\",DE$26+DD42+DD43,DE$26+DD42+DD44)","v":211.85999999999999},{"$f":"+IF(Simulador!$C$50=\"Si\",DF$26+DE42+DE43,DF$26+DE42+DE44)","v":211.85999999999999},{"$f":"+IF(Simulador!$C$50=\"Si\",DG$26+DF42+DF43,DG$26+DF42+DF44)","v":211.85999999999999},{"$f":"+IF(Simulador!$C$50=\"Si\",DH$26+DG42+DG43,DH$26+DG42+DG44)","v":211.85999999999999},{"$f":"+IF(Simulador!$C$50=\"Si\",DI$26+DH42+DH43,DI$26+DH42+DH44)","v":211.85999999999999},{"$f":"+IF(Simulador!$C$50=\"Si\",DJ$26+DI42+DI43,DJ$26+DI42+DI44)","v":211.85999999999999},{"$f":"+IF(Simulador!$C$50=\"Si\",DK$26+DJ42+DJ43,DK$26+DJ42+DJ44)","v":211.85999999999999},{"$f":"+IF(Simulador!$C$50=\"Si\",DL$26+DK42+DK43,DL$26+DK42+DK44)","v":211.85999999999999},{"$f":"+IF(Simulador!$C$50=\"Si\",DM$26+DL42+DL43,DM$26+DL42+DL44)","v":211.85999999999999},{"$f":"+IF(Simulador!$C$50=\"Si\",DN$26+DM42+DM43,DN$26+DM42+DM44)","v":211.85999999999999},{"$f":"+IF(Simulador!$C$50=\"Si\",DO$26+DN42+DN43,DO$26+DN42+DN44)","v":211.85999999999999},{"$f":"+IF(Simulador!$C$50=\"Si\",DP$26+DO42+DO43,DP$26+DO42+DO44)","v":211.85999999999999},{"$f":"+IF(Simulador!$C$50=\"Si\",DQ$26+DP42+DP43,DQ$26+DP42+DP44)","v":211.85999999999999},{"$f":"+IF(Simulador!$C$50=\"Si\",DR$26+DQ42+DQ43,DR$26+DQ42+DQ44)","v":211.85999999999999},{"$f":"+IF(Simulador!$C$50=\"Si\",DS$26+DR42+DR43,DS$26+DR42+DR44)","v":211.85999999999999},{"$f":"+IF(Simulador!$C$50=\"Si\",DT$26+DS42+DS43,DT$26+DS42+DS44)","v":211.85999999999999},{"$f":"+IF(Simulador!$C$50=\"Si\",DU$26+DT42+DT43,DU$26+DT42+DT44)","v":211.85999999999999},{"$f":"+IF(Simulador!$C$50=\"Si\",DV$26+DU42+DU43,DV$26+DU42+DU44)","v":211.85999999999999},{"$f":"+IF(Simulador!$C$50=\"Si\",DW$26+DV42+DV43,DW$26+DV42+DV44)","v":261.86},{"$f":"+IF(Simulador!$C$50=\"Si\",DX$26+DW42+DW43,DX$26+DW42+DW44)","v":261.86},{"$f":"+IF(Simulador!$C$50=\"Si\",DY$26+DX42+DX43,DY$26+DX42+DX44)","v":261.86},{"$f":"+IF(Simulador!$C$50=\"Si\",DZ$26+DY42+DY43,DZ$26+DY42+DY44)","v":261.86},{"$f":"+IF(Simulador!$C$50=\"Si\",EA$26+DZ42+DZ43,EA$26+DZ42+DZ44)","v":261.86},{"$f":"+IF(Simulador!$C$50=\"Si\",EB$26+EA42+EA43,EB$26+EA42+EA44)","v":261.86},{"$f":"+IF(Simulador!$C$50=\"Si\",EC$26+EB42+EB43,EC$26+EB42+EB44)","v":261.86},{"$f":"+IF(Simulador!$C$50=\"Si\",ED$26+EC42+EC43,ED$26+EC42+EC44)","v":261.86},{"$f":"+IF(Simulador!$C$50=\"Si\",EE$26+ED42+ED43,EE$26+ED42+ED44)","v":261.86},{"$f":"+IF(Simulador!$C$50=\"Si\",EF$26+EE42+EE43,EF$26+EE42+EE44)","v":262.78000000000003},{"$f":"+IF(Simulador!$C$50=\"Si\",EG$26+EF42+EF43,EG$26+EF42+EF44)","v":262.78000000000003},{"$f":"+IF(Simulador!$C$50=\"Si\",EH$26+EG42+EG43,EH$26+EG42+EG44)","v":262.78000000000003},{"$f":"+IF(Simulador!$C$50=\"Si\",EI$26+EH42+EH43,EI$26+EH42+EH44)","v":262.78000000000003},{"$f":"+IF(Simulador!$C$50=\"Si\",EJ$26+EI42+EI43,EJ$26+EI42+EI44)","v":262.78000000000003},{"$f":"+IF(Simulador!$C$50=\"Si\",EK$26+EJ42+EJ43,EK$26+EJ42+EJ44)","v":262.78000000000003},{"$f":"+IF(Simulador!$C$50=\"Si\",EL$26+EK42+EK43,EL$26+EK42+EK44)","v":262.78000000000003},{"$f":"+IF(Simulador!$C$50=\"Si\",EM$26+EL42+EL43,EM$26+EL42+EL44)","v":262.78000000000003},{"$f":"+IF(Simulador!$C$50=\"Si\",EN$26+EM42+EM43,EN$26+EM42+EM44)","v":262.78000000000003},{"$f":"+IF(Simulador!$C$50=\"Si\",EO$26+EN42+EN43,EO$26+EN42+EN44)","v":262.78000000000003},{"$f":"+IF(Simulador!$C$50=\"Si\",EP$26+EO42+EO43,EP$26+EO42+EO44)","v":262.78000000000003},{"$f":"+IF(Simulador!$C$50=\"Si\",EQ$26+EP42+EP43,EQ$26+EP42+EP44)","v":262.78000000000003},{"$f":"+IF(Simulador!$C$50=\"Si\",ER$26+EQ42+EQ43,ER$26+EQ42+EQ44)","v":262.78000000000003},{"$f":"+IF(Simulador!$C$50=\"Si\",ES$26+ER42+ER43,ES$26+ER42+ER44)","v":262.78000000000003},{"$f":"+IF(Simulador!$C$50=\"Si\",ET$26+ES42+ES43,ET$26+ES42+ES44)","v":262.78000000000003},{"$f":"+IF(Simulador!$C$50=\"Si\",EU$26+ET42+ET43,EU$26+ET42+ET44)","v":262.78000000000003},{"$f":"+IF(Simulador!$C$50=\"Si\",EV$26+EU42+EU43,EV$26+EU42+EU44)","v":262.78000000000003},{"$f":"+IF(Simulador!$C$50=\"Si\",EW$26+EV42+EV43,EW$26+EV42+EV44)","v":262.78000000000003},{"$f":"+IF(Simulador!$C$50=\"Si\",EX$26+EW42+EW43,EX$26+EW42+EW44)","v":262.78000000000003},{"$f":"+IF(Simulador!$C$50=\"Si\",EY$26+EX42+EX43,EY$26+EX42+EX44)","v":262.78000000000003},{"$f":"+IF(Simulador!$C$50=\"Si\",EZ$26+EY42+EY43,EZ$26+EY42+EY44)","v":262.78000000000003},{"$f":"+IF(Simulador!$C$50=\"Si\",FA$26+EZ42+EZ43,FA$26+EZ42+EZ44)","v":312.78000000000003},{"$f":"+IF(Simulador!$C$50=\"Si\",FB$26+FA42+FA43,FB$26+FA42+FA44)","v":312.78000000000003},{"$f":"+IF(Simulador!$C$50=\"Si\",FC$26+FB42+FB43,FC$26+FB42+FB44)","v":312.78000000000003},{"$f":"+IF(Simulador!$C$50=\"Si\",FD$26+FC42+FC43,FD$26+FC42+FC44)","v":312.78000000000003},{"$f":"+IF(Simulador!$C$50=\"Si\",FE$26+FD42+FD43,FE$26+FD42+FD44)","v":312.78000000000003},{"$f":"+IF(Simulador!$C$50=\"Si\",FF$26+FE42+FE43,FF$26+FE42+FE44)","v":312.78000000000003},{"$f":"+IF(Simulador!$C$50=\"Si\",FG$26+FF42+FF43,FG$26+FF42+FF44)","v":312.78000000000003},{"$f":"+IF(Simulador!$C$50=\"Si\",FH$26+FG42+FG43,FH$26+FG42+FG44)","v":312.78000000000003},{"$f":"+IF(Simulador!$C$50=\"Si\",FI$26+FH42+FH43,FI$26+FH42+FH44)","v":312.78000000000003},{"$f":"+IF(Simulador!$C$50=\"Si\",FJ$26+FI42+FI43,FJ$26+FI42+FI44)","v":312.78000000000003},{"$f":"+IF(Simulador!$C$50=\"Si\",FK$26+FJ42+FJ43,FK$26+FJ42+FJ44)","v":312.78000000000003},{"$f":"+IF(Simulador!$C$50=\"Si\",FL$26+FK42+FK43,FL$26+FK42+FK44)","v":314.06},{"$f":"+IF(Simulador!$C$50=\"Si\",FM$26+FL42+FL43,FM$26+FL42+FL44)","v":314.06},{"$f":"+IF(Simulador!$C$50=\"Si\",FN$26+FM42+FM43,FN$26+FM42+FM44)","v":314.06},{"$f":"+IF(Simulador!$C$50=\"Si\",FO$26+FN42+FN43,FO$26+FN42+FN44)","v":314.06},{"$f":"+IF(Simulador!$C$50=\"Si\",FP$26+FO42+FO43,FP$26+FO42+FO44)","v":314.06},{"$f":"+IF(Simulador!$C$50=\"Si\",FQ$26+FP42+FP43,FQ$26+FP42+FP44)","v":314.06},{"$f":"+IF(Simulador!$C$50=\"Si\",FR$26+FQ42+FQ43,FR$26+FQ42+FQ44)","v":314.06},{"$f":"+IF(Simulador!$C$50=\"Si\",FS$26+FR42+FR43,FS$26+FR42+FR44)","v":314.06},{"$f":"+IF(Simulador!$C$50=\"Si\",FT$26+FS42+FS43,FT$26+FS42+FS44)","v":314.06},{"$f":"+IF(Simulador!$C$50=\"Si\",FU$26+FT42+FT43,FU$26+FT42+FT44)","v":314.06},{"$f":"+IF(Simulador!$C$50=\"Si\",FV$26+FU42+FU43,FV$26+FU42+FU44)","v":314.06},{"$f":"+IF(Simulador!$C$50=\"Si\",FW$26+FV42+FV43,FW$26+FV42+FV44)","v":314.06},{"$f":"+IF(Simulador!$C$50=\"Si\",FX$26+FW42+FW43,FX$26+FW42+FW44)","v":314.06},{"$f":"+IF(Simulador!$C$50=\"Si\",FY$26+FX42+FX43,FY$26+FX42+FX44)","v":314.06},{"$f":"+IF(Simulador!$C$50=\"Si\",FZ$26+FY42+FY43,FZ$26+FY42+FY44)","v":314.06},{"$f":"+IF(Simulador!$C$50=\"Si\",GA$26+FZ42+FZ43,GA$26+FZ42+FZ44)","v":314.06},{"$f":"+IF(Simulador!$C$50=\"Si\",GB$26+GA42+GA43,GB$26+GA42+GA44)","v":314.06},{"$f":"+IF(Simulador!$C$50=\"Si\",GC$26+GB42+GB43,GC$26+GB42+GB44)","v":314.06},{"$f":"+IF(Simulador!$C$50=\"Si\",GD$26+GC42+GC43,GD$26+GC42+GC44)","v":314.06},{"$f":"+IF(Simulador!$C$50=\"Si\",GE$26+GD42+GD43,GE$26+GD42+GD44)","v":314.06},{"$f":"+IF(Simulador!$C$50=\"Si\",GF$26+GE42+GE43,GF$26+GE42+GE44)","v":364.06},{"$f":"+IF(Simulador!$C$50=\"Si\",GG$26+GF42+GF43,GG$26+GF42+GF44)","v":364.06},{"$f":"+IF(Simulador!$C$50=\"Si\",GH$26+GG42+GG43,GH$26+GG42+GG44)","v":364.06},{"$f":"+IF(Simulador!$C$50=\"Si\",GI$26+GH42+GH43,GI$26+GH42+GH44)","v":364.06},{"$f":"+IF(Simulador!$C$50=\"Si\",GJ$26+GI42+GI43,GJ$26+GI42+GI44)","v":364.06},{"$f":"+IF(Simulador!$C$50=\"Si\",GK$26+GJ42+GJ43,GK$26+GJ42+GJ44)","v":364.06},{"$f":"+IF(Simulador!$C$50=\"Si\",GL$26+GK42+GK43,GL$26+GK42+GK44)","v":364.06},{"$f":"+IF(Simulador!$C$50=\"Si\",GM$26+GL42+GL43,GM$26+GL42+GL44)","v":364.06},{"$f":"+IF(Simulador!$C$50=\"Si\",GN$26+GM42+GM43,GN$26+GM42+GM44)","v":364.06},{"$f":"+IF(Simulador!$C$50=\"Si\",GO$26+GN42+GN43,GO$26+GN42+GN44)","v":364.06},{"$f":"+IF(Simulador!$C$50=\"Si\",GP$26+GO42+GO43,GP$26+GO42+GO44)","v":364.06},{"$f":"+IF(Simulador!$C$50=\"Si\",GQ$26+GP42+GP43,GQ$26+GP42+GP44)","v":365.4},{"$f":"+IF(Simulador!$C$50=\"Si\",GR$26+GQ42+GQ43,GR$26+GQ42+GQ44)","v":365.4},{"$f":"+IF(Simulador!$C$50=\"Si\",GS$26+GR42+GR43,GS$26+GR42+GR44)","v":365.4},{"$f":"+IF(Simulador!$C$50=\"Si\",GT$26+GS42+GS43,GT$26+GS42+GS44)","v":365.4},{"$f":"+IF(Simulador!$C$50=\"Si\",GU$26+GT42+GT43,GU$26+GT42+GT44)","v":365.4},{"$f":"+IF(Simulador!$C$50=\"Si\",GV$26+GU42+GU43,GV$26+GU42+GU44)","v":365.4},{"$f":"+IF(Simulador!$C$50=\"Si\",GW$26+GV42+GV43,GW$26+GV42+GV44)","v":365.4},{"$f":"+IF(Simulador!$C$50=\"Si\",GX$26+GW42+GW43,GX$26+GW42+GW44)","v":365.4},{"$f":"+IF(Simulador!$C$50=\"Si\",GY$26+GX42+GX43,GY$26+GX42+GX44)","v":365.4},{"$f":"+IF(Simulador!$C$50=\"Si\",GZ$26+GY42+GY43,GZ$26+GY42+GY44)","v":365.4},{"$f":"+IF(Simulador!$C$50=\"Si\",HA$26+GZ42+GZ43,HA$26+GZ42+GZ44)","v":365.4},{"$f":"+IF(Simulador!$C$50=\"Si\",HB$26+HA42+HA43,HB$26+HA42+HA44)","v":365.4},{"$f":"+IF(Simulador!$C$50=\"Si\",HC$26+HB42+HB43,HC$26+HB42+HB44)","v":365.4},{"$f":"+IF(Simulador!$C$50=\"Si\",HD$26+HC42+HC43,HD$26+HC42+HC44)","v":365.4},{"$f":"+IF(Simulador!$C$50=\"Si\",HE$26+HD42+HD43,HE$26+HD42+HD44)","v":365.4},{"$f":"+IF(Simulador!$C$50=\"Si\",HF$26+HE42+HE43,HF$26+HE42+HE44)","v":365.4},{"$f":"+IF(Simulador!$C$50=\"Si\",HG$26+HF42+HF43,HG$26+HF42+HF44)","v":365.4},{"$f":"+IF(Simulador!$C$50=\"Si\",HH$26+HG42+HG43,HH$26+HG42+HG44)","v":365.4},{"$f":"+IF(Simulador!$C$50=\"Si\",HI$26+HH42+HH43,HI$26+HH42+HH44)","v":365.4},{"$f":"+IF(Simulador!$C$50=\"Si\",HJ$26+HI42+HI43,HJ$26+HI42+HI44)","v":365.4},{"$f":"+IF(Simulador!$C$50=\"Si\",HK$26+HJ42+HJ43,HK$26+HJ42+HJ44)","v":415.4},{"$f":"+IF(Simulador!$C$50=\"Si\",HL$26+HK42+HK43,HL$26+HK42+HK44)","v":415.4},{"$f":"+IF(Simulador!$C$50=\"Si\",HM$26+HL42+HL43,HM$26+HL42+HL44)","v":415.4},{"$f":"+IF(Simulador!$C$50=\"Si\",HN$26+HM42+HM43,HN$26+HM42+HM44)","v":415.4},{"$f":"+IF(Simulador!$C$50=\"Si\",HO$26+HN42+HN43,HO$26+HN42+HN44)","v":415.4},{"$f":"+IF(Simulador!$C$50=\"Si\",HP$26+HO42+HO43,HP$26+HO42+HO44)","v":415.4},{"$f":"+IF(Simulador!$C$50=\"Si\",HQ$26+HP42+HP43,HQ$26+HP42+HP44)","v":415.4},{"$f":"+IF(Simulador!$C$50=\"Si\",HR$26+HQ42+HQ43,HR$26+HQ42+HQ44)","v":415.4},{"$f":"+IF(Simulador!$C$50=\"Si\",HS$26+HR42+HR43,HS$26+HR42+HR44)","v":416.87},{"$f":"+IF(Simulador!$C$50=\"Si\",HT$26+HS42+HS43,HT$26+HS42+HS44)","v":416.87},{"$f":"+IF(Simulador!$C$50=\"Si\",HU$26+HT42+HT43,HU$26+HT42+HT44)","v":416.87},{"$f":"+IF(Simulador!$C$50=\"Si\",HV$26+HU42+HU43,HV$26+HU42+HU44)","v":416.87},{"$f":"+IF(Simulador!$C$50=\"Si\",HW$26+HV42+HV43,HW$26+HV42+HV44)","v":416.87},{"$f":"+IF(Simulador!$C$50=\"Si\",HX$26+HW42+HW43,HX$26+HW42+HW44)","v":416.87},{"$f":"+IF(Simulador!$C$50=\"Si\",HY$26+HX42+HX43,HY$26+HX42+HX44)","v":416.87},{"$f":"+IF(Simulador!$C$50=\"Si\",HZ$26+HY42+HY43,HZ$26+HY42+HY44)","v":416.87},{"$f":"+IF(Simulador!$C$50=\"Si\",IA$26+HZ42+HZ43,IA$26+HZ42+HZ44)","v":416.87},{"$f":"+IF(Simulador!$C$50=\"Si\",IB$26+IA42+IA43,IB$26+IA42+IA44)","v":416.87},{"$f":"+IF(Simulador!$C$50=\"Si\",IC$26+IB42+IB43,IC$26+IB42+IB44)","v":416.87},{"$f":"+IF(Simulador!$C$50=\"Si\",ID$26+IC42+IC43,ID$26+IC42+IC44)","v":416.87},{"$f":"+IF(Simulador!$C$50=\"Si\",IE$26+ID42+ID43,IE$26+ID42+ID44)","v":416.87},{"$f":"+IF(Simulador!$C$50=\"Si\",IF$26+IE42+IE43,IF$26+IE42+IE44)","v":416.87},{"$f":"+IF(Simulador!$C$50=\"Si\",IG$26+IF42+IF43,IG$26+IF42+IF44)","v":416.87},{"$f":"+IF(Simulador!$C$50=\"Si\",IH$26+IG42+IG43,IH$26+IG42+IG44)","v":416.87},{"$f":"+IF(Simulador!$C$50=\"Si\",II$26+IH42+IH43,II$26+IH42+IH44)","v":416.87},{"$f":"+IF(Simulador!$C$50=\"Si\",IJ$26+II42+II43,IJ$26+II42+II44)","v":416.87},{"$f":"+IF(Simulador!$C$50=\"Si\",IK$26+IJ42+IJ43,IK$26+IJ42+IJ44)","v":416.87},{"$f":"+IF(Simulador!$C$50=\"Si\",IL$26+IK42+IK43,IL$26+IK42+IK44)","v":416.87},{"$f":"+IF(Simulador!$C$50=\"Si\",IM$26+IL42+IL43,IM$26+IL42+IL44)","v":466.87},{"$f":"+IF(Simulador!$C$50=\"Si\",IN$26+IM42+IM43,IN$26+IM42+IM44)","v":466.87},{"$f":"+IF(Simulador!$C$50=\"Si\",IO$26+IN42+IN43,IO$26+IN42+IN44)","v":466.87},{"$f":"+IF(Simulador!$C$50=\"Si\",IP$26+IO42+IO43,IP$26+IO42+IO44)","v":466.87},{"$f":"+IF(Simulador!$C$50=\"Si\",IQ$26+IP42+IP43,IQ$26+IP42+IP44)","v":466.87},{"$f":"+IF(Simulador!$C$50=\"Si\",IR$26+IQ42+IQ43,IR$26+IQ42+IQ44)","v":466.87},{"$f":"+IF(Simulador!$C$50=\"Si\",IS$26+IR42+IR43,IS$26+IR42+IR44)","v":466.87},{"$f":"+IF(Simulador!$C$50=\"Si\",IT$26+IS42+IS43,IT$26+IS42+IS44)","v":466.87},{"$f":"+IF(Simulador!$C$50=\"Si\",IU$26+IT42+IT43,IU$26+IT42+IT44)","v":466.87},{"$f":"+IF(Simulador!$C$50=\"Si\",IV$26+IU42+IU43,IV$26+IU42+IU44)","v":466.87},{"$f":"+IF(Simulador!$C$50=\"Si\",IW$26+IV42+IV43,IW$26+IV42+IV44)","v":466.87},{"$f":"+IF(Simulador!$C$50=\"Si\",IX$26+IW42+IW43,IX$26+IW42+IW44)","v":466.87},{"$f":"+IF(Simulador!$C$50=\"Si\",IY$26+IX42+IX43,IY$26+IX42+IX44)","v":468.79},{"$f":"+IF(Simulador!$C$50=\"Si\",IZ$26+IY42+IY43,IZ$26+IY42+IY44)","v":468.79},{"$f":"+IF(Simulador!$C$50=\"Si\",JA$26+IZ42+IZ43,JA$26+IZ42+IZ44)","v":468.79},{"$f":"+IF(Simulador!$C$50=\"Si\",JB$26+JA42+JA43,JB$26+JA42+JA44)","v":468.79},{"$f":"+IF(Simulador!$C$50=\"Si\",JC$26+JB42+JB43,JC$26+JB42+JB44)","v":468.79},{"$f":"+IF(Simulador!$C$50=\"Si\",JD$26+JC42+JC43,JD$26+JC42+JC44)","v":468.79},{"$f":"+IF(Simulador!$C$50=\"Si\",JE$26+JD42+JD43,JE$26+JD42+JD44)","v":468.79},{"$f":"+IF(Simulador!$C$50=\"Si\",JF$26+JE42+JE43,JF$26+JE42+JE44)","v":468.79},{"$f":"+IF(Simulador!$C$50=\"Si\",JG$26+JF42+JF43,JG$26+JF42+JF44)","v":468.79},{"$f":"+IF(Simulador!$C$50=\"Si\",JH$26+JG42+JG43,JH$26+JG42+JG44)","v":468.79},{"$f":"+IF(Simulador!$C$50=\"Si\",JI$26+JH42+JH43,JI$26+JH42+JH44)","v":468.79},{"$f":"+IF(Simulador!$C$50=\"Si\",JJ$26+JI42+JI43,JJ$26+JI42+JI44)","v":468.79},{"$f":"+IF(Simulador!$C$50=\"Si\",JK$26+JJ42+JJ43,JK$26+JJ42+JJ44)","v":468.79},{"$f":"+IF(Simulador!$C$50=\"Si\",JL$26+JK42+JK43,JL$26+JK42+JK44)","v":468.79},{"$f":"+IF(Simulador!$C$50=\"Si\",JM$26+JL42+JL43,JM$26+JL42+JL44)","v":468.79},{"$f":"+IF(Simulador!$C$50=\"Si\",JN$26+JM42+JM43,JN$26+JM42+JM44)","v":468.79},{"$f":"+IF(Simulador!$C$50=\"Si\",JO$26+JN42+JN43,JO$26+JN42+JN44)","v":468.79},{"$f":"+IF(Simulador!$C$50=\"Si\",JP$26+JO42+JO43,JP$26+JO42+JO44)","v":468.79},{"$f":"+IF(Simulador!$C$50=\"Si\",JQ$26+JP42+JP43,JQ$26+JP42+JP44)","v":468.79},{"$f":"+IF(Simulador!$C$50=\"Si\",JR$26+JQ42+JQ43,JR$26+JQ42+JQ44)","v":518.79},{"$f":"+IF(Simulador!$C$50=\"Si\",JS$26+JR42+JR43,JS$26+JR42+JR44)","v":518.79},{"$f":"+IF(Simulador!$C$50=\"Si\",JT$26+JS42+JS43,JT$26+JS42+JS44)","v":518.79},{"$f":"+IF(Simulador!$C$50=\"Si\",JU$26+JT42+JT43,JU$26+JT42+JT44)","v":518.79},{"$f":"+IF(Simulador!$C$50=\"Si\",JV$26+JU42+JU43,JV$26+JU42+JU44)","v":518.79},{"$f":"+IF(Simulador!$C$50=\"Si\",JW$26+JV42+JV43,JW$26+JV42+JV44)","v":518.79},{"$f":"+IF(Simulador!$C$50=\"Si\",JX$26+JW42+JW43,JX$26+JW42+JW44)","v":518.79},{"$f":"+IF(Simulador!$C$50=\"Si\",JY$26+JX42+JX43,JY$26+JX42+JX44)","v":518.79},{"$f":"+IF(Simulador!$C$50=\"Si\",JZ$26+JY42+JY43,JZ$26+JY42+JY44)","v":518.79},{"$f":"+IF(Simulador!$C$50=\"Si\",KA$26+JZ42+JZ43,KA$26+JZ42+JZ44)","v":518.79},{"$f":"+IF(Simulador!$C$50=\"Si\",KB$26+KA42+KA43,KB$26+KA42+KA44)","v":518.79},{"$f":"+IF(Simulador!$C$50=\"Si\",KC$26+KB42+KB43,KC$26+KB42+KB44)","v":520.89},{"$f":"+IF(Simulador!$C$50=\"Si\",KD$26+KC42+KC43,KD$26+KC42+KC44)","v":520.89},{"$f":"+IF(Simulador!$C$50=\"Si\",KE$26+KD42+KD43,KE$26+KD42+KD44)","v":520.89},{"$f":"+IF(Simulador!$C$50=\"Si\",KF$26+KE42+KE43,KF$26+KE42+KE44)","v":520.89},{"$f":"+IF(Simulador!$C$50=\"Si\",KG$26+KF42+KF43,KG$26+KF42+KF44)","v":520.89},{"$f":"+IF(Simulador!$C$50=\"Si\",KH$26+KG42+KG43,KH$26+KG42+KG44)","v":520.89},{"$f":"+IF(Simulador!$C$50=\"Si\",KI$26+KH42+KH43,KI$26+KH42+KH44)","v":520.89},{"$f":"+IF(Simulador!$C$50=\"Si\",KJ$26+KI42+KI43,KJ$26+KI42+KI44)","v":520.89},{"$f":"+IF(Simulador!$C$50=\"Si\",KK$26+KJ42+KJ43,KK$26+KJ42+KJ44)","v":520.89},{"$f":"+IF(Simulador!$C$50=\"Si\",KL$26+KK42+KK43,KL$26+KK42+KK44)","v":520.89},{"$f":"+IF(Simulador!$C$50=\"Si\",KM$26+KL42+KL43,KM$26+KL42+KL44)","v":520.89},{"$f":"+IF(Simulador!$C$50=\"Si\",KN$26+KM42+KM43,KN$26+KM42+KM44)","v":520.89},{"$f":"+IF(Simulador!$C$50=\"Si\",KO$26+KN42+KN43,KO$26+KN42+KN44)","v":520.89},{"$f":"+IF(Simulador!$C$50=\"Si\",KP$26+KO42+KO43,KP$26+KO42+KO44)","v":520.89},{"$f":"+IF(Simulador!$C$50=\"Si\",KQ$26+KP42+KP43,KQ$26+KP42+KP44)","v":520.89},{"$f":"+IF(Simulador!$C$50=\"Si\",KR$26+KQ42+KQ43,KR$26+KQ42+KQ44)","v":520.89},{"$f":"+IF(Simulador!$C$50=\"Si\",KS$26+KR42+KR43,KS$26+KR42+KR44)","v":520.89},{"$f":"+IF(Simulador!$C$50=\"Si\",KT$26+KS42+KS43,KT$26+KS42+KS44)","v":520.89},{"$f":"+IF(Simulador!$C$50=\"Si\",KU$26+KT42+KT43,KU$26+KT42+KT44)","v":520.89},{"$f":"+IF(Simulador!$C$50=\"Si\",KV$26+KU42+KU43,KV$26+KU42+KU44)","v":570.89},{"$f":"+IF(Simulador!$C$50=\"Si\",KW$26+KV42+KV43,KW$26+KV42+KV44)","v":570.89},{"$f":"+IF(Simulador!$C$50=\"Si\",KX$26+KW42+KW43,KX$26+KW42+KW44)","v":570.89},{"$f":"+IF(Simulador!$C$50=\"Si\",KY$26+KX42+KX43,KY$26+KX42+KX44)","v":570.89},{"$f":"+IF(Simulador!$C$50=\"Si\",KZ$26+KY42+KY43,KZ$26+KY42+KY44)","v":570.89},{"$f":"+IF(Simulador!$C$50=\"Si\",LA$26+KZ42+KZ43,LA$26+KZ42+KZ44)","v":570.89},{"$f":"+IF(Simulador!$C$50=\"Si\",LB$26+LA42+LA43,LB$26+LA42+LA44)","v":570.89},{"$f":"+IF(Simulador!$C$50=\"Si\",LC$26+LB42+LB43,LC$26+LB42+LB44)","v":570.89},{"$f":"+IF(Simulador!$C$50=\"Si\",LD$26+LC42+LC43,LD$26+LC42+LC44)","v":570.89},{"$f":"+IF(Simulador!$C$50=\"Si\",LE$26+LD42+LD43,LE$26+LD42+LD44)","v":570.89},{"$f":"+IF(Simulador!$C$50=\"Si\",LF$26+LE42+LE43,LF$26+LE42+LE44)","v":573.01},{"$f":"+IF(Simulador!$C$50=\"Si\",LG$26+LF42+LF43,LG$26+LF42+LF44)","v":573.01},{"$f":"+IF(Simulador!$C$50=\"Si\",LH$26+LG42+LG43,LH$26+LG42+LG44)","v":573.01},{"$f":"+IF(Simulador!$C$50=\"Si\",LI$26+LH42+LH43,LI$26+LH42+LH44)","v":573.01},{"$f":"+IF(Simulador!$C$50=\"Si\",LJ$26+LI42+LI43,LJ$26+LI42+LI44)","v":573.01},{"$f":"+IF(Simulador!$C$50=\"Si\",LK$26+LJ42+LJ43,LK$26+LJ42+LJ44)","v":573.01},{"$f":"+IF(Simulador!$C$50=\"Si\",LL$26+LK42+LK43,LL$26+LK42+LK44)","v":573.01},{"$f":"+IF(Simulador!$C$50=\"Si\",LM$26+LL42+LL43,LM$26+LL42+LL44)","v":573.01},{"$f":"+IF(Simulador!$C$50=\"Si\",LN$26+LM42+LM43,LN$26+LM42+LM44)","v":573.01},{"$f":"+IF(Simulador!$C$50=\"Si\",LO$26+LN42+LN43,LO$26+LN42+LN44)","v":573.01},{"$f":"+IF(Simulador!$C$50=\"Si\",LP$26+LO42+LO43,LP$26+LO42+LO44)","v":573.01},{"$f":"+IF(Simulador!$C$50=\"Si\",LQ$26+LP42+LP43,LQ$26+LP42+LP44)","v":573.01},{"$f":"+IF(Simulador!$C$50=\"Si\",LR$26+LQ42+LQ43,LR$26+LQ42+LQ44)","v":573.01},{"$f":"+IF(Simulador!$C$50=\"Si\",LS$26+LR42+LR43,LS$26+LR42+LR44)","v":573.01},{"$f":"+IF(Simulador!$C$50=\"Si\",LT$26+LS42+LS43,LT$26+LS42+LS44)","v":573.01},{"$f":"+IF(Simulador!$C$50=\"Si\",LU$26+LT42+LT43,LU$26+LT42+LT44)","v":573.01},{"$f":"+IF(Simulador!$C$50=\"Si\",LV$26+LU42+LU43,LV$26+LU42+LU44)","v":573.01},{"$f":"+IF(Simulador!$C$50=\"Si\",LW$26+LV42+LV43,LW$26+LV42+LV44)","v":573.01},{"$f":"+IF(Simulador!$C$50=\"Si\",LX$26+LW42+LW43,LX$26+LW42+LW44)","v":573.01},{"$f":"+IF(Simulador!$C$50=\"Si\",LY$26+LX42+LX43,LY$26+LX42+LX44)","v":573.01},{"$f":"+IF(Simulador!$C$50=\"Si\",LZ$26+LY42+LY43,LZ$26+LY42+LY44)","v":573.01},{"$f":"+IF(Simulador!$C$50=\"Si\",MA$26+LZ42+LZ43,MA$26+LZ42+LZ44)","v":623.01},{"$f":"+IF(Simulador!$C$50=\"Si\",MB$26+MA42+MA43,MB$26+MA42+MA44)","v":623.01},{"$f":"+IF(Simulador!$C$50=\"Si\",MC$26+MB42+MB43,MC$26+MB42+MB44)","v":623.01},{"$f":"+IF(Simulador!$C$50=\"Si\",MD$26+MC42+MC43,MD$26+MC42+MC44)","v":623.01},{"$f":"+IF(Simulador!$C$50=\"Si\",ME$26+MD42+MD43,ME$26+MD42+MD44)","v":623.01},{"$f":"+IF(Simulador!$C$50=\"Si\",MF$26+ME42+ME43,MF$26+ME42+ME44)","v":623.01},{"$f":"+IF(Simulador!$C$50=\"Si\",MG$26+MF42+MF43,MG$26+MF42+MF44)","v":623.01},{"$f":"+IF(Simulador!$C$50=\"Si\",MH$26+MG42+MG43,MH$26+MG42+MG44)","v":623.01},{"$f":"+IF(Simulador!$C$50=\"Si\",MI$26+MH42+MH43,MI$26+MH42+MH44)","v":623.01},{"$f":"+IF(Simulador!$C$50=\"Si\",MJ$26+MI42+MI43,MJ$26+MI42+MI44)","v":623.01},{"$f":"+IF(Simulador!$C$50=\"Si\",MK$26+MJ42+MJ43,MK$26+MJ42+MJ44)","v":623.01},{"$f":"+IF(Simulador!$C$50=\"Si\",ML$26+MK42+MK43,ML$26+MK42+MK44)","v":625.66999999999996},{"$f":"+IF(Simulador!$C$50=\"Si\",MM$26+ML42+ML43,MM$26+ML42+ML44)","v":625.66999999999996},{"$f":"+IF(Simulador!$C$50=\"Si\",MN$26+MM42+MM43,MN$26+MM42+MM44)","v":625.66999999999996},{"$f":"+IF(Simulador!$C$50=\"Si\",MO$26+MN42+MN43,MO$26+MN42+MN44)","v":625.66999999999996},{"$f":"+IF(Simulador!$C$50=\"Si\",MP$26+MO42+MO43,MP$26+MO42+MO44)","v":625.66999999999996},{"$f":"+IF(Simulador!$C$50=\"Si\",MQ$26+MP42+MP43,MQ$26+MP42+MP44)","v":625.66999999999996},{"$f":"+IF(Simulador!$C$50=\"Si\",MR$26+MQ42+MQ43,MR$26+MQ42+MQ44)","v":625.66999999999996},{"$f":"+IF(Simulador!$C$50=\"Si\",MS$26+MR42+MR43,MS$26+MR42+MR44)","v":625.66999999999996},{"$f":"+IF(Simulador!$C$50=\"Si\",MT$26+MS42+MS43,MT$26+MS42+MS44)","v":625.66999999999996},{"$f":"+IF(Simulador!$C$50=\"Si\",MU$26+MT42+MT43,MU$26+MT42+MT44)","v":625.66999999999996},{"$f":"+IF(Simulador!$C$50=\"Si\",MV$26+MU42+MU43,MV$26+MU42+MU44)","v":625.66999999999996},{"$f":"+IF(Simulador!$C$50=\"Si\",MW$26+MV42+MV43,MW$26+MV42+MV44)","v":625.66999999999996},{"$f":"+IF(Simulador!$C$50=\"Si\",MX$26+MW42+MW43,MX$26+MW42+MW44)","v":625.66999999999996},{"$f":"+IF(Simulador!$C$50=\"Si\",MY$26+MX42+MX43,MY$26+MX42+MX44)","v":625.66999999999996},{"$f":"+IF(Simulador!$C$50=\"Si\",MZ$26+MY42+MY43,MZ$26+MY42+MY44)","v":625.66999999999996},{"$f":"+IF(Simulador!$C$50=\"Si\",NA$26+MZ42+MZ43,NA$26+MZ42+MZ44)","v":625.66999999999996},{"$f":"+IF(Simulador!$C$50=\"Si\",NB$26+NA42+NA43,NB$26+NA42+NA44)","v":625.66999999999996},{"$f":"+IF(Simulador!$C$50=\"Si\",NC$26+NB42+NB43,NC$26+NB42+NB44)","v":625.66999999999996},{"$f":"+IF(Simulador!$C$50=\"Si\",ND$26+NC42+NC43,ND$26+NC42+NC44)","v":625.66999999999996},{"$f":"+IF(Simulador!$C$50=\"Si\",NE$26+ND42+ND43,NE$26+ND42+ND44)","v":675.67},{"$f":"+IF(Simulador!$C$50=\"Si\",NF$26+NE42+NE43,NF$26+NE42+NE44)","v":675.67},{"$f":"+IF(Simulador!$C$50=\"Si\",NG$26+NF42+NF43,NG$26+NF42+NF44)","v":675.67},{"$f":"+IF(Simulador!$C$50=\"Si\",NH$26+NG42+NG43,NH$26+NG42+NG44)","v":675.67},{"$f":"+IF(Simulador!$C$50=\"Si\",NI$26+NH42+NH43,NI$26+NH42+NH44)","v":675.67},{"$f":"+IF(Simulador!$C$50=\"Si\",NJ$26+NI42+NI43,NJ$26+NI42+NI44)","v":675.67},{"$f":"+IF(Simulador!$C$50=\"Si\",NK$26+NJ42+NJ43,NK$26+NJ42+NJ44)","v":675.67},{"$f":"+IF(Simulador!$C$50=\"Si\",NL$26+NK42+NK43,NL$26+NK42+NK44)","v":675.67},{"$f":"+IF(Simulador!$C$50=\"Si\",NM$26+NL42+NL43,NM$26+NL42+NL44)","v":675.67},{"$f":"+IF(Simulador!$C$50=\"Si\",NN$26+NM42+NM43,NN$26+NM42+NM44)","v":675.67},{"$f":"+IF(Simulador!$C$50=\"Si\",NO$26+NN42+NN43,NO$26+NN42+NN44)","v":675.67},{"$f":"+IF(Simulador!$C$50=\"Si\",NP$26+NO42+NO43,NP$26+NO42+NO44)","v":675.67},{"$f":"+IF(Simulador!$C$50=\"Si\",NQ$26+NP42+NP43,NQ$26+NP42+NP44)","v":678.45999999999992},{"$f":"+IF(Simulador!$C$50=\"Si\",NR$26+NQ42+NQ43,NR$26+NQ42+NQ44)","v":678.45999999999992},{"$f":"+IF(Simulador!$C$50=\"Si\",NS$26+NR42+NR43,NS$26+NR42+NR44)","v":678.45999999999992},{"$f":"+IF(Simulador!$C$50=\"Si\",NT$26+NS42+NS43,NT$26+NS42+NS44)","v":678.45999999999992},{"$f":"+IF(Simulador!$C$50=\"Si\",NU$26+NT42+NT43,NU$26+NT42+NT44)","v":678.45999999999992},{"$f":"+IF(Simulador!$C$50=\"Si\",NV$26+NU42+NU43,NV$26+NU42+NU44)","v":678.45999999999992},{"$f":"+IF(Simulador!$C$50=\"Si\",NW$26+NV42+NV43,NW$26+NV42+NV44)","v":678.45999999999992},{"$f":"+IF(Simulador!$C$50=\"Si\",NX$26+NW42+NW43,NX$26+NW42+NW44)","v":678.45999999999992},{"$f":"+IF(Simulador!$C$50=\"Si\",NY$26+NX42+NX43,NY$26+NX42+NX44)","v":678.45999999999992},{"$f":"+IF(Simulador!$C$50=\"Si\",NZ$26+NY42+NY43,NZ$26+NY42+NY44)","v":678.45999999999992},{"$f":"+IF(Simulador!$C$50=\"Si\",OA$26+NZ42+NZ43,OA$26+NZ42+NZ44)","v":678.45999999999992},{"$f":"+IF(Simulador!$C$50=\"Si\",OB$26+OA42+OA43,OB$26+OA42+OA44)","v":678.45999999999992},{"$f":"+IF(Simulador!$C$50=\"Si\",OC$26+OB42+OB43,OC$26+OB42+OB44)","v":678.45999999999992},{"$f":"+IF(Simulador!$C$50=\"Si\",OD$26+OC42+OC43,OD$26+OC42+OC44)","v":678.45999999999992},{"$f":"+IF(Simulador!$C$50=\"Si\",OE$26+OD42+OD43,OE$26+OD42+OD44)","v":678.45999999999992},{"$f":"+IF(Simulador!$C$50=\"Si\",OF$26+OE42+OE43,OF$26+OE42+OE44)","v":678.45999999999992},{"$f":"+IF(Simulador!$C$50=\"Si\",OG$26+OF42+OF43,OG$26+OF42+OF44)","v":678.45999999999992},{"$f":"+IF(Simulador!$C$50=\"Si\",OH$26+OG42+OG43,OH$26+OG42+OG44)","v":678.45999999999992},{"$f":"+IF(Simulador!$C$50=\"Si\",OI$26+OH42+OH43,OI$26+OH42+OH44)","v":678.45999999999992},{"$f":"+IF(Simulador!$C$50=\"Si\",OJ$26+OI42+OI43,OJ$26+OI42+OI44)","v":728.45999999999992},{"$f":"+IF(Simulador!$C$50=\"Si\",OK$26+OJ42+OJ43,OK$26+OJ42+OJ44)","v":728.45999999999992},{"$f":"+IF(Simulador!$C$50=\"Si\",OL$26+OK42+OK43,OL$26+OK42+OK44)","v":728.45999999999992},{"$f":"+IF(Simulador!$C$50=\"Si\",OM$26+OL42+OL43,OM$26+OL42+OL44)","v":728.45999999999992},{"$f":"+IF(Simulador!$C$50=\"Si\",ON$26+OM42+OM43,ON$26+OM42+OM44)","v":728.45999999999992},{"$f":"+IF(Simulador!$C$50=\"Si\",OO$26+ON42+ON43,OO$26+ON42+ON44)","v":728.45999999999992},{"$f":"+IF(Simulador!$C$50=\"Si\",OP$26+OO42+OO43,OP$26+OO42+OO44)","v":728.45999999999992},{"$f":"+IF(Simulador!$C$50=\"Si\",OQ$26+OP42+OP43,OQ$26+OP42+OP44)","v":728.45999999999992},{"$f":"+IF(Simulador!$C$50=\"Si\",OR$26+OQ42+OQ43,OR$26+OQ42+OQ44)","v":728.45999999999992},{"$f":"+IF(Simulador!$C$50=\"Si\",OS$26+OR42+OR43,OS$26+OR42+OR44)","v":728.45999999999992},{"$f":"+IF(Simulador!$C$50=\"Si\",OT$26+OS42+OS43,OT$26+OS42+OS44)","v":728.45999999999992},{"$f":"+IF(Simulador!$C$50=\"Si\",OU$26+OT42+OT43,OU$26+OT42+OT44)","v":728.45999999999992},{"$f":"+IF(Simulador!$C$50=\"Si\",OV$26+OU42+OU43,OV$26+OU42+OU44)","v":731.3599999999999},{"$f":"+IF(Simulador!$C$50=\"Si\",OW$26+OV42+OV43,OW$26+OV42+OV44)","v":731.3599999999999},{"$f":"+IF(Simulador!$C$50=\"Si\",OX$26+OW42+OW43,OX$26+OW42+OW44)","v":731.3599999999999},{"$f":"+IF(Simulador!$C$50=\"Si\",OY$26+OX42+OX43,OY$26+OX42+OX44)","v":731.3599999999999},{"$f":"+IF(Simulador!$C$50=\"Si\",OZ$26+OY42+OY43,OZ$26+OY42+OY44)","v":731.3599999999999},{"$f":"+IF(Simulador!$C$50=\"Si\",PA$26+OZ42+OZ43,PA$26+OZ42+OZ44)","v":731.3599999999999},{"$f":"+IF(Simulador!$C$50=\"Si\",PB$26+PA42+PA43,PB$26+PA42+PA44)","v":731.3599999999999},{"$f":"+IF(Simulador!$C$50=\"Si\",PC$26+PB42+PB43,PC$26+PB42+PB44)","v":731.3599999999999},{"$f":"+IF(Simulador!$C$50=\"Si\",PD$26+PC42+PC43,PD$26+PC42+PC44)","v":731.3599999999999},{"$f":"+IF(Simulador!$C$50=\"Si\",PE$26+PD42+PD43,PE$26+PD42+PD44)","v":731.3599999999999},{"$f":"+IF(Simulador!$C$50=\"Si\",PF$26+PE42+PE43,PF$26+PE42+PE44)","v":731.3599999999999},{"$f":"+IF(Simulador!$C$50=\"Si\",PG$26+PF42+PF43,PG$26+PF42+PF44)","v":731.3599999999999},{"$f":"+IF(Simulador!$C$50=\"Si\",PH$26+PG42+PG43,PH$26+PG42+PG44)","v":731.3599999999999},{"$f":"+IF(Simulador!$C$50=\"Si\",PI$26+PH42+PH43,PI$26+PH42+PH44)","v":731.3599999999999},{"$f":"+IF(Simulador!$C$50=\"Si\",PJ$26+PI42+PI43,PJ$26+PI42+PI44)","v":731.3599999999999},{"$f":"+IF(Simulador!$C$50=\"Si\",PK$26+PJ42+PJ43,PK$26+PJ42+PJ44)","v":731.3599999999999},{"$f":"+IF(Simulador!$C$50=\"Si\",PL$26+PK42+PK43,PL$26+PK42+PK44)","v":731.3599999999999},{"$f":"+IF(Simulador!$C$50=\"Si\",PM$26+PL42+PL43,PM$26+PL42+PL44)","v":731.3599999999999},{"$f":"+IF(Simulador!$C$50=\"Si\",PN$26+PM42+PM43,PN$26+PM42+PM44)","v":731.3599999999999},{"$f":"+IF(Simulador!$C$50=\"Si\",PO$26+PN42+PN43,PO$26+PN42+PN44)","v":781.3599999999999},{"$f":"+IF(Simulador!$C$50=\"Si\",PP$26+PO42+PO43,PP$26+PO42+PO44)","v":781.3599999999999},{"$f":"+IF(Simulador!$C$50=\"Si\",PQ$26+PP42+PP43,PQ$26+PP42+PP44)","v":781.3599999999999},{"$f":"+IF(Simulador!$C$50=\"Si\",PR$26+PQ42+PQ43,PR$26+PQ42+PQ44)","v":781.3599999999999},{"$f":"+IF(Simulador!$C$50=\"Si\",PS$26+PR42+PR43,PS$26+PR42+PR44)","v":781.3599999999999},{"$f":"+IF(Simulador!$C$50=\"Si\",PT$26+PS42+PS43,PT$26+PS42+PS44)","v":781.3599999999999},{"$f":"+IF(Simulador!$C$50=\"Si\",PU$26+PT42+PT43,PU$26+PT42+PT44)","v":781.3599999999999},{"$f":"+IF(Simulador!$C$50=\"Si\",PV$26+PU42+PU43,PV$26+PU42+PU44)","v":781.3599999999999},{"$f":"+IF(Simulador!$C$50=\"Si\",PW$26+PV42+PV43,PW$26+PV42+PV44)","v":781.3599999999999},{"$f":"+IF(Simulador!$C$50=\"Si\",PX$26+PW42+PW43,PX$26+PW42+PW44)","v":781.3599999999999},{"$f":"+IF(Simulador!$C$50=\"Si\",PY$26+PX42+PX43,PY$26+PX42+PX44)","v":781.3599999999999},{"$f":"+IF(Simulador!$C$50=\"Si\",PZ$26+PY42+PY43,PZ$26+PY42+PY44)","v":784.45999999999992},{"$f":"+IF(Simulador!$C$50=\"Si\",QA$26+PZ42+PZ43,QA$26+PZ42+PZ44)","v":784.45999999999992},{"$f":"+IF(Simulador!$C$50=\"Si\",QB$26+QA42+QA43,QB$26+QA42+QA44)","v":784.45999999999992},{"$f":"+IF(Simulador!$C$50=\"Si\",QC$26+QB42+QB43,QC$26+QB42+QB44)","v":784.45999999999992},{"$f":"+IF(Simulador!$C$50=\"Si\",QD$26+QC42+QC43,QD$26+QC42+QC44)","v":784.45999999999992},{"$f":"+IF(Simulador!$C$50=\"Si\",QE$26+QD42+QD43,QE$26+QD42+QD44)","v":784.45999999999992},{"$f":"+IF(Simulador!$C$50=\"Si\",QF$26+QE42+QE43,QF$26+QE42+QE44)","v":784.45999999999992},{"$f":"+IF(Simulador!$C$50=\"Si\",QG$26+QF42+QF43,QG$26+QF42+QF44)","v":784.45999999999992},{"$f":"+IF(Simulador!$C$50=\"Si\",QH$26+QG42+QG43,QH$26+QG42+QG44)","v":784.45999999999992},{"$f":"+IF(Simulador!$C$50=\"Si\",QI$26+QH42+QH43,QI$26+QH42+QH44)","v":784.45999999999992},{"$f":"+IF(Simulador!$C$50=\"Si\",QJ$26+QI42+QI43,QJ$26+QI42+QI44)","v":784.45999999999992},{"$f":"+IF(Simulador!$C$50=\"Si\",QK$26+QJ42+QJ43,QK$26+QJ42+QJ44)","v":784.45999999999992},{"$f":"+IF(Simulador!$C$50=\"Si\",QL$26+QK42+QK43,QL$26+QK42+QK44)","v":784.45999999999992},{"$f":"+IF(Simulador!$C$50=\"Si\",QM$26+QL42+QL43,QM$26+QL42+QL44)","v":784.45999999999992},{"$f":"+IF(Simulador!$C$50=\"Si\",QN$26+QM42+QM43,QN$26+QM42+QM44)","v":784.45999999999992},{"$f":"+IF(Simulador!$C$50=\"Si\",QO$26+QN42+QN43,QO$26+QN42+QN44)","v":784.45999999999992},{"$f":"+IF(Simulador!$C$50=\"Si\",QP$26+QO42+QO43,QP$26+QO42+QO44)","v":784.45999999999992},{"$f":"+IF(Simulador!$C$50=\"Si\",QQ$26+QP42+QP43,QQ$26+QP42+QP44)","v":784.45999999999992},{"$f":"+IF(Simulador!$C$50=\"Si\",QR$26+QQ42+QQ43,QR$26+QQ42+QQ44)","v":784.45999999999992},{"$f":"+IF(Simulador!$C$50=\"Si\",QS$26+QR42+QR43,QS$26+QR42+QR44)","v":834.45999999999992},{"$f":"+IF(Simulador!$C$50=\"Si\",QT$26+QS42+QS43,QT$26+QS42+QS44)","v":834.45999999999992},{"$f":"+IF(Simulador!$C$50=\"Si\",QU$26+QT42+QT43,QU$26+QT42+QT44)","v":834.45999999999992},{"$f":"+IF(Simulador!$C$50=\"Si\",QV$26+QU42+QU43,QV$26+QU42+QU44)","v":834.45999999999992},{"$f":"+IF(Simulador!$C$50=\"Si\",QW$26+QV42+QV43,QW$26+QV42+QV44)","v":834.45999999999992},{"$f":"+IF(Simulador!$C$50=\"Si\",QX$26+QW42+QW43,QX$26+QW42+QW44)","v":834.45999999999992},{"$f":"+IF(Simulador!$C$50=\"Si\",QY$26+QX42+QX43,QY$26+QX42+QX44)","v":834.45999999999992},{"$f":"+IF(Simulador!$C$50=\"Si\",QZ$26+QY42+QY43,QZ$26+QY42+QY44)","v":834.45999999999992},{"$f":"+IF(Simulador!$C$50=\"Si\",RA$26+QZ42+QZ43,RA$26+QZ42+QZ44)","v":834.45999999999992},{"$f":"+IF(Simulador!$C$50=\"Si\",RB$26+RA42+RA43,RB$26+RA42+RA44)","v":834.45999999999992},{"$f":"+IF(Simulador!$C$50=\"Si\",RC$26+RB42+RB43,RC$26+RB42+RB44)","v":834.45999999999992},{"$f":"+IF(Simulador!$C$50=\"Si\",RD$26+RC42+RC43,RD$26+RC42+RC44)","v":837.8599999999999},{"$f":"+IF(Simulador!$C$50=\"Si\",RE$26+RD42+RD43,RE$26+RD42+RD44)","v":837.8599999999999},{"$f":"+IF(Simulador!$C$50=\"Si\",RF$26+RE42+RE43,RF$26+RE42+RE44)","v":837.8599999999999},{"$f":"+IF(Simulador!$C$50=\"Si\",RG$26+RF42+RF43,RG$26+RF42+RF44)","v":837.8599999999999},{"$f":"+IF(Simulador!$C$50=\"Si\",RH$26+RG42+RG43,RH$26+RG42+RG44)","v":837.8599999999999},{"$f":"+IF(Simulador!$C$50=\"Si\",RI$26+RH42+RH43,RI$26+RH42+RH44)","v":837.8599999999999},{"$f":"+IF(Simulador!$C$50=\"Si\",RJ$26+RI42+RI43,RJ$26+RI42+RI44)","v":837.8599999999999},{"$f":"+IF(Simulador!$C$50=\"Si\",RK$26+RJ42+RJ43,RK$26+RJ42+RJ44)","v":837.8599999999999},{"$f":"+IF(Simulador!$C$50=\"Si\",RL$26+RK42+RK43,RL$26+RK42+RK44)","v":837.8599999999999},{"$f":"+IF(Simulador!$C$50=\"Si\",RM$26+RL42+RL43,RM$26+RL42+RL44)","v":837.8599999999999},{"$f":"+IF(Simulador!$C$50=\"Si\",RN$26+RM42+RM43,RN$26+RM42+RM44)","v":837.8599999999999},{"$f":"+IF(Simulador!$C$50=\"Si\",RO$26+RN42+RN43,RO$26+RN42+RN44)","v":837.8599999999999},{"$f":"+IF(Simulador!$C$50=\"Si\",RP$26+RO42+RO43,RP$26+RO42+RO44)","v":837.8599999999999},{"$f":"+IF(Simulador!$C$50=\"Si\",RQ$26+RP42+RP43,RQ$26+RP42+RP44)","v":837.8599999999999},{"$f":"+IF(Simulador!$C$50=\"Si\",RR$26+RQ42+RQ43,RR$26+RQ42+RQ44)","v":837.8599999999999},{"$f":"+IF(Simulador!$C$50=\"Si\",RS$26+RR42+RR43,RS$26+RR42+RR44)","v":837.8599999999999},{"$f":"+IF(Simulador!$C$50=\"Si\",RT$26+RS42+RS43,RT$26+RS42+RS44)","v":837.8599999999999},{"$f":"+IF(Simulador!$C$50=\"Si\",RU$26+RT42+RT43,RU$26+RT42+RT44)","v":837.8599999999999},{"$f":"+IF(Simulador!$C$50=\"Si\",RV$26+RU42+RU43,RV$26+RU42+RU44)","v":837.8599999999999},{"$f":"+IF(Simulador!$C$50=\"Si\",RW$26+RV42+RV43,RW$26+RV42+RV44)","v":837.8599999999999},{"$f":"+IF(Simulador!$C$50=\"Si\",RX$26+RW42+RW43,RX$26+RW42+RW44)","v":887.8599999999999},{"$f":"+IF(Simulador!$C$50=\"Si\",RY$26+RX42+RX43,RY$26+RX42+RX44)","v":887.8599999999999},{"$f":"+IF(Simulador!$C$50=\"Si\",RZ$26+RY42+RY43,RZ$26+RY42+RY44)","v":887.8599999999999},{"$f":"+IF(Simulador!$C$50=\"Si\",SA$26+RZ42+RZ43,SA$26+RZ42+RZ44)","v":887.8599999999999},{"$f":"+IF(Simulador!$C$50=\"Si\",SB$26+SA42+SA43,SB$26+SA42+SA44)","v":887.8599999999999},{"$f":"+IF(Simulador!$C$50=\"Si\",SC$26+SB42+SB43,SC$26+SB42+SB44)","v":887.8599999999999},{"$f":"+IF(Simulador!$C$50=\"Si\",SD$26+SC42+SC43,SD$26+SC42+SC44)","v":887.8599999999999},{"$f":"+IF(Simulador!$C$50=\"Si\",SE$26+SD42+SD43,SE$26+SD42+SD44)","v":887.8599999999999},{"$f":"+IF(Simulador!$C$50=\"Si\",SF$26+SE42+SE43,SF$26+SE42+SE44)","v":887.8599999999999},{"$f":"+IF(Simulador!$C$50=\"Si\",SG$26+SF42+SF43,SG$26+SF42+SF44)","v":887.8599999999999},{"$f":"+IF(Simulador!$C$50=\"Si\",SH$26+SG42+SG43,SH$26+SG42+SG44)","v":887.8599999999999},{"$f":"+IF(Simulador!$C$50=\"Si\",SI$26+SH42+SH43,SI$26+SH42+SH44)","v":891.57999999999993},{"$f":"+IF(Simulador!$C$50=\"Si\",SJ$26+SI42+SI43,SJ$26+SI42+SI44)","v":891.57999999999993},{"$f":"+IF(Simulador!$C$50=\"Si\",SK$26+SJ42+SJ43,SK$26+SJ42+SJ44)","v":891.57999999999993},{"$f":"+IF(Simulador!$C$50=\"Si\",SL$26+SK42+SK43,SL$26+SK42+SK44)","v":891.57999999999993},{"$f":"+IF(Simulador!$C$50=\"Si\",SM$26+SL42+SL43,SM$26+SL42+SL44)","v":891.57999999999993},{"$f":"+IF(Simulador!$C$50=\"Si\",SN$26+SM42+SM43,SN$26+SM42+SM44)","v":891.57999999999993},{"$f":"+IF(Simulador!$C$50=\"Si\",SO$26+SN42+SN43,SO$26+SN42+SN44)","v":891.57999999999993},{"$f":"+IF(Simulador!$C$50=\"Si\",SP$26+SO42+SO43,SP$26+SO42+SO44)","v":891.57999999999993},{"$f":"+IF(Simulador!$C$50=\"Si\",SQ$26+SP42+SP43,SQ$26+SP42+SP44)","v":891.57999999999993},{"$f":"+IF(Simulador!$C$50=\"Si\",SR$26+SQ42+SQ43,SR$26+SQ42+SQ44)","v":891.57999999999993},{"$f":"+IF(Simulador!$C$50=\"Si\",SS$26+SR42+SR43,SS$26+SR42+SR44)","v":891.57999999999993},{"$f":"+IF(Simulador!$C$50=\"Si\",ST$26+SS42+SS43,ST$26+SS42+SS44)","v":891.57999999999993},{"$f":"+IF(Simulador!$C$50=\"Si\",SU$26+ST42+ST43,SU$26+ST42+ST44)","v":891.57999999999993},{"$f":"+IF(Simulador!$C$50=\"Si\",SV$26+SU42+SU43,SV$26+SU42+SU44)","v":891.57999999999993},{"$f":"+IF(Simulador!$C$50=\"Si\",SW$26+SV42+SV43,SW$26+SV42+SV44)","v":891.57999999999993},{"$f":"+IF(Simulador!$C$50=\"Si\",SX$26+SW42+SW43,SX$26+SW42+SW44)","v":891.57999999999993},{"$f":"+IF(Simulador!$C$50=\"Si\",SY$26+SX42+SX43,SY$26+SX42+SX44)","v":891.57999999999993},{"$f":"+IF(Simulador!$C$50=\"Si\",SZ$26+SY42+SY43,SZ$26+SY42+SY44)","v":891.57999999999993},{"$f":"+IF(Simulador!$C$50=\"Si\",TA$26+SZ42+SZ43,TA$26+SZ42+SZ44)","v":891.57999999999993},{"$f":"+IF(Simulador!$C$50=\"Si\",TB$26+TA42+TA43,TB$26+TA42+TA44)","v":941.57999999999993},{"$f":"+IF(Simulador!$C$50=\"Si\",TC$26+TB42+TB43,TC$26+TB42+TB44)","v":941.57999999999993},{"$f":"+IF(Simulador!$C$50=\"Si\",TD$26+TC42+TC43,TD$26+TC42+TC44)","v":941.57999999999993},{"$f":"+IF(Simulador!$C$50=\"Si\",TE$26+TD42+TD43,TE$26+TD42+TD44)","v":941.57999999999993},{"$f":"+IF(Simulador!$C$50=\"Si\",TF$26+TE42+TE43,TF$26+TE42+TE44)","v":941.57999999999993},{"$f":"+IF(Simulador!$C$50=\"Si\",TG$26+TF42+TF43,TG$26+TF42+TF44)","v":941.57999999999993},{"$f":"+IF(Simulador!$C$50=\"Si\",TH$26+TG42+TG43,TH$26+TG42+TG44)","v":941.57999999999993},{"$f":"+IF(Simulador!$C$50=\"Si\",TI$26+TH42+TH43,TI$26+TH42+TH44)","v":941.57999999999993},{"$f":"+IF(Simulador!$C$50=\"Si\",TJ$26+TI42+TI43,TJ$26+TI42+TI44)","v":941.57999999999993},{"$f":"+IF(Simulador!$C$50=\"Si\",TK$26+TJ42+TJ43,TK$26+TJ42+TJ44)","v":941.57999999999993},{"$f":"+IF(Simulador!$C$50=\"Si\",TL$26+TK42+TK43,TL$26+TK42+TK44)","v":941.57999999999993},{"$f":"+IF(Simulador!$C$50=\"Si\",TM$26+TL42+TL43,TM$26+TL42+TL44)","v":945.28},{"$f":"+IF(Simulador!$C$50=\"Si\",TN$26+TM42+TM43,TN$26+TM42+TM44)","v":945.28},{"$f":"+IF(Simulador!$C$50=\"Si\",TO$26+TN42+TN43,TO$26+TN42+TN44)","v":945.28},{"$f":"+IF(Simulador!$C$50=\"Si\",TP$26+TO42+TO43,TP$26+TO42+TO44)","v":945.28},{"$f":"+IF(Simulador!$C$50=\"Si\",TQ$26+TP42+TP43,TQ$26+TP42+TP44)","v":945.28},{"$f":"+IF(Simulador!$C$50=\"Si\",TR$26+TQ42+TQ43,TR$26+TQ42+TQ44)","v":945.28},{"$f":"+IF(Simulador!$C$50=\"Si\",TS$26+TR42+TR43,TS$26+TR42+TR44)","v":945.28},{"$f":"+IF(Simulador!$C$50=\"Si\",TT$26+TS42+TS43,TT$26+TS42+TS44)","v":945.28},{"$f":"+IF(Simulador!$C$50=\"Si\",TU$26+TT42+TT43,TU$26+TT42+TT44)","v":945.28},{"$f":"+IF(Simulador!$C$50=\"Si\",TV$26+TU42+TU43,TV$26+TU42+TU44)","v":945.28},{"$f":"+IF(Simulador!$C$50=\"Si\",TW$26+TV42+TV43,TW$26+TV42+TV44)","v":945.28},{"$f":"+IF(Simulador!$C$50=\"Si\",TX$26+TW42+TW43,TX$26+TW42+TW44)","v":945.28},{"$f":"+IF(Simulador!$C$50=\"Si\",TY$26+TX42+TX43,TY$26+TX42+TX44)","v":945.28},{"$f":"+IF(Simulador!$C$50=\"Si\",TZ$26+TY42+TY43,TZ$26+TY42+TY44)","v":945.28},{"$f":"+IF(Simulador!$C$50=\"Si\",UA$26+TZ42+TZ43,UA$26+TZ42+TZ44)","v":945.28},{"$f":"+IF(Simulador!$C$50=\"Si\",UB$26+UA42+UA43,UB$26+UA42+UA44)","v":945.28},{"$f":"+IF(Simulador!$C$50=\"Si\",UC$26+UB42+UB43,UC$26+UB42+UB44)","v":945.28},{"$f":"+IF(Simulador!$C$50=\"Si\",UD$26+UC42+UC43,UD$26+UC42+UC44)","v":945.28},{"$f":"+IF(Simulador!$C$50=\"Si\",UE$26+UD42+UD43,UE$26+UD42+UD44)","v":945.28},{"$f":"+IF(Simulador!$C$50=\"Si\",UF$26+UE42+UE43,UF$26+UE42+UE44)","v":945.28},{"$f":"+IF(Simulador!$C$50=\"Si\",UG$26+UF42+UF43,UG$26+UF42+UF44)","v":995.28},{"$f":"+IF(Simulador!$C$50=\"Si\",UH$26+UG42+UG43,UH$26+UG42+UG44)","v":995.28},{"$f":"+IF(Simulador!$C$50=\"Si\",UI$26+UH42+UH43,UI$26+UH42+UH44)","v":995.28},{"$f":"+IF(Simulador!$C$50=\"Si\",UJ$26+UI42+UI43,UJ$26+UI42+UI44)","v":995.28},{"$f":"+IF(Simulador!$C$50=\"Si\",UK$26+UJ42+UJ43,UK$26+UJ42+UJ44)","v":995.28},{"$f":"+IF(Simulador!$C$50=\"Si\",UL$26+UK42+UK43,UL$26+UK42+UK44)","v":995.28},{"$f":"+IF(Simulador!$C$50=\"Si\",UM$26+UL42+UL43,UM$26+UL42+UL44)","v":995.28},{"$f":"+IF(Simulador!$C$50=\"Si\",UN$26+UM42+UM43,UN$26+UM42+UM44)","v":995.28},{"$f":"+IF(Simulador!$C$50=\"Si\",UO$26+UN42+UN43,UO$26+UN42+UN44)","v":995.28},{"$f":"+IF(Simulador!$C$50=\"Si\",UP$26+UO42+UO43,UP$26+UO42+UO44)","v":995.28},{"$f":"+IF(Simulador!$C$50=\"Si\",UQ$26+UP42+UP43,UQ$26+UP42+UP44)","v":999.27},{"$f":"+IF(Simulador!$C$50=\"Si\",UR$26+UQ42+UQ43,UR$26+UQ42+UQ44)","v":999.27},{"$f":"+IF(Simulador!$C$50=\"Si\",US$26+UR42+UR43,US$26+UR42+UR44)","v":999.27},{"$f":"+IF(Simulador!$C$50=\"Si\",UT$26+US42+US43,UT$26+US42+US44)","v":999.27},{"$f":"+IF(Simulador!$C$50=\"Si\",UU$26+UT42+UT43,UU$26+UT42+UT44)","v":999.27},{"$f":"+IF(Simulador!$C$50=\"Si\",UV$26+UU42+UU43,UV$26+UU42+UU44)","v":999.27},{"$f":"+IF(Simulador!$C$50=\"Si\",UW$26+UV42+UV43,UW$26+UV42+UV44)","v":999.27},{"$f":"+IF(Simulador!$C$50=\"Si\",UX$26+UW42+UW43,UX$26+UW42+UW44)","v":999.27},{"$f":"+IF(Simulador!$C$50=\"Si\",UY$26+UX42+UX43,UY$26+UX42+UX44)","v":999.27},{"$f":"+IF(Simulador!$C$50=\"Si\",UZ$26+UY42+UY43,UZ$26+UY42+UY44)","v":999.27},{"$f":"+IF(Simulador!$C$50=\"Si\",VA$26+UZ42+UZ43,VA$26+UZ42+UZ44)","v":999.27},{"$f":"+IF(Simulador!$C$50=\"Si\",VB$26+VA42+VA43,VB$26+VA42+VA44)","v":999.27},{"$f":"+IF(Simulador!$C$50=\"Si\",VC$26+VB42+VB43,VC$26+VB42+VB44)","v":999.27},{"$f":"+IF(Simulador!$C$50=\"Si\",VD$26+VC42+VC43,VD$26+VC42+VC44)","v":999.27},{"$f":"+IF(Simulador!$C$50=\"Si\",VE$26+VD42+VD43,VE$26+VD42+VD44)","v":999.27},{"$f":"+IF(Simulador!$C$50=\"Si\",VF$26+VE42+VE43,VF$26+VE42+VE44)","v":999.27},{"$f":"+IF(Simulador!$C$50=\"Si\",VG$26+VF42+VF43,VG$26+VF42+VF44)","v":999.27},{"$f":"+IF(Simulador!$C$50=\"Si\",VH$26+VG42+VG43,VH$26+VG42+VG44)","v":999.27},{"$f":"+IF(Simulador!$C$50=\"Si\",VI$26+VH42+VH43,VI$26+VH42+VH44)","v":999.27},{"$f":"+IF(Simulador!$C$50=\"Si\",VJ$26+VI42+VI43,VJ$26+VI42+VI44)","v":999.27},{"$f":"+IF(Simulador!$C$50=\"Si\",VK$26+VJ42+VJ43,VK$26+VJ42+VJ44)","v":999.27},{"$f":"+IF(Simulador!$C$50=\"Si\",VL$26+VK42+VK43,VL$26+VK42+VK44)","v":1049.27},{"$f":"+IF(Simulador!$C$50=\"Si\",VM$26+VL42+VL43,VM$26+VL42+VL44)","v":1049.27},{"$f":"+IF(Simulador!$C$50=\"Si\",VN$26+VM42+VM43,VN$26+VM42+VM44)","v":1049.27},{"$f":"+IF(Simulador!$C$50=\"Si\",VO$26+VN42+VN43,VO$26+VN42+VN44)","v":1049.27},{"$f":"+IF(Simulador!$C$50=\"Si\",VP$26+VO42+VO43,VP$26+VO42+VO44)","v":1049.27},{"$f":"+IF(Simulador!$C$50=\"Si\",VQ$26+VP42+VP43,VQ$26+VP42+VP44)","v":1049.27},{"$f":"+IF(Simulador!$C$50=\"Si\",VR$26+VQ42+VQ43,VR$26+VQ42+VQ44)","v":1049.27},{"$f":"+IF(Simulador!$C$50=\"Si\",VS$26+VR42+VR43,VS$26+VR42+VR44)","v":1053.25},{"$f":"+IF(Simulador!$C$50=\"Si\",VT$26+VS42+VS43,VT$26+VS42+VS44)","v":1053.25},{"$f":"+IF(Simulador!$C$50=\"Si\",VU$26+VT42+VT43,VU$26+VT42+VT44)","v":1053.25},{"$f":"+IF(Simulador!$C$50=\"Si\",VV$26+VU42+VU43,VV$26+VU42+VU44)","v":1053.25},{"$f":"+IF(Simulador!$C$50=\"Si\",VW$26+VV42+VV43,VW$26+VV42+VV44)","v":1053.25},{"$f":"+IF(Simulador!$C$50=\"Si\",VX$26+VW42+VW43,VX$26+VW42+VW44)","v":1053.25},{"$f":"+IF(Simulador!$C$50=\"Si\",VY$26+VX42+VX43,VY$26+VX42+VX44)","v":1053.25},{"$f":"+IF(Simulador!$C$50=\"Si\",VZ$26+VY42+VY43,VZ$26+VY42+VY44)","v":1053.25},{"$f":"+IF(Simulador!$C$50=\"Si\",WA$26+VZ42+VZ43,WA$26+VZ42+VZ44)","v":1053.25},{"$f":"+IF(Simulador!$C$50=\"Si\",WB$26+WA42+WA43,WB$26+WA42+WA44)","v":1053.25},{"$f":"+IF(Simulador!$C$50=\"Si\",WC$26+WB42+WB43,WC$26+WB42+WB44)","v":1053.25},{"$f":"+IF(Simulador!$C$50=\"Si\",WD$26+WC42+WC43,WD$26+WC42+WC44)","v":1053.25},{"$f":"+IF(Simulador!$C$50=\"Si\",WE$26+WD42+WD43,WE$26+WD42+WD44)","v":1053.25},{"$f":"+IF(Simulador!$C$50=\"Si\",WF$26+WE42+WE43,WF$26+WE42+WE44)","v":1053.25},{"$f":"+IF(Simulador!$C$50=\"Si\",WG$26+WF42+WF43,WG$26+WF42+WF44)","v":1053.25},{"$f":"+IF(Simulador!$C$50=\"Si\",WH$26+WG42+WG43,WH$26+WG42+WG44)","v":1053.25},{"$f":"+IF(Simulador!$C$50=\"Si\",WI$26+WH42+WH43,WI$26+WH42+WH44)","v":1053.25},{"$f":"+IF(Simulador!$C$50=\"Si\",WJ$26+WI42+WI43,WJ$26+WI42+WI44)","v":1053.25},{"$f":"+IF(Simulador!$C$50=\"Si\",WK$26+WJ42+WJ43,WK$26+WJ42+WJ44)","v":1053.25},{"$f":"+IF(Simulador!$C$50=\"Si\",WL$26+WK42+WK43,WL$26+WK42+WK44)","v":1053.25},{"$f":"+IF(Simulador!$C$50=\"Si\",WM$26+WL42+WL43,WM$26+WL42+WL44)","v":1053.25},{"$f":"+IF(Simulador!$C$50=\"Si\",WN$26+WM42+WM43,WN$26+WM42+WM44)","v":1103.25},{"$f":"+IF(Simulador!$C$50=\"Si\",WO$26+WN42+WN43,WO$26+WN42+WN44)","v":1103.25},{"$f":"+IF(Simulador!$C$50=\"Si\",WP$26+WO42+WO43,WP$26+WO42+WO44)","v":1103.25},{"$f":"+IF(Simulador!$C$50=\"Si\",WQ$26+WP42+WP43,WQ$26+WP42+WP44)","v":1103.25},{"$f":"+IF(Simulador!$C$50=\"Si\",WR$26+WQ42+WQ43,WR$26+WQ42+WQ44)","v":1103.25},{"$f":"+IF(Simulador!$C$50=\"Si\",WS$26+WR42+WR43,WS$26+WR42+WR44)","v":1103.25},{"$f":"+IF(Simulador!$C$50=\"Si\",WT$26+WS42+WS43,WT$26+WS42+WS44)","v":1103.25},{"$f":"+IF(Simulador!$C$50=\"Si\",WU$26+WT42+WT43,WU$26+WT42+WT44)","v":1103.25},{"$f":"+IF(Simulador!$C$50=\"Si\",WV$26+WU42+WU43,WV$26+WU42+WU44)","v":1103.25},{"$f":"+IF(Simulador!$C$50=\"Si\",WW$26+WV42+WV43,WW$26+WV42+WV44)","v":1103.25},{"$f":"+IF(Simulador!$C$50=\"Si\",WX$26+WW42+WW43,WX$26+WW42+WW44)","v":1103.25},{"$f":"+IF(Simulador!$C$50=\"Si\",WY$26+WX42+WX43,WY$26+WX42+WX44)","v":1103.25},{"$f":"+IF(Simulador!$C$50=\"Si\",WZ$26+WY42+WY43,WZ$26+WY42+WY44)","v":1108.2},{"$f":"+IF(Simulador!$C$50=\"Si\",XA$26+WZ42+WZ43,XA$26+WZ42+WZ44)","v":1108.2},{"$f":"+IF(Simulador!$C$50=\"Si\",XB$26+XA42+XA43,XB$26+XA42+XA44)","v":1108.2},{"$f":"+IF(Simulador!$C$50=\"Si\",XC$26+XB42+XB43,XC$26+XB42+XB44)","v":1108.2},{"$f":"+IF(Simulador!$C$50=\"Si\",XD$26+XC42+XC43,XD$26+XC42+XC44)","v":1108.2},{"$f":"+IF(Simulador!$C$50=\"Si\",XE$26+XD42+XD43,XE$26+XD42+XD44)","v":1108.2},{"$f":"+IF(Simulador!$C$50=\"Si\",XF$26+XE42+XE43,XF$26+XE42+XE44)","v":1108.2},{"$f":"+IF(Simulador!$C$50=\"Si\",XG$26+XF42+XF43,XG$26+XF42+XF44)","v":1108.2},{"$f":"+IF(Simulador!$C$50=\"Si\",XH$26+XG42+XG43,XH$26+XG42+XG44)","v":1108.2},{"$f":"+IF(Simulador!$C$50=\"Si\",XI$26+XH42+XH43,XI$26+XH42+XH44)","v":1108.2},{"$f":"+IF(Simulador!$C$50=\"Si\",XJ$26+XI42+XI43,XJ$26+XI42+XI44)","v":1108.2},{"$f":"+IF(Simulador!$C$50=\"Si\",XK$26+XJ42+XJ43,XK$26+XJ42+XJ44)","v":1108.2},{"$f":"+IF(Simulador!$C$50=\"Si\",XL$26+XK42+XK43,XL$26+XK42+XK44)","v":1108.2},{"$f":"+IF(Simulador!$C$50=\"Si\",XM$26+XL42+XL43,XM$26+XL42+XL44)","v":1108.2},{"$f":"+IF(Simulador!$C$50=\"Si\",XN$26+XM42+XM43,XN$26+XM42+XM44)","v":1108.2},{"$f":"+IF(Simulador!$C$50=\"Si\",XO$26+XN42+XN43,XO$26+XN42+XN44)","v":1108.2},{"$f":"+IF(Simulador!$C$50=\"Si\",XP$26+XO42+XO43,XP$26+XO42+XO44)","v":1108.2},{"$f":"+IF(Simulador!$C$50=\"Si\",XQ$26+XP42+XP43,XQ$26+XP42+XP44)","v":1108.2},{"$f":"+IF(Simulador!$C$50=\"Si\",XR$26+XQ42+XQ43,XR$26+XQ42+XQ44)","v":1108.2},{"$f":"+IF(Simulador!$C$50=\"Si\",XS$26+XR42+XR43,XS$26+XR42+XR44)","v":1158.2},{"$f":"+IF(Simulador!$C$50=\"Si\",XT$26+XS42+XS43,XT$26+XS42+XS44)","v":1158.2},{"$f":"+IF(Simulador!$C$50=\"Si\",XU$26+XT42+XT43,XU$26+XT42+XT44)","v":1158.2},{"$f":"+IF(Simulador!$C$50=\"Si\",XV$26+XU42+XU43,XV$26+XU42+XU44)","v":1158.2},{"$f":"+IF(Simulador!$C$50=\"Si\",XW$26+XV42+XV43,XW$26+XV42+XV44)","v":1158.2},{"$f":"+IF(Simulador!$C$50=\"Si\",XX$26+XW42+XW43,XX$26+XW42+XW44)","v":1158.2},{"$f":"+IF(Simulador!$C$50=\"Si\",XY$26+XX42+XX43,XY$26+XX42+XX44)","v":1158.2},{"$f":"+IF(Simulador!$C$50=\"Si\",XZ$26+XY42+XY43,XZ$26+XY42+XY44)","v":1158.2},{"$f":"+IF(Simulador!$C$50=\"Si\",YA$26+XZ42+XZ43,YA$26+XZ42+XZ44)","v":1158.2},{"$f":"+IF(Simulador!$C$50=\"Si\",YB$26+YA42+YA43,YB$26+YA42+YA44)","v":1158.2},{"$f":"+IF(Simulador!$C$50=\"Si\",YC$26+YB42+YB43,YC$26+YB42+YB44)","v":1162.6400000000001},{"$f":"+IF(Simulador!$C$50=\"Si\",YD$26+YC42+YC43,YD$26+YC42+YC44)","v":1162.6400000000001},{"$f":"+IF(Simulador!$C$50=\"Si\",YE$26+YD42+YD43,YE$26+YD42+YD44)","v":1162.6400000000001},{"$f":"+IF(Simulador!$C$50=\"Si\",YF$26+YE42+YE43,YF$26+YE42+YE44)","v":1162.6400000000001},{"$f":"+IF(Simulador!$C$50=\"Si\",YG$26+YF42+YF43,YG$26+YF42+YF44)","v":1162.6400000000001},{"$f":"+IF(Simulador!$C$50=\"Si\",YH$26+YG42+YG43,YH$26+YG42+YG44)","v":1162.6400000000001},{"$f":"+IF(Simulador!$C$50=\"Si\",YI$26+YH42+YH43,YI$26+YH42+YH44)","v":1162.6400000000001},{"$f":"+IF(Simulador!$C$50=\"Si\",YJ$26+YI42+YI43,YJ$26+YI42+YI44)","v":1162.6400000000001},{"$f":"+IF(Simulador!$C$50=\"Si\",YK$26+YJ42+YJ43,YK$26+YJ42+YJ44)","v":1162.6400000000001},{"$f":"+IF(Simulador!$C$50=\"Si\",YL$26+YK42+YK43,YL$26+YK42+YK44)","v":1162.6400000000001},{"$f":"+IF(Simulador!$C$50=\"Si\",YM$26+YL42+YL43,YM$26+YL42+YL44)","v":1162.6400000000001},{"$f":"+IF(Simulador!$C$50=\"Si\",YN$26+YM42+YM43,YN$26+YM42+YM44)","v":1162.6400000000001},{"$f":"+IF(Simulador!$C$50=\"Si\",YO$26+YN42+YN43,YO$26+YN42+YN44)","v":1162.6400000000001},{"$f":"+IF(Simulador!$C$50=\"Si\",YP$26+YO42+YO43,YP$26+YO42+YO44)","v":1162.6400000000001},{"$f":"+IF(Simulador!$C$50=\"Si\",YQ$26+YP42+YP43,YQ$26+YP42+YP44)","v":1162.6400000000001},{"$f":"+IF(Simulador!$C$50=\"Si\",YR$26+YQ42+YQ43,YR$26+YQ42+YQ44)","v":1162.6400000000001},{"$f":"+IF(Simulador!$C$50=\"Si\",YS$26+YR42+YR43,YS$26+YR42+YR44)","v":1162.6400000000001},{"$f":"+IF(Simulador!$C$50=\"Si\",YT$26+YS42+YS43,YT$26+YS42+YS44)","v":1162.6400000000001},{"$f":"+IF(Simulador!$C$50=\"Si\",YU$26+YT42+YT43,YU$26+YT42+YT44)","v":1162.6400000000001},{"$f":"+IF(Simulador!$C$50=\"Si\",YV$26+YU42+YU43,YV$26+YU42+YU44)","v":1162.6400000000001},{"$f":"+IF(Simulador!$C$50=\"Si\",YW$26+YV42+YV43,YW$26+YV42+YV44)","v":1212.6400000000001},{"$f":"+IF(Simulador!$C$50=\"Si\",YX$26+YW42+YW43,YX$26+YW42+YW44)","v":1212.6400000000001},{"$f":"+IF(Simulador!$C$50=\"Si\",YY$26+YX42+YX43,YY$26+YX42+YX44)","v":1212.6400000000001},{"$f":"+IF(Simulador!$C$50=\"Si\",YZ$26+YY42+YY43,YZ$26+YY42+YY44)","v":1212.6400000000001},{"$f":"+IF(Simulador!$C$50=\"Si\",ZA$26+YZ42+YZ43,ZA$26+YZ42+YZ44)","v":1212.6400000000001},{"$f":"+IF(Simulador!$C$50=\"Si\",ZB$26+ZA42+ZA43,ZB$26+ZA42+ZA44)","v":1212.6400000000001},{"$f":"+IF(Simulador!$C$50=\"Si\",ZC$26+ZB42+ZB43,ZC$26+ZB42+ZB44)","v":1212.6400000000001},{"$f":"+IF(Simulador!$C$50=\"Si\",ZD$26+ZC42+ZC43,ZD$26+ZC42+ZC44)","v":1212.6400000000001},{"$f":"+IF(Simulador!$C$50=\"Si\",ZE$26+ZD42+ZD43,ZE$26+ZD42+ZD44)","v":1212.6400000000001},{"$f":"+IF(Simulador!$C$50=\"Si\",ZF$26+ZE42+ZE43,ZF$26+ZE42+ZE44)","v":1212.6400000000001},{"$f":"+IF(Simulador!$C$50=\"Si\",ZG$26+ZF42+ZF43,ZG$26+ZF42+ZF44)","v":1212.6400000000001},{"$f":"+IF(Simulador!$C$50=\"Si\",ZH$26+ZG42+ZG43,ZH$26+ZG42+ZG44)","v":1212.6400000000001},{"$f":"+IF(Simulador!$C$50=\"Si\",ZI$26+ZH42+ZH43,ZI$26+ZH42+ZH44)","v":1217.8700000000001},{"$f":"+IF(Simulador!$C$50=\"Si\",ZJ$26+ZI42+ZI43,ZJ$26+ZI42+ZI44)","v":1217.8700000000001},{"$f":"+IF(Simulador!$C$50=\"Si\",ZK$26+ZJ42+ZJ43,ZK$26+ZJ42+ZJ44)","v":1217.8700000000001},{"$f":"+IF(Simulador!$C$50=\"Si\",ZL$26+ZK42+ZK43,ZL$26+ZK42+ZK44)","v":1217.8700000000001},{"$f":"+IF(Simulador!$C$50=\"Si\",ZM$26+ZL42+ZL43,ZM$26+ZL42+ZL44)","v":1217.8700000000001},{"$f":"+IF(Simulador!$C$50=\"Si\",ZN$26+ZM42+ZM43,ZN$26+ZM42+ZM44)","v":1217.8700000000001},{"$f":"+IF(Simulador!$C$50=\"Si\",ZO$26+ZN42+ZN43,ZO$26+ZN42+ZN44)","v":1217.8700000000001},{"$f":"+IF(Simulador!$C$50=\"Si\",ZP$26+ZO42+ZO43,ZP$26+ZO42+ZO44)","v":1217.8700000000001},{"$f":"+IF(Simulador!$C$50=\"Si\",ZQ$26+ZP42+ZP43,ZQ$26+ZP42+ZP44)","v":1217.8700000000001},{"$f":"+IF(Simulador!$C$50=\"Si\",ZR$26+ZQ42+ZQ43,ZR$26+ZQ42+ZQ44)","v":1217.8700000000001},{"$f":"+IF(Simulador!$C$50=\"Si\",ZS$26+ZR42+ZR43,ZS$26+ZR42+ZR44)","v":1217.8700000000001},{"$f":"+IF(Simulador!$C$50=\"Si\",ZT$26+ZS42+ZS43,ZT$26+ZS42+ZS44)","v":1217.8700000000001},{"$f":"+IF(Simulador!$C$50=\"Si\",ZU$26+ZT42+ZT43,ZU$26+ZT42+ZT44)","v":1217.8700000000001},{"$f":"+IF(Simulador!$C$50=\"Si\",ZV$26+ZU42+ZU43,ZV$26+ZU42+ZU44)","v":1217.8700000000001},{"$f":"+IF(Simulador!$C$50=\"Si\",ZW$26+ZV42+ZV43,ZW$26+ZV42+ZV44)","v":1217.8700000000001},{"$f":"+IF(Simulador!$C$50=\"Si\",ZX$26+ZW42+ZW43,ZX$26+ZW42+ZW44)","v":1217.8700000000001},{"$f":"+IF(Simulador!$C$50=\"Si\",ZY$26+ZX42+ZX43,ZY$26+ZX42+ZX44)","v":1217.8700000000001},{"$f":"+IF(Simulador!$C$50=\"Si\",ZZ$26+ZY42+ZY43,ZZ$26+ZY42+ZY44)","v":1217.8700000000001},{"$f":"+IF(Simulador!$C$50=\"Si\",AAA$26+ZZ42+ZZ43,AAA$26+ZZ42+ZZ44)","v":1217.8700000000001},{"$f":"+IF(Simulador!$C$50=\"Si\",AAB$26+AAA42+AAA43,AAB$26+AAA42+AAA44)","v":1267.8700000000001},{"$f":"+IF(Simulador!$C$50=\"Si\",AAC$26+AAB42+AAB43,AAC$26+AAB42+AAB44)","v":1267.8700000000001},{"$f":"+IF(Simulador!$C$50=\"Si\",AAD$26+AAC42+AAC43,AAD$26+AAC42+AAC44)","v":1267.8700000000001},{"$f":"+IF(Simulador!$C$50=\"Si\",AAE$26+AAD42+AAD43,AAE$26+AAD42+AAD44)","v":1267.8700000000001},{"$f":"+IF(Simulador!$C$50=\"Si\",AAF$26+AAE42+AAE43,AAF$26+AAE42+AAE44)","v":1267.8700000000001},{"$f":"+IF(Simulador!$C$50=\"Si\",AAG$26+AAF42+AAF43,AAG$26+AAF42+AAF44)","v":1267.8700000000001},{"$f":"+IF(Simulador!$C$50=\"Si\",AAH$26+AAG42+AAG43,AAH$26+AAG42+AAG44)","v":1267.8700000000001},{"$f":"+IF(Simulador!$C$50=\"Si\",AAI$26+AAH42+AAH43,AAI$26+AAH42+AAH44)","v":1267.8700000000001},{"$f":"+IF(Simulador!$C$50=\"Si\",AAJ$26+AAI42+AAI43,AAJ$26+AAI42+AAI44)","v":1267.8700000000001},{"$f":"+IF(Simulador!$C$50=\"Si\",AAK$26+AAJ42+AAJ43,AAK$26+AAJ42+AAJ44)","v":1267.8700000000001},{"$f":"+IF(Simulador!$C$50=\"Si\",AAL$26+AAK42+AAK43,AAL$26+AAK42+AAK44)","v":1267.8700000000001},{"$f":"+IF(Simulador!$C$50=\"Si\",AAM$26+AAL42+AAL43,AAM$26+AAL42+AAL44)","v":1273.0700000000002},{"$f":"+IF(Simulador!$C$50=\"Si\",AAN$26+AAM42+AAM43,AAN$26+AAM42+AAM44)","v":1273.0700000000002},{"$f":"+IF(Simulador!$C$50=\"Si\",AAO$26+AAN42+AAN43,AAO$26+AAN42+AAN44)","v":1273.0700000000002},{"$f":"+IF(Simulador!$C$50=\"Si\",AAP$26+AAO42+AAO43,AAP$26+AAO42+AAO44)","v":1273.0700000000002},{"$f":"+IF(Simulador!$C$50=\"Si\",AAQ$26+AAP42+AAP43,AAQ$26+AAP42+AAP44)","v":1273.0700000000002},{"$f":"+IF(Simulador!$C$50=\"Si\",AAR$26+AAQ42+AAQ43,AAR$26+AAQ42+AAQ44)","v":1273.0700000000002},{"$f":"+IF(Simulador!$C$50=\"Si\",AAS$26+AAR42+AAR43,AAS$26+AAR42+AAR44)","v":1273.0700000000002},{"$f":"+IF(Simulador!$C$50=\"Si\",AAT$26+AAS42+AAS43,AAT$26+AAS42+AAS44)","v":1273.0700000000002},{"$f":"+IF(Simulador!$C$50=\"Si\",AAU$26+AAT42+AAT43,AAU$26+AAT42+AAT44)","v":1273.0700000000002}]
[null,"Capitalización de interés bloqueado",0,{"$f":"+IF((INDEX($C$17:$AAT$17,D$17-1)=Simulador!$F$72),C48,0)","v":0},{"$f":"+IF((INDEX($C$17:$AAT$17,E$17-1)=Simulador!$F$72),D48,0)","v":0},{"$f":"+IF((INDEX($C$17:$AAT$17,F$17-1)=Simulador!$F$72),E48,0)","v":0},{"$f":"+IF((INDEX($C$17:$AAT$17,G$17-1)=Simulador!$F$72),F48,0)","v":0},{"$f":"+IF((INDEX($C$17:$AAT$17,H$17-1)=Simulador!$F$72),G48,0)","v":0},{"$f":"+IF((INDEX($C$17:$AAT$17,I$17-1)=Simulador!$F$72),H48,0)","v":0},{"$f":"+IF((INDEX($C$17:$AAT$17,J$17-1)=Simulador!$F$72),I48,0)","v":0},{"$f":"+IF((INDEX($C$17:$AAT$17,K$17-1)=Simulador!$F$72),J48,0)","v":0},{"$f":"+IF((INDEX($C$17:$AAT$17,L$17-1)=Simulador!$F$72),K48,0)","v":0},{"$f":"+IF((INDEX($C$17:$AAT$17,M$17-1)=Simulador!$F$72),L48,0)","v":0},{"$f":"+IF((INDEX($C$17:$AAT$17,N$17-1)=Simulador!$F$72),M48,0)","v":0},{"$f":"+IF((INDEX($C$17:$AAT$17,O$17-1)=Simulador!$F$72),N48,0)","v":0},{"$f":"+IF((INDEX($C$17:$AAT$17,P$17-1)=Simulador!$F$72),O48,0)","v":0},{"$f":"+IF((INDEX($C$17:$AAT$17,Q$17-1)=Simulador!$F$72),P48,0)","v":0},{"$f":"+IF((INDEX($C$17:$AAT$17,R$17-1)=Simulador!$F$72),Q48,0)","v":0},{"$f":"+IF((INDEX($C$17:$AAT$17,S$17-1)=Simulador!$F$72),R48,0)","v":0},{"$f":"+IF((INDEX($C$17:$AAT$17,T$17-1)=Simulador!$F$72),S48,0)","v":0},{"$f":"+IF((INDEX($C$17:$AAT$17,U$17-1)=Simulador!$F$72),T48,0)","v":0},{"$f":"+IF((INDEX($C$17:$AAT$17,V$17-1)=Simulador!$F$72),U48,0)","v":0},{"$f":"+IF((INDEX($C$17:$AAT$17,W$17-1)=Simulador!$F$72),V48,0)","v":0},{"$f":"+IF((INDEX($C$17:$AAT$17,X$17-1)=Simulador!$F$72),W48,0)","v":0},{"$f":"+IF((INDEX($C$17:$AAT$17,Y$17-1)=Simulador!$F$72),X48,0)","v":0},{"$f":"+IF((INDEX($C$17:$AAT$17,Z$17-1)=Simulador!$F$72),Y48,0)","v":0},{"$f":"+IF((INDEX($C$17:$AAT$17,AA$17-1)=Simulador!$F$72),Z48,0)","v":0},{"$f":"+IF((INDEX($C$17:$AAT$17,AB$17-1)=Simulador!$F$72),AA48,0)","v":0},{"$f":"+IF((INDEX($C$17:$AAT$17,AC$17-1)=Simulador!$F$72),AB48,0)","v":0},{"$f":"+IF((INDEX($C$17:$AAT$17,AD$17-1)=Simulador!$F$72),AC48,0)","v":0},{"$f":"+IF((INDEX($C$17:$AAT$17,AE$17-1)=Simulador!$F$72),AD48,0)","v":0},{"$f":"+IF((INDEX($C$17:$AAT$17,AF$17-1)=Simulador!$F$72),AE48,0)","v":0},{"$f":"+IF((INDEX($C$17:$AAT$17,AG$17-1)=Simulador!$F$72),AF48,0)","v":0},{"$f":"+IF((INDEX($C$17:$AAT$17,AH$17-1)=Simulador!$F$72),AG48,0)","v":0},{"$f":"+IF((INDEX($C$17:$AAT$17,AI$17-1)=Simulador!$F$72),AH48,0)","v":0},{"$f":"+IF((INDEX($C$17:$AAT$17,AJ$17-1)=Simulador!$F$72),AI48,0)","v":0},{"$f":"+IF((INDEX($C$17:$AAT$17,AK$17-1)=Simulador!$F$72),AJ48,0)","v":0},{"$f":"+IF((INDEX($C$17:$AAT$17,AL$17-1)=Simulador!$F$72),AK48,0)","v":0},{"$f":"+IF((INDEX($C$17:$AAT$17,AM$17-1)=Simulador!$F$72),AL48,0)","v":0},{"$f":"+IF((INDEX($C$17:$AAT$17,AN$17-1)=Simulador!$F$72),AM48,0)","v":0},{"$f":"+IF((INDEX($C$17:$AAT$17,AO$17-1)=Simulador!$F$72),AN48,0)","v":0},{"$f":"+IF((INDEX($C$17:$AAT$17,AP$17-1)=Simulador!$F$72),AO48,0)","v":0},{"$f":"+IF((INDEX($C$17:$AAT$17,AQ$17-1)=Simulador!$F$72),AP48,0)","v":0},{"$f":"+IF((INDEX($C$17:$AAT$17,AR$17-1)=Simulador!$F$72),AQ48,0)","v":0},{"$f":"+IF((INDEX($C$17:$AAT$17,AS$17-1)=Simulador!$F$72),AR48,0)","v":0},{"$f":"+IF((INDEX($C$17:$AAT$17,AT$17-1)=Simulador!$F$72),AS48,0)","v":0},{"$f":"+IF((INDEX($C$17:$AAT$17,AU$17-1)=Simulador!$F$72),AT48,0)","v":0},{"$f":"+IF((INDEX($C$17:$AAT$17,AV$17-1)=Simulador!$F$72),AU48,0)","v":0},{"$f":"+IF((INDEX($C$17:$AAT$17,AW$17-1)=Simulador!$F$72),AV48,0)","v":0},{"$f":"+IF((INDEX($C$17:$AAT$17,AX$17-1)=Simulador!$F$72),AW48,0)","v":0},{"$f":"+IF((INDEX($C$17:$AAT$17,AY$17-1)=Simulador!$F$72),AX48,0)","v":0},{"$f":"+IF((INDEX($C$17:$AAT$17,AZ$17-1)=Simulador!$F$72),AY48,0)","v":0},{"$f":"+IF((INDEX($C$17:$AAT$17,BA$17-1)=Simulador!$F$72),AZ48,0)","v":0},{"$f":"+IF((INDEX($C$17:$AAT$17,BB$17-1)=Simulador!$F$72),BA48,0)","v":0},{"$f":"+IF((INDEX($C$17:$AAT$17,BC$17-1)=Simulador!$F$72),BB48,0)","v":0},{"$f":"+IF((INDEX($C$17:$AAT$17,BD$17-1)=Simulador!$F$72),BC48,0)","v":0},{"$f":"+IF((INDEX($C$17:$AAT$17,BE$17-1)=Simulador!$F$72),BD48,0)","v":0},{"$f":"+IF((INDEX($C$17:$AAT$17,BF$17-1)=Simulador!$F$72),BE48,0)","v":0},{"$f":"+IF((INDEX($C$17:$AAT$17,BG$17-1)=Simulador!$F$72),BF48,0)","v":0},{"$f":"+IF((INDEX($C$17:$AAT$17,BH$17-1)=Simulador!$F$72),BG48,0)","v":0},{"$f":"+IF((INDEX($C$17:$AAT$17,BI$17-1)=Simulador!$F$72),BH48,0)","v":0},{"$f":"+IF((INDEX($C$17:$AAT$17,BJ$17-1)=Simulador!$F$72),BI48,0)","v":0},{"$f":"+IF((INDEX($C$17:$AAT$17,BK$17-1)=Simulador!$F$72),BJ48,0)","v":0},{"$f":"+IF((INDEX($C$17:$AAT$17,BL$17-1)=Simulador!$F$72),BK48,0)","v":0},{"$f":"+IF((INDEX($C$17:$AAT$17,BM$17-1)=Simulador!$F$72),BL48,0)","v":0},{"$f":"+IF((INDEX($C$17:$AAT$17,BN$17-1)=Simulador!$F$72),BM48,0)","v":0},{"$f":"+IF((INDEX($C$17:$AAT$17,BO$17-1)=Simulador!$F$72),BN48,0)","v":0},{"$f":"+IF((INDEX($C$17:$AAT$17,BP$17-1)=Simulador!$F$72),BO48,0)","v":0},{"$f":"+IF((INDEX($C$17:$AAT$17,BQ$17-1)=Simulador!$F$72),BP48,0)","v":0},{"$f":"+IF((INDEX($C$17:$AAT$17,BR$17-1)=Simulador!$F$72),BQ48,0)","v":0},{"$f":"+IF((INDEX($C$17:$AAT$17,BS$17-1)=Simulador!$F$72),BR48,0)","v":0},{"$f":"+IF((INDEX($C$17:$AAT$17,BT$17-1)=Simulador!$F$72),BS48,0)","v":0},{"$f":"+IF((INDEX($C$17:$AAT$17,BU$17-1)=Simulador!$F$72),BT48,0)","v":0},{"$f":"+IF((INDEX($C$17:$AAT$17,BV$17-1)=Simulador!$F$72),BU48,0)","v":0},{"$f":"+IF((INDEX($C$17:$AAT$17,BW$17-1)=Simulador!$F$72),BV48,0)","v":0},{"$f":"+IF((INDEX($C$17:$AAT$17,BX$17-1)=Simulador!$F$72),BW48,0)","v":0},{"$f":"+IF((INDEX($C$17:$AAT$17,BY$17-1)=Simulador!$F$72),BX48,0)","v":0},{"$f":"+IF((INDEX($C$17:$AAT$17,BZ$17-1)=Simulador!$F$72),BY48,0)","v":0},{"$f":"+IF((INDEX($C$17:$AAT$17,CA$17-1)=Simulador!$F$72),BZ48,0)","v":0},{"$f":"+IF((INDEX($C$17:$AAT$17,CB$17-1)=Simulador!$F$72),CA48,0)","v":0},{"$f":"+IF((INDEX($C$17:$AAT$17,CC$17-1)=Simulador!$F$72),CB48,0)","v":0},{"$f":"+IF((INDEX($C$17:$AAT$17,CD$17-1)=Simulador!$F$72),CC48,0)","v":0},{"$f":"+IF((INDEX($C$17:$AAT$17,CE$17-1)=Simulador!$F$72),CD48,0)","v":0},{"$f":"+IF((INDEX($C$17:$AAT$17,CF$17-1)=Simulador!$F$72),CE48,0)","v":0},{"$f":"+IF((INDEX($C$17:$AAT$17,CG$17-1)=Simulador!$F$72),CF48,0)","v":0},{"$f":"+IF((INDEX($C$17:$AAT$17,CH$17-1)=Simulador!$F$72),CG48,0)","v":0},{"$f":"+IF((INDEX($C$17:$AAT$17,CI$17-1)=Simulador!$F$72),CH48,0)","v":0},{"$f":"+IF((INDEX($C$17:$AAT$17,CJ$17-1)=Simulador!$F$72),CI48,0)","v":0},{"$f":"+IF((INDEX($C$17:$AAT$17,CK$17-1)=Simulador!$F$72),CJ48,0)","v":0},{"$f":"+IF((INDEX($C$17:$AAT$17,CL$17-1)=Simulador!$F$72),CK48,0)","v":0},{"$f":"+IF((INDEX($C$17:$AAT$17,CM$17-1)=Simulador!$F$72),CL48,0)","v":0},{"$f":"+IF((INDEX($C$17:$AAT$17,CN$17-1)=Simulador!$F$72),CM48,0)","v":0},{"$f":"+IF((INDEX($C$17:$AAT$17,CO$17-1)=Simulador!$F$72),CN48,0)","v":0},{"$f":"+IF((INDEX($C$17:$AAT$17,CP$17-1)=Simulador!$F$72),CO48,0)","v":0},{"$f":"+IF((INDEX($C$17:$AAT$17,CQ$17-1)=Simulador!$F$72),CP48,0)","v":0},{"$f":"+IF((INDEX($C$17:$AAT$17,CR$17-1)=Simulador!$F$72),CQ48,0)","v":0},{"$f":"+IF((INDEX($C$17:$AAT$17,CS$17-1)=Simulador!$F$72),CR48,0)","v":0},{"$f":"+IF((INDEX($C$17:$AAT$17,CT$17-1)=Simulador!$F$72),CS48,0)","v":0},{"$f":"+IF((INDEX($C$17:$AAT$17,CU$17-1)=Simulador!$F$72),CT48,0)","v":0},{"$f":"+IF((INDEX($C$17:$AAT$17,CV$17-1)=Simulador!$F$72),CU48,0)","v":0},{"$f":"+IF((INDEX($C$17:$AAT$17,CW$17-1)=Simulador!$F$72),CV48,0)","v":0},{"$f":"+IF((INDEX($C$17:$AAT$17,CX$17-1)=Simulador!$F$72),CW48,0)","v":0},{"$f":"+IF((INDEX($C$17:$AAT$17,CY$17-1)=Simulador!$F$72),CX48,0)","v":0},{"$f":"+IF((INDEX($C$17:$AAT$17,CZ$17-1)=Simulador!$F$72),CY48,0)","v":0},{"$f":"+IF((INDEX($C$17:$AAT$17,DA$17-1)=Simulador!$F$72),CZ48,0)","v":0},{"$f":"+IF((INDEX($C$17:$AAT$17,DB$17-1)=Simulador!$F$72),DA48,0)","v":0},{"$f":"+IF((INDEX($C$17:$AAT$17,DC$17-1)=Simulador!$F$72),DB48,0)","v":0},{"$f":"+IF((INDEX($C$17:$AAT$17,DD$17-1)=Simulador!$F$72),DC48,0)","v":0},{"$f":"+IF((INDEX($C$17:$AAT$17,DE$17-1)=Simulador!$F$72),DD48,0)","v":0},{"$f":"+IF((INDEX($C$17:$AAT$17,DF$17-1)=Simulador!$F$72),DE48,0)","v":0},{"$f":"+IF((INDEX($C$17:$AAT$17,DG$17-1)=Simulador!$F$72),DF48,0)","v":0},{"$f":"+IF((INDEX($C$17:$AAT$17,DH$17-1)=Simulador!$F$72),DG48,0)","v":0},{"$f":"+IF((INDEX($C$17:$AAT$17,DI$17-1)=Simulador!$F$72),DH48,0)","v":0},{"$f":"+IF((INDEX($C$17:$AAT$17,DJ$17-1)=Simulador!$F$72),DI48,0)","v":0},{"$f":"+IF((INDEX($C$17:$AAT$17,DK$17-1)=Simulador!$F$72),DJ48,0)","v":0},{"$f":"+IF((INDEX($C$17:$AAT$17,DL$17-1)=Simulador!$F$72),DK48,0)","v":0},{"$f":"+IF((INDEX($C$17:$AAT$17,DM$17-1)=Simulador!$F$72),DL48,0)","v":0},{"$f":"+IF((INDEX($C$17:$AAT$17,DN$17-1)=Simulador!$F$72),DM48,0)","v":0},{"$f":"+IF((INDEX($C$17:$AAT$17,DO$17-1)=Simulador!$F$72),DN48,0)","v":0},{"$f":"+IF((INDEX($C$17:$AAT$17,DP$17-1)=Simulador!$F$72),DO48,0)","v":0},{"$f":"+IF((INDEX($C$17:$AAT$17,DQ$17-1)=Simulador!$F$72),DP48,0)","v":0},{"$f":"+IF((INDEX($C$17:$AAT$17,DR$17-1)=Simulador!$F$72),DQ48,0)","v":0},{"$f":"+IF((INDEX($C$17:$AAT$17,DS$17-1)=Simulador!$F$72),DR48,0)","v":2.3399999999999994},{"$f":"+IF((INDEX($C$17:$AAT$17,DT$17-1)=Simulador!$F$72),DS48,0)","v":0},{"$f":"+IF((INDEX($C$17:$AAT$17,DU$17-1)=Simulador!$F$72),DT48,0)","v":0},{"$f":"+IF((INDEX($C$17:$AAT$17,DV$17-1)=Simulador!$F$72),DU48,0)","v":0},{"$f":"+IF((INDEX($C$17:$AAT$17,DW$17-1)=Simulador!$F$72),DV48,0)","v":0},{"$f":"+IF((INDEX($C$17:$AAT$17,DX$17-1)=Simulador!$F$72),DW48,0)","v":0},{"$f":"+IF((INDEX($C$17:$AAT$17,DY$17-1)=Simulador!$F$72),DX48,0)","v":0},{"$f":"+IF((INDEX($C$17:$AAT$17,DZ$17-1)=Simulador!$F$72),DY48,0)","v":0},{"$f":"+IF((INDEX($C$17:$AAT$17,EA$17-1)=Simulador!$F$72),DZ48,0)","v":0},{"$f":"+IF((INDEX($C$17:$AAT$17,EB$17-1)=Simulador!$F$72),EA48,0)","v":0},{"$f":"+IF((INDEX($C$17:$AAT$17,EC$17-1)=Simulador!$F$72),EB48,0)","v":0},{"$f":"+IF((INDEX($C$17:$AAT$17,ED$17-1)=Simulador!$F$72),EC48,0)","v":0},{"$f":"+IF((INDEX($C$17:$AAT$17,EE$17-1)=Simulador!$F$72),ED48,0)","v":0},{"$f":"+IF((INDEX($C$17:$AAT$17,EF$17-1)=Simulador!$F$72),EE48,0)","v":0},{"$f":"+IF((INDEX($C$17:$AAT$17,EG$17-1)=Simulador!$F$72),EF48,0)","v":0},{"$f":"+IF((INDEX($C$17:$AAT$17,EH$17-1)=Simulador!$F$72),EG48,0)","v":0},{"$f":"+IF((INDEX($C$17:$AAT$17,EI$17-1)=Simulador!$F$72),EH48,0)","v":0},{"$f":"+IF((INDEX($C$17:$AAT$17,EJ$17-1)=Simulador!$F$72),EI48,0)","v":0},{"$f":"+IF((INDEX($C$17:$AAT$17,EK$17-1)=Simulador!$F$72),EJ48,0)","v":0},{"$f":"+IF((INDEX($C$17:$AAT$17,EL$17-1)=Simulador!$F$72),EK48,0)","v":0},{"$f":"+IF((INDEX($C$17:$AAT$17,EM$17-1)=Simulador!$F$72),EL48,0)","v":0},{"$f":"+IF((INDEX($C$17:$AAT$17,EN$17-1)=Simulador!$F$72),EM48,0)","v":0},{"$f":"+IF((INDEX($C$17:$AAT$17,EO$17-1)=Simulador!$F$72),EN48,0)","v":0},{"$f":"+IF((INDEX($C$17:$AAT$17,EP$17-1)=Simulador!$F$72),EO48,0)","v":0},{"$f":"+IF((INDEX($C$17:$AAT$17,EQ$17-1)=Simulador!$F$72),EP48,0)","v":0},{"$f":"+IF((INDEX($C$17:$AAT$17,ER$17-1)=Simulador!$F$72),EQ48,0)","v":0},{"$f":"+IF((INDEX($C$17:$AAT$17,ES$17-1)=Simulador!$F$72),ER48,0)","v":0},{"$f":"+IF((INDEX($C$17:$AAT$17,ET$17-1)=Simulador!$F$72),ES48,0)","v":0},{"$f":"+IF((INDEX($C$17:$AAT$17,EU$17-1)=Simulador!$F$72),ET48,0)","v":0},{"$f":"+IF((INDEX($C$17:$AAT$17,EV$17-1)=Simulador!$F$72),EU48,0)","v":0},{"$f":"+IF((INDEX($C$17:$AAT$17,EW$17-1)=Simulador!$F$72),EV48,0)","v":0},{"$f":"+IF((INDEX($C$17:$AAT$17,EX$17-1)=Simulador!$F$72),EW48,0)","v":0},{"$f":"+IF((INDEX($C$17:$AAT$17,EY$17-1)=Simulador!$F$72),EX48,0)","v":0},{"$f":"+IF((INDEX($C$17:$AAT$17,EZ$17-1)=Simulador!$F$72),EY48,0)","v":0},{"$f":"+IF((INDEX($C$17:$AAT$17,FA$17-1)=Simulador!$F$72),EZ48,0)","v":0},{"$f":"+IF((INDEX($C$17:$AAT$17,FB$17-1)=Simulador!$F$72),FA48,0)","v":0},{"$f":"+IF((INDEX($C$17:$AAT$17,FC$17-1)=Simulador!$F$72),FB48,0)","v":0},{"$f":"+IF((INDEX($C$17:$AAT$17,FD$17-1)=Simulador!$F$72),FC48,0)","v":0},{"$f":"+IF((INDEX($C$17:$AAT$17,FE$17-1)=Simulador!$F$72),FD48,0)","v":0},{"$f":"+IF((INDEX($C$17:$AAT$17,FF$17-1)=Simulador!$F$72),FE48,0)","v":0},{"$f":"+IF((INDEX($C$17:$AAT$17,FG$17-1)=Simulador!$F$72),FF48,0)","v":0},{"$f":"+IF((INDEX($C$17:$AAT$17,FH$17-1)=Simulador!$F$72),FG48,0)","v":0},{"$f":"+IF((INDEX($C$17:$AAT$17,FI$17-1)=Simulador!$F$72),FH48,0)","v":0},{"$f":"+IF((INDEX($C$17:$AAT$17,FJ$17-1)=Simulador!$F$72),FI48,0)","v":0},{"$f":"+IF((INDEX($C$17:$AAT$17,FK$17-1)=Simulador!$F$72),FJ48,0)","v":0},{"$f":"+IF((INDEX($C$17:$AAT$17,FL$17-1)=Simulador!$F$72),FK48,0)","v":0},{"$f":"+IF((INDEX($C$17:$AAT$17,FM$17-1)=Simulador!$F$72),FL48,0)","v":0},{"$f":"+IF((INDEX($C$17:$AAT$17,FN$17-1)=Simulador!$F$72),FM48,0)","v":0},{"$f":"+IF((INDEX($C$17:$AAT$17,FO$17-1)=Simulador!$F$72),FN48,0)","v":0},{"$f":"+IF((INDEX($C$17:$AAT$17,FP$17-1)=Simulador!$F$72),FO48,0)","v":0},{"$f":"+IF((INDEX($C$17:$AAT$17,FQ$17-1)=Simulador!$F$72),FP48,0)","v":0},{"$f":"+IF((INDEX($C$17:$AAT$17,FR$17-1)=Simulador!$F$72),FQ48,0)","v":0},{"$f":"+IF((INDEX($C$17:$AAT$17,FS$17-1)=Simulador!$F$72),FR48,0)","v":0},{"$f":"+IF((INDEX($C$17:$AAT$17,FT$17-1)=Simulador!$F$72),FS48,0)","v":0},{"$f":"+IF((INDEX($C$17:$AAT$17,FU$17-1)=Simulador!$F$72),FT48,0)","v":0},{"$f":"+IF((INDEX($C$17:$AAT$17,FV$17-1)=Simulador!$F$72),FU48,0)","v":0},{"$f":"+IF((INDEX($C$17:$AAT$17,FW$17-1)=Simulador!$F$72),FV48,0)","v":0},{"$f":"+IF((INDEX($C$17:$AAT$17,FX$17-1)=Simulador!$F$72),FW48,0)","v":0},{"$f":"+IF((INDEX($C$17:$AAT$17,FY$17-1)=Simulador!$F$72),FX48,0)","v":0},{"$f":"+IF((INDEX($C$17:$AAT$17,FZ$17-1)=Simulador!$F$72),FY48,0)","v":0},{"$f":"+IF((INDEX($C$17:$AAT$17,GA$17-1)=Simulador!$F$72),FZ48,0)","v":0},{"$f":"+IF((INDEX($C$17:$AAT$17,GB$17-1)=Simulador!$F$72),GA48,0)","v":0},{"$f":"+IF((INDEX($C$17:$AAT$17,GC$17-1)=Simulador!$F$72),GB48,0)","v":0},{"$f":"+IF((INDEX($C$17:$AAT$17,GD$17-1)=Simulador!$F$72),GC48,0)","v":0},{"$f":"+IF((INDEX($C$17:$AAT$17,GE$17-1)=Simulador!$F$72),GD48,0)","v":0},{"$f":"+IF((INDEX($C$17:$AAT$17,GF$17-1)=Simulador!$F$72),GE48,0)","v":0},{"$f":"+IF((INDEX($C$17:$AAT$17,GG$17-1)=Simulador!$F$72),GF48,0)","v":0},{"$f":"+IF((INDEX($C$17:$AAT$17,GH$17-1)=Simulador!$F$72),GG48,0)","v":0},{"$f":"+IF((INDEX($C$17:$AAT$17,GI$17-1)=Simulador!$F$72),GH48,0)","v":0},{"$f":"+IF((INDEX($C$17:$AAT$17,GJ$17-1)=Simulador!$F$72),GI48,0)","v":0},{"$f":"+IF((INDEX($C$17:$AAT$17,GK$17-1)=Simulador!$F$72),GJ48,0)","v":0},{"$f":"+IF((INDEX($C$17:$AAT$17,GL$17-1)=Simulador!$F$72),GK48,0)","v":0},{"$f":"+IF((INDEX($C$17:$AAT$17,GM$17-1)=Simulador!$F$72),GL48,0)","v":0},{"$f":"+IF((INDEX($C$17:$AAT$17,GN$17-1)=Simulador!$F$72),GM48,0)","v":0},{"$f":"+IF((INDEX($C$17:$AAT$17,GO$17-1)=Simulador!$F$72),GN48,0)","v":0},{"$f":"+IF((INDEX($C$17:$AAT$17,GP$17-1)=Simulador!$F$72),GO48,0)","v":0},{"$f":"+IF((INDEX($C$17:$AAT$17,GQ$17-1)=Simulador!$F$72),GP48,0)","v":0},{"$f":"+IF((INDEX($C$17:$AAT$17,GR$17-1)=Simulador!$F$72),GQ48,0)","v":0},{"$f":"+IF((INDEX($C$17:$AAT$17,GS$17-1)=Simulador!$F$72),GR48,0)","v":0},{"$f":"+IF((INDEX($C$17:$AAT$17,GT$17-1)=Simulador!$F$72),GS48,0)","v":0},{"$f":"+IF((INDEX($C$17:$AAT$17,GU$17-1)=Simulador!$F$72),GT48,0)","v":0},{"$f":"+IF((INDEX($C$17:$AAT$17,GV$17-1)=Simulador!$F$72),GU48,0)","v":0},{"$f":"+IF((INDEX($C$17:$AAT$17,GW$17-1)=Simulador!$F$72),GV48,0)","v":0},{"$f":"+IF((INDEX($C$17:$AAT$17,GX$17-1)=Simulador!$F$72),GW48,0)","v":0},{"$f":"+IF((INDEX($C$17:$AAT$17,GY$17-1)=Simulador!$F$72),GX48,0)","v":0},{"$f":"+IF((INDEX($C$17:$AAT$17,GZ$17-1)=Simulador!$F$72),GY48,0)","v":0},{"$f":"+IF((INDEX($C$17:$AAT$17,HA$17-1)=Simulador!$F$72),GZ48,0)","v":0},{"$f":"+IF((INDEX($C$17:$AAT$17,HB$17-1)=Simulador!$F$72),HA48,0)","v":0},{"$f":"+IF((INDEX($C$17:$AAT$17,HC$17-1)=Simulador!$F$72),HB48,0)","v":0},{"$f":"+IF((INDEX($C$17:$AAT$17,HD$17-1)=Simulador!$F$72),HC48,0)","v":0},{"$f":"+IF((INDEX($C$17:$AAT$17,HE$17-1)=Simulador!$F$72),HD48,0)","v":0},{"$f":"+IF((INDEX($C$17:$AAT$17,HF$17-1)=Simulador!$F$72),HE48,0)","v":0},{"$f":"+IF((INDEX($C$17:$AAT$17,HG$17-1)=Simulador!$F$72),HF48,0)","v":0},{"$f":"+IF((INDEX($C$17:$AAT$17,HH$17-1)=Simulador!$F$72),HG48,0)","v":0},{"$f":"+IF((INDEX($C$17:$AAT$17,HI$17-1)=Simulador!$F$72),HH48,0)","v":0},{"$f":"+IF((INDEX($C$17:$AAT$17,HJ$17-1)=Simulador!$F$72),HI48,0)","v":0},{"$f":"+IF((INDEX($C$17:$AAT$17,HK$17-1)=Simulador!$F$72),HJ48,0)","v":0},{"$f":"+IF((INDEX($C$17:$AAT$17,HL$17-1)=Simulador!$F$72),HK48,0)","v":0},{"$f":"+IF((INDEX($C$17:$AAT$17,HM$17-1)=Simulador!$F$72),HL48,0)","v":0},{"$f":"+IF((INDEX($C$17:$AAT$17,HN$17-1)=Simulador!$F$72),HM48,0)","v":0},{"$f":"+IF((INDEX($C$17:$AAT$17,HO$17-1)=Simulador!$F$72),HN48,0)","v":0},{"$f":"+IF((INDEX($C$17:$AAT$17,HP$17-1)=Simulador!$F$72),HO48,0)","v":0},{"$f":"+IF((INDEX($C$17:$AAT$17,HQ$17-1)=Simulador!$F$72),HP48,0)","v":0},{"$f":"+IF((INDEX($C$17:$AAT$17,HR$17-1)=Simulador!$F$72),HQ48,0)","v":0},{"$f":"+IF((INDEX($C$17:$AAT$17,HS$17-1)=Simulador!$F$72),HR48,0)","v":0},{"$f":"+IF((INDEX($C$17:$AAT$17,HT$17-1)=Simulador!$F$72),HS48,0)","v":0},{"$f":"+IF((INDEX($C$17:$AAT$17,HU$17-1)=Simulador!$F$72),HT48,0)","v":0},{"$f":"+IF((INDEX($C$17:$AAT$17,HV$17-1)=Simulador!$F$72),HU48,0)","v":0},{"$f":"+IF((INDEX($C$17:$AAT$17,HW$17-1)=Simulador!$F$72),HV48,0)","v":0},{"$f":"+IF((INDEX($C$17:$AAT$17,HX$17-1)=Simulador!$F$72),HW48,0)","v":0},{"$f":"+IF((INDEX($C$17:$AAT$17,HY$17-1)=Simulador!$F$72),HX48,0)","v":0},{"$f":"+IF((INDEX($C$17:$AAT$17,HZ$17-1)=Simulador!$F$72),HY48,0)","v":0},{"$f":"+IF((INDEX($C$17:$AAT$17,IA$17-1)=Simulador!$F$72),HZ48,0)","v":0},{"$f":"+IF((INDEX($C$17:$AAT$17,IB$17-1)=Simulador!$F$72),IA48,0)","v":0},{"$f":"+IF((INDEX($C$17:$AAT$17,IC$17-1)=Simulador!$F$72),IB48,0)","v":0},{"$f":"+IF((INDEX($C$17:$AAT$17,ID$17-1)=Simulador!$F$72),IC48,0)","v":0},{"$f":"+IF((INDEX($C$17:$AAT$17,IE$17-1)=Simulador!$F$72),ID48,0)","v":0},{"$f":"+IF((INDEX($C$17:$AAT$17,IF$17-1)=Simulador!$F$72),IE48,0)","v":0},{"$f":"+IF((INDEX($C$17:$AAT$17,IG$17-1)=Simulador!$F$72),IF48,0)","v":0},{"$f":"+IF((INDEX($C$17:$AAT$17,IH$17-1)=Simulador!$F$72),IG48,0)","v":0},{"$f":"+IF((INDEX($C$17:$AAT$17,II$17-1)=Simulador!$F$72),IH48,0)","v":0},{"$f":"+IF((INDEX($C$17:$AAT$17,IJ$17-1)=Simulador!$F$72),II48,0)","v":0},{"$f":"+IF((INDEX($C$17:$AAT$17,IK$17-1)=Simulador!$F$72),IJ48,0)","v":0},{"$f":"+IF((INDEX($C$17:$AAT$17,IL$17-1)=Simulador!$F$72),IK48,0)","v":0},{"$f":"+IF((INDEX($C$17:$AAT$17,IM$17-1)=Simulador!$F$72),IL48,0)","v":0},{"$f":"+IF((INDEX($C$17:$AAT$17,IN$17-1)=Simulador!$F$72),IM48,0)","v":0},{"$f":"+IF((INDEX($C$17:$AAT$17,IO$17-1)=Simulador!$F$72),IN48,0)","v":0},{"$f":"+IF((INDEX($C$17:$AAT$17,IP$17-1)=Simulador!$F$72),IO48,0)","v":0},{"$f":"+IF((INDEX($C$17:$AAT$17,IQ$17-1)=Simulador!$F$72),IP48,0)","v":0},{"$f":"+IF((INDEX($C$17:$AAT$17,IR$17-1)=Simulador!$F$72),IQ48,0)","v":0},{"$f":"+IF((INDEX($C$17:$AAT$17,IS$17-1)=Simulador!$F$72),IR48,0)","v":0},{"$f":"+IF((INDEX($C$17:$AAT$17,IT$17-1)=Simulador!$F$72),IS48,0)","v":0},{"$f":"+IF((INDEX($C$17:$AAT$17,IU$17-1)=Simulador!$F$72),IT48,0)","v":0},{"$f":"+IF((INDEX($C$17:$AAT$17,IV$17-1)=Simulador!$F$72),IU48,0)","v":0},{"$f":"+IF((INDEX($C$17:$AAT$17,IW$17-1)=Simulador!$F$72),IV48,0)","v":0},{"$f":"+IF((INDEX($C$17:$AAT$17,IX$17-1)=Simulador!$F$72),IW48,0)","v":0},{"$f":"+IF((INDEX($C$17:$AAT$17,IY$17-1)=Simulador!$F$72),IX48,0)","v":0},{"$f":"+IF((INDEX($C$17:$AAT$17,IZ$17-1)=Simulador!$F$72),IY48,0)","v":0},{"$f":"+IF((INDEX($C$17:$AAT$17,JA$17-1)=Simulador!$F$72),IZ48,0)","v":0},{"$f":"+IF((INDEX($C$17:$AAT$17,JB$17-1)=Simulador!$F$72),JA48,0)","v":0},{"$f":"+IF((INDEX($C$17:$AAT$17,JC$17-1)=Simulador!$F$72),JB48,0)","v":0},{"$f":"+IF((INDEX($C$17:$AAT$17,JD$17-1)=Simulador!$F$72),JC48,0)","v":0},{"$f":"+IF((INDEX($C$17:$AAT$17,JE$17-1)=Simulador!$F$72),JD48,0)","v":0},{"$f":"+IF((INDEX($C$17:$AAT$17,JF$17-1)=Simulador!$F$72),JE48,0)","v":0},{"$f":"+IF((INDEX($C$17:$AAT$17,JG$17-1)=Simulador!$F$72),JF48,0)","v":0},{"$f":"+IF((INDEX($C$17:$AAT$17,JH$17-1)=Simulador!$F$72),JG48,0)","v":0},{"$f":"+IF((INDEX($C$17:$AAT$17,JI$17-1)=Simulador!$F$72),JH48,0)","v":0},{"$f":"+IF((INDEX($C$17:$AAT$17,JJ$17-1)=Simulador!$F$72),JI48,0)","v":0},{"$f":"+IF((INDEX($C$17:$AAT$17,JK$17-1)=Simulador!$F$72),JJ48,0)","v":0},{"$f":"+IF((INDEX($C$17:$AAT$17,JL$17-1)=Simulador!$F$72),JK48,0)","v":0},{"$f":"+IF((INDEX($C$17:$AAT$17,JM$17-1)=Simulador!$F$72),JL48,0)","v":0},{"$f":"+IF((INDEX($C$17:$AAT$17,JN$17-1)=Simulador!$F$72),JM48,0)","v":0},{"$f":"+IF((INDEX($C$17:$AAT$17,JO$17-1)=Simulador!$F$72),JN48,0)","v":0},{"$f":"+IF((INDEX($C$17:$AAT$17,JP$17-1)=Simulador!$F$72),JO48,0)","v":0},{"$f":"+IF((INDEX($C$17:$AAT$17,JQ$17-1)=Simulador!$F$72),JP48,0)","v":0},{"$f":"+IF((INDEX($C$17:$AAT$17,JR$17-1)=Simulador!$F$72),JQ48,0)","v":0},{"$f":"+IF((INDEX($C$17:$AAT$17,JS$17-1)=Simulador!$F$72),JR48,0)","v":0},{"$f":"+IF((INDEX($C$17:$AAT$17,JT$17-1)=Simulador!$F$72),JS48,0)","v":0},{"$f":"+IF((INDEX($C$17:$AAT$17,JU$17-1)=Simulador!$F$72),JT48,0)","v":0},{"$f":"+IF((INDEX($C$17:$AAT$17,JV$17-1)=Simulador!$F$72),JU48,0)","v":0},{"$f":"+IF((INDEX($C$17:$AAT$17,JW$17-1)=Simulador!$F$72),JV48,0)","v":0},{"$f":"+IF((INDEX($C$17:$AAT$17,JX$17-1)=Simulador!$F$72),JW48,0)","v":0},{"$f":"+IF((INDEX($C$17:$AAT$17,JY$17-1)=Simulador!$F$72),JX48,0)","v":0},{"$f":"+IF((INDEX($C$17:$AAT$17,JZ$17-1)=Simulador!$F$72),JY48,0)","v":0},{"$f":"+IF((INDEX($C$17:$AAT$17,KA$17-1)=Simulador!$F$72),JZ48,0)","v":0},{"$f":"+IF((INDEX($C$17:$AAT$17,KB$17-1)=Simulador!$F$72),KA48,0)","v":0},{"$f":"+IF((INDEX($C$17:$AAT$17,KC$17-1)=Simulador!$F$72),KB48,0)","v":0},{"$f":"+IF((INDEX($C$17:$AAT$17,KD$17-1)=Simulador!$F$72),KC48,0)","v":0},{"$f":"+IF((INDEX($C$17:$AAT$17,KE$17-1)=Simulador!$F$72),KD48,0)","v":0},{"$f":"+IF((INDEX($C$17:$AAT$17,KF$17-1)=Simulador!$F$72),KE48,0)","v":0},{"$f":"+IF((INDEX($C$17:$AAT$17,KG$17-1)=Simulador!$F$72),KF48,0)","v":0},{"$f":"+IF((INDEX($C$17:$AAT$17,KH$17-1)=Simulador!$F$72),KG48,0)","v":0},{"$f":"+IF((INDEX($C$17:$AAT$17,KI$17-1)=Simulador!$F$72),KH48,0)","v":0},{"$f":"+IF((INDEX($C$17:$AAT$17,KJ$17-1)=Simulador!$F$72),KI48,0)","v":0},{"$f":"+IF((INDEX($C$17:$AAT$17,KK$17-1)=Simulador!$F$72),KJ48,0)","v":0},{"$f":"+IF((INDEX($C$17:$AAT$17,KL$17-1)=Simulador!$F$72),KK48,0)","v":0},{"$f":"+IF((INDEX($C$17:$AAT$17,KM$17-1)=Simulador!$F$72),KL48,0)","v":0},{"$f":"+IF((INDEX($C$17:$AAT$17,KN$17-1)=Simulador!$F$72),KM48,0)","v":0},{"$f":"+IF((INDEX($C$17:$AAT$17,KO$17-1)=Simulador!$F$72),KN48,0)","v":0},{"$f":"+IF((INDEX($C$17:$AAT$17,KP$17-1)=Simulador!$F$72),KO48,0)","v":0},{"$f":"+IF((INDEX($C$17:$AAT$17,KQ$17-1)=Simulador!$F$72),KP48,0)","v":0},{"$f":"+IF((INDEX($C$17:$AAT$17,KR$17-1)=Simulador!$F$72),KQ48,0)","v":0},{"$f":"+IF((INDEX($C$17:$AAT$17,KS$17-1)=Simulador!$F$72),KR48,0)","v":0},{"$f":"+IF((INDEX($C$17:$AAT$17,KT$17-1)=Simulador!$F$72),KS48,0)","v":0},{"$f":"+IF((INDEX($C$17:$AAT$17,KU$17-1)=Simulador!$F$72),KT48,0)","v":0},{"$f":"+IF((INDEX($C$17:$AAT$17,KV$17-1)=Simulador!$F$72),KU48,0)","v":0},{"$f":"+IF((INDEX($C$17:$AAT$17,KW$17-1)=Simulador!$F$72),KV48,0)","v":0},{"$f":"+IF((INDEX($C$17:$AAT$17,KX$17-1)=Simulador!$F$72),KW48,0)","v":0},{"$f":"+IF((INDEX($C$17:$AAT$17,KY$17-1)=Simulador!$F$72),KX48,0)","v":0},{"$f":"+IF((INDEX($C$17:$AAT$17,KZ$17-1)=Simulador!$F$72),KY48,0)","v":0},{"$f":"+IF((INDEX($C$17:$AAT$17,LA$17-1)=Simulador!$F$72),KZ48,0)","v":0},{"$f":"+IF((INDEX($C$17:$AAT$17,LB$17-1)=Simulador!$F$72),LA48,0)","v":0},{"$f":"+IF((INDEX($C$17:$AAT$17,LC$17-1)=Simulador!$F$72),LB48,0)","v":0},{"$f":"+IF((INDEX($C$17:$AAT$17,LD$17-1)=Simulador!$F$72),LC48,0)","v":0},{"$f":"+IF((INDEX($C$17:$AAT$17,LE$17-1)=Simulador!$F$72),LD48,0)","v":0},{"$f":"+IF((INDEX($C$17:$AAT$17,LF$17-1)=Simulador!$F$72),LE48,0)","v":0},{"$f":"+IF((INDEX($C$17:$AAT$17,LG$17-1)=Simulador!$F$72),LF48,0)","v":0},{"$f":"+IF((INDEX($C$17:$AAT$17,LH$17-1)=Simulador!$F$72),LG48,0)","v":0},{"$f":"+IF((INDEX($C$17:$AAT$17,LI$17-1)=Simulador!$F$72),LH48,0)","v":0},{"$f":"+IF((INDEX($C$17:$AAT$17,LJ$17-1)=Simulador!$F$72),LI48,0)","v":0},{"$f":"+IF((INDEX($C$17:$AAT$17,LK$17-1)=Simulador!$F$72),LJ48,0)","v":0},{"$f":"+IF((INDEX($C$17:$AAT$17,LL$17-1)=Simulador!$F$72),LK48,0)","v":0},{"$f":"+IF((INDEX($C$17:$AAT$17,LM$17-1)=Simulador!$F$72),LL48,0)","v":0},{"$f":"+IF((INDEX($C$17:$AAT$17,LN$17-1)=Simulador!$F$72),LM48,0)","v":0},{"$f":"+IF((INDEX($C$17:$AAT$17,LO$17-1)=Simulador!$F$72),LN48,0)","v":0},{"$f":"+IF((INDEX($C$17:$AAT$17,LP$17-1)=Simulador!$F$72),LO48,0)","v":0},{"$f":"+IF((INDEX($C$17:$AAT$17,LQ$17-1)=Simulador!$F$72),LP48,0)","v":0},{"$f":"+IF((INDEX($C$17:$AAT$17,LR$17-1)=Simulador!$F$72),LQ48,0)","v":0},{"$f":"+IF((INDEX($C$17:$AAT$17,LS$17-1)=Simulador!$F$72),LR48,0)","v":0},{"$f":"+IF((INDEX($C$17:$AAT$17,LT$17-1)=Simulador!$F$72),LS48,0)","v":0},{"$f":"+IF((INDEX($C$17:$AAT$17,LU$17-1)=Simulador!$F$72),LT48,0)","v":0},{"$f":"+IF((INDEX($C$17:$AAT$17,LV$17-1)=Simulador!$F$72),LU48,0)","v":0},{"$f":"+IF((INDEX($C$17:$AAT$17,LW$17-1)=Simulador!$F$72),LV48,0)","v":0},{"$f":"+IF((INDEX($C$17:$AAT$17,LX$17-1)=Simulador!$F$72),LW48,0)","v":0},{"$f":"+IF((INDEX($C$17:$AAT$17,LY$17-1)=Simulador!$F$72),LX48,0)","v":0},{"$f":"+IF((INDEX($C$17:$AAT$17,LZ$17-1)=Simulador!$F$72),LY48,0)","v":0},{"$f":"+IF((INDEX($C$17:$AAT$17,MA$17-1)=Simulador!$F$72),LZ48,0)","v":0},{"$f":"+IF((INDEX($C$17:$AAT$17,MB$17-1)=Simulador!$F$72),MA48,0)","v":0},{"$f":"+IF((INDEX($C$17:$AAT$17,MC$17-1)=Simulador!$F$72),MB48,0)","v":0},{"$f":"+IF((INDEX($C$17:$AAT$17,MD$17-1)=Simulador!$F$72),MC48,0)","v":0},{"$f":"+IF((INDEX($C$17:$AAT$17,ME$17-1)=Simulador!$F$72),MD48,0)","v":0},{"$f":"+IF((INDEX($C$17:$AAT$17,MF$17-1)=Simulador!$F$72),ME48,0)","v":0},{"$f":"+IF((INDEX($C$17:$AAT$17,MG$17-1)=Simulador!$F$72),MF48,0)","v":0},{"$f":"+IF((INDEX($C$17:$AAT$17,MH$17-1)=Simulador!$F$72),MG48,0)","v":0},{"$f":"+IF((INDEX($C$17:$AAT$17,MI$17-1)=Simulador!$F$72),MH48,0)","v":0},{"$f":"+IF((INDEX($C$17:$AAT$17,MJ$17-1)=Simulador!$F$72),MI48,0)","v":0},{"$f":"+IF((INDEX($C$17:$AAT$17,MK$17-1)=Simulador!$F$72),MJ48,0)","v":0},{"$f":"+IF((INDEX($C$17:$AAT$17,ML$17-1)=Simulador!$F$72),MK48,0)","v":0},{"$f":"+IF((INDEX($C$17:$AAT$17,MM$17-1)=Simulador!$F$72),ML48,0)","v":0},{"$f":"+IF((INDEX($C$17:$AAT$17,MN$17-1)=Simulador!$F$72),MM48,0)","v":0},{"$f":"+IF((INDEX($C$17:$AAT$17,MO$17-1)=Simulador!$F$72),MN48,0)","v":0},{"$f":"+IF((INDEX($C$17:$AAT$17,MP$17-1)=Simulador!$F$72),MO48,0)","v":0},{"$f":"+IF((INDEX($C$17:$AAT$17,MQ$17-1)=Simulador!$F$72),MP48,0)","v":0},{"$f":"+IF((INDEX($C$17:$AAT$17,MR$17-1)=Simulador!$F$72),MQ48,0)","v":0},{"$f":"+IF((INDEX($C$17:$AAT$17,MS$17-1)=Simulador!$F$72),MR48,0)","v":0},{"$f":"+IF((INDEX($C$17:$AAT$17,MT$17-1)=Simulador!$F$72),MS48,0)","v":0},{"$f":"+IF((INDEX($C$17:$AAT$17,MU$17-1)=Simulador!$F$72),MT48,0)","v":0},{"$f":"+IF((INDEX($C$17:$AAT$17,MV$17-1)=Simulador!$F$72),MU48,0)","v":0},{"$f":"+IF((INDEX($C$17:$AAT$17,MW$17-1)=Simulador!$F$72),MV48,0)","v":0},{"$f":"+IF((INDEX($C$17:$AAT$17,MX$17-1)=Simulador!$F$72),MW48,0)","v":0},{"$f":"+IF((INDEX($C$17:$AAT$17,MY$17-1)=Simulador!$F$72),MX48,0)","v":0},{"$f":"+IF((INDEX($C$17:$AAT$17,MZ$17-1)=Simulador!$F$72),MY48,0)","v":0},{"$f":"+IF((INDEX($C$17:$AAT$17,NA$17-1)=Simulador!$F$72),MZ48,0)","v":0},{"$f":"+IF((INDEX($C$17:$AAT$17,NB$17-1)=Simulador!$F$72),NA48,0)","v":0},{"$f":"+IF((INDEX($C$17:$AAT$17,NC$17-1)=Simulador!$F$72),NB48,0)","v":0},{"$f":"+IF((INDEX($C$17:$AAT$17,ND$17-1)=Simulador!$F$72),NC48,0)","v":0},{"$f":"+IF((INDEX($C$17:$AAT$17,NE$17-1)=Simulador!$F$72),ND48,0)","v":0},{"$f":"+IF((INDEX($C$17:$AAT$17,NF$17-1)=Simulador!$F$72),NE48,0)","v":0},{"$f":"+IF((INDEX($C$17:$AAT$17,NG$17-1)=Simulador!$F$72),NF48,0)","v":0},{"$f":"+IF((INDEX($C$17:$AAT$17,NH$17-1)=Simulador!$F$72),NG48,0)","v":0},{"$f":"+IF((INDEX($C$17:$AAT$17,NI$17-1)=Simulador!$F$72),NH48,0)","v":0},{"$f":"+IF((INDEX($C$17:$AAT$17,NJ$17-1)=Simulador!$F$72),NI48,0)","v":0},{"$f":"+IF((INDEX($C$17:$AAT$17,NK$17-1)=Simulador!$F$72),NJ48,0)","v":0},{"$f":"+IF((INDEX($C$17:$AAT$17,NL$17-1)=Simulador!$F$72),NK48,0)","v":0},{"$f":"+IF((INDEX($C$17:$AAT$17,NM$17-1)=Simulador!$F$72),NL48,0)","v":0},{"$f":"+IF((INDEX($C$17:$AAT$17,NN$17-1)=Simulador!$F$72),NM48,0)","v":0},{"$f":"+IF((INDEX($C$17:$AAT$17,NO$17-1)=Simulador!$F$72),NN48,0)","v":0},{"$f":"+IF((INDEX($C$17:$AAT$17,NP$17-1)=Simulador!$F$72),NO48,0)","v":0},{"$f":"+IF((INDEX($C$17:$AAT$17,NQ$17-1)=Simulador!$F$72),NP48,0)","v":0},{"$f":"+IF((INDEX($C$17:$AAT$17,NR$17-1)=Simulador!$F$72),NQ48,0)","v":0},{"$f":"+IF((INDEX($C$17:$AAT$17,NS$17-1)=Simulador!$F$72),NR48,0)","v":0},{"$f":"+IF((INDEX($C$17:$AAT$17,NT$17-1)=Simulador!$F$72),NS48,0)","v":0},{"$f":"+IF((INDEX($C$17:$AAT$17,NU$17-1)=Simulador!$F$72),NT48,0)","v":0},{"$f":"+IF((INDEX($C$17:$AAT$17,NV$17-1)=Simulador!$F$72),NU48,0)","v":0},{"$f":"+IF((INDEX($C$17:$AAT$17,NW$17-1)=Simulador!$F$72),NV48,0)","v":0},{"$f":"+IF((INDEX($C$17:$AAT$17,NX$17-1)=Simulador!$F$72),NW48,0)","v":0},{"$f":"+IF((INDEX($C$17:$AAT$17,NY$17-1)=Simulador!$F$72),NX48,0)","v":0},{"$f":"+IF((INDEX($C$17:$AAT$17,NZ$17-1)=Simulador!$F$72),NY48,0)","v":0},{"$f":"+IF((INDEX($C$17:$AAT$17,OA$17-1)=Simulador!$F$72),NZ48,0)","v":0},{"$f":"+IF((INDEX($C$17:$AAT$17,OB$17-1)=Simulador!$F$72),OA48,0)","v":0},{"$f":"+IF((INDEX($C$17:$AAT$17,OC$17-1)=Simulador!$F$72),OB48,0)","v":0},{"$f":"+IF((INDEX($C$17:$AAT$17,OD$17-1)=Simulador!$F$72),OC48,0)","v":0},{"$f":"+IF((INDEX($C$17:$AAT$17,OE$17-1)=Simulador!$F$72),OD48,0)","v":0},{"$f":"+IF((INDEX($C$17:$AAT$17,OF$17-1)=Simulador!$F$72),OE48,0)","v":0},{"$f":"+IF((INDEX($C$17:$AAT$17,OG$17-1)=Simulador!$F$72),OF48,0)","v":0},{"$f":"+IF((INDEX($C$17:$AAT$17,OH$17-1)=Simulador!$F$72),OG48,0)","v":0},{"$f":"+IF((INDEX($C$17:$AAT$17,OI$17-1)=Simulador!$F$72),OH48,0)","v":0},{"$f":"+IF((INDEX($C$17:$AAT$17,OJ$17-1)=Simulador!$F$72),OI48,0)","v":0},{"$f":"+IF((INDEX($C$17:$AAT$17,OK$17-1)=Simulador!$F$72),OJ48,0)","v":0},{"$f":"+IF((INDEX($C$17:$AAT$17,OL$17-1)=Simulador!$F$72),OK48,0)","v":0},{"$f":"+IF((INDEX($C$17:$AAT$17,OM$17-1)=Simulador!$F$72),OL48,0)","v":0},{"$f":"+IF((INDEX($C$17:$AAT$17,ON$17-1)=Simulador!$F$72),OM48,0)","v":0},{"$f":"+IF((INDEX($C$17:$AAT$17,OO$17-1)=Simulador!$F$72),ON48,0)","v":0},{"$f":"+IF((INDEX($C$17:$AAT$17,OP$17-1)=Simulador!$F$72),OO48,0)","v":0},{"$f":"+IF((INDEX($C$17:$AAT$17,OQ$17-1)=Simulador!$F$72),OP48,0)","v":0},{"$f":"+IF((INDEX($C$17:$AAT$17,OR$17-1)=Simulador!$F$72),OQ48,0)","v":0},{"$f":"+IF((INDEX($C$17:$AAT$17,OS$17-1)=Simulador!$F$72),OR48,0)","v":0},{"$f":"+IF((INDEX($C$17:$AAT$17,OT$17-1)=Simulador!$F$72),OS48,0)","v":0},{"$f":"+IF((INDEX($C$17:$AAT$17,OU$17-1)=Simulador!$F$72),OT48,0)","v":0},{"$f":"+IF((INDEX($C$17:$AAT$17,OV$17-1)=Simulador!$F$72),OU48,0)","v":0},{"$f":"+IF((INDEX($C$17:$AAT$17,OW$17-1)=Simulador!$F$72),OV48,0)","v":0},{"$f":"+IF((INDEX($C$17:$AAT$17,OX$17-1)=Simulador!$F$72),OW48,0)","v":0},{"$f":"+IF((INDEX($C$17:$AAT$17,OY$17-1)=Simulador!$F$72),OX48,0)","v":0},{"$f":"+IF((INDEX($C$17:$AAT$17,OZ$17-1)=Simulador!$F$72),OY48,0)","v":0},{"$f":"+IF((INDEX($C$17:$AAT$17,PA$17-1)=Simulador!$F$72),OZ48,0)","v":0},{"$f":"+IF((INDEX($C$17:$AAT$17,PB$17-1)=Simulador!$F$72),PA48,0)","v":0},{"$f":"+IF((INDEX($C$17:$AAT$17,PC$17-1)=Simulador!$F$72),PB48,0)","v":0},{"$f":"+IF((INDEX($C$17:$AAT$17,PD$17-1)=Simulador!$F$72),PC48,0)","v":0},{"$f":"+IF((INDEX($C$17:$AAT$17,PE$17-1)=Simulador!$F$72),PD48,0)","v":0},{"$f":"+IF((INDEX($C$17:$AAT$17,PF$17-1)=Simulador!$F$72),PE48,0)","v":0},{"$f":"+IF((INDEX($C$17:$AAT$17,PG$17-1)=Simulador!$F$72),PF48,0)","v":0},{"$f":"+IF((INDEX($C$17:$AAT$17,PH$17-1)=Simulador!$F$72),PG48,0)","v":0},{"$f":"+IF((INDEX($C$17:$AAT$17,PI$17-1)=Simulador!$F$72),PH48,0)","v":0},{"$f":"+IF((INDEX($C$17:$AAT$17,PJ$17-1)=Simulador!$F$72),PI48,0)","v":0},{"$f":"+IF((INDEX($C$17:$AAT$17,PK$17-1)=Simulador!$F$72),PJ48,0)","v":0},{"$f":"+IF((INDEX($C$17:$AAT$17,PL$17-1)=Simulador!$F$72),PK48,0)","v":0},{"$f":"+IF((INDEX($C$17:$AAT$17,PM$17-1)=Simulador!$F$72),PL48,0)","v":0},{"$f":"+IF((INDEX($C$17:$AAT$17,PN$17-1)=Simulador!$F$72),PM48,0)","v":0},{"$f":"+IF((INDEX($C$17:$AAT$17,PO$17-1)=Simulador!$F$72),PN48,0)","v":0},{"$f":"+IF((INDEX($C$17:$AAT$17,PP$17-1)=Simulador!$F$72),PO48,0)","v":0},{"$f":"+IF((INDEX($C$17:$AAT$17,PQ$17-1)=Simulador!$F$72),PP48,0)","v":0},{"$f":"+IF((INDEX($C$17:$AAT$17,PR$17-1)=Simulador!$F$72),PQ48,0)","v":0},{"$f":"+IF((INDEX($C$17:$AAT$17,PS$17-1)=Simulador!$F$72),PR48,0)","v":0},{"$f":"+IF((INDEX($C$17:$AAT$17,PT$17-1)=Simulador!$F$72),PS48,0)","v":0},{"$f":"+IF((INDEX($C$17:$AAT$17,PU$17-1)=Simulador!$F$72),PT48,0)","v":0},{"$f":"+IF((INDEX($C$17:$AAT$17,PV$17-1)=Simulador!$F$72),PU48,0)","v":0},{"$f":"+IF((INDEX($C$17:$AAT$17,PW$17-1)=Simulador!$F$72),PV48,0)","v":0},{"$f":"+IF((INDEX($C$17:$AAT$17,PX$17-1)=Simulador!$F$72),PW48,0)","v":0},{"$f":"+IF((INDEX($C$17:$AAT$17,PY$17-1)=Simulador!$F$72),PX48,0)","v":0},{"$f":"+IF((INDEX($C$17:$AAT$17,PZ$17-1)=Simulador!$F$72),PY48,0)","v":0},{"$f":"+IF((INDEX($C$17:$AAT$17,QA$17-1)=Simulador!$F$72),PZ48,0)","v":0},{"$f":"+IF((INDEX($C$17:$AAT$17,QB$17-1)=Simulador!$F$72),QA48,0)","v":0},{"$f":"+IF((INDEX($C$17:$AAT$17,QC$17-1)=Simulador!$F$72),QB48,0)","v":0},{"$f":"+IF((INDEX($C$17:$AAT$17,QD$17-1)=Simulador!$F$72),QC48,0)","v":0},{"$f":"+IF((INDEX($C$17:$AAT$17,QE$17-1)=Simulador!$F$72),QD48,0)","v":0},{"$f":"+IF((INDEX($C$17:$AAT$17,QF$17-1)=Simulador!$F$72),QE48,0)","v":0},{"$f":"+IF((INDEX($C$17:$AAT$17,QG$17-1)=Simulador!$F$72),QF48,0)","v":0},{"$f":"+IF((INDEX($C$17:$AAT$17,QH$17-1)=Simulador!$F$72),QG48,0)","v":0},{"$f":"+IF((INDEX($C$17:$AAT$17,QI$17-1)=Simulador!$F$72),QH48,0)","v":0},{"$f":"+IF((INDEX($C$17:$AAT$17,QJ$17-1)=Simulador!$F$72),QI48,0)","v":0},{"$f":"+IF((INDEX($C$17:$AAT$17,QK$17-1)=Simulador!$F$72),QJ48,0)","v":0},{"$f":"+IF((INDEX($C$17:$AAT$17,QL$17-1)=Simulador!$F$72),QK48,0)","v":0},{"$f":"+IF((INDEX($C$17:$AAT$17,QM$17-1)=Simulador!$F$72),QL48,0)","v":0},{"$f":"+IF((INDEX($C$17:$AAT$17,QN$17-1)=Simulador!$F$72),QM48,0)","v":0},{"$f":"+IF((INDEX($C$17:$AAT$17,QO$17-1)=Simulador!$F$72),QN48,0)","v":0},{"$f":"+IF((INDEX($C$17:$AAT$17,QP$17-1)=Simulador!$F$72),QO48,0)","v":0},{"$f":"+IF((INDEX($C$17:$AAT$17,QQ$17-1)=Simulador!$F$72),QP48,0)","v":0},{"$f":"+IF((INDEX($C$17:$AAT$17,QR$17-1)=Simulador!$F$72),QQ48,0)","v":0},{"$f":"+IF((INDEX($C$17:$AAT$17,QS$17-1)=Simulador!$F$72),QR48,0)","v":0},{"$f":"+IF((INDEX($C$17:$AAT$17,QT$17-1)=Simulador!$F$72),QS48,0)","v":0},{"$f":"+IF((INDEX($C$17:$AAT$17,QU$17-1)=Simulador!$F$72),QT48,0)","v":0},{"$f":"+IF((INDEX($C$17:$AAT$17,QV$17-1)=Simulador!$F$72),QU48,0)","v":0},{"$f":"+IF((INDEX($C$17:$AAT$17,QW$17-1)=Simulador!$F$72),QV48,0)","v":0},{"$f":"+IF((INDEX($C$17:$AAT$17,QX$17-1)=Simulador!$F$72),QW48,0)","v":0},{"$f":"+IF((INDEX($C$17:$AAT$17,QY$17-1)=Simulador!$F$72),QX48,0)","v":0},{"$f":"+IF((INDEX($C$17:$AAT$17,QZ$17-1)=Simulador!$F$72),QY48,0)","v":0},{"$f":"+IF((INDEX($C$17:$AAT$17,RA$17-1)=Simulador!$F$72),QZ48,0)","v":0},{"$f":"+IF((INDEX($C$17:$AAT$17,RB$17-1)=Simulador!$F$72),RA48,0)","v":0},{"$f":"+IF((INDEX($C$17:$AAT$17,RC$17-1)=Simulador!$F$72),RB48,0)","v":0},{"$f":"+IF((INDEX($C$17:$AAT$17,RD$17-1)=Simulador!$F$72),RC48,0)","v":0},{"$f":"+IF((INDEX($C$17:$AAT$17,RE$17-1)=Simulador!$F$72),RD48,0)","v":0},{"$f":"+IF((INDEX($C$17:$AAT$17,RF$17-1)=Simulador!$F$72),RE48,0)","v":0},{"$f":"+IF((INDEX($C$17:$AAT$17,RG$17-1)=Simulador!$F$72),RF48,0)","v":0},{"$f":"+IF((INDEX($C$17:$AAT$17,RH$17-1)=Simulador!$F$72),RG48,0)","v":0},{"$f":"+IF((INDEX($C$17:$AAT$17,RI$17-1)=Simulador!$F$72),RH48,0)","v":0},{"$f":"+IF((INDEX($C$17:$AAT$17,RJ$17-1)=Simulador!$F$72),RI48,0)","v":0},{"$f":"+IF((INDEX($C$17:$AAT$17,RK$17-1)=Simulador!$F$72),RJ48,0)","v":0},{"$f":"+IF((INDEX($C$17:$AAT$17,RL$17-1)=Simulador!$F$72),RK48,0)","v":0},{"$f":"+IF((INDEX($C$17:$AAT$17,RM$17-1)=Simulador!$F$72),RL48,0)","v":0},{"$f":"+IF((INDEX($C$17:$AAT$17,RN$17-1)=Simulador!$F$72),RM48,0)","v":0},{"$f":"+IF((INDEX($C$17:$AAT$17,RO$17-1)=Simulador!$F$72),RN48,0)","v":0},{"$f":"+IF((INDEX($C$17:$AAT$17,RP$17-1)=Simulador!$F$72),RO48,0)","v":0},{"$f":"+IF((INDEX($C$17:$AAT$17,RQ$17-1)=Simulador!$F$72),RP48,0)","v":0},{"$f":"+IF((INDEX($C$17:$AAT$17,RR$17-1)=Simulador!$F$72),RQ48,0)","v":0},{"$f":"+IF((INDEX($C$17:$AAT$17,RS$17-1)=Simulador!$F$72),RR48,0)","v":0},{"$f":"+IF((INDEX($C$17:$AAT$17,RT$17-1)=Simulador!$F$72),RS48,0)","v":0},{"$f":"+IF((INDEX($C$17:$AAT$17,RU$17-1)=Simulador!$F$72),RT48,0)","v":0},{"$f":"+IF((INDEX($C$17:$AAT$17,RV$17-1)=Simulador!$F$72),RU48,0)","v":0},{"$f":"+IF((INDEX($C$17:$AAT$17,RW$17-1)=Simulador!$F$72),RV48,0)","v":0},{"$f":"+IF((INDEX($C$17:$AAT$17,RX$17-1)=Simulador!$F$72),RW48,0)","v":0},{"$f":"+IF((INDEX($C$17:$AAT$17,RY$17-1)=Simulador!$F$72),RX48,0)","v":0},{"$f":"+IF((INDEX($C$17:$AAT$17,RZ$17-1)=Simulador!$F$72),RY48,0)","v":0},{"$f":"+IF((INDEX($C$17:$AAT$17,SA$17-1)=Simulador!$F$72),RZ48,0)","v":0},{"$f":"+IF((INDEX($C$17:$AAT$17,SB$17-1)=Simulador!$F$72),SA48,0)","v":0},{"$f":"+IF((INDEX($C$17:$AAT$17,SC$17-1)=Simulador!$F$72),SB48,0)","v":0},{"$f":"+IF((INDEX($C$17:$AAT$17,SD$17-1)=Simulador!$F$72),SC48,0)","v":0},{"$f":"+IF((INDEX($C$17:$AAT$17,SE$17-1)=Simulador!$F$72),SD48,0)","v":0},{"$f":"+IF((INDEX($C$17:$AAT$17,SF$17-1)=Simulador!$F$72),SE48,0)","v":0},{"$f":"+IF((INDEX($C$17:$AAT$17,SG$17-1)=Simulador!$F$72),SF48,0)","v":0},{"$f":"+IF((INDEX($C$17:$AAT$17,SH$17-1)=Simulador!$F$72),SG48,0)","v":0},{"$f":"+IF((INDEX($C$17:$AAT$17,SI$17-1)=Simulador!$F$72),SH48,0)","v":0},{"$f":"+IF((INDEX($C$17:$AAT$17,SJ$17-1)=Simulador!$F$72),SI48,0)","v":0},{"$f":"+IF((INDEX($C$17:$AAT$17,SK$17-1)=Simulador!$F$72),SJ48,0)","v":0},{"$f":"+IF((INDEX($C$17:$AAT$17,SL$17-1)=Simulador!$F$72),SK48,0)","v":0},{"$f":"+IF((INDEX($C$17:$AAT$17,SM$17-1)=Simulador!$F$72),SL48,0)","v":0},{"$f":"+IF((INDEX($C$17:$AAT$17,SN$17-1)=Simulador!$F$72),SM48,0)","v":0},{"$f":"+IF((INDEX($C$17:$AAT$17,SO$17-1)=Simulador!$F$72),SN48,0)","v":0},{"$f":"+IF((INDEX($C$17:$AAT$17,SP$17-1)=Simulador!$F$72),SO48,0)","v":0},{"$f":"+IF((INDEX($C$17:$AAT$17,SQ$17-1)=Simulador!$F$72),SP48,0)","v":0},{"$f":"+IF((INDEX($C$17:$AAT$17,SR$17-1)=Simulador!$F$72),SQ48,0)","v":0},{"$f":"+IF((INDEX($C$17:$AAT$17,SS$17-1)=Simulador!$F$72),SR48,0)","v":0},{"$f":"+IF((INDEX($C$17:$AAT$17,ST$17-1)=Simulador!$F$72),SS48,0)","v":0},{"$f":"+IF((INDEX($C$17:$AAT$17,SU$17-1)=Simulador!$F$72),ST48,0)","v":0},{"$f":"+IF((INDEX($C$17:$AAT$17,SV$17-1)=Simulador!$F$72),SU48,0)","v":0},{"$f":"+IF((INDEX($C$17:$AAT$17,SW$17-1)=Simulador!$F$72),SV48,0)","v":0},{"$f":"+IF((INDEX($C$17:$AAT$17,SX$17-1)=Simulador!$F$72),SW48,0)","v":0},{"$f":"+IF((INDEX($C$17:$AAT$17,SY$17-1)=Simulador!$F$72),SX48,0)","v":0},{"$f":"+IF((INDEX($C$17:$AAT$17,SZ$17-1)=Simulador!$F$72),SY48,0)","v":0},{"$f":"+IF((INDEX($C$17:$AAT$17,TA$17-1)=Simulador!$F$72),SZ48,0)","v":0},{"$f":"+IF((INDEX($C$17:$AAT$17,TB$17-1)=Simulador!$F$72),TA48,0)","v":0},{"$f":"+IF((INDEX($C$17:$AAT$17,TC$17-1)=Simulador!$F$72),TB48,0)","v":0},{"$f":"+IF((INDEX($C$17:$AAT$17,TD$17-1)=Simulador!$F$72),TC48,0)","v":0},{"$f":"+IF((INDEX($C$17:$AAT$17,TE$17-1)=Simulador!$F$72),TD48,0)","v":0},{"$f":"+IF((INDEX($C$17:$AAT$17,TF$17-1)=Simulador!$F$72),TE48,0)","v":0},{"$f":"+IF((INDEX($C$17:$AAT$17,TG$17-1)=Simulador!$F$72),TF48,0)","v":0},{"$f":"+IF((INDEX($C$17:$AAT$17,TH$17-1)=Simulador!$F$72),TG48,0)","v":0},{"$f":"+IF((INDEX($C$17:$AAT$17,TI$17-1)=Simulador!$F$72),TH48,0)","v":0},{"$f":"+IF((INDEX($C$17:$AAT$17,TJ$17-1)=Simulador!$F$72),TI48,0)","v":0},{"$f":"+IF((INDEX($C$17:$AAT$17,TK$17-1)=Simulador!$F$72),TJ48,0)","v":0},{"$f":"+IF((INDEX($C$17:$AAT$17,TL$17-1)=Simulador!$F$72),TK48,0)","v":0},{"$f":"+IF((INDEX($C$17:$AAT$17,TM$17-1)=Simulador!$F$72),TL48,0)","v":0},{"$f":"+IF((INDEX($C$17:$AAT$17,TN$17-1)=Simulador!$F$72),TM48,0)","v":0},{"$f":"+IF((INDEX($C$17:$AAT$17,TO$17-1)=Simulador!$F$72),TN48,0)","v":0},{"$f":"+IF((INDEX($C$17:$AAT$17,TP$17-1)=Simulador!$F$72),TO48,0)","v":0},{"$f":"+IF((INDEX($C$17:$AAT$17,TQ$17-1)=Simulador!$F$72),TP48,0)","v":0},{"$f":"+IF((INDEX($C$17:$AAT$17,TR$17-1)=Simulador!$F$72),TQ48,0)","v":0},{"$f":"+IF((INDEX($C$17:$AAT$17,TS$17-1)=Simulador!$F$72),TR48,0)","v":0},{"$f":"+IF((INDEX($C$17:$AAT$17,TT$17-1)=Simulador!$F$72),TS48,0)","v":0},{"$f":"+IF((INDEX($C$17:$AAT$17,TU$17-1)=Simulador!$F$72),TT48,0)","v":0},{"$f":"+IF((INDEX($C$17:$AAT$17,TV$17-1)=Simulador!$F$72),TU48,0)","v":0},{"$f":"+IF((INDEX($C$17:$AAT$17,TW$17-1)=Simulador!$F$72),TV48,0)","v":0},{"$f":"+IF((INDEX($C$17:$AAT$17,TX$17-1)=Simulador!$F$72),TW48,0)","v":0},{"$f":"+IF((INDEX($C$17:$AAT$17,TY$17-1)=Simulador!$F$72),TX48,0)","v":0},{"$f":"+IF((INDEX($C$17:$AAT$17,TZ$17-1)=Simulador!$F$72),TY48,0)","v":0},{"$f":"+IF((INDEX($C$17:$AAT$17,UA$17-1)=Simulador!$F$72),TZ48,0)","v":0},{"$f":"+IF((INDEX($C$17:$AAT$17,UB$17-1)=Simulador!$F$72),UA48,0)","v":0},{"$f":"+IF((INDEX($C$17:$AAT$17,UC$17-1)=Simulador!$F$72),UB48,0)","v":0},{"$f":"+IF((INDEX($C$17:$AAT$17,UD$17-1)=Simulador!$F$72),UC48,0)","v":0},{"$f":"+IF((INDEX($C$17:$AAT$17,UE$17-1)=Simulador!$F$72),UD48,0)","v":0},{"$f":"+IF((INDEX($C$17:$AAT$17,UF$17-1)=Simulador!$F$72),UE48,0)","v":0},{"$f":"+IF((INDEX($C$17:$AAT$17,UG$17-1)=Simulador!$F$72),UF48,0)","v":0},{"$f":"+IF((INDEX($C$17:$AAT$17,UH$17-1)=Simulador!$F$72),UG48,0)","v":0},{"$f":"+IF((INDEX($C$17:$AAT$17,UI$17-1)=Simulador!$F$72),UH48,0)","v":0},{"$f":"+IF((INDEX($C$17:$AAT$17,UJ$17-1)=Simulador!$F$72),UI48,0)","v":0},{"$f":"+IF((INDEX($C$17:$AAT$17,UK$17-1)=Simulador!$F$72),UJ48,0)","v":0},{"$f":"+IF((INDEX($C$17:$AAT$17,UL$17-1)=Simulador!$F$72),UK48,0)","v":0},{"$f":"+IF((INDEX($C$17:$AAT$17,UM$17-1)=Simulador!$F$72),UL48,0)","v":0},{"$f":"+IF((INDEX($C$17:$AAT$17,UN$17-1)=Simulador!$F$72),UM48,0)","v":0},{"$f":"+IF((INDEX($C$17:$AAT$17,UO$17-1)=Simulador!$F$72),UN48,0)","v":0},{"$f":"+IF((INDEX($C$17:$AAT$17,UP$17-1)=Simulador!$F$72),UO48,0)","v":0},{"$f":"+IF((INDEX($C$17:$AAT$17,UQ$17-1)=Simulador!$F$72),UP48,0)","v":0},{"$f":"+IF((INDEX($C$17:$AAT$17,UR$17-1)=Simulador!$F$72),UQ48,0)","v":0},{"$f":"+IF((INDEX($C$17:$AAT$17,US$17-1)=Simulador!$F$72),UR48,0)","v":0},{"$f":"+IF((INDEX($C$17:$AAT$17,UT$17-1)=Simulador!$F$72),US48,0)","v":0},{"$f":"+IF((INDEX($C$17:$AAT$17,UU$17-1)=Simulador!$F$72),UT48,0)","v":0},{"$f":"+IF((INDEX($C$17:$AAT$17,UV$17-1)=Simulador!$F$72),UU48,0)","v":0},{"$f":"+IF((INDEX($C$17:$AAT$17,UW$17-1)=Simulador!$F$72),UV48,0)","v":0},{"$f":"+IF((INDEX($C$17:$AAT$17,UX$17-1)=Simulador!$F$72),UW48,0)","v":0},{"$f":"+IF((INDEX($C$17:$AAT$17,UY$17-1)=Simulador!$F$72),UX48,0)","v":0},{"$f":"+IF((INDEX($C$17:$AAT$17,UZ$17-1)=Simulador!$F$72),UY48,0)","v":0},{"$f":"+IF((INDEX($C$17:$AAT$17,VA$17-1)=Simulador!$F$72),UZ48,0)","v":0},{"$f":"+IF((INDEX($C$17:$AAT$17,VB$17-1)=Simulador!$F$72),VA48,0)","v":0},{"$f":"+IF((INDEX($C$17:$AAT$17,VC$17-1)=Simulador!$F$72),VB48,0)","v":0},{"$f":"+IF((INDEX($C$17:$AAT$17,VD$17-1)=Simulador!$F$72),VC48,0)","v":0},{"$f":"+IF((INDEX($C$17:$AAT$17,VE$17-1)=Simulador!$F$72),VD48,0)","v":0},{"$f":"+IF((INDEX($C$17:$AAT$17,VF$17-1)=Simulador!$F$72),VE48,0)","v":0},{"$f":"+IF((INDEX($C$17:$AAT$17,VG$17-1)=Simulador!$F$72),VF48,0)","v":0},{"$f":"+IF((INDEX($C$17:$AAT$17,VH$17-1)=Simulador!$F$72),VG48,0)","v":0},{"$f":"+IF((INDEX($C$17:$AAT$17,VI$17-1)=Simulador!$F$72),VH48,0)","v":0},{"$f":"+IF((INDEX($C$17:$AAT$17,VJ$17-1)=Simulador!$F$72),VI48,0)","v":0},{"$f":"+IF((INDEX($C$17:$AAT$17,VK$17-1)=Simulador!$F$72),VJ48,0)","v":0},{"$f":"+IF((INDEX($C$17:$AAT$17,VL$17-1)=Simulador!$F$72),VK48,0)","v":0},{"$f":"+IF((INDEX($C$17:$AAT$17,VM$17-1)=Simulador!$F$72),VL48,0)","v":0},{"$f":"+IF((INDEX($C$17:$AAT$17,VN$17-1)=Simulador!$F$72),VM48,0)","v":0},{"$f":"+IF((INDEX($C$17:$AAT$17,VO$17-1)=Simulador!$F$72),VN48,0)","v":0},{"$f":"+IF((INDEX($C$17:$AAT$17,VP$17-1)=Simulador!$F$72),VO48,0)","v":0},{"$f":"+IF((INDEX($C$17:$AAT$17,VQ$17-1)=Simulador!$F$72),VP48,0)","v":0},{"$f":"+IF((INDEX($C$17:$AAT$17,VR$17-1)=Simulador!$F$72),VQ48,0)","v":0},{"$f":"+IF((INDEX($C$17:$AAT$17,VS$17-1)=Simulador!$F$72),VR48,0)","v":0},{"$f":"+IF((INDEX($C$17:$AAT$17,VT$17-1)=Simulador!$F$72),VS48,0)","v":0},{"$f":"+IF((INDEX($C$17:$AAT$17,VU$17-1)=Simulador!$F$72),VT48,0)","v":0},{"$f":"+IF((INDEX($C$17:$AAT$17,VV$17-1)=Simulador!$F$72),VU48,0)","v":0},{"$f":"+IF((INDEX($C$17:$AAT$17,VW$17-1)=Simulador!$F$72),VV48,0)","v":0},{"$f":"+IF((INDEX($C$17:$AAT$17,VX$17-1)=Simulador!$F$72),VW48,0)","v":0},{"$f":"+IF((INDEX($C$17:$AAT$17,VY$17-1)=Simulador!$F$72),VX48,0)","v":0},{"$f":"+IF((INDEX($C$17:$AAT$17,VZ$17-1)=Simulador!$F$72),VY48,0)","v":0},{"$f":"+IF((INDEX($C$17:$AAT$17,WA$17-1)=Simulador!$F$72),VZ48,0)","v":0},{"$f":"+IF((INDEX($C$17:$AAT$17,WB$17-1)=Simulador!$F$72),WA48,0)","v":0},{"$f":"+IF((INDEX($C$17:$AAT$17,WC$17-1)=Simulador!$F$72),WB48,0)","v":0},{"$f":"+IF((INDEX($C$17:$AAT$17,WD$17-1)=Simulador!$F$72),WC48,0)","v":0},{"$f":"+IF((INDEX($C$17:$AAT$17,WE$17-1)=Simulador!$F$72),WD48,0)","v":0},{"$f":"+IF((INDEX($C$17:$AAT$17,WF$17-1)=Simulador!$F$72),WE48,0)","v":0},{"$f":"+IF((INDEX($C$17:$AAT$17,WG$17-1)=Simulador!$F$72),WF48,0)","v":0},{"$f":"+IF((INDEX($C$17:$AAT$17,WH$17-1)=Simulador!$F$72),WG48,0)","v":0},{"$f":"+IF((INDEX($C$17:$AAT$17,WI$17-1)=Simulador!$F$72),WH48,0)","v":0},{"$f":"+IF((INDEX($C$17:$AAT$17,WJ$17-1)=Simulador!$F$72),WI48,0)","v":0},{"$f":"+IF((INDEX($C$17:$AAT$17,WK$17-1)=Simulador!$F$72),WJ48,0)","v":0},{"$f":"+IF((INDEX($C$17:$AAT$17,WL$17-1)=Simulador!$F$72),WK48,0)","v":0},{"$f":"+IF((INDEX($C$17:$AAT$17,WM$17-1)=Simulador!$F$72),WL48,0)","v":0},{"$f":"+IF((INDEX($C$17:$AAT$17,WN$17-1)=Simulador!$F$72),WM48,0)","v":0},{"$f":"+IF((INDEX($C$17:$AAT$17,WO$17-1)=Simulador!$F$72),WN48,0)","v":0},{"$f":"+IF((INDEX($C$17:$AAT$17,WP$17-1)=Simulador!$F$72),WO48,0)","v":0},{"$f":"+IF((INDEX($C$17:$AAT$17,WQ$17-1)=Simulador!$F$72),WP48,0)","v":0},{"$f":"+IF((INDEX($C$17:$AAT$17,WR$17-1)=Simulador!$F$72),WQ48,0)","v":0},{"$f":"+IF((INDEX($C$17:$AAT$17,WS$17-1)=Simulador!$F$72),WR48,0)","v":0},{"$f":"+IF((INDEX($C$17:$AAT$17,WT$17-1)=Simulador!$F$72),WS48,0)","v":0},{"$f":"+IF((INDEX($C$17:$AAT$17,WU$17-1)=Simulador!$F$72),WT48,0)","v":0},{"$f":"+IF((INDEX($C$17:$AAT$17,WV$17-1)=Simulador!$F$72),WU48,0)","v":0},{"$f":"+IF((INDEX($C$17:$AAT$17,WW$17-1)=Simulador!$F$72),WV48,0)","v":0},{"$f":"+IF((INDEX($C$17:$AAT$17,WX$17-1)=Simulador!$F$72),WW48,0)","v":0},{"$f":"+IF((INDEX($C$17:$AAT$17,WY$17-1)=Simulador!$F$72),WX48,0)","v":0},{"$f":"+IF((INDEX($C$17:$AAT$17,WZ$17-1)=Simulador!$F$72),WY48,0)","v":0},{"$f":"+IF((INDEX($C$17:$AAT$17,XA$17-1)=Simulador!$F$72),WZ48,0)","v":0},{"$f":"+IF((INDEX($C$17:$AAT$17,XB$17-1)=Simulador!$F$72),XA48,0)","v":0},{"$f":"+IF((INDEX($C$17:$AAT$17,XC$17-1)=Simulador!$F$72),XB48,0)","v":0},{"$f":"+IF((INDEX($C$17:$AAT$17,XD$17-1)=Simulador!$F$72),XC48,0)","v":0},{"$f":"+IF((INDEX($C$17:$AAT$17,XE$17-1)=Simulador!$F$72),XD48,0)","v":0},{"$f":"+IF((INDEX($C$17:$AAT$17,XF$17-1)=Simulador!$F$72),XE48,0)","v":0},{"$f":"+IF((INDEX($C$17:$AAT$17,XG$17-1)=Simulador!$F$72),XF48,0)","v":0},{"$f":"+IF((INDEX($C$17:$AAT$17,XH$17-1)=Simulador!$F$72),XG48,0)","v":0},{"$f":"+IF((INDEX($C$17:$AAT$17,XI$17-1)=Simulador!$F$72),XH48,0)","v":0},{"$f":"+IF((INDEX($C$17:$AAT$17,XJ$17-1)=Simulador!$F$72),XI48,0)","v":0},{"$f":"+IF((INDEX($C$17:$AAT$17,XK$17-1)=Simulador!$F$72),XJ48,0)","v":0},{"$f":"+IF((INDEX($C$17:$AAT$17,XL$17-1)=Simulador!$F$72),XK48,0)","v":0},{"$f":"+IF((INDEX($C$17:$AAT$17,XM$17-1)=Simulador!$F$72),XL48,0)","v":0},{"$f":"+IF((INDEX($C$17:$AAT$17,XN$17-1)=Simulador!$F$72),XM48,0)","v":0},{"$f":"+IF((INDEX($C$17:$AAT$17,XO$17-1)=Simulador!$F$72),XN48,0)","v":0},{"$f":"+IF((INDEX($C$17:$AAT$17,XP$17-1)=Simulador!$F$72),XO48,0)","v":0},{"$f":"+IF((INDEX($C$17:$AAT$17,XQ$17-1)=Simulador!$F$72),XP48,0)","v":0},{"$f":"+IF((INDEX($C$17:$AAT$17,XR$17-1)=Simulador!$F$72),XQ48,0)","v":0},{"$f":"+IF((INDEX($C$17:$AAT$17,XS$17-1)=Simulador!$F$72),XR48,0)","v":0},{"$f":"+IF((INDEX($C$17:$AAT$17,XT$17-1)=Simulador!$F$72),XS48,0)","v":0},{"$f":"+IF((INDEX($C$17:$AAT$17,XU$17-1)=Simulador!$F$72),XT48,0)","v":0},{"$f":"+IF((INDEX($C$17:$AAT$17,XV$17-1)=Simulador!$F$72),XU48,0)","v":0},{"$f":"+IF((INDEX($C$17:$AAT$17,XW$17-1)=Simulador!$F$72),XV48,0)","v":0},{"$f":"+IF((INDEX($C$17:$AAT$17,XX$17-1)=Simulador!$F$72),XW48,0)","v":0},{"$f":"+IF((INDEX($C$17:$AAT$17,XY$17-1)=Simulador!$F$72),XX48,0)","v":0},{"$f":"+IF((INDEX($C$17:$AAT$17,XZ$17-1)=Simulador!$F$72),XY48,0)","v":0},{"$f":"+IF((INDEX($C$17:$AAT$17,YA$17-1)=Simulador!$F$72),XZ48,0)","v":0},{"$f":"+IF((INDEX($C$17:$AAT$17,YB$17-1)=Simulador!$F$72),YA48,0)","v":0},{"$f":"+IF((INDEX($C$17:$AAT$17,YC$17-1)=Simulador!$F$72),YB48,0)","v":0},{"$f":"+IF((INDEX($C$17:$AAT$17,YD$17-1)=Simulador!$F$72),YC48,0)","v":0},{"$f":"+IF((INDEX($C$17:$AAT$17,YE$17-1)=Simulador!$F$72),YD48,0)","v":0},{"$f":"+IF((INDEX($C$17:$AAT$17,YF$17-1)=Simulador!$F$72),YE48,0)","v":0},{"$f":"+IF((INDEX($C$17:$AAT$17,YG$17-1)=Simulador!$F$72),YF48,0)","v":0},{"$f":"+IF((INDEX($C$17:$AAT$17,YH$17-1)=Simulador!$F$72),YG48,0)","v":0},{"$f":"+IF((INDEX($C$17:$AAT$17,YI$17-1)=Simulador!$F$72),YH48,0)","v":0},{"$f":"+IF((INDEX($C$17:$AAT$17,YJ$17-1)=Simulador!$F$72),YI48,0)","v":0},{"$f":"+IF((INDEX($C$17:$AAT$17,YK$17-1)=Simulador!$F$72),YJ48,0)","v":0},{"$f":"+IF((INDEX($C$17:$AAT$17,YL$17-1)=Simulador!$F$72),YK48,0)","v":0},{"$f":"+IF((INDEX($C$17:$AAT$17,YM$17-1)=Simulador!$F$72),YL48,0)","v":0},{"$f":"+IF((INDEX($C$17:$AAT$17,YN$17-1)=Simulador!$F$72),YM48,0)","v":0},{"$f":"+IF((INDEX($C$17:$AAT$17,YO$17-1)=Simulador!$F$72),YN48,0)","v":0},{"$f":"+IF((INDEX($C$17:$AAT$17,YP$17-1)=Simulador!$F$72),YO48,0)","v":0},{"$f":"+IF((INDEX($C$17:$AAT$17,YQ$17-1)=Simulador!$F$72),YP48,0)","v":0},{"$f":"+IF((INDEX($C$17:$AAT$17,YR$17-1)=Simulador!$F$72),YQ48,0)","v":0},{"$f":"+IF((INDEX($C$17:$AAT$17,YS$17-1)=Simulador!$F$72),YR48,0)","v":0},{"$f":"+IF((INDEX($C$17:$AAT$17,YT$17-1)=Simulador!$F$72),YS48,0)","v":0},{"$f":"+IF((INDEX($C$17:$AAT$17,YU$17-1)=Simulador!$F$72),YT48,0)","v":0},{"$f":"+IF((INDEX($C$17:$AAT$17,YV$17-1)=Simulador!$F$72),YU48,0)","v":0},{"$f":"+IF((INDEX($C$17:$AAT$17,YW$17-1)=Simulador!$F$72),YV48,0)","v":0},{"$f":"+IF((INDEX($C$17:$AAT$17,YX$17-1)=Simulador!$F$72),YW48,0)","v":0},{"$f":"+IF((INDEX($C$17:$AAT$17,YY$17-1)=Simulador!$F$72),YX48,0)","v":0},{"$f":"+IF((INDEX($C$17:$AAT$17,YZ$17-1)=Simulador!$F$72),YY48,0)","v":0},{"$f":"+IF((INDEX($C$17:$AAT$17,ZA$17-1)=Simulador!$F$72),YZ48,0)","v":0},{"$f":"+IF((INDEX($C$17:$AAT$17,ZB$17-1)=Simulador!$F$72),ZA48,0)","v":0},{"$f":"+IF((INDEX($C$17:$AAT$17,ZC$17-1)=Simulador!$F$72),ZB48,0)","v":0},{"$f":"+IF((INDEX($C$17:$AAT$17,ZD$17-1)=Simulador!$F$72),ZC48,0)","v":0},{"$f":"+IF((INDEX($C$17:$AAT$17,ZE$17-1)=Simulador!$F$72),ZD48,0)","v":0},{"$f":"+IF((INDEX($C$17:$AAT$17,ZF$17-1)=Simulador!$F$72),ZE48,0)","v":0},{"$f":"+IF((INDEX($C$17:$AAT$17,ZG$17-1)=Simulador!$F$72),ZF48,0)","v":0},{"$f":"+IF((INDEX($C$17:$AAT$17,ZH$17-1)=Simulador!$F$72),ZG48,0)","v":0},{"$f":"+IF((INDEX($C$17:$AAT$17,ZI$17-1)=Simulador!$F$72),ZH48,0)","v":0},{"$f":"+IF((INDEX($C$17:$AAT$17,ZJ$17-1)=Simulador!$F$72),ZI48,0)","v":0},{"$f":"+IF((INDEX($C$17:$AAT$17,ZK$17-1)=Simulador!$F$72),ZJ48,0)","v":0},{"$f":"+IF((INDEX($C$17:$AAT$17,ZL$17-1)=Simulador!$F$72),ZK48,0)","v":0},{"$f":"+IF((INDEX($C$17:$AAT$17,ZM$17-1)=Simulador!$F$72),ZL48,0)","v":0},{"$f":"+IF((INDEX($C$17:$AAT$17,ZN$17-1)=Simulador!$F$72),ZM48,0)","v":0},{"$f":"+IF((INDEX($C$17:$AAT$17,ZO$17-1)=Simulador!$F$72),ZN48,0)","v":0},{"$f":"+IF((INDEX($C$17:$AAT$17,ZP$17-1)=Simulador!$F$72),ZO48,0)","v":0},{"$f":"+IF((INDEX($C$17:$AAT$17,ZQ$17-1)=Simulador!$F$72),ZP48,0)","v":0},{"$f":"+IF((INDEX($C$17:$AAT$17,ZR$17-1)=Simulador!$F$72),ZQ48,0)","v":0},{"$f":"+IF((INDEX($C$17:$AAT$17,ZS$17-1)=Simulador!$F$72),ZR48,0)","v":0},{"$f":"+IF((INDEX($C$17:$AAT$17,ZT$17-1)=Simulador!$F$72),ZS48,0)","v":0},{"$f":"+IF((INDEX($C$17:$AAT$17,ZU$17-1)=Simulador!$F$72),ZT48,0)","v":0},{"$f":"+IF((INDEX($C$17:$AAT$17,ZV$17-1)=Simulador!$F$72),ZU48,0)","v":0},{"$f":"+IF((INDEX($C$17:$AAT$17,ZW$17-1)=Simulador!$F$72),ZV48,0)","v":0},{"$f":"+IF((INDEX($C$17:$AAT$17,ZX$17-1)=Simulador!$F$72),ZW48,0)","v":0},{"$f":"+IF((INDEX($C$17:$AAT$17,ZY$17-1)=Simulador!$F$72),ZX48,0)","v":0},{"$f":"+IF((INDEX($C$17:$AAT$17,ZZ$17-1)=Simulador!$F$72),ZY48,0)","v":0},{"$f":"+IF((INDEX($C$17:$AAT$17,AAA$17-1)=Simulador!$F$72),ZZ48,0)","v":0},{"$f":"+IF((INDEX($C$17:$AAT$17,AAB$17-1)=Simulador!$F$72),AAA48,0)","v":0},{"$f":"+IF((INDEX($C$17:$AAT$17,AAC$17-1)=Simulador!$F$72),AAB48,0)","v":0},{"$f":"+IF((INDEX($C$17:$AAT$17,AAD$17-1)=Simulador!$F$72),AAC48,0)","v":0},{"$f":"+IF((INDEX($C$17:$AAT$17,AAE$17-1)=Simulador!$F$72),AAD48,0)","v":0},{"$f":"+IF((INDEX($C$17:$AAT$17,AAF$17-1)=Simulador!$F$72),AAE48,0)","v":0},{"$f":"+IF((INDEX($C$17:$AAT$17,AAG$17-1)=Simulador!$F$72),AAF48,0)","v":0},{"$f":"+IF((INDEX($C$17:$AAT$17,AAH$17-1)=Simulador!$F$72),AAG48,0)","v":0},{"$f":"+IF((INDEX($C$17:$AAT$17,AAI$17-1)=Simulador!$F$72),AAH48,0)","v":0},{"$f":"+IF((INDEX($C$17:$AAT$17,AAJ$17-1)=Simulador!$F$72),AAI48,0)","v":0},{"$f":"+IF((INDEX($C$17:$AAT$17,AAK$17-1)=Simulador!$F$72),AAJ48,0)","v":0},{"$f":"+IF((INDEX($C$17:$AAT$17,AAL$17-1)=Simulador!$F$72),AAK48,0)","v":0},{"$f":"+IF((INDEX($C$17:$AAT$17,AAM$17-1)=Simulador!$F$72),AAL48,0)","v":0},{"$f":"+IF((INDEX($C$17:$AAT$17,AAN$17-1)=Simulador!$F$72),AAM48,0)","v":0},{"$f":"+IF((INDEX($C$17:$AAT$17,AAO$17-1)=Simulador!$F$72),AAN48,0)","v":0},{"$f":"+IF((INDEX($C$17:$AAT$17,AAP$17-1)=Simulador!$F$72),AAO48,0)","v":0},{"$f":"+IF((INDEX($C$17:$AAT$17,AAQ$17-1)=Simulador!$F$72),AAP48,0)","v":0},{"$f":"+IF((INDEX($C$17:$AAT$17,AAR$17-1)=Simulador!$F$72),AAQ48,0)","v":0},{"$f":"+IF((INDEX($C$17:$AAT$17,AAS$17-1)=Simulador!$F$72),AAR48,0)","v":0},{"$f":"+IF((INDEX($C$17:$AAT$17,AAT$17-1)=Simulador!$F$72),AAS48,0)","v":0},{"$f":"+IF((INDEX($C$17:$AAT$17,AAU$17-1)=Simulador!$F$72),AAT48,0)","v":0}]
[null,"Capitalización de interés no bloqueado",0,{"$f":"+IF(D$15=\"Sí\",C47,0)","v":0},0,0,0,0,0,0,0,0,0,0,0.10999999999999999,0,0,0,0,0,0,0,0,0,0,0,0,0,0,0,0,0,0,0,0,0,0,0,0,0,0,0,0,0.38000000000000012,0,0,0,0,0,0,0,0,0,0,0,0,0,0,0,0,0,0,0,0,0,0,0,{"$f":"+IF(BP$15=\"Sí\",BO47,0)","v":0},0,0,0,0,0,0,0,0.64000000000000024,0,0,0,0,0,0,0,0,0,0,0,0,0,0,0,0,0,0,0,0,0,0,0,0,0,0,0,0,0,0,0.73000000000000032,0,0,0,0,0,0,0,0,0,0,0,0,0,0,0,0,0,0,0,0,0,0,0,0,{"$f":"+IF(EB$15=\"Sí\",EA47,0)","v":0},0,0,0.9200000000000006,0,0,0,0,0,0,0,0,0,0,0,0,0,0,0,0,0,0,0,0,0,0,0,0,0,0,0,0,0,0,0,1.2800000000000005,0,0,0,0,0,0,0,0,0,0,0,0,0,0,0,0,0,0,0,0,0,0,0,0,0,0,0,0,{"$f":"+IF(GN$15=\"Sí\",GM47,0)","v":0},0,1.3400000000000005,0,0,0,0,0,0,0,0,0,0,0,0,0,0,0,0,0,0,0,0,0,0,0,0,0,0,0,1.4700000000000006,0,0,0,0,0,0,0,0,0,0,0,0,0,0,0,0,0,0,0,0,0,0,0,0,0,0,0,0,0,0,0,1.9200000000000013,0,{"$f":"+IF(IZ$15=\"Sí\",IY47,0)","v":0},0,0,0,0,0,0,0,0,0,0,0,0,0,0,0,0,0,0,0,0,0,0,0,0,0,0,0,2.100000000000001,0,0,0,0,0,0,0,0,0,0,0,0,0,0,0,0,0,0,0,0,0,0,0,0,0,0,0,0,2.1200000000000014,0,0,0,0,0,0,{"$f":"+IF(LL$15=\"Sí\",LK47,0)","v":0},0,0,0,0,0,0,0,0,0,0,0,0,0,0,0,0,0,0,0,0,0,0,0,0,2.6599999999999997,0,0,0,0,0,0,0,0,0,0,0,0,0,0,0,0,0,0,0,0,0,0,0,0,0,0,0,0,0,0,2.7899999999999996,0,0,0,0,0,0,0,{"$f":"+IF(NX$15=\"Sí\",NW47,0)","v":0},0,0,0,0,0,0,0,0,0,0,0,0,0,0,0,0,0,0,0,0,0,0,2.9000000000000012,0,0,0,0,0,0,0,0,0,0,0,0,0,0,0,0,0,0,0,0,0,0,0,0,0,0,0,0,0,3.0999999999999992,0,0,0,0,0,0,0,0,0,0,{"$f":"+IF(QJ$15=\"Sí\",QI47,0)","v":0},0,0,0,0,0,0,0,0,0,0,0,0,0,0,0,0,0,0,3.4000000000000017,0,0,0,0,0,0,0,0,0,0,0,0,0,0,0,0,0,0,0,0,0,0,0,0,0,0,0,0,0,0,3.7200000000000024,0,0,0,0,0,0,0,0,0,0,0,0,0,{"$f":"+IF(SV$15=\"Sí\",SU47,0)","v":0},0,0,0,0,0,0,0,0,0,0,0,0,0,0,0,3.7,0,0,0,0,0,0,0,0,0,0,0,0,0,0,0,0,0,0,0,0,0,0,0,0,0,0,0,0,0,3.9899999999999998,0,0,0,0,0,0,0,0,0,0,0,0,0,0,0,0,0,{"$f":"+IF(VH$15=\"Sí\",VG47,0)","v":0},0,0,0,0,0,0,0,0,0,3.9800000000000013,0,0,0,0,0,0,0,0,0,0,0,0,0,0,0,0,0,0,0,0,0,0,0,0,0,0,0,0,0,0,0,0,4.9500000000000011,0,0,0,0,0,0,0,0,0,0,0,0,0,0,0,0,0,0,0,0,{"$f":"+IF(XT$15=\"Sí\",XS47,0)","v":0},0,0,0,0,0,0,0,4.4400000000000004,0,0,0,0,0,0,0,0,0,0,0,0,0,0,0,0,0,0,0,0,0,0,0,0,0,0,0,0,0,0,0,5.23,0,0,0,0,0,0,0,0,0,0,0,0,0,0,0,0,0,0,0,0,0,0,0,{"$f":"+IF(AAF$15=\"Sí\",AAE47,0)","v":0},0,0,0,0,0,5.1999999999999975,0,0,0,0,0,0,0,0,0]
[null,"Ahorro Acumulado + interés",{"$f":"+IF(Simulador!$C$50=\"Si\",C42+C43,C42+C44)","v":10},{"$f":"+IF(Simulador!$C$50=\"Si\",D42+D43,D42+D44)","v":60},{"$f":"+IF(Simulador!$C$50=\"Si\",E42+E43,E42+E44)","v":60},{"$f":"+IF(Simulador!$C$50=\"Si\",F42+F43,F42+F44)","v":60},{"$f":"+IF(Simulador!$C$50=\"Si\",G42+G43,G42+G44)","v":60},{"$f":"+IF(Simulador!$C$50=\"Si\",H42+H43,H42+H44)","v":60},{"$f":"+IF(Simulador!$C$50=\"Si\",I42+I43,I42+I44)","v":60},{"$f":"+IF(Simulador!$C$50=\"Si\",J42+J43,J42+J44)","v":60},{"$f":"+IF(Simulador!$C$50=\"Si\",K42+K43,K42+K44)","v":60},{"$f":"+IF(Simulador!$C$50=\"Si\",L42+L43,L42+L44)","v":60},{"$f":"+IF(Simulador!$C$50=\"Si\",M42+M43,M42+M44)","v":60},{"$f":"+IF(Simulador!$C$50=\"Si\",N42+N43,N42+N44)","v":60},{"$f":"+IF(Simulador!$C$50=\"Si\",O42+O43,O42+O44)","v":60.11},{"$f":"+IF(Simulador!$C$50=\"Si\",P42+P43,P42+P44)","v":60.11},{"$f":"+IF(Simulador!$C$50=\"Si\",Q42+Q43,Q42+Q44)","v":60.11},{"$f":"+IF(Simulador!$C$50=\"Si\",R42+R43,R42+R44)","v":60.11},{"$f":"+IF(Simulador!$C$50=\"Si\",S42+S43,S42+S44)","v":60.11},{"$f":"+IF(Simulador!$C$50=\"Si\",T42+T43,T42+T44)","v":60.11},{"$f":"+IF(Simulador!$C$50=\"Si\",U42+U43,U42+U44)","v":60.11},{"$f":"+IF(Simulador!$C$50=\"Si\",V42+V43,V42+V44)","v":60.11},{"$f":"+IF(Simulador!$C$50=\"Si\",W42+W43,W42+W44)","v":60.11},{"$f":"+IF(Simulador!$C$50=\"Si\",X42+X43,X42+X44)","v":60.11},{"$f":"+IF(Simulador!$C$50=\"Si\",Y42+Y43,Y42+Y44)","v":60.11},{"$f":"+IF(Simulador!$C$50=\"Si\",Z42+Z43,Z42+Z44)","v":60.11},{"$f":"+IF(Simulador!$C$50=\"Si\",AA42+AA43,AA42+AA44)","v":60.11},{"$f":"+IF(Simulador!$C$50=\"Si\",AB42+AB43,AB42+AB44)","v":60.11},{"$f":"+IF(Simulador!$C$50=\"Si\",AC42+AC43,AC42+AC44)","v":60.11},{"$f":"+IF(Simulador!$C$50=\"Si\",AD42+AD43,AD42+AD44)","v":60.11},{"$f":"+IF(Simulador!$C$50=\"Si\",AE42+AE43,AE42+AE44)","v":60.11},{"$f":"+IF(Simulador!$C$50=\"Si\",AF42+AF43,AF42+AF44)","v":60.11},{"$f":"+IF(Simulador!$C$50=\"Si\",AG42+AG43,AG42+AG44)","v":60.11},{"$f":"+IF(Simulador!$C$50=\"Si\",AH42+AH43,AH42+AH44)","v":60.11},{"$f":"+IF(Simulador!$C$50=\"Si\",AI42+AI43,AI42+AI44)","v":110.11},{"$f":"+IF(Simulador!$C$50=\"Si\",AJ42+AJ43,AJ42+AJ44)","v":110.11},{"$f":"+IF(Simulador!$C$50=\"Si\",AK42+AK43,AK42+AK44)","v":110.11},{"$f":"+IF(Simulador!$C$50=\"Si\",AL42+AL43,AL42+AL44)","v":110.11},{"$f":"+IF(Simulador!$C$50=\"Si\",AM42+AM43,AM42+AM44)","v":110.11},{"$f":"+IF(Simulador!$C$50=\"Si\",AN42+AN43,AN42+AN44)","v":110.11},{"$f":"+IF(Simulador!$C$50=\"Si\",AO42+AO43,AO42+AO44)","v":110.11},{"$f":"+IF(Simulador!$C$50=\"Si\",AP42+AP43,AP42+AP44)","v":110.11},{"$f":"+IF(Simulador!$C$50=\"Si\",AQ42+AQ43,AQ42+AQ44)","v":110.11},{"$f":"+IF(Simulador!$C$50=\"Si\",AR42+AR43,AR42+AR44)","v":110.49},{"$f":"+IF(Simulador!$C$50=\"Si\",AS42+AS43,AS42+AS44)","v":110.49},{"$f":"+IF(Simulador!$C$50=\"Si\",AT42+AT43,AT42+AT44)","v":110.49},{"$f":"+IF(Simulador!$C$50=\"Si\",AU42+AU43,AU42+AU44)","v":110.49},{"$f":"+IF(Simulador!$C$50=\"Si\",AV42+AV43,AV42+AV44)","v":110.49},{"$f":"+IF(Simulador!$C$50=\"Si\",AW42+AW43,AW42+AW44)","v":110.49},{"$f":"+IF(Simulador!$C$50=\"Si\",AX42+AX43,AX42+AX44)","v":110.49},{"$f":"+IF(Simulador!$C$50=\"Si\",AY42+AY43,AY42+AY44)","v":110.49},{"$f":"+IF(Simulador!$C$50=\"Si\",AZ42+AZ43,AZ42+AZ44)","v":110.49},{"$f":"+IF(Simulador!$C$50=\"Si\",BA42+BA43,BA42+BA44)","v":110.49},{"$f":"+IF(Simulador!$C$50=\"Si\",BB42+BB43,BB42+BB44)","v":110.49},{"$f":"+IF(Simulador!$C$50=\"Si\",BC42+BC43,BC42+BC44)","v":110.49},{"$f":"+IF(Simulador!$C$50=\"Si\",BD42+BD43,BD42+BD44)","v":110.49},{"$f":"+IF(Simulador!$C$50=\"Si\",BE42+BE43,BE42+BE44)","v":110.49},{"$f":"+IF(Simulador!$C$50=\"Si\",BF42+BF43,BF42+BF44)","v":110.49},{"$f":"+IF(Simulador!$C$50=\"Si\",BG42+BG43,BG42+BG44)","v":110.49},{"$f":"+IF(Simulador!$C$50=\"Si\",BH42+BH43,BH42+BH44)","v":110.49},{"$f":"+IF(Simulador!$C$50=\"Si\",BI42+BI43,BI42+BI44)","v":110.49},{"$f":"+IF(Simulador!$C$50=\"Si\",BJ42+BJ43,BJ42+BJ44)","v":110.49},{"$f":"+IF(Simulador!$C$50=\"Si\",BK42+BK43,BK42+BK44)","v":110.49},{"$f":"+IF(Simulador!$C$50=\"Si\",BL42+BL43,BL42+BL44)","v":110.49},{"$f":"+IF(Simulador!$C$50=\"Si\",BM42+BM43,BM42+BM44)","v":110.49},{"$f":"+IF(Simulador!$C$50=\"Si\",BN42+BN43,BN42+BN44)","v":160.49},{"$f":"+IF(Simulador!$C$50=\"Si\",BO42+BO43,BO42+BO44)","v":160.49},{"$f":"+IF(Simulador!$C$50=\"Si\",BP42+BP43,BP42+BP44)","v":160.49},{"$f":"+IF(Simulador!$C$50=\"Si\",BQ42+BQ43,BQ42+BQ44)","v":160.49},{"$f":"+IF(Simulador!$C$50=\"Si\",BR42+BR43,BR42+BR44)","v":160.49},{"$f":"+IF(Simulador!$C$50=\"Si\",BS42+BS43,BS42+BS44)","v":160.49},{"$f":"+IF(Simulador!$C$50=\"Si\",BT42+BT43,BT42+BT44)","v":160.49},{"$f":"+IF(Simulador!$C$50=\"Si\",BU42+BU43,BU42+BU44)","v":160.49},{"$f":"+IF(Simulador!$C$50=\"Si\",BV42+BV43,BV42+BV44)","v":160.49},{"$f":"+IF(Simulador!$C$50=\"Si\",BW42+BW43,BW42+BW44)","v":160.49},{"$f":"+IF(Simulador!$C$50=\"Si\",BX42+BX43,BX42+BX44)","v":161.13},{"$f":"+IF(Simulador!$C$50=\"Si\",BY42+BY43,BY42+BY44)","v":161.13},{"$f":"+IF(Simulador!$C$50=\"Si\",BZ42+BZ43,BZ42+BZ44)","v":161.13},{"$f":"+IF(Simulador!$C$50=\"Si\",CA42+CA43,CA42+CA44)","v":161.13},{"$f":"+IF(Simulador!$C$50=\"Si\",CB42+CB43,CB42+CB44)","v":161.13},{"$f":"+IF(Simulador!$C$50=\"Si\",CC42+CC43,CC42+CC44)","v":161.13},{"$f":"+IF(Simulador!$C$50=\"Si\",CD42+CD43,CD42+CD44)","v":161.13},{"$f":"+IF(Simulador!$C$50=\"Si\",CE42+CE43,CE42+CE44)","v":161.13},{"$f":"+IF(Simulador!$C$50=\"Si\",CF42+CF43,CF42+CF44)","v":161.13},{"$f":"+IF(Simulador!$C$50=\"Si\",CG42+CG43,CG42+CG44)","v":161.13},{"$f":"+IF(Simulador!$C$50=\"Si\",CH42+CH43,CH42+CH44)","v":161.13},{"$f":"+IF(Simulador!$C$50=\"Si\",CI42+CI43,CI42+CI44)","v":161.13},{"$f":"+IF(Simulador!$C$50=\"Si\",CJ42+CJ43,CJ42+CJ44)","v":161.13},{"$f":"+IF(Simulador!$C$50=\"Si\",CK42+CK43,CK42+CK44)","v":161.13},{"$f":"+IF(Simulador!$C$50=\"Si\",CL42+CL43,CL42+CL44)","v":161.13},{"$f":"+IF(Simulador!$C$50=\"Si\",CM42+CM43,CM42+CM44)","v":161.13},{"$f":"+IF(Simulador!$C$50=\"Si\",CN42+CN43,CN42+CN44)","v":161.13},{"$f":"+IF(Simulador!$C$50=\"Si\",CO42+CO43,CO42+CO44)","v":161.13},{"$f":"+IF(Simulador!$C$50=\"Si\",CP42+CP43,CP42+CP44)","v":161.13},{"$f":"+IF(Simulador!$C$50=\"Si\",CQ42+CQ43,CQ42+CQ44)","v":161.13},{"$f":"+IF(Simulador!$C$50=\"Si\",CR42+CR43,CR42+CR44)","v":211.13},{"$f":"+IF(Simulador!$C$50=\"Si\",CS42+CS43,CS42+CS44)","v":211.13},{"$f":"+IF(Simulador!$C$50=\"Si\",CT42+CT43,CT42+CT44)","v":211.13},{"$f":"+IF(Simulador!$C$50=\"Si\",CU42+CU43,CU42+CU44)","v":211.13},{"$f":"+IF(Simulador!$C$50=\"Si\",CV42+CV43,CV42+CV44)","v":211.13},{"$f":"+IF(Simulador!$C$50=\"Si\",CW42+CW43,CW42+CW44)","v":211.13},{"$f":"+IF(Simulador!$C$50=\"Si\",CX42+CX43,CX42+CX44)","v":211.13},{"$f":"+IF(Simulador!$C$50=\"Si\",CY42+CY43,CY42+CY44)","v":211.13},{"$f":"+IF(Simulador!$C$50=\"Si\",CZ42+CZ43,CZ42+CZ44)","v":211.13},{"$f":"+IF(Simulador!$C$50=\"Si\",DA42+DA43,DA42+DA44)","v":211.13},{"$f":"+IF(Simulador!$C$50=\"Si\",DB42+DB43,DB42+DB44)","v":211.13},{"$f":"+IF(Simulador!$C$50=\"Si\",DC42+DC43,DC42+DC44)","v":211.85999999999999},{"$f":"+IF(Simulador!$C$50=\"Si\",DD42+DD43,DD42+DD44)","v":211.85999999999999},{"$f":"+IF(Simulador!$C$50=\"Si\",DE42+DE43,DE42+DE44)","v":211.85999999999999},{"$f":"+IF(Simulador!$C$50=\"Si\",DF42+DF43,DF42+DF44)","v":211.85999999999999},{"$f":"+IF(Simulador!$C$50=\"Si\",DG42+DG43,DG42+DG44)","v":211.85999999999999},{"$f":"+IF(Simulador!$C$50=\"Si\",DH42+DH43,DH42+DH44)","v":211.85999999999999},{"$f":"+IF(Simulador!$C$50=\"Si\",DI42+DI43,DI42+DI44)","v":211.85999999999999},{"$f":"+IF(Simulador!$C$50=\"Si\",DJ42+DJ43,DJ42+DJ44)","v":211.85999999999999},{"$f":"+IF(Simulador!$C$50=\"Si\",DK42+DK43,DK42+DK44)","v":211.85999999999999},{"$f":"+IF(Simulador!$C$50=\"Si\",DL42+DL43,DL42+DL44)","v":211.85999999999999},{"$f":"+IF(Simulador!$C$50=\"Si\",DM42+DM43,DM42+DM44)","v":211.85999999999999},{"$f":"+IF(Simulador!$C$50=\"Si\",DN42+DN43,DN42+DN44)","v":211.85999999999999},{"$f":"+IF(Simulador!$C$50=\"Si\",DO42+DO43,DO42+DO44)","v":211.85999999999999},{"$f":"+IF(Simulador!$C$50=\"Si\",DP42+DP43,DP42+DP44)","v":211.85999999999999},{"$f":"+IF(Simulador!$C$50=\"Si\",DQ42+DQ43,DQ42+DQ44)","v":211.85999999999999},{"$f":"+IF(Simulador!$C$50=\"Si\",DR42+DR43,DR42+DR44)","v":211.85999999999999},{"$f":"+IF(Simulador!$C$50=\"Si\",DS42+DS43,DS42+DS44)","v":211.85999999999999},{"$f":"+IF(Simulador!$C$50=\"Si\",DT42+DT43,DT42+DT44)","v":211.85999999999999},{"$f":"+IF(Simulador!$C$50=\"Si\",DU42+DU43,DU42+DU44)","v":211.85999999999999},{"$f":"+IF(Simulador!$C$50=\"Si\",DV42+DV43,DV42+DV44)","v":211.85999999999999},{"$f":"+IF(Simulador!$C$50=\"Si\",DW42+DW43,DW42+DW44)","v":261.86},{"$f":"+IF(Simulador!$C$50=\"Si\",DX42+DX43,DX42+DX44)","v":261.86},{"$f":"+IF(Simulador!$C$50=\"Si\",DY42+DY43,DY42+DY44)","v":261.86},{"$f":"+IF(Simulador!$C$50=\"Si\",DZ42+DZ43,DZ42+DZ44)","v":261.86},{"$f":"+IF(Simulador!$C$50=\"Si\",EA42+EA43,EA42+EA44)","v":261.86},{"$f":"+IF(Simulador!$C$50=\"Si\",EB42+EB43,EB42+EB44)","v":261.86},{"$f":"+IF(Simulador!$C$50=\"Si\",EC42+EC43,EC42+EC44)","v":261.86},{"$f":"+IF(Simulador!$C$50=\"Si\",ED42+ED43,ED42+ED44)","v":261.86},{"$f":"+IF(Simulador!$C$50=\"Si\",EE42+EE43,EE42+EE44)","v":262.78000000000003},{"$f":"+IF(Simulador!$C$50=\"Si\",EF42+EF43,EF42+EF44)","v":262.78000000000003},{"$f":"+IF(Simulador!$C$50=\"Si\",EG42+EG43,EG42+EG44)","v":262.78000000000003},{"$f":"+IF(Simulador!$C$50=\"Si\",EH42+EH43,EH42+EH44)","v":262.78000000000003},{"$f":"+IF(Simulador!$C$50=\"Si\",EI42+EI43,EI42+EI44)","v":262.78000000000003},{"$f":"+IF(Simulador!$C$50=\"Si\",EJ42+EJ43,EJ42+EJ44)","v":262.78000000000003},{"$f":"+IF(Simulador!$C$50=\"Si\",EK42+EK43,EK42+EK44)","v":262.78000000000003},{"$f":"+IF(Simulador!$C$50=\"Si\",EL42+EL43,EL42+EL44)","v":262.78000000000003},{"$f":"+IF(Simulador!$C$50=\"Si\",EM42+EM43,EM42+EM44)","v":262.78000000000003},{"$f":"+IF(Simulador!$C$50=\"Si\",EN42+EN43,EN42+EN44)","v":262.78000000000003},{"$f":"+IF(Simulador!$C$50=\"Si\",EO42+EO43,EO42+EO44)","v":262.78000000000003},{"$f":"+IF(Simulador!$C$50=\"Si\",EP42+EP43,EP42+EP44)","v":262.78000000000003},{"$f":"+IF(Simulador!$C$50=\"Si\",EQ42+EQ43,EQ42+EQ44)","v":262.78000000000003},{"$f":"+IF(Simulador!$C$50=\"Si\",ER42+ER43,ER42+ER44)","v":262.78000000000003},{"$f":"+IF(Simulador!$C$50=\"Si\",ES42+ES43,ES42+ES44)","v":262.78000000000003},{"$f":"+IF(Simulador!$C$50=\"Si\",ET42+ET43,ET42+ET44)","v":262.78000000000003},{"$f":"+IF(Simulador!$C$50=\"Si\",EU42+EU43,EU42+EU44)","v":262.78000000000003},{"$f":"+IF(Simulador!$C$50=\"Si\",EV42+EV43,EV42+EV44)","v":262.78000000000003},{"$f":"+IF(Simulador!$C$50=\"Si\",EW42+EW43,EW42+EW44)","v":262.78000000000003},{"$f":"+IF(Simulador!$C$50=\"Si\",EX42+EX43,EX42+EX44)","v":262.78000000000003},{"$f":"+IF(Simulador!$C$50=\"Si\",EY42+EY43,EY42+EY44)","v":262.78000000000003},{"$f":"+IF(Simulador!$C$50=\"Si\",EZ42+EZ43,EZ42+EZ44)","v":262.78000000000003},{"$f":"+IF(Simulador!$C$50=\"Si\",FA42+FA43,FA42+FA44)","v":312.78000000000003},{"$f":"+IF(Simulador!$C$50=\"Si\",FB42+FB43,FB42+FB44)","v":312.78000000000003},{"$f":"+IF(Simulador!$C$50=\"Si\",FC42+FC43,FC42+FC44)","v":312.78000000000003},{"$f":"+IF(Simulador!$C$50=\"Si\",FD42+FD43,FD42+FD44)","v":312.78000000000003},{"$f":"+IF(Simulador!$C$50=\"Si\",FE42+FE43,FE42+FE44)","v":312.78000000000003},{"$f":"+IF(Simulador!$C$50=\"Si\",FF42+FF43,FF42+FF44)","v":312.78000000000003},{"$f":"+IF(Simulador!$C$50=\"Si\",FG42+FG43,FG42+FG44)","v":312.78000000000003},{"$f":"+IF(Simulador!$C$50=\"Si\",FH42+FH43,FH42+FH44)","v":312.78000000000003},{"$f":"+IF(Simulador!$C$50=\"Si\",FI42+FI43,FI42+FI44)","v":312.78000000000003},{"$f":"+IF(Simulador!$C$50=\"Si\",FJ42+FJ43,FJ42+FJ44)","v":312.78000000000003},{"$f":"+IF(Simulador!$C$50=\"Si\",FK42+FK43,FK42+FK44)","v":314.06},{"$f":"+IF(Simulador!$C$50=\"Si\",FL42+FL43,FL42+FL44)","v":314.06},{"$f":"+IF(Simulador!$C$50=\"Si\",FM42+FM43,FM42+FM44)","v":314.06},{"$f":"+IF(Simulador!$C$50=\"Si\",FN42+FN43,FN42+FN44)","v":314.06},{"$f":"+IF(Simulador!$C$50=\"Si\",FO42+FO43,FO42+FO44)","v":314.06},{"$f":"+IF(Simulador!$C$50=\"Si\",FP42+FP43,FP42+FP44)","v":314.06},{"$f":"+IF(Simulador!$C$50=\"Si\",FQ42+FQ43,FQ42+FQ44)","v":314.06},{"$f":"+IF(Simulador!$C$50=\"Si\",FR42+FR43,FR42+FR44)","v":314.06},{"$f":"+IF(Simulador!$C$50=\"Si\",FS42+FS43,FS42+FS44)","v":314.06},{"$f":"+IF(Simulador!$C$50=\"Si\",FT42+FT43,FT42+FT44)","v":314.06},{"$f":"+IF(Simulador!$C$50=\"Si\",FU42+FU43,FU42+FU44)","v":314.06},{"$f":"+IF(Simulador!$C$50=\"Si\",FV42+FV43,FV42+FV44)","v":314.06},{"$f":"+IF(Simulador!$C$50=\"Si\",FW42+FW43,FW42+FW44)","v":314.06},{"$f":"+IF(Simulador!$C$50=\"Si\",FX42+FX43,FX42+FX44)","v":314.06},{"$f":"+IF(Simulador!$C$50=\"Si\",FY42+FY43,FY42+FY44)","v":314.06},{"$f":"+IF(Simulador!$C$50=\"Si\",FZ42+FZ43,FZ42+FZ44)","v":314.06},{"$f":"+IF(Simulador!$C$50=\"Si\",GA42+GA43,GA42+GA44)","v":314.06},{"$f":"+IF(Simulador!$C$50=\"Si\",GB42+GB43,GB42+GB44)","v":314.06},{"$f":"+IF(Simulador!$C$50=\"Si\",GC42+GC43,GC42+GC44)","v":314.06},{"$f":"+IF(Simulador!$C$50=\"Si\",GD42+GD43,GD42+GD44)","v":314.06},{"$f":"+IF(Simulador!$C$50=\"Si\",GE42+GE43,GE42+GE44)","v":314.06},{"$f":"+IF(Simulador!$C$50=\"Si\",GF42+GF43,GF42+GF44)","v":364.06},{"$f":"+IF(Simulador!$C$50=\"Si\",GG42+GG43,GG42+GG44)","v":364.06},{"$f":"+IF(Simulador!$C$50=\"Si\",GH42+GH43,GH42+GH44)","v":364.06},{"$f":"+IF(Simulador!$C$50=\"Si\",GI42+GI43,GI42+GI44)","v":364.06},{"$f":"+IF(Simulador!$C$50=\"Si\",GJ42+GJ43,GJ42+GJ44)","v":364.06},{"$f":"+IF(Simulador!$C$50=\"Si\",GK42+GK43,GK42+GK44)","v":364.06},{"$f":"+IF(Simulador!$C$50=\"Si\",GL42+GL43,GL42+GL44)","v":364.06},{"$f":"+IF(Simulador!$C$50=\"Si\",GM42+GM43,GM42+GM44)","v":364.06},{"$f":"+IF(Simulador!$C$50=\"Si\",GN42+GN43,GN42+GN44)","v":364.06},{"$f":"+IF(Simulador!$C$50=\"Si\",GO42+GO43,GO42+GO44)","v":364.06},{"$f":"+IF(Simulador!$C$50=\"Si\",GP42+GP43,GP42+GP44)","v":365.4},{"$f":"+IF(Simulador!$C$50=\"Si\",GQ42+GQ43,GQ42+GQ44)","v":365.4},{"$f":"+IF(Simulador!$C$50=\"Si\",GR42+GR43,GR42+GR44)","v":365.4},{"$f":"+IF(Simulador!$C$50=\"Si\",GS42+GS43,GS42+GS44)","v":365.4},{"$f":"+IF(Simulador!$C$50=\"Si\",GT42+GT43,GT42+GT44)","v":365.4},{"$f":"+IF(Simulador!$C$50=\"Si\",GU42+GU43,GU42+GU44)","v":365.4},{"$f":"+IF(Simulador!$C$50=\"Si\",GV42+GV43,GV42+GV44)","v":365.4},{"$f":"+IF(Simulador!$C$50=\"Si\",GW42+GW43,GW42+GW44)","v":365.4},{"$f":"+IF(Simulador!$C$50=\"Si\",GX42+GX43,GX42+GX44)","v":365.4},{"$f":"+IF(Simulador!$C$50=\"Si\",GY42+GY43,GY42+GY44)","v":365.4},{"$f":"+IF(Simulador!$C$50=\"Si\",GZ42+GZ43,GZ42+GZ44)","v":365.4},{"$f":"+IF(Simulador!$C$50=\"Si\",HA42+HA43,HA42+HA44)","v":365.4},{"$f":"+IF(Simulador!$C$50=\"Si\",HB42+HB43,HB42+HB44)","v":365.4},{"$f":"+IF(Simulador!$C$50=\"Si\",HC42+HC43,HC42+HC44)","v":365.4},{"$f":"+IF(Simulador!$C$50=\"Si\",HD42+HD43,HD42+HD44)","v":365.4},{"$f":"+IF(Simulador!$C$50=\"Si\",HE42+HE43,HE42+HE44)","v":365.4},{"$f":"+IF(Simulador!$C$50=\"Si\",HF42+HF43,HF42+HF44)","v":365.4},{"$f":"+IF(Simulador!$C$50=\"Si\",HG42+HG43,HG42+HG44)","v":365.4},{"$f":"+IF(Simulador!$C$50=\"Si\",HH42+HH43,HH42+HH44)","v":365.4},{"$f":"+IF(Simulador!$C$50=\"Si\",HI42+HI43,HI42+HI44)","v":365.4},{"$f":"+IF(Simulador!$C$50=\"Si\",HJ42+HJ43,HJ42+HJ44)","v":365.4},{"$f":"+IF(Simulador!$C$50=\"Si\",HK42+HK43,HK42+HK44)","v":415.4},{"$f":"+IF(Simulador!$C$50=\"Si\",HL42+HL43,HL42+HL44)","v":415.4},{"$f":"+IF(Simulador!$C$50=\"Si\",HM42+HM43,HM42+HM44)","v":415.4},{"$f":"+IF(Simulador!$C$50=\"Si\",HN42+HN43,HN42+HN44)","v":415.4},{"$f":"+IF(Simulador!$C$50=\"Si\",HO42+HO43,HO42+HO44)","v":415.4},{"$f":"+IF(Simulador!$C$50=\"Si\",HP42+HP43,HP42+HP44)","v":415.4},{"$f":"+IF(Simulador!$C$50=\"Si\",HQ42+HQ43,HQ42+HQ44)","v":415.4},{"$f":"+IF(Simulador!$C$50=\"Si\",HR42+HR43,HR42+HR44)","v":416.87},{"$f":"+IF(Simulador!$C$50=\"Si\",HS42+HS43,HS42+HS44)","v":416.87},{"$f":"+IF(Simulador!$C$50=\"Si\",HT42+HT43,HT42+HT44)","v":416.87},{"$f":"+IF(Simulador!$C$50=\"Si\",HU42+HU43,HU42+HU44)","v":416.87},{"$f":"+IF(Simulador!$C$50=\"Si\",HV42+HV43,HV42+HV44)","v":416.87},{"$f":"+IF(Simulador!$C$50=\"Si\",HW42+HW43,HW42+HW44)","v":416.87},{"$f":"+IF(Simulador!$C$50=\"Si\",HX42+HX43,HX42+HX44)","v":416.87},{"$f":"+IF(Simulador!$C$50=\"Si\",HY42+HY43,HY42+HY44)","v":416.87},{"$f":"+IF(Simulador!$C$50=\"Si\",HZ42+HZ43,HZ42+HZ44)","v":416.87},{"$f":"+IF(Simulador!$C$50=\"Si\",IA42+IA43,IA42+IA44)","v":416.87},{"$f":"+IF(Simulador!$C$50=\"Si\",IB42+IB43,IB42+IB44)","v":416.87},{"$f":"+IF(Simulador!$C$50=\"Si\",IC42+IC43,IC42+IC44)","v":416.87},{"$f":"+IF(Simulador!$C$50=\"Si\",ID42+ID43,ID42+ID44)","v":416.87},{"$f":"+IF(Simulador!$C$50=\"Si\",IE42+IE43,IE42+IE44)","v":416.87},{"$f":"+IF(Simulador!$C$50=\"Si\",IF42+IF43,IF42+IF44)","v":416.87},{"$f":"+IF(Simulador!$C$50=\"Si\",IG42+IG43,IG42+IG44)","v":416.87},{"$f":"+IF(Simulador!$C$50=\"Si\",IH42+IH43,IH42+IH44)","v":416.87},{"$f":"+IF(Simulador!$C$50=\"Si\",II42+II43,II42+II44)","v":416.87},{"$f":"+IF(Simulador!$C$50=\"Si\",IJ42+IJ43,IJ42+IJ44)","v":416.87},{"$f":"+IF(Simulador!$C$50=\"Si\",IK42+IK43,IK42+IK44)","v":416.87},{"$f":"+IF(Simulador!$C$50=\"Si\",IL42+IL43,IL42+IL44)","v":416.87},{"$f":"+IF(Simulador!$C$50=\"Si\",IM42+IM43,IM42+IM44)","v":466.87},{"$f":"+IF(Simulador!$C$50=\"Si\",IN42+IN43,IN42+IN44)","v":466.87},{"$f":"+IF(Simulador!$C$50=\"Si\",IO42+IO43,IO42+IO44)","v":466.87},{"$f":"+IF(Simulador!$C$50=\"Si\",IP42+IP43,IP42+IP44)","v":466.87},{"$f":"+IF(Simulador!$C$50=\"Si\",IQ42+IQ43,IQ42+IQ44)","v":466.87},{"$f":"+IF(Simulador!$C$50=\"Si\",IR42+IR43,IR42+IR44)","v":466.87},{"$f":"+IF(Simulador!$C$50=\"Si\",IS42+IS43,IS42+IS44)","v":466.87},{"$f":"+IF(Simulador!$C$50=\"Si\",IT42+IT43,IT42+IT44)","v":466.87},{"$f":"+IF(Simulador!$C$50=\"Si\",IU42+IU43,IU42+IU44)","v":466.87},{"$f":"+IF(Simulador!$C$50=\"Si\",IV42+IV43,IV42+IV44)","v":466.87},{"$f":"+IF(Simulador!$C$50=\"Si\",IW42+IW43,IW42+IW44)","v":466.87},{"$f":"+IF(Simulador!$C$50=\"Si\",IX42+IX43,IX42+IX44)","v":468.79},{"$f":"+IF(Simulador!$C$50=\"Si\",IY42+IY43,IY42+IY44)","v":468.79},{"$f":"+IF(Simulador!$C$50=\"Si\",IZ42+IZ43,IZ42+IZ44)","v":468.79},{"$f":"+IF(Simulador!$C$50=\"Si\",JA42+JA43,JA42+JA44)","v":468.79},{"$f":"+IF(Simulador!$C$50=\"Si\",JB42+JB43,JB42+JB44)","v":468.79},{"$f":"+IF(Simulador!$C$50=\"Si\",JC42+JC43,JC42+JC44)","v":468.79},{"$f":"+IF(Simulador!$C$50=\"Si\",JD42+JD43,JD42+JD44)","v":468.79},{"$f":"+IF(Simulador!$C$50=\"Si\",JE42+JE43,JE42+JE44)","v":468.79},{"$f":"+IF(Simulador!$C$50=\"Si\",JF42+JF43,JF42+JF44)","v":468.79},{"$f":"+IF(Simulador!$C$50=\"Si\",JG42+JG43,JG42+JG44)","v":468.79},{"$f":"+IF(Simulador!$C$50=\"Si\",JH42+JH43,JH42+JH44)","v":468.79},{"$f":"+IF(Simulador!$C$50=\"Si\",JI42+JI43,JI42+JI44)","v":468.79},{"$f":"+IF(Simulador!$C$50=\"Si\",JJ42+JJ43,JJ42+JJ44)","v":468.79},{"$f":"+IF(Simulador!$C$50=\"Si\",JK42+JK43,JK42+JK44)","v":468.79},{"$f":"+IF(Simulador!$C$50=\"Si\",JL42+JL43,JL42+JL44)","v":468.79},{"$f":"+IF(Simulador!$C$50=\"Si\",JM42+JM43,JM42+JM44)","v":468.79},{"$f":"+IF(Simulador!$C$50=\"Si\",JN42+JN43,JN42+JN44)","v":468.79},{"$f":"+IF(Simulador!$C$50=\"Si\",JO42+JO43,JO42+JO44)","v":468.79},{"$f":"+IF(Simulador!$C$50=\"Si\",JP42+JP43,JP42+JP44)","v":468.79},{"$f":"+IF(Simulador!$C$50=\"Si\",JQ42+JQ43,JQ42+JQ44)","v":468.79},{"$f":"+IF(Simulador!$C$50=\"Si\",JR42+JR43,JR42+JR44)","v":518.79},{"$f":"+IF(Simulador!$C$50=\"Si\",JS42+JS43,JS42+JS44)","v":518.79},{"$f":"+IF(Simulador!$C$50=\"Si\",JT42+JT43,JT42+JT44)","v":518.79},{"$f":"+IF(Simulador!$C$50=\"Si\",JU42+JU43,JU42+JU44)","v":518.79},{"$f":"+IF(Simulador!$C$50=\"Si\",JV42+JV43,JV42+JV44)","v":518.79},{"$f":"+IF(Simulador!$C$50=\"Si\",JW42+JW43,JW42+JW44)","v":518.79},{"$f":"+IF(Simulador!$C$50=\"Si\",JX42+JX43,JX42+JX44)","v":518.79},{"$f":"+IF(Simulador!$C$50=\"Si\",JY42+JY43,JY42+JY44)","v":518.79},{"$f":"+IF(Simulador!$C$50=\"Si\",JZ42+JZ43,JZ42+JZ44)","v":518.79},{"$f":"+IF(Simulador!$C$50=\"Si\",KA42+KA43,KA42+KA44)","v":518.79},{"$f":"+IF(Simulador!$C$50=\"Si\",KB42+KB43,KB42+KB44)","v":520.89},{"$f":"+IF(Simulador!$C$50=\"Si\",KC42+KC43,KC42+KC44)","v":520.89},{"$f":"+IF(Simulador!$C$50=\"Si\",KD42+KD43,KD42+KD44)","v":520.89},{"$f":"+IF(Simulador!$C$50=\"Si\",KE42+KE43,KE42+KE44)","v":520.89},{"$f":"+IF(Simulador!$C$50=\"Si\",KF42+KF43,KF42+KF44)","v":520.89},{"$f":"+IF(Simulador!$C$50=\"Si\",KG42+KG43,KG42+KG44)","v":520.89},{"$f":"+IF(Simulador!$C$50=\"Si\",KH42+KH43,KH42+KH44)","v":520.89},{"$f":"+IF(Simulador!$C$50=\"Si\",KI42+KI43,KI42+KI44)","v":520.89},{"$f":"+IF(Simulador!$C$50=\"Si\",KJ42+KJ43,KJ42+KJ44)","v":520.89},{"$f":"+IF(Simulador!$C$50=\"Si\",KK42+KK43,KK42+KK44)","v":520.89},{"$f":"+IF(Simulador!$C$50=\"Si\",KL42+KL43,KL42+KL44)","v":520.89},{"$f":"+IF(Simulador!$C$50=\"Si\",KM42+KM43,KM42+KM44)","v":520.89},{"$f":"+IF(Simulador!$C$50=\"Si\",KN42+KN43,KN42+KN44)","v":520.89},{"$f":"+IF(Simulador!$C$50=\"Si\",KO42+KO43,KO42+KO44)","v":520.89},{"$f":"+IF(Simulador!$C$50=\"Si\",KP42+KP43,KP42+KP44)","v":520.89},{"$f":"+IF(Simulador!$C$50=\"Si\",KQ42+KQ43,KQ42+KQ44)","v":520.89},{"$f":"+IF(Simulador!$C$50=\"Si\",KR42+KR43,KR42+KR44)","v":520.89},{"$f":"+IF(Simulador!$C$50=\"Si\",KS42+KS43,KS42+KS44)","v":520.89},{"$f":"+IF(Simulador!$C$50=\"Si\",KT42+KT43,KT42+KT44)","v":520.89},{"$f":"+IF(Simulador!$C$50=\"Si\",KU42+KU43,KU42+KU44)","v":520.89},{"$f":"+IF(Simulador!$C$50=\"Si\",KV42+KV43,KV42+KV44)","v":570.89},{"$f":"+IF(Simulador!$C$50=\"Si\",KW42+KW43,KW42+KW44)","v":570.89},{"$f":"+IF(Simulador!$C$50=\"Si\",KX42+KX43,KX42+KX44)","v":570.89},{"$f":"+IF(Simulador!$C$50=\"Si\",KY42+KY43,KY42+KY44)","v":570.89},{"$f":"+IF(Simulador!$C$50=\"Si\",KZ42+KZ43,KZ42+KZ44)","v":570.89},{"$f":"+IF(Simulador!$C$50=\"Si\",LA42+LA43,LA42+LA44)","v":570.89},{"$f":"+IF(Simulador!$C$50=\"Si\",LB42+LB43,LB42+LB44)","v":570.89},{"$f":"+IF(Simulador!$C$50=\"Si\",LC42+LC43,LC42+LC44)","v":570.89},{"$f":"+IF(Simulador!$C$50=\"Si\",LD42+LD43,LD42+LD44)","v":570.89},{"$f":"+IF(Simulador!$C$50=\"Si\",LE42+LE43,LE42+LE44)","v":573.01},{"$f":"+IF(Simulador!$C$50=\"Si\",LF42+LF43,LF42+LF44)","v":573.01},{"$f":"+IF(Simulador!$C$50=\"Si\",LG42+LG43,LG42+LG44)","v":573.01},{"$f":"+IF(Simulador!$C$50=\"Si\",LH42+LH43,LH42+LH44)","v":573.01},{"$f":"+IF(Simulador!$C$50=\"Si\",LI42+LI43,LI42+LI44)","v":573.01},{"$f":"+IF(Simulador!$C$50=\"Si\",LJ42+LJ43,LJ42+LJ44)","v":573.01},{"$f":"+IF(Simulador!$C$50=\"Si\",LK42+LK43,LK42+LK44)","v":573.01},{"$f":"+IF(Simulador!$C$50=\"Si\",LL42+LL43,LL42+LL44)","v":573.01},{"$f":"+IF(Simulador!$C$50=\"Si\",LM42+LM43,LM42+LM44)","v":573.01},{"$f":"+IF(Simulador!$C$50=\"Si\",LN42+LN43,LN42+LN44)","v":573.01},{"$f":"+IF(Simulador!$C$50=\"Si\",LO42+LO43,LO42+LO44)","v":573.01},{"$f":"+IF(Simulador!$C$50=\"Si\",LP42+LP43,LP42+LP44)","v":573.01},{"$f":"+IF(Simulador!$C$50=\"Si\",LQ42+LQ43,LQ42+LQ44)","v":573.01},{"$f":"+IF(Simulador!$C$50=\"Si\",LR42+LR43,LR42+LR44)","v":573.01},{"$f":"+IF(Simulador!$C$50=\"Si\",LS42+LS43,LS42+LS44)","v":573.01},{"$f":"+IF(Simulador!$C$50=\"Si\",LT42+LT43,LT42+LT44)","v":573.01},{"$f":"+IF(Simulador!$C$50=\"Si\",LU42+LU43,LU42+LU44)","v":573.01},{"$f":"+IF(Simulador!$C$50=\"Si\",LV42+LV43,LV42+LV44)","v":573.01},{"$f":"+IF(Simulador!$C$50=\"Si\",LW42+LW43,LW42+LW44)","v":573.01},{"$f":"+IF(Simulador!$C$50=\"Si\",LX42+LX43,LX42+LX44)","v":573.01},{"$f":"+IF(Simulador!$C$50=\"Si\",LY42+LY43,LY42+LY44)","v":573.01},{"$f":"+IF(Simulador!$C$50=\"Si\",LZ42+LZ43,LZ42+LZ44)","v":573.01},{"$f":"+IF(Simulador!$C$50=\"Si\",MA42+MA43,MA42+MA44)","v":623.01},{"$f":"+IF(Simulador!$C$50=\"Si\",MB42+MB43,MB42+MB44)","v":623.01},{"$f":"+IF(Simulador!$C$50=\"Si\",MC42+MC43,MC42+MC44)","v":623.01},{"$f":"+IF(Simulador!$C$50=\"Si\",MD42+MD43,MD42+MD44)","v":623.01},{"$f":"+IF(Simulador!$C$50=\"Si\",ME42+ME43,ME42+ME44)","v":623.01},{"$f":"+IF(Simulador!$C$50=\"Si\",MF42+MF43,MF42+MF44)","v":623.01},{"$f":"+IF(Simulador!$C$50=\"Si\",MG42+MG43,MG42+MG44)","v":623.01},{"$f":"+IF(Simulador!$C$50=\"Si\",MH42+MH43,MH42+MH44)","v":623.01},{"$f":"+IF(Simulador!$C$50=\"Si\",MI42+MI43,MI42+MI44)","v":623.01},{"$f":"+IF(Simulador!$C$50=\"Si\",MJ42+MJ43,MJ42+MJ44)","v":623.01},{"$f":"+IF(Simulador!$C$50=\"Si\",MK42+MK43,MK42+MK44)","v":625.66999999999996},{"$f":"+IF(Simulador!$C$50=\"Si\",ML42+ML43,ML42+ML44)","v":625.66999999999996},{"$f":"+IF(Simulador!$C$50=\"Si\",MM42+MM43,MM42+MM44)","v":625.66999999999996},{"$f":"+IF(Simulador!$C$50=\"Si\",MN42+MN43,MN42+MN44)","v":625.66999999999996},{"$f":"+IF(Simulador!$C$50=\"Si\",MO42+MO43,MO42+MO44)","v":625.66999999999996},{"$f":"+IF(Simulador!$C$50=\"Si\",MP42+MP43,MP42+MP44)","v":625.66999999999996},{"$f":"+IF(Simulador!$C$50=\"Si\",MQ42+MQ43,MQ42+MQ44)","v":625.66999999999996},{"$f":"+IF(Simulador!$C$50=\"Si\",MR42+MR43,MR42+MR44)","v":625.66999999999996},{"$f":"+IF(Simulador!$C$50=\"Si\",MS42+MS43,MS42+MS44)","v":625.66999999999996},{"$f":"+IF(Simulador!$C$50=\"Si\",MT42+MT43,MT42+MT44)","v":625.66999999999996},{"$f":"+IF(Simulador!$C$50=\"Si\",MU42+MU43,MU42+MU44)","v":625.66999999999996},{"$f":"+IF(Simulador!$C$50=\"Si\",MV42+MV43,MV42+MV44)","v":625.66999999999996},{"$f":"+IF(Simulador!$C$50=\"Si\",MW42+MW43,MW42+MW44)","v":625.66999999999996},{"$f":"+IF(Simulador!$C$50=\"Si\",MX42+MX43,MX42+MX44)","v":625.66999999999996},{"$f":"+IF(Simulador!$C$50=\"Si\",MY42+MY43,MY42+MY44)","v":625.66999999999996},{"$f":"+IF(Simulador!$C$50=\"Si\",MZ42+MZ43,MZ42+MZ44)","v":625.66999999999996},{"$f":"+IF(Simulador!$C$50=\"Si\",NA42+NA43,NA42+NA44)","v":625.66999999999996},{"$f":"+IF(Simulador!$C$50=\"Si\",NB42+NB43,NB42+NB44)","v":625.66999999999996},{"$f":"+IF(Simulador!$C$50=\"Si\",NC42+NC43,NC42+NC44)","v":625.66999999999996},{"$f":"+IF(Simulador!$C$50=\"Si\",ND42+ND43,ND42+ND44)","v":625.66999999999996},{"$f":"+IF(Simulador!$C$50=\"Si\",NE42+NE43,NE42+NE44)","v":675.67},{"$f":"+IF(Simulador!$C$50=\"Si\",NF42+NF43,NF42+NF44)","v":675.67},{"$f":"+IF(Simulador!$C$50=\"Si\",NG42+NG43,NG42+NG44)","v":675.67},{"$f":"+IF(Simulador!$C$50=\"Si\",NH42+NH43,NH42+NH44)","v":675.67},{"$f":"+IF(Simulador!$C$50=\"Si\",NI42+NI43,NI42+NI44)","v":675.67},{"$f":"+IF(Simulador!$C$50=\"Si\",NJ42+NJ43,NJ42+NJ44)","v":675.67},{"$f":"+IF(Simulador!$C$50=\"Si\",NK42+NK43,NK42+NK44)","v":675.67},{"$f":"+IF(Simulador!$C$50=\"Si\",NL42+NL43,NL42+NL44)","v":675.67},{"$f":"+IF(Simulador!$C$50=\"Si\",NM42+NM43,NM42+NM44)","v":675.67},{"$f":"+IF(Simulador!$C$50=\"Si\",NN42+NN43,NN42+NN44)","v":675.67},{"$f":"+IF(Simulador!$C$50=\"Si\",NO42+NO43,NO42+NO44)","v":675.67},{"$f":"+IF(Simulador!$C$50=\"Si\",NP42+NP43,NP42+NP44)","v":678.45999999999992},{"$f":"+IF(Simulador!$C$50=\"Si\",NQ42+NQ43,NQ42+NQ44)","v":678.45999999999992},{"$f":"+IF(Simulador!$C$50=\"Si\",NR42+NR43,NR42+NR44)","v":678.45999999999992},{"$f":"+IF(Simulador!$C$50=\"Si\",NS42+NS43,NS42+NS44)","v":678.45999999999992},{"$f":"+IF(Simulador!$C$50=\"Si\",NT42+NT43,NT42+NT44)","v":678.45999999999992},{"$f":"+IF(Simulador!$C$50=\"Si\",NU42+NU43,NU42+NU44)","v":678.45999999999992},{"$f":"+IF(Simulador!$C$50=\"Si\",NV42+NV43,NV42+NV44)","v":678.45999999999992},{"$f":"+IF(Simulador!$C$50=\"Si\",NW42+NW43,NW42+NW44)","v":678.45999999999992},{"$f":"+IF(Simulador!$C$50=\"Si\",NX42+NX43,NX42+NX44)","v":678.45999999999992},{"$f":"+IF(Simulador!$C$50=\"Si\",NY42+NY43,NY42+NY44)","v":678.45999999999992},{"$f":"+IF(Simulador!$C$50=\"Si\",NZ42+NZ43,NZ42+NZ44)","v":678.45999999999992},{"$f":"+IF(Simulador!$C$50=\"Si\",OA42+OA43,OA42+OA44)","v":678.45999999999992},{"$f":"+IF(Simulador!$C$50=\"Si\",OB42+OB43,OB42+OB44)","v":678.45999999999992},{"$f":"+IF(Simulador!$C$50=\"Si\",OC42+OC43,OC42+OC44)","v":678.45999999999992},{"$f":"+IF(Simulador!$C$50=\"Si\",OD42+OD43,OD42+OD44)","v":678.45999999999992},{"$f":"+IF(Simulador!$C$50=\"Si\",OE42+OE43,OE42+OE44)","v":678.45999999999992},{"$f":"+IF(Simulador!$C$50=\"Si\",OF42+OF43,OF42+OF44)","v":678.45999999999992},{"$f":"+IF(Simulador!$C$50=\"Si\",OG42+OG43,OG42+OG44)","v":678.45999999999992},{"$f":"+IF(Simulador!$C$50=\"Si\",OH42+OH43,OH42+OH44)","v":678.45999999999992},{"$f":"+IF(Simulador!$C$50=\"Si\",OI42+OI43,OI42+OI44)","v":678.45999999999992},{"$f":"+IF(Simulador!$C$50=\"Si\",OJ42+OJ43,OJ42+OJ44)","v":728.45999999999992},{"$f":"+IF(Simulador!$C$50=\"Si\",OK42+OK43,OK42+OK44)","v":728.45999999999992},{"$f":"+IF(Simulador!$C$50=\"Si\",OL42+OL43,OL42+OL44)","v":728.45999999999992},{"$f":"+IF(Simulador!$C$50=\"Si\",OM42+OM43,OM42+OM44)","v":728.45999999999992},{"$f":"+IF(Simulador!$C$50=\"Si\",ON42+ON43,ON42+ON44)","v":728.45999999999992},{"$f":"+IF(Simulador!$C$50=\"Si\",OO42+OO43,OO42+OO44)","v":728.45999999999992},{"$f":"+IF(Simulador!$C$50=\"Si\",OP42+OP43,OP42+OP44)","v":728.45999999999992},{"$f":"+IF(Simulador!$C$50=\"Si\",OQ42+OQ43,OQ42+OQ44)","v":728.45999999999992},{"$f":"+IF(Simulador!$C$50=\"Si\",OR42+OR43,OR42+OR44)","v":728.45999999999992},{"$f":"+IF(Simulador!$C$50=\"Si\",OS42+OS43,OS42+OS44)","v":728.45999999999992},{"$f":"+IF(Simulador!$C$50=\"Si\",OT42+OT43,OT42+OT44)","v":728.45999999999992},{"$f":"+IF(Simulador!$C$50=\"Si\",OU42+OU43,OU42+OU44)","v":731.3599999999999},{"$f":"+IF(Simulador!$C$50=\"Si\",OV42+OV43,OV42+OV44)","v":731.3599999999999},{"$f":"+IF(Simulador!$C$50=\"Si\",OW42+OW43,OW42+OW44)","v":731.3599999999999},{"$f":"+IF(Simulador!$C$50=\"Si\",OX42+OX43,OX42+OX44)","v":731.3599999999999},{"$f":"+IF(Simulador!$C$50=\"Si\",OY42+OY43,OY42+OY44)","v":731.3599999999999},{"$f":"+IF(Simulador!$C$50=\"Si\",OZ42+OZ43,OZ42+OZ44)","v":731.3599999999999},{"$f":"+IF(Simulador!$C$50=\"Si\",PA42+PA43,PA42+PA44)","v":731.3599999999999},{"$f":"+IF(Simulador!$C$50=\"Si\",PB42+PB43,PB42+PB44)","v":731.3599999999999},{"$f":"+IF(Simulador!$C$50=\"Si\",PC42+PC43,PC42+PC44)","v":731.3599999999999},{"$f":"+IF(Simulador!$C$50=\"Si\",PD42+PD43,PD42+PD44)","v":731.3599999999999},{"$f":"+IF(Simulador!$C$50=\"Si\",PE42+PE43,PE42+PE44)","v":731.3599999999999},{"$f":"+IF(Simulador!$C$50=\"Si\",PF42+PF43,PF42+PF44)","v":731.3599999999999},{"$f":"+IF(Simulador!$C$50=\"Si\",PG42+PG43,PG42+PG44)","v":731.3599999999999},{"$f":"+IF(Simulador!$C$50=\"Si\",PH42+PH43,PH42+PH44)","v":731.3599999999999},{"$f":"+IF(Simulador!$C$50=\"Si\",PI42+PI43,PI42+PI44)","v":731.3599999999999},{"$f":"+IF(Simulador!$C$50=\"Si\",PJ42+PJ43,PJ42+PJ44)","v":731.3599999999999},{"$f":"+IF(Simulador!$C$50=\"Si\",PK42+PK43,PK42+PK44)","v":731.3599999999999},{"$f":"+IF(Simulador!$C$50=\"Si\",PL42+PL43,PL42+PL44)","v":731.3599999999999},{"$f":"+IF(Simulador!$C$50=\"Si\",PM42+PM43,PM42+PM44)","v":731.3599999999999},{"$f":"+IF(Simulador!$C$50=\"Si\",PN42+PN43,PN42+PN44)","v":731.3599999999999},{"$f":"+IF(Simulador!$C$50=\"Si\",PO42+PO43,PO42+PO44)","v":781.3599999999999},{"$f":"+IF(Simulador!$C$50=\"Si\",PP42+PP43,PP42+PP44)","v":781.3599999999999},{"$f":"+IF(Simulador!$C$50=\"Si\",PQ42+PQ43,PQ42+PQ44)","v":781.3599999999999},{"$f":"+IF(Simulador!$C$50=\"Si\",PR42+PR43,PR42+PR44)","v":781.3599999999999},{"$f":"+IF(Simulador!$C$50=\"Si\",PS42+PS43,PS42+PS44)","v":781.3599999999999},{"$f":"+IF(Simulador!$C$50=\"Si\",PT42+PT43,PT42+PT44)","v":781.3599999999999},{"$f":"+IF(Simulador!$C$50=\"Si\",PU42+PU43,PU42+PU44)","v":781.3599999999999},{"$f":"+IF(Simulador!$C$50=\"Si\",PV42+PV43,PV42+PV44)","v":781.3599999999999},{"$f":"+IF(Simulador!$C$50=\"Si\",PW42+PW43,PW42+PW44)","v":781.3599999999999},{"$f":"+IF(Simulador!$C$50=\"Si\",PX42+PX43,PX42+PX44)","v":781.3599999999999},{"$f":"+IF(Simulador!$C$50=\"Si\",PY42+PY43,PY42+PY44)","v":784.45999999999992},{"$f":"+IF(Simulador!$C$50=\"Si\",PZ42+PZ43,PZ42+PZ44)","v":784.45999999999992},{"$f":"+IF(Simulador!$C$50=\"Si\",QA42+QA43,QA42+QA44)","v":784.45999999999992},{"$f":"+IF(Simulador!$C$50=\"Si\",QB42+QB43,QB42+QB44)","v":784.45999999999992},{"$f":"+IF(Simulador!$C$50=\"Si\",QC42+QC43,QC42+QC44)","v":784.45999999999992},{"$f":"+IF(Simulador!$C$50=\"Si\",QD42+QD43,QD42+QD44)","v":784.45999999999992},{"$f":"+IF(Simulador!$C$50=\"Si\",QE42+QE43,QE42+QE44)","v":784.45999999999992},{"$f":"+IF(Simulador!$C$50=\"Si\",QF42+QF43,QF42+QF44)","v":784.45999999999992},{"$f":"+IF(Simulador!$C$50=\"Si\",QG42+QG43,QG42+QG44)","v":784.45999999999992},{"$f":"+IF(Simulador!$C$50=\"Si\",QH42+QH43,QH42+QH44)","v":784.45999999999992},{"$f":"+IF(Simulador!$C$50=\"Si\",QI42+QI43,QI42+QI44)","v":784.45999999999992},{"$f":"+IF(Simulador!$C$50=\"Si\",QJ42+QJ43,QJ42+QJ44)","v":784.45999999999992},{"$f":"+IF(Simulador!$C$50=\"Si\",QK42+QK43,QK42+QK44)","v":784.45999999999992},{"$f":"+IF(Simulador!$C$50=\"Si\",QL42+QL43,QL42+QL44)","v":784.45999999999992},{"$f":"+IF(Simulador!$C$50=\"Si\",QM42+QM43,QM42+QM44)","v":784.45999999999992},{"$f":"+IF(Simulador!$C$50=\"Si\",QN42+QN43,QN42+QN44)","v":784.45999999999992},{"$f":"+IF(Simulador!$C$50=\"Si\",QO42+QO43,QO42+QO44)","v":784.45999999999992},{"$f":"+IF(Simulador!$C$50=\"Si\",QP42+QP43,QP42+QP44)","v":784.45999999999992},{"$f":"+IF(Simulador!$C$50=\"Si\",QQ42+QQ43,QQ42+QQ44)","v":784.45999999999992},{"$f":"+IF(Simulador!$C$50=\"Si\",QR42+QR43,QR42+QR44)","v":784.45999999999992},{"$f":"+IF(Simulador!$C$50=\"Si\",QS42+QS43,QS42+QS44)","v":834.45999999999992},{"$f":"+IF(Simulador!$C$50=\"Si\",QT42+QT43,QT42+QT44)","v":834.45999999999992},{"$f":"+IF(Simulador!$C$50=\"Si\",QU42+QU43,QU42+QU44)","v":834.45999999999992},{"$f":"+IF(Simulador!$C$50=\"Si\",QV42+QV43,QV42+QV44)","v":834.45999999999992},{"$f":"+IF(Simulador!$C$50=\"Si\",QW42+QW43,QW42+QW44)","v":834.45999999999992},{"$f":"+IF(Simulador!$C$50=\"Si\",QX42+QX43,QX42+QX44)","v":834.45999999999992},{"$f":"+IF(Simulador!$C$50=\"Si\",QY42+QY43,QY42+QY44)","v":834.45999999999992},{"$f":"+IF(Simulador!$C$50=\"Si\",QZ42+QZ43,QZ42+QZ44)","v":834.45999999999992},{"$f":"+IF(Simulador!$C$50=\"Si\",RA42+RA43,RA42+RA44)","v":834.45999999999992},{"$f":"+IF(Simulador!$C$50=\"Si\",RB42+RB43,RB42+RB44)","v":834.45999999999992},{"$f":"+IF(Simulador!$C$50=\"Si\",RC42+RC43,RC42+RC44)","v":837.8599999999999},{"$f":"+IF(Simulador!$C$50=\"Si\",RD42+RD43,RD42+RD44)","v":837.8599999999999},{"$f":"+IF(Simulador!$C$50=\"Si\",RE42+RE43,RE42+RE44)","v":837.8599999999999},{"$f":"+IF(Simulador!$C$50=\"Si\",RF42+RF43,RF42+RF44)","v":837.8599999999999},{"$f":"+IF(Simulador!$C$50=\"Si\",RG42+RG43,RG42+RG44)","v":837.8599999999999},{"$f":"+IF(Simulador!$C$50=\"Si\",RH42+RH43,RH42+RH44)","v":837.8599999999999},{"$f":"+IF(Simulador!$C$50=\"Si\",RI42+RI43,RI42+RI44)","v":837.8599999999999},{"$f":"+IF(Simulador!$C$50=\"Si\",RJ42+RJ43,RJ42+RJ44)","v":837.8599999999999},{"$f":"+IF(Simulador!$C$50=\"Si\",RK42+RK43,RK42+RK44)","v":837.8599999999999},{"$f":"+IF(Simulador!$C$50=\"Si\",RL42+RL43,RL42+RL44)","v":837.8599999999999},{"$f":"+IF(Simulador!$C$50=\"Si\",RM42+RM43,RM42+RM44)","v":837.8599999999999},{"$f":"+IF(Simulador!$C$50=\"Si\",RN42+RN43,RN42+RN44)","v":837.8599999999999},{"$f":"+IF(Simulador!$C$50=\"Si\",RO42+RO43,RO42+RO44)","v":837.8599999999999},{"$f":"+IF(Simulador!$C$50=\"Si\",RP42+RP43,RP42+RP44)","v":837.8599999999999},{"$f":"+IF(Simulador!$C$50=\"Si\",RQ42+RQ43,RQ42+RQ44)","v":837.8599999999999},{"$f":"+IF(Simulador!$C$50=\"Si\",RR42+RR43,RR42+RR44)","v":837.8599999999999},{"$f":"+IF(Simulador!$C$50=\"Si\",RS42+RS43,RS42+RS44)","v":837.8599999999999},{"$f":"+IF(Simulador!$C$50=\"Si\",RT42+RT43,RT42+RT44)","v":837.8599999999999},{"$f":"+IF(Simulador!$C$50=\"Si\",RU42+RU43,RU42+RU44)","v":837.8599999999999},{"$f":"+IF(Simulador!$C$50=\"Si\",RV42+RV43,RV42+RV44)","v":837.8599999999999},{"$f":"+IF(Simulador!$C$50=\"Si\",RW42+RW43,RW42+RW44)","v":837.8599999999999},{"$f":"+IF(Simulador!$C$50=\"Si\",RX42+RX43,RX42+RX44)","v":887.8599999999999},{"$f":"+IF(Simulador!$C$50=\"Si\",RY42+RY43,RY42+RY44)","v":887.8599999999999},{"$f":"+IF(Simulador!$C$50=\"Si\",RZ42+RZ43,RZ42+RZ44)","v":887.8599999999999},{"$f":"+IF(Simulador!$C$50=\"Si\",SA42+SA43,SA42+SA44)","v":887.8599999999999},{"$f":"+IF(Simulador!$C$50=\"Si\",SB42+SB43,SB42+SB44)","v":887.8599999999999},{"$f":"+IF(Simulador!$C$50=\"Si\",SC42+SC43,SC42+SC44)","v":887.8599999999999},{"$f":"+IF(Simulador!$C$50=\"Si\",SD42+SD43,SD42+SD44)","v":887.8599999999999},{"$f":"+IF(Simulador!$C$50=\"Si\",SE42+SE43,SE42+SE44)","v":887.8599999999999},{"$f":"+IF(Simulador!$C$50=\"Si\",SF42+SF43,SF42+SF44)","v":887.8599999999999},{"$f":"+IF(Simulador!$C$50=\"Si\",SG42+SG43,SG42+SG44)","v":887.8599999999999},{"$f":"+IF(Simulador!$C$50=\"Si\",SH42+SH43,SH42+SH44)","v":891.57999999999993},{"$f":"+IF(Simulador!$C$50=\"Si\",SI42+SI43,SI42+SI44)","v":891.57999999999993},{"$f":"+IF(Simulador!$C$50=\"Si\",SJ42+SJ43,SJ42+SJ44)","v":891.57999999999993},{"$f":"+IF(Simulador!$C$50=\"Si\",SK42+SK43,SK42+SK44)","v":891.57999999999993},{"$f":"+IF(Simulador!$C$50=\"Si\",SL42+SL43,SL42+SL44)","v":891.57999999999993},{"$f":"+IF(Simulador!$C$50=\"Si\",SM42+SM43,SM42+SM44)","v":891.57999999999993},{"$f":"+IF(Simulador!$C$50=\"Si\",SN42+SN43,SN42+SN44)","v":891.57999999999993},{"$f":"+IF(Simulador!$C$50=\"Si\",SO42+SO43,SO42+SO44)","v":891.57999999999993},{"$f":"+IF(Simulador!$C$50=\"Si\",SP42+SP43,SP42+SP44)","v":891.57999999999993},{"$f":"+IF(Simulador!$C$50=\"Si\",SQ42+SQ43,SQ42+SQ44)","v":891.57999999999993},{"$f":"+IF(Simulador!$C$50=\"Si\",SR42+SR43,SR42+SR44)","v":891.57999999999993},{"$f":"+IF(Simulador!$C$50=\"Si\",SS42+SS43,SS42+SS44)","v":891.57999999999993},{"$f":"+IF(Simulador!$C$50=\"Si\",ST42+ST43,ST42+ST44)","v":891.57999999999993},{"$f":"+IF(Simulador!$C$50=\"Si\",SU42+SU43,SU42+SU44)","v":891.57999999999993},{"$f":"+IF(Simulador!$C$50=\"Si\",SV42+SV43,SV42+SV44)","v":891.57999999999993},{"$f":"+IF(Simulador!$C$50=\"Si\",SW42+SW43,SW42+SW44)","v":891.57999999999993},{"$f":"+IF(Simulador!$C$50=\"Si\",SX42+SX43,SX42+SX44)","v":891.57999999999993},{"$f":"+IF(Simulador!$C$50=\"Si\",SY42+SY43,SY42+SY44)","v":891.57999999999993},{"$f":"+IF(Simulador!$C$50=\"Si\",SZ42+SZ43,SZ42+SZ44)","v":891.57999999999993},{"$f":"+IF(Simulador!$C$50=\"Si\",TA42+TA43,TA42+TA44)","v":891.57999999999993},{"$f":"+IF(Simulador!$C$50=\"Si\",TB42+TB43,TB42+TB44)","v":941.57999999999993},{"$f":"+IF(Simulador!$C$50=\"Si\",TC42+TC43,TC42+TC44)","v":941.57999999999993},{"$f":"+IF(Simulador!$C$50=\"Si\",TD42+TD43,TD42+TD44)","v":941.57999999999993},{"$f":"+IF(Simulador!$C$50=\"Si\",TE42+TE43,TE42+TE44)","v":941.57999999999993},{"$f":"+IF(Simulador!$C$50=\"Si\",TF42+TF43,TF42+TF44)","v":941.57999999999993},{"$f":"+IF(Simulador!$C$50=\"Si\",TG42+TG43,TG42+TG44)","v":941.57999999999993},{"$f":"+IF(Simulador!$C$50=\"Si\",TH42+TH43,TH42+TH44)","v":941.57999999999993},{"$f":"+IF(Simulador!$C$50=\"Si\",TI42+TI43,TI42+TI44)","v":941.57999999999993},{"$f":"+IF(Simulador!$C$50=\"Si\",TJ42+TJ43,TJ42+TJ44)","v":941.57999999999993},{"$f":"+IF(Simulador!$C$50=\"Si\",TK42+TK43,TK42+TK44)","v":941.57999999999993},{"$f":"+IF(Simulador!$C$50=\"Si\",TL42+TL43,TL42+TL44)","v":945.28},{"$f":"+IF(Simulador!$C$50=\"Si\",TM42+TM43,TM42+TM44)","v":945.28},{"$f":"+IF(Simulador!$C$50=\"Si\",TN42+TN43,TN42+TN44)","v":945.28},{"$f":"+IF(Simulador!$C$50=\"Si\",TO42+TO43,TO42+TO44)","v":945.28},{"$f":"+IF(Simulador!$C$50=\"Si\",TP42+TP43,TP42+TP44)","v":945.28},{"$f":"+IF(Simulador!$C$50=\"Si\",TQ42+TQ43,TQ42+TQ44)","v":945.28},{"$f":"+IF(Simulador!$C$50=\"Si\",TR42+TR43,TR42+TR44)","v":945.28},{"$f":"+IF(Simulador!$C$50=\"Si\",TS42+TS43,TS42+TS44)","v":945.28},{"$f":"+IF(Simulador!$C$50=\"Si\",TT42+TT43,TT42+TT44)","v":945.28},{"$f":"+IF(Simulador!$C$50=\"Si\",TU42+TU43,TU42+TU44)","v":945.28},{"$f":"+IF(Simulador!$C$50=\"Si\",TV42+TV43,TV42+TV44)","v":945.28},{"$f":"+IF(Simulador!$C$50=\"Si\",TW42+TW43,TW42+TW44)","v":945.28},{"$f":"+IF(Simulador!$C$50=\"Si\",TX42+TX43,TX42+TX44)","v":945.28},{"$f":"+IF(Simulador!$C$50=\"Si\",TY42+TY43,TY42+TY44)","v":945.28},{"$f":"+IF(Simulador!$C$50=\"Si\",TZ42+TZ43,TZ42+TZ44)","v":945.28},{"$f":"+IF(Simulador!$C$50=\"Si\",UA42+UA43,UA42+UA44)","v":945.28},{"$f":"+IF(Simulador!$C$50=\"Si\",UB42+UB43,UB42+UB44)","v":945.28},{"$f":"+IF(Simulador!$C$50=\"Si\",UC42+UC43,UC42+UC44)","v":945.28},{"$f":"+IF(Simulador!$C$50=\"Si\",UD42+UD43,UD42+UD44)","v":945.28},{"$f":"+IF(Simulador!$C$50=\"Si\",UE42+UE43,UE42+UE44)","v":945.28},{"$f":"+IF(Simulador!$C$50=\"Si\",UF42+UF43,UF42+UF44)","v":945.28},{"$f":"+IF(Simulador!$C$50=\"Si\",UG42+UG43,UG42+UG44)","v":995.28},{"$f":"+IF(Simulador!$C$50=\"Si\",UH42+UH43,UH42+UH44)","v":995.28},{"$f":"+IF(Simulador!$C$50=\"Si\",UI42+UI43,UI42+UI44)","v":995.28},{"$f":"+IF(Simulador!$C$50=\"Si\",UJ42+UJ43,UJ42+UJ44)","v":995.28},{"$f":"+IF(Simulador!$C$50=\"Si\",UK42+UK43,UK42+UK44)","v":995.28},{"$f":"+IF(Simulador!$C$50=\"Si\",UL42+UL43,UL42+UL44)","v":995.28},{"$f":"+IF(Simulador!$C$50=\"Si\",UM42+UM43,UM42+UM44)","v":995.28},{"$f":"+IF(Simulador!$C$50=\"Si\",UN42+UN43,UN42+UN44)","v":995.28},{"$f":"+IF(Simulador!$C$50=\"Si\",UO42+UO43,UO42+UO44)","v":995.28},{"$f":"+IF(Simulador!$C$50=\"Si\",UP42+UP43,UP42+UP44)","v":999.27},{"$f":"+IF(Simulador!$C$50=\"Si\",UQ42+UQ43,UQ42+UQ44)","v":999.27},{"$f":"+IF(Simulador!$C$50=\"Si\",UR42+UR43,UR42+UR44)","v":999.27},{"$f":"+IF(Simulador!$C$50=\"Si\",US42+US43,US42+US44)","v":999.27},{"$f":"+IF(Simulador!$C$50=\"Si\",UT42+UT43,UT42+UT44)","v":999.27},{"$f":"+IF(Simulador!$C$50=\"Si\",UU42+UU43,UU42+UU44)","v":999.27},{"$f":"+IF(Simulador!$C$50=\"Si\",UV42+UV43,UV42+UV44)","v":999.27},{"$f":"+IF(Simulador!$C$50=\"Si\",UW42+UW43,UW42+UW44)","v":999.27},{"$f":"+IF(Simulador!$C$50=\"Si\",UX42+UX43,UX42+UX44)","v":999.27},{"$f":"+IF(Simulador!$C$50=\"Si\",UY42+UY43,UY42+UY44)","v":999.27},{"$f":"+IF(Simulador!$C$50=\"Si\",UZ42+UZ43,UZ42+UZ44)","v":999.27},{"$f":"+IF(Simulador!$C$50=\"Si\",VA42+VA43,VA42+VA44)","v":999.27},{"$f":"+IF(Simulador!$C$50=\"Si\",VB42+VB43,VB42+VB44)","v":999.27},{"$f":"+IF(Simulador!$C$50=\"Si\",VC42+VC43,VC42+VC44)","v":999.27},{"$f":"+IF(Simulador!$C$50=\"Si\",VD42+VD43,VD42+VD44)","v":999.27},{"$f":"+IF(Simulador!$C$50=\"Si\",VE42+VE43,VE42+VE44)","v":999.27},{"$f":"+IF(Simulador!$C$50=\"Si\",VF42+VF43,VF42+VF44)","v":999.27},{"$f":"+IF(Simulador!$C$50=\"Si\",VG42+VG43,VG42+VG44)","v":999.27},{"$f":"+IF(Simulador!$C$50=\"Si\",VH42+VH43,VH42+VH44)","v":999.27},{"$f":"+IF(Simulador!$C$50=\"Si\",VI42+VI43,VI42+VI44)","v":999.27},{"$f":"+IF(Simulador!$C$50=\"Si\",VJ42+VJ43,VJ42+VJ44)","v":999.27},{"$f":"+IF(Simulador!$C$50=\"Si\",VK42+VK43,VK42+VK44)","v":999.27},{"$f":"+IF(Simulador!$C$50=\"Si\",VL42+VL43,VL42+VL44)","v":1049.27},{"$f":"+IF(Simulador!$C$50=\"Si\",VM42+VM43,VM42+VM44)","v":1049.27},{"$f":"+IF(Simulador!$C$50=\"Si\",VN42+VN43,VN42+VN44)","v":1049.27},{"$f":"+IF(Simulador!$C$50=\"Si\",VO42+VO43,VO42+VO44)","v":1049.27},{"$f":"+IF(Simulador!$C$50=\"Si\",VP42+VP43,VP42+VP44)","v":1049.27},{"$f":"+IF(Simulador!$C$50=\"Si\",VQ42+VQ43,VQ42+VQ44)","v":1049.27},{"$f":"+IF(Simulador!$C$50=\"Si\",VR42+VR43,VR42+VR44)","v":1053.25},{"$f":"+IF(Simulador!$C$50=\"Si\",VS42+VS43,VS42+VS44)","v":1053.25},{"$f":"+IF(Simulador!$C$50=\"Si\",VT42+VT43,VT42+VT44)","v":1053.25},{"$f":"+IF(Simulador!$C$50=\"Si\",VU42+VU43,VU42+VU44)","v":1053.25},{"$f":"+IF(Simulador!$C$50=\"Si\",VV42+VV43,VV42+VV44)","v":1053.25},{"$f":"+IF(Simulador!$C$50=\"Si\",VW42+VW43,VW42+VW44)","v":1053.25},{"$f":"+IF(Simulador!$C$50=\"Si\",VX42+VX43,VX42+VX44)","v":1053.25},{"$f":"+IF(Simulador!$C$50=\"Si\",VY42+VY43,VY42+VY44)","v":1053.25},{"$f":"+IF(Simulador!$C$50=\"Si\",VZ42+VZ43,VZ42+VZ44)","v":1053.25},{"$f":"+IF(Simulador!$C$50=\"Si\",WA42+WA43,WA42+WA44)","v":1053.25},{"$f":"+IF(Simulador!$C$50=\"Si\",WB42+WB43,WB42+WB44)","v":1053.25},{"$f":"+IF(Simulador!$C$50=\"Si\",WC42+WC43,WC42+WC44)","v":1053.25},{"$f":"+IF(Simulador!$C$50=\"Si\",WD42+WD43,WD42+WD44)","v":1053.25},{"$f":"+IF(Simulador!$C$50=\"Si\",WE42+WE43,WE42+WE44)","v":1053.25},{"$f":"+IF(Simulador!$C$50=\"Si\",WF42+WF43,WF42+WF44)","v":1053.25},{"$f":"+IF(Simulador!$C$50=\"Si\",WG42+WG43,WG42+WG44)","v":1053.25},{"$f":"+IF(Simulador!$C$50=\"Si\",WH42+WH43,WH42+WH44)","v":1053.25},{"$f":"+IF(Simulador!$C$50=\"Si\",WI42+WI43,WI42+WI44)","v":1053.25},{"$f":"+IF(Simulador!$C$50=\"Si\",WJ42+WJ43,WJ42+WJ44)","v":1053.25},{"$f":"+IF(Simulador!$C$50=\"Si\",WK42+WK43,WK42+WK44)","v":1053.25},{"$f":"+IF(Simulador!$C$50=\"Si\",WL42+WL43,WL42+WL44)","v":1053.25},{"$f":"+IF(Simulador!$C$50=\"Si\",WM42+WM43,WM42+WM44)","v":1053.25},{"$f":"+IF(Simulador!$C$50=\"Si\",WN42+WN43,WN42+WN44)","v":1103.25},{"$f":"+IF(Simulador!$C$50=\"Si\",WO42+WO43,WO42+WO44)","v":1103.25},{"$f":"+IF(Simulador!$C$50=\"Si\",WP42+WP43,WP42+WP44)","v":1103.25},{"$f":"+IF(Simulador!$C$50=\"Si\",WQ42+WQ43,WQ42+WQ44)","v":1103.25},{"$f":"+IF(Simulador!$C$50=\"Si\",WR42+WR43,WR42+WR44)","v":1103.25},{"$f":"+IF(Simulador!$C$50=\"Si\",WS42+WS43,WS42+WS44)","v":1103.25},{"$f":"+IF(Simulador!$C$50=\"Si\",WT42+WT43,WT42+WT44)","v":1103.25},{"$f":"+IF(Simulador!$C$50=\"Si\",WU42+WU43,WU42+WU44)","v":1103.25},{"$f":"+IF(Simulador!$C$50=\"Si\",WV42+WV43,WV42+WV44)","v":1103.25},{"$f":"+IF(Simulador!$C$50=\"Si\",WW42+WW43,WW42+WW44)","v":1103.25},{"$f":"+IF(Simulador!$C$50=\"Si\",WX42+WX43,WX42+WX44)","v":1103.25},{"$f":"+IF(Simulador!$C$50=\"Si\",WY42+WY43,WY42+WY44)","v":1108.2},{"$f":"+IF(Simulador!$C$50=\"Si\",WZ42+WZ43,WZ42+WZ44)","v":1108.2},{"$f":"+IF(Simulador!$C$50=\"Si\",XA42+XA43,XA42+XA44)","v":1108.2},{"$f":"+IF(Simulador!$C$50=\"Si\",XB42+XB43,XB42+XB44)","v":1108.2},{"$f":"+IF(Simulador!$C$50=\"Si\",XC42+XC43,XC42+XC44)","v":1108.2},{"$f":"+IF(Simulador!$C$50=\"Si\",XD42+XD43,XD42+XD44)","v":1108.2},{"$f":"+IF(Simulador!$C$50=\"Si\",XE42+XE43,XE42+XE44)","v":1108.2},{"$f":"+IF(Simulador!$C$50=\"Si\",XF42+XF43,XF42+XF44)","v":1108.2},{"$f":"+IF(Simulador!$C$50=\"Si\",XG42+XG43,XG42+XG44)","v":1108.2},{"$f":"+IF(Simulador!$C$50=\"Si\",XH42+XH43,XH42+XH44)","v":1108.2},{"$f":"+IF(Simulador!$C$50=\"Si\",XI42+XI43,XI42+XI44)","v":1108.2},{"$f":"+IF(Simulador!$C$50=\"Si\",XJ42+XJ43,XJ42+XJ44)","v":1108.2},{"$f":"+IF(Simulador!$C$50=\"Si\",XK42+XK43,XK42+XK44)","v":1108.2},{"$f":"+IF(Simulador!$C$50=\"Si\",XL42+XL43,XL42+XL44)","v":1108.2},{"$f":"+IF(Simulador!$C$50=\"Si\",XM42+XM43,XM42+XM44)","v":1108.2},{"$f":"+IF(Simulador!$C$50=\"Si\",XN42+XN43,XN42+XN44)","v":1108.2},{"$f":"+IF(Simulador!$C$50=\"Si\",XO42+XO43,XO42+XO44)","v":1108.2},{"$f":"+IF(Simulador!$C$50=\"Si\",XP42+XP43,XP42+XP44)","v":1108.2},{"$f":"+IF(Simulador!$C$50=\"Si\",XQ42+XQ43,XQ42+XQ44)","v":1108.2},{"$f":"+IF(Simulador!$C$50=\"Si\",XR42+XR43,XR42+XR44)","v":1108.2},{"$f":"+IF(Simulador!$C$50=\"Si\",XS42+XS43,XS42+XS44)","v":1158.2},{"$f":"+IF(Simulador!$C$50=\"Si\",XT42+XT43,XT42+XT44)","v":1158.2},{"$f":"+IF(Simulador!$C$50=\"Si\",XU42+XU43,XU42+XU44)","v":1158.2},{"$f":"+IF(Simulador!$C$50=\"Si\",XV42+XV43,XV42+XV44)","v":1158.2},{"$f":"+IF(Simulador!$C$50=\"Si\",XW42+XW43,XW42+XW44)","v":1158.2},{"$f":"+IF(Simulador!$C$50=\"Si\",XX42+XX43,XX42+XX44)","v":1158.2},{"$f":"+IF(Simulador!$C$50=\"Si\",XY42+XY43,XY42+XY44)","v":1158.2},{"$f":"+IF(Simulador!$C$50=\"Si\",XZ42+XZ43,XZ42+XZ44)","v":1158.2},{"$f":"+IF(Simulador!$C$50=\"Si\",YA42+YA43,YA42+YA44)","v":1158.2},{"$f":"+IF(Simulador!$C$50=\"Si\",YB42+YB43,YB42+YB44)","v":1162.6400000000001},{"$f":"+IF(Simulador!$C$50=\"Si\",YC42+YC43,YC42+YC44)","v":1162.6400000000001},{"$f":"+IF(Simulador!$C$50=\"Si\",YD42+YD43,YD42+YD44)","v":1162.6400000000001},{"$f":"+IF(Simulador!$C$50=\"Si\",YE42+YE43,YE42+YE44)","v":1162.6400000000001},{"$f":"+IF(Simulador!$C$50=\"Si\",YF42+YF43,YF42+YF44)","v":1162.6400000000001},{"$f":"+IF(Simulador!$C$50=\"Si\",YG42+YG43,YG42+YG44)","v":1162.6400000000001},{"$f":"+IF(Simulador!$C$50=\"Si\",YH42+YH43,YH42+YH44)","v":1162.6400000000001},{"$f":"+IF(Simulador!$C$50=\"Si\",YI42+YI43,YI42+YI44)","v":1162.6400000000001},{"$f":"+IF(Simulador!$C$50=\"Si\",YJ42+YJ43,YJ42+YJ44)","v":1162.6400000000001},{"$f":"+IF(Simulador!$C$50=\"Si\",YK42+YK43,YK42+YK44)","v":1162.6400000000001},{"$f":"+IF(Simulador!$C$50=\"Si\",YL42+YL43,YL42+YL44)","v":1162.6400000000001},{"$f":"+IF(Simulador!$C$50=\"Si\",YM42+YM43,YM42+YM44)","v":1162.6400000000001},{"$f":"+IF(Simulador!$C$50=\"Si\",YN42+YN43,YN42+YN44)","v":1162.6400000000001},{"$f":"+IF(Simulador!$C$50=\"Si\",YO42+YO43,YO42+YO44)","v":1162.6400000000001},{"$f":"+IF(Simulador!$C$50=\"Si\",YP42+YP43,YP42+YP44)","v":1162.6400000000001},{"$f":"+IF(Simulador!$C$50=\"Si\",YQ42+YQ43,YQ42+YQ44)","v":1162.6400000000001},{"$f":"+IF(Simulador!$C$50=\"Si\",YR42+YR43,YR42+YR44)","v":1162.6400000000001},{"$f":"+IF(Simulador!$C$50=\"Si\",YS42+YS43,YS42+YS44)","v":1162.6400000000001},{"$f":"+IF(Simulador!$C$50=\"Si\",YT42+YT43,YT42+YT44)","v":1162.6400000000001},{"$f":"+IF(Simulador!$C$50=\"Si\",YU42+YU43,YU42+YU44)","v":1162.6400000000001},{"$f":"+IF(Simulador!$C$50=\"Si\",YV42+YV43,YV42+YV44)","v":1162.6400000000001},{"$f":"+IF(Simulador!$C$50=\"Si\",YW42+YW43,YW42+YW44)","v":1212.6400000000001},{"$f":"+IF(Simulador!$C$50=\"Si\",YX42+YX43,YX42+YX44)","v":1212.6400000000001},{"$f":"+IF(Simulador!$C$50=\"Si\",YY42+YY43,YY42+YY44)","v":1212.6400000000001},{"$f":"+IF(Simulador!$C$50=\"Si\",YZ42+YZ43,YZ42+YZ44)","v":1212.6400000000001},{"$f":"+IF(Simulador!$C$50=\"Si\",ZA42+ZA43,ZA42+ZA44)","v":1212.6400000000001},{"$f":"+IF(Simulador!$C$50=\"Si\",ZB42+ZB43,ZB42+ZB44)","v":1212.6400000000001},{"$f":"+IF(Simulador!$C$50=\"Si\",ZC42+ZC43,ZC42+ZC44)","v":1212.6400000000001},{"$f":"+IF(Simulador!$C$50=\"Si\",ZD42+ZD43,ZD42+ZD44)","v":1212.6400000000001},{"$f":"+IF(Simulador!$C$50=\"Si\",ZE42+ZE43,ZE42+ZE44)","v":1212.6400000000001},{"$f":"+IF(Simulador!$C$50=\"Si\",ZF42+ZF43,ZF42+ZF44)","v":1212.6400000000001},{"$f":"+IF(Simulador!$C$50=\"Si\",ZG42+ZG43,ZG42+ZG44)","v":1212.6400000000001},{"$f":"+IF(Simulador!$C$50=\"Si\",ZH42+ZH43,ZH42+ZH44)","v":1217.8700000000001},{"$f":"+IF(Simulador!$C$50=\"Si\",ZI42+ZI43,ZI42+ZI44)","v":1217.8700000000001},{"$f":"+IF(Simulador!$C$50=\"Si\",ZJ42+ZJ43,ZJ42+ZJ44)","v":1217.8700000000001},{"$f":"+IF(Simulador!$C$50=\"Si\",ZK42+ZK43,ZK42+ZK44)","v":1217.8700000000001},{"$f":"+IF(Simulador!$C$50=\"Si\",ZL42+ZL43,ZL42+ZL44)","v":1217.8700000000001},{"$f":"+IF(Simulador!$C$50=\"Si\",ZM42+ZM43,ZM42+ZM44)","v":1217.8700000000001},{"$f":"+IF(Simulador!$C$50=\"Si\",ZN42+ZN43,ZN42+ZN44)","v":1217.8700000000001},{"$f":"+IF(Simulador!$C$50=\"Si\",ZO42+ZO43,ZO42+ZO44)","v":1217.8700000000001},{"$f":"+IF(Simulador!$C$50=\"Si\",ZP42+ZP43,ZP42+ZP44)","v":1217.8700000000001},{"$f":"+IF(Simulador!$C$50=\"Si\",ZQ42+ZQ43,ZQ42+ZQ44)","v":1217.8700000000001},{"$f":"+IF(Simulador!$C$50=\"Si\",ZR42+ZR43,ZR42+ZR44)","v":1217.8700000000001},{"$f":"+IF(Simulador!$C$50=\"Si\",ZS42+ZS43,ZS42+ZS44)","v":1217.8700000000001},{"$f":"+IF(Simulador!$C$50=\"Si\",ZT42+ZT43,ZT42+ZT44)","v":1217.8700000000001},{"$f":"+IF(Simulador!$C$50=\"Si\",ZU42+ZU43,ZU42+ZU44)","v":1217.8700000000001},{"$f":"+IF(Simulador!$C$50=\"Si\",ZV42+ZV43,ZV42+ZV44)","v":1217.8700000000001},{"$f":"+IF(Simulador!$C$50=\"Si\",ZW42+ZW43,ZW42+ZW44)","v":1217.8700000000001},{"$f":"+IF(Simulador!$C$50=\"Si\",ZX42+ZX43,ZX42+ZX44)","v":1217.8700000000001},{"$f":"+IF(Simulador!$C$50=\"Si\",ZY42+ZY43,ZY42+ZY44)","v":1217.8700000000001},{"$f":"+IF(Simulador!$C$50=\"Si\",ZZ42+ZZ43,ZZ42+ZZ44)","v":1217.8700000000001},{"$f":"+IF(Simulador!$C$50=\"Si\",AAA42+AAA43,AAA42+AAA44)","v":1217.8700000000001},{"$f":"+IF(Simulador!$C$50=\"Si\",AAB42+AAB43,AAB42+AAB44)","v":1267.8700000000001},{"$f":"+IF(Simulador!$C$50=\"Si\",AAC42+AAC43,AAC42+AAC44)","v":1267.8700000000001},{"$f":"+IF(Simulador!$C$50=\"Si\",AAD42+AAD43,AAD42+AAD44)","v":1267.8700000000001},{"$f":"+IF(Simulador!$C$50=\"Si\",AAE42+AAE43,AAE42+AAE44)","v":1267.8700000000001},{"$f":"+IF(Simulador!$C$50=\"Si\",AAF42+AAF43,AAF42+AAF44)","v":1267.8700000000001},{"$f":"+IF(Simulador!$C$50=\"Si\",AAG42+AAG43,AAG42+AAG44)","v":1267.8700000000001},{"$f":"+IF(Simulador!$C$50=\"Si\",AAH42+AAH43,AAH42+AAH44)","v":1267.8700000000001},{"$f":"+IF(Simulador!$C$50=\"Si\",AAI42+AAI43,AAI42+AAI44)","v":1267.8700000000001},{"$f":"+IF(Simulador!$C$50=\"Si\",AAJ42+AAJ43,AAJ42+AAJ44)","v":1267.8700000000001},{"$f":"+IF(Simulador!$C$50=\"Si\",AAK42+AAK43,AAK42+AAK44)","v":1267.8700000000001},{"$f":"+IF(Simulador!$C$50=\"Si\",AAL42+AAL43,AAL42+AAL44)","v":1273.0700000000002},{"$f":"+IF(Simulador!$C$50=\"Si\",AAM42+AAM43,AAM42+AAM44)","v":1273.0700000000002},{"$f":"+IF(Simulador!$C$50=\"Si\",AAN42+AAN43,AAN42+AAN44)","v":1273.0700000000002},{"$f":"+IF(Simulador!$C$50=\"Si\",AAO42+AAO43,AAO42+AAO44)","v":1273.0700000000002},{"$f":"+IF(Simulador!$C$50=\"Si\",AAP42+AAP43,AAP42+AAP44)","v":1273.0700000000002},{"$f":"+IF(Simulador!$C$50=\"Si\",AAQ42+AAQ43,AAQ42+AAQ44)","v":1273.0700000000002},{"$f":"+IF(Simulador!$C$50=\"Si\",AAR42+AAR43,AAR42+AAR44)","v":1273.0700000000002},{"$f":"+IF(Simulador!$C$50=\"Si\",AAS42+AAS43,AAS42+AAS44)","v":1273.0700000000002},{"$f":"+IF(Simulador!$C$50=\"Si\",AAT42+AAT43,AAT42+AAT44)","v":1273.0700000000002},{"$f":"+IF(Simulador!$C$50=\"Si\",AAU42+AAU43,AAU42+AAU44)","v":1273.0700000000002}]
[null,"Interés diario",{"$f":"+ROUND(ROUND(C45*(Simulador!$F$63/360),4),2)","v":0},{"$f":"+ROUND(ROUND(D45*(Simulador!$F$63/360),4),2)","v":0.01},{"$f":"+ROUND(ROUND(E45*(Simulador!$F$63/360),4),2)","v":0.01},{"$f":"+ROUND(ROUND(F45*(Simulador!$F$63/360),4),2)","v":0.01},{"$f":"+ROUND(ROUND(G45*(Simulador!$F$63/360),4),2)","v":0.01},{"$f":"+ROUND(ROUND(H45*(Simulador!$F$63/360),4),2)","v":0.01},{"$f":"+ROUND(ROUND(I45*(Simulador!$F$63/360),4),2)","v":0.01},{"$f":"+ROUND(ROUND(J45*(Simulador!$F$63/360),4),2)","v":0.01},{"$f":"+ROUND(ROUND(K45*(Simulador!$F$63/360),4),2)","v":0.01},{"$f":"+ROUND(ROUND(L45*(Simulador!$F$63/360),4),2)","v":0.01},{"$f":"+ROUND(ROUND(M45*(Simulador!$F$63/360),4),2)","v":0.01},{"$f":"+ROUND(ROUND(N45*(Simulador!$F$63/360),4),2)","v":0.01},{"$f":"+ROUND(ROUND(O45*(Simulador!$F$63/360),4),2)","v":0.01},{"$f":"+ROUND(ROUND(P45*(Simulador!$F$63/360),4),2)","v":0.01},{"$f":"+ROUND(ROUND(Q45*(Simulador!$F$63/360),4),2)","v":0.01},{"$f":"+ROUND(ROUND(R45*(Simulador!$F$63/360),4),2)","v":0.01},{"$f":"+ROUND(ROUND(S45*(Simulador!$F$63/360),4),2)","v":0.01},{"$f":"+ROUND(ROUND(T45*(Simulador!$F$63/360),4),2)","v":0.01},{"$f":"+ROUND(ROUND(U45*(Simulador!$F$63/360),4),2)","v":0.01},{"$f":"+ROUND(ROUND(V45*(Simulador!$F$63/360),4),2)","v":0.01},{"$f":"+ROUND(ROUND(W45*(Simulador!$F$63/360),4),2)","v":0.01},{"$f":"+ROUND(ROUND(X45*(Simulador!$F$63/360),4),2)","v":0.01},{"$f":"+ROUND(ROUND(Y45*(Simulador!$F$63/360),4),2)","v":0.01},{"$f":"+ROUND(ROUND(Z45*(Simulador!$F$63/360),4),2)","v":0.01},{"$f":"+ROUND(ROUND(AA45*(Simulador!$F$63/360),4),2)","v":0.01},{"$f":"+ROUND(ROUND(AB45*(Simulador!$F$63/360),4),2)","v":0.01},{"$f":"+ROUND(ROUND(AC45*(Simulador!$F$63/360),4),2)","v":0.01},{"$f":"+ROUND(ROUND(AD45*(Simulador!$F$63/360),4),2)","v":0.01},{"$f":"+ROUND(ROUND(AE45*(Simulador!$F$63/360),4),2)","v":0.01},{"$f":"+ROUND(ROUND(AF45*(Simulador!$F$63/360),4),2)","v":0.01},{"$f":"+ROUND(ROUND(AG45*(Simulador!$F$63/360),4),2)","v":0.01},{"$f":"+ROUND(ROUND(AH45*(Simulador!$F$63/360),4),2)","v":0.01},{"$f":"+ROUND(ROUND(AI45*(Simulador!$F$63/360),4),2)","v":0.02},{"$f":"+ROUND(ROUND(AJ45*(Simulador!$F$63/360),4),2)","v":0.02},{"$f":"+ROUND(ROUND(AK45*(Simulador!$F$63/360),4),2)","v":0.02},{"$f":"+ROUND(ROUND(AL45*(Simulador!$F$63/360),4),2)","v":0.02},{"$f":"+ROUND(ROUND(AM45*(Simulador!$F$63/360),4),2)","v":0.02},{"$f":"+ROUND(ROUND(AN45*(Simulador!$F$63/360),4),2)","v":0.02},{"$f":"+ROUND(ROUND(AO45*(Simulador!$F$63/360),4),2)","v":0.02},{"$f":"+ROUND(ROUND(AP45*(Simulador!$F$63/360),4),2)","v":0.02},{"$f":"+ROUND(ROUND(AQ45*(Simulador!$F$63/360),4),2)","v":0.02},{"$f":"+ROUND(ROUND(AR45*(Simulador!$F$63/360),4),2)","v":0.02},{"$f":"+ROUND(ROUND(AS45*(Simulador!$F$63/360),4),2)","v":0.02},{"$f":"+ROUND(ROUND(AT45*(Simulador!$F$63/360),4),2)","v":0.02},{"$f":"+ROUND(ROUND(AU45*(Simulador!$F$63/360),4),2)","v":0.02},{"$f":"+ROUND(ROUND(AV45*(Simulador!$F$63/360),4),2)","v":0.02},{"$f":"+ROUND(ROUND(AW45*(Simulador!$F$63/360),4),2)","v":0.02},{"$f":"+ROUND(ROUND(AX45*(Simulador!$F$63/360),4),2)","v":0.02},{"$f":"+ROUND(ROUND(AY45*(Simulador!$F$63/360),4),2)","v":0.02},{"$f":"+ROUND(ROUND(AZ45*(Simulador!$F$63/360),4),2)","v":0.02},{"$f":"+ROUND(ROUND(BA45*(Simulador!$F$63/360),4),2)","v":0.02},{"$f":"+ROUND(ROUND(BB45*(Simulador!$F$63/360),4),2)","v":0.02},{"$f":"+ROUND(ROUND(BC45*(Simulador!$F$63/360),4),2)","v":0.02},{"$f":"+ROUND(ROUND(BD45*(Simulador!$F$63/360),4),2)","v":0.02},{"$f":"+ROUND(ROUND(BE45*(Simulador!$F$63/360),4),2)","v":0.02},{"$f":"+ROUND(ROUND(BF45*(Simulador!$F$63/360),4),2)","v":0.02},{"$f":"+ROUND(ROUND(BG45*(Simulador!$F$63/360),4),2)","v":0.02},{"$f":"+ROUND(ROUND(BH45*(Simulador!$F$63/360),4),2)","v":0.02},{"$f":"+ROUND(ROUND(BI45*(Simulador!$F$63/360),4),2)","v":0.02},{"$f":"+ROUND(ROUND(BJ45*(Simulador!$F$63/360),4),2)","v":0.02},{"$f":"+ROUND(ROUND(BK45*(Simulador!$F$63/360),4),2)","v":0.02},{"$f":"+ROUND(ROUND(BL45*(Simulador!$F$63/360),4),2)","v":0.02},{"$f":"+ROUND(ROUND(BM45*(Simulador!$F$63/360),4),2)","v":0.02},{"$f":"+ROUND(ROUND(BN45*(Simulador!$F$63/360),4),2)","v":0.02},{"$f":"+ROUND(ROUND(BO45*(Simulador!$F$63/360),4),2)","v":0.02},{"$f":"+ROUND(ROUND(BP45*(Simulador!$F$63/360),4),2)","v":0.02},{"$f":"+ROUND(ROUND(BQ45*(Simulador!$F$63/360),4),2)","v":0.02},{"$f":"+ROUND(ROUND(BR45*(Simulador!$F$63/360),4),2)","v":0.02},{"$f":"+ROUND(ROUND(BS45*(Simulador!$F$63/360),4),2)","v":0.02},{"$f":"+ROUND(ROUND(BT45*(Simulador!$F$63/360),4),2)","v":0.02},{"$f":"+ROUND(ROUND(BU45*(Simulador!$F$63/360),4),2)","v":0.02},{"$f":"+ROUND(ROUND(BV45*(Simulador!$F$63/360),4),2)","v":0.02},{"$f":"+ROUND(ROUND(BW45*(Simulador!$F$63/360),4),2)","v":0.02},{"$f":"+ROUND(ROUND(BX45*(Simulador!$F$63/360),4),2)","v":0.02},{"$f":"+ROUND(ROUND(BY45*(Simulador!$F$63/360),4),2)","v":0.02},{"$f":"+ROUND(ROUND(BZ45*(Simulador!$F$63/360),4),2)","v":0.02},{"$f":"+ROUND(ROUND(CA45*(Simulador!$F$63/360),4),2)","v":0.02},{"$f":"+ROUND(ROUND(CB45*(Simulador!$F$63/360),4),2)","v":0.02},{"$f":"+ROUND(ROUND(CC45*(Simulador!$F$63/360),4),2)","v":0.02},{"$f":"+ROUND(ROUND(CD45*(Simulador!$F$63/360),4),2)","v":0.02},{"$f":"+ROUND(ROUND(CE45*(Simulador!$F$63/360),4),2)","v":0.02},{"$f":"+ROUND(ROUND(CF45*(Simulador!$F$63/360),4),2)","v":0.02},{"$f":"+ROUND(ROUND(CG45*(Simulador!$F$63/360),4),2)","v":0.02},{"$f":"+ROUND(ROUND(CH45*(Simulador!$F$63/360),4),2)","v":0.02},{"$f":"+ROUND(ROUND(CI45*(Simulador!$F$63/360),4),2)","v":0.02},{"$f":"+ROUND(ROUND(CJ45*(Simulador!$F$63/360),4),2)","v":0.02},{"$f":"+ROUND(ROUND(CK45*(Simulador!$F$63/360),4),2)","v":0.02},{"$f":"+ROUND(ROUND(CL45*(Simulador!$F$63/360),4),2)","v":0.02},{"$f":"+ROUND(ROUND(CM45*(Simulador!$F$63/360),4),2)","v":0.02},{"$f":"+ROUND(ROUND(CN45*(Simulador!$F$63/360),4),2)","v":0.02},{"$f":"+ROUND(ROUND(CO45*(Simulador!$F$63/360),4),2)","v":0.02},{"$f":"+ROUND(ROUND(CP45*(Simulador!$F$63/360),4),2)","v":0.02},{"$f":"+ROUND(ROUND(CQ45*(Simulador!$F$63/360),4),2)","v":0.02},{"$f":"+ROUND(ROUND(CR45*(Simulador!$F$63/360),4),2)","v":0.03},{"$f":"+ROUND(ROUND(CS45*(Simulador!$F$63/360),4),2)","v":0.03},{"$f":"+ROUND(ROUND(CT45*(Simulador!$F$63/360),4),2)","v":0.03},{"$f":"+ROUND(ROUND(CU45*(Simulador!$F$63/360),4),2)","v":0.03},{"$f":"+ROUND(ROUND(CV45*(Simulador!$F$63/360),4),2)","v":0.03},{"$f":"+ROUND(ROUND(CW45*(Simulador!$F$63/360),4),2)","v":0.03},{"$f":"+ROUND(ROUND(CX45*(Simulador!$F$63/360),4),2)","v":0.03},{"$f":"+ROUND(ROUND(CY45*(Simulador!$F$63/360),4),2)","v":0.03},{"$f":"+ROUND(ROUND(CZ45*(Simulador!$F$63/360),4),2)","v":0.03},{"$f":"+ROUND(ROUND(DA45*(Simulador!$F$63/360),4),2)","v":0.03},{"$f":"+ROUND(ROUND(DB45*(Simulador!$F$63/360),4),2)","v":0.03},{"$f":"+ROUND(ROUND(DC45*(Simulador!$F$63/360),4),2)","v":0.03},{"$f":"+ROUND(ROUND(DD45*(Simulador!$F$63/360),4),2)","v":0.03},{"$f":"+ROUND(ROUND(DE45*(Simulador!$F$63/360),4),2)","v":0.03},{"$f":"+ROUND(ROUND(DF45*(Simulador!$F$63/360),4),2)","v":0.03},{"$f":"+ROUND(ROUND(DG45*(Simulador!$F$63/360),4),2)","v":0.03},{"$f":"+ROUND(ROUND(DH45*(Simulador!$F$63/360),4),2)","v":0.03},{"$f":"+ROUND(ROUND(DI45*(Simulador!$F$63/360),4),2)","v":0.03},{"$f":"+ROUND(ROUND(DJ45*(Simulador!$F$63/360),4),2)","v":0.03},{"$f":"+ROUND(ROUND(DK45*(Simulador!$F$63/360),4),2)","v":0.03},{"$f":"+ROUND(ROUND(DL45*(Simulador!$F$63/360),4),2)","v":0.03},{"$f":"+ROUND(ROUND(DM45*(Simulador!$F$63/360),4),2)","v":0.03},{"$f":"+ROUND(ROUND(DN45*(Simulador!$F$63/360),4),2)","v":0.03},{"$f":"+ROUND(ROUND(DO45*(Simulador!$F$63/360),4),2)","v":0.03},{"$f":"+ROUND(ROUND(DP45*(Simulador!$F$63/360),4),2)","v":0.03},{"$f":"+ROUND(ROUND(DQ45*(Simulador!$F$63/360),4),2)","v":0.03},{"$f":"+ROUND(ROUND(DR45*(Simulador!$F$63/360),4),2)","v":0.03},{"$f":"+ROUND(ROUND(DS45*(Simulador!$F$63/360),4),2)","v":0.03},{"$f":"+ROUND(ROUND(DT45*(Simulador!$F$63/360),4),2)","v":0.03},{"$f":"+ROUND(ROUND(DU45*(Simulador!$F$63/360),4),2)","v":0.03},{"$f":"+ROUND(ROUND(DV45*(Simulador!$F$63/360),4),2)","v":0.03},{"$f":"+ROUND(ROUND(DW45*(Simulador!$F$63/360),4),2)","v":0.04},{"$f":"+ROUND(ROUND(DX45*(Simulador!$F$63/360),4),2)","v":0.04},{"$f":"+ROUND(ROUND(DY45*(Simulador!$F$63/360),4),2)","v":0.04},{"$f":"+ROUND(ROUND(DZ45*(Simulador!$F$63/360),4),2)","v":0.04},{"$f":"+ROUND(ROUND(EA45*(Simulador!$F$63/360),4),2)","v":0.04},{"$f":"+ROUND(ROUND(EB45*(Simulador!$F$63/360),4),2)","v":0.04},{"$f":"+ROUND(ROUND(EC45*(Simulador!$F$63/360),4),2)","v":0.04},{"$f":"+ROUND(ROUND(ED45*(Simulador!$F$63/360),4),2)","v":0.04},{"$f":"+ROUND(ROUND(EE45*(Simulador!$F$63/360),4),2)","v":0.04},{"$f":"+ROUND(ROUND(EF45*(Simulador!$F$63/360),4),2)","v":0.04},{"$f":"+ROUND(ROUND(EG45*(Simulador!$F$63/360),4),2)","v":0.04},{"$f":"+ROUND(ROUND(EH45*(Simulador!$F$63/360),4),2)","v":0.04},{"$f":"+ROUND(ROUND(EI45*(Simulador!$F$63/360),4),2)","v":0.04},{"$f":"+ROUND(ROUND(EJ45*(Simulador!$F$63/360),4),2)","v":0.04},{"$f":"+ROUND(ROUND(EK45*(Simulador!$F$63/360),4),2)","v":0.04},{"$f":"+ROUND(ROUND(EL45*(Simulador!$F$63/360),4),2)","v":0.04},{"$f":"+ROUND(ROUND(EM45*(Simulador!$F$63/360),4),2)","v":0.04},{"$f":"+ROUND(ROUND(EN45*(Simulador!$F$63/360),4),2)","v":0.04},{"$f":"+ROUND(ROUND(EO45*(Simulador!$F$63/360),4),2)","v":0.04},{"$f":"+ROUND(ROUND(EP45*(Simulador!$F$63/360),4),2)","v":0.04},{"$f":"+ROUND(ROUND(EQ45*(Simulador!$F$63/360),4),2)","v":0.04},{"$f":"+ROUND(ROUND(ER45*(Simulador!$F$63/360),4),2)","v":0.04},{"$f":"+ROUND(ROUND(ES45*(Simulador!$F$63/360),4),2)","v":0.04},{"$f":"+ROUND(ROUND(ET45*(Simulador!$F$63/360),4),2)","v":0.04},{"$f":"+ROUND(ROUND(EU45*(Simulador!$F$63/360),4),2)","v":0.04},{"$f":"+ROUND(ROUND(EV45*(Simulador!$F$63/360),4),2)","v":0.04},{"$f":"+ROUND(ROUND(EW45*(Simulador!$F$63/360),4),2)","v":0.04},{"$f":"+ROUND(ROUND(EX45*(Simulador!$F$63/360),4),2)","v":0.04},{"$f":"+ROUND(ROUND(EY45*(Simulador!$F$63/360),4),2)","v":0.04},{"$f":"+ROUND(ROUND(EZ45*(Simulador!$F$63/360),4),2)","v":0.04},{"$f":"+ROUND(ROUND(FA45*(Simulador!$F$63/360),4),2)","v":0.04},{"$f":"+ROUND(ROUND(FB45*(Simulador!$F$63/360),4),2)","v":0.04},{"$f":"+ROUND(ROUND(FC45*(Simulador!$F$63/360),4),2)","v":0.04},{"$f":"+ROUND(ROUND(FD45*(Simulador!$F$63/360),4),2)","v":0.04},{"$f":"+ROUND(ROUND(FE45*(Simulador!$F$63/360),4),2)","v":0.04},{"$f":"+ROUND(ROUND(FF45*(Simulador!$F$63/360),4),2)","v":0.04},{"$f":"+ROUND(ROUND(FG45*(Simulador!$F$63/360),4),2)","v":0.04},{"$f":"+ROUND(ROUND(FH45*(Simulador!$F$63/360),4),2)","v":0.04},{"$f":"+ROUND(ROUND(FI45*(Simulador!$F$63/360),4),2)","v":0.04},{"$f":"+ROUND(ROUND(FJ45*(Simulador!$F$63/360),4),2)","v":0.04},{"$f":"+ROUND(ROUND(FK45*(Simulador!$F$63/360),4),2)","v":0.04},{"$f":"+ROUND(ROUND(FL45*(Simulador!$F$63/360),4),2)","v":0.04},{"$f":"+ROUND(ROUND(FM45*(Simulador!$F$63/360),4),2)","v":0.04},{"$f":"+ROUND(ROUND(FN45*(Simulador!$F$63/360),4),2)","v":0.04},{"$f":"+ROUND(ROUND(FO45*(Simulador!$F$63/360),4),2)","v":0.04},{"$f":"+ROUND(ROUND(FP45*(Simulador!$F$63/360),4),2)","v":0.04},{"$f":"+ROUND(ROUND(FQ45*(Simulador!$F$63/360),4),2)","v":0.04},{"$f":"+ROUND(ROUND(FR45*(Simulador!$F$63/360),4),2)","v":0.04},{"$f":"+ROUND(ROUND(FS45*(Simulador!$F$63/360),4),2)","v":0.04},{"$f":"+ROUND(ROUND(FT45*(Simulador!$F$63/360),4),2)","v":0.04},{"$f":"+ROUND(ROUND(FU45*(Simulador!$F$63/360),4),2)","v":0.04},{"$f":"+ROUND(ROUND(FV45*(Simulador!$F$63/360),4),2)","v":0.04},{"$f":"+ROUND(ROUND(FW45*(Simulador!$F$63/360),4),2)","v":0.04},{"$f":"+ROUND(ROUND(FX45*(Simulador!$F$63/360),4),2)","v":0.04},{"$f":"+ROUND(ROUND(FY45*(Simulador!$F$63/360),4),2)","v":0.04},{"$f":"+ROUND(ROUND(FZ45*(Simulador!$F$63/360),4),2)","v":0.04},{"$f":"+ROUND(ROUND(GA45*(Simulador!$F$63/360),4),2)","v":0.04},{"$f":"+ROUND(ROUND(GB45*(Simulador!$F$63/360),4),2)","v":0.04},{"$f":"+ROUND(ROUND(GC45*(Simulador!$F$63/360),4),2)","v":0.04},{"$f":"+ROUND(ROUND(GD45*(Simulador!$F$63/360),4),2)","v":0.04},{"$f":"+ROUND(ROUND(GE45*(Simulador!$F$63/360),4),2)","v":0.04},{"$f":"+ROUND(ROUND(GF45*(Simulador!$F$63/360),4),2)","v":0.05},{"$f":"+ROUND(ROUND(GG45*(Simulador!$F$63/360),4),2)","v":0.05},{"$f":"+ROUND(ROUND(GH45*(Simulador!$F$63/360),4),2)","v":0.05},{"$f":"+ROUND(ROUND(GI45*(Simulador!$F$63/360),4),2)","v":0.05},{"$f":"+ROUND(ROUND(GJ45*(Simulador!$F$63/360),4),2)","v":0.05},{"$f":"+ROUND(ROUND(GK45*(Simulador!$F$63/360),4),2)","v":0.05},{"$f":"+ROUND(ROUND(GL45*(Simulador!$F$63/360),4),2)","v":0.05},{"$f":"+ROUND(ROUND(GM45*(Simulador!$F$63/360),4),2)","v":0.05},{"$f":"+ROUND(ROUND(GN45*(Simulador!$F$63/360),4),2)","v":0.05},{"$f":"+ROUND(ROUND(GO45*(Simulador!$F$63/360),4),2)","v":0.05},{"$f":"+ROUND(ROUND(GP45*(Simulador!$F$63/360),4),2)","v":0.05},{"$f":"+ROUND(ROUND(GQ45*(Simulador!$F$63/360),4),2)","v":0.05},{"$f":"+ROUND(ROUND(GR45*(Simulador!$F$63/360),4),2)","v":0.05},{"$f":"+ROUND(ROUND(GS45*(Simulador!$F$63/360),4),2)","v":0.05},{"$f":"+ROUND(ROUND(GT45*(Simulador!$F$63/360),4),2)","v":0.05},{"$f":"+ROUND(ROUND(GU45*(Simulador!$F$63/360),4),2)","v":0.05},{"$f":"+ROUND(ROUND(GV45*(Simulador!$F$63/360),4),2)","v":0.05},{"$f":"+ROUND(ROUND(GW45*(Simulador!$F$63/360),4),2)","v":0.05},{"$f":"+ROUND(ROUND(GX45*(Simulador!$F$63/360),4),2)","v":0.05},{"$f":"+ROUND(ROUND(GY45*(Simulador!$F$63/360),4),2)","v":0.05},{"$f":"+ROUND(ROUND(GZ45*(Simulador!$F$63/360),4),2)","v":0.05},{"$f":"+ROUND(ROUND(HA45*(Simulador!$F$63/360),4),2)","v":0.05},{"$f":"+ROUND(ROUND(HB45*(Simulador!$F$63/360),4),2)","v":0.05},{"$f":"+ROUND(ROUND(HC45*(Simulador!$F$63/360),4),2)","v":0.05},{"$f":"+ROUND(ROUND(HD45*(Simulador!$F$63/360),4),2)","v":0.05},{"$f":"+ROUND(ROUND(HE45*(Simulador!$F$63/360),4),2)","v":0.05},{"$f":"+ROUND(ROUND(HF45*(Simulador!$F$63/360),4),2)","v":0.05},{"$f":"+ROUND(ROUND(HG45*(Simulador!$F$63/360),4),2)","v":0.05},{"$f":"+ROUND(ROUND(HH45*(Simulador!$F$63/360),4),2)","v":0.05},{"$f":"+ROUND(ROUND(HI45*(Simulador!$F$63/360),4),2)","v":0.05},{"$f":"+ROUND(ROUND(HJ45*(Simulador!$F$63/360),4),2)","v":0.05},{"$f":"+ROUND(ROUND(HK45*(Simulador!$F$63/360),4),2)","v":0.06},{"$f":"+ROUND(ROUND(HL45*(Simulador!$F$63/360),4),2)","v":0.06},{"$f":"+ROUND(ROUND(HM45*(Simulador!$F$63/360),4),2)","v":0.06},{"$f":"+ROUND(ROUND(HN45*(Simulador!$F$63/360),4),2)","v":0.06},{"$f":"+ROUND(ROUND(HO45*(Simulador!$F$63/360),4),2)","v":0.06},{"$f":"+ROUND(ROUND(HP45*(Simulador!$F$63/360),4),2)","v":0.06},{"$f":"+ROUND(ROUND(HQ45*(Simulador!$F$63/360),4),2)","v":0.06},{"$f":"+ROUND(ROUND(HR45*(Simulador!$F$63/360),4),2)","v":0.06},{"$f":"+ROUND(ROUND(HS45*(Simulador!$F$63/360),4),2)","v":0.06},{"$f":"+ROUND(ROUND(HT45*(Simulador!$F$63/360),4),2)","v":0.06},{"$f":"+ROUND(ROUND(HU45*(Simulador!$F$63/360),4),2)","v":0.06},{"$f":"+ROUND(ROUND(HV45*(Simulador!$F$63/360),4),2)","v":0.06},{"$f":"+ROUND(ROUND(HW45*(Simulador!$F$63/360),4),2)","v":0.06},{"$f":"+ROUND(ROUND(HX45*(Simulador!$F$63/360),4),2)","v":0.06},{"$f":"+ROUND(ROUND(HY45*(Simulador!$F$63/360),4),2)","v":0.06},{"$f":"+ROUND(ROUND(HZ45*(Simulador!$F$63/360),4),2)","v":0.06},{"$f":"+ROUND(ROUND(IA45*(Simulador!$F$63/360),4),2)","v":0.06},{"$f":"+ROUND(ROUND(IB45*(Simulador!$F$63/360),4),2)","v":0.06},{"$f":"+ROUND(ROUND(IC45*(Simulador!$F$63/360),4),2)","v":0.06},{"$f":"+ROUND(ROUND(ID45*(Simulador!$F$63/360),4),2)","v":0.06},{"$f":"+ROUND(ROUND(IE45*(Simulador!$F$63/360),4),2)","v":0.06},{"$f":"+ROUND(ROUND(IF45*(Simulador!$F$63/360),4),2)","v":0.06},{"$f":"+ROUND(ROUND(IG45*(Simulador!$F$63/360),4),2)","v":0.06},{"$f":"+ROUND(ROUND(IH45*(Simulador!$F$63/360),4),2)","v":0.06},{"$f":"+ROUND(ROUND(II45*(Simulador!$F$63/360),4),2)","v":0.06},{"$f":"+ROUND(ROUND(IJ45*(Simulador!$F$63/360),4),2)","v":0.06},{"$f":"+ROUND(ROUND(IK45*(Simulador!$F$63/360),4),2)","v":0.06},{"$f":"+ROUND(ROUND(IL45*(Simulador!$F$63/360),4),2)","v":0.06},{"$f":"+ROUND(ROUND(IM45*(Simulador!$F$63/360),4),2)","v":0.06},{"$f":"+ROUND(ROUND(IN45*(Simulador!$F$63/360),4),2)","v":0.06},{"$f":"+ROUND(ROUND(IO45*(Simulador!$F$63/360),4),2)","v":0.06},{"$f":"+ROUND(ROUND(IP45*(Simulador!$F$63/360),4),2)","v":0.06},{"$f":"+ROUND(ROUND(IQ45*(Simulador!$F$63/360),4),2)","v":0.06},{"$f":"+ROUND(ROUND(IR45*(Simulador!$F$63/360),4),2)","v":0.06},{"$f":"+ROUND(ROUND(IS45*(Simulador!$F$63/360),4),2)","v":0.06},{"$f":"+ROUND(ROUND(IT45*(Simulador!$F$63/360),4),2)","v":0.06},{"$f":"+ROUND(ROUND(IU45*(Simulador!$F$63/360),4),2)","v":0.06},{"$f":"+ROUND(ROUND(IV45*(Simulador!$F$63/360),4),2)","v":0.06},{"$f":"+ROUND(ROUND(IW45*(Simulador!$F$63/360),4),2)","v":0.06},{"$f":"+ROUND(ROUND(IX45*(Simulador!$F$63/360),4),2)","v":7.0000000000000007E-2},{"$f":"+ROUND(ROUND(IY45*(Simulador!$F$63/360),4),2)","v":7.0000000000000007E-2},{"$f":"+ROUND(ROUND(IZ45*(Simulador!$F$63/360),4),2)","v":7.0000000000000007E-2},{"$f":"+ROUND(ROUND(JA45*(Simulador!$F$63/360),4),2)","v":7.0000000000000007E-2},{"$f":"+ROUND(ROUND(JB45*(Simulador!$F$63/360),4),2)","v":7.0000000000000007E-2},{"$f":"+ROUND(ROUND(JC45*(Simulador!$F$63/360),4),2)","v":7.0000000000000007E-2},{"$f":"+ROUND(ROUND(JD45*(Simulador!$F$63/360),4),2)","v":7.0000000000000007E-2},{"$f":"+ROUND(ROUND(JE45*(Simulador!$F$63/360),4),2)","v":7.0000000000000007E-2},{"$f":"+ROUND(ROUND(JF45*(Simulador!$F$63/360),4),2)","v":7.0000000000000007E-2},{"$f":"+ROUND(ROUND(JG45*(Simulador!$F$63/360),4),2)","v":7.0000000000000007E-2},{"$f":"+ROUND(ROUND(JH45*(Simulador!$F$63/360),4),2)","v":7.0000000000000007E-2},{"$f":"+ROUND(ROUND(JI45*(Simulador!$F$63/360),4),2)","v":7.0000000000000007E-2},{"$f":"+ROUND(ROUND(JJ45*(Simulador!$F$63/360),4),2)","v":7.0000000000000007E-2},{"$f":"+ROUND(ROUND(JK45*(Simulador!$F$63/360),4),2)","v":7.0000000000000007E-2},{"$f":"+ROUND(ROUND(JL45*(Simulador!$F$63/360),4),2)","v":7.0000000000000007E-2},{"$f":"+ROUND(ROUND(JM45*(Simulador!$F$63/360),4),2)","v":7.0000000000000007E-2},{"$f":"+ROUND(ROUND(JN45*(Simulador!$F$63/360),4),2)","v":7.0000000000000007E-2},{"$f":"+ROUND(ROUND(JO45*(Simulador!$F$63/360),4),2)","v":7.0000000000000007E-2},{"$f":"+ROUND(ROUND(JP45*(Simulador!$F$63/360),4),2)","v":7.0000000000000007E-2},{"$f":"+ROUND(ROUND(JQ45*(Simulador!$F$63/360),4),2)","v":7.0000000000000007E-2},{"$f":"+ROUND(ROUND(JR45*(Simulador!$F$63/360),4),2)","v":7.0000000000000007E-2},{"$f":"+ROUND(ROUND(JS45*(Simulador!$F$63/360),4),2)","v":7.0000000000000007E-2},{"$f":"+ROUND(ROUND(JT45*(Simulador!$F$63/360),4),2)","v":7.0000000000000007E-2},{"$f":"+ROUND(ROUND(JU45*(Simulador!$F$63/360),4),2)","v":7.0000000000000007E-2},{"$f":"+ROUND(ROUND(JV45*(Simulador!$F$63/360),4),2)","v":7.0000000000000007E-2},{"$f":"+ROUND(ROUND(JW45*(Simulador!$F$63/360),4),2)","v":7.0000000000000007E-2},{"$f":"+ROUND(ROUND(JX45*(Simulador!$F$63/360),4),2)","v":7.0000000000000007E-2},{"$f":"+ROUND(ROUND(JY45*(Simulador!$F$63/360),4),2)","v":7.0000000000000007E-2},{"$f":"+ROUND(ROUND(JZ45*(Simulador!$F$63/360),4),2)","v":7.0000000000000007E-2},{"$f":"+ROUND(ROUND(KA45*(Simulador!$F$63/360),4),2)","v":7.0000000000000007E-2},{"$f":"+ROUND(ROUND(KB45*(Simulador!$F$63/360),4),2)","v":7.0000000000000007E-2},{"$f":"+ROUND(ROUND(KC45*(Simulador!$F$63/360),4),2)","v":7.0000000000000007E-2},{"$f":"+ROUND(ROUND(KD45*(Simulador!$F$63/360),4),2)","v":7.0000000000000007E-2},{"$f":"+ROUND(ROUND(KE45*(Simulador!$F$63/360),4),2)","v":7.0000000000000007E-2},{"$f":"+ROUND(ROUND(KF45*(Simulador!$F$63/360),4),2)","v":7.0000000000000007E-2},{"$f":"+ROUND(ROUND(KG45*(Simulador!$F$63/360),4),2)","v":7.0000000000000007E-2},{"$f":"+ROUND(ROUND(KH45*(Simulador!$F$63/360),4),2)","v":7.0000000000000007E-2},{"$f":"+ROUND(ROUND(KI45*(Simulador!$F$63/360),4),2)","v":7.0000000000000007E-2},{"$f":"+ROUND(ROUND(KJ45*(Simulador!$F$63/360),4),2)","v":7.0000000000000007E-2},{"$f":"+ROUND(ROUND(KK45*(Simulador!$F$63/360),4),2)","v":7.0000000000000007E-2},{"$f":"+ROUND(ROUND(KL45*(Simulador!$F$63/360),4),2)","v":7.0000000000000007E-2},{"$f":"+ROUND(ROUND(KM45*(Simulador!$F$63/360),4),2)","v":7.0000000000000007E-2},{"$f":"+ROUND(ROUND(KN45*(Simulador!$F$63/360),4),2)","v":7.0000000000000007E-2},{"$f":"+ROUND(ROUND(KO45*(Simulador!$F$63/360),4),2)","v":7.0000000000000007E-2},{"$f":"+ROUND(ROUND(KP45*(Simulador!$F$63/360),4),2)","v":7.0000000000000007E-2},{"$f":"+ROUND(ROUND(KQ45*(Simulador!$F$63/360),4),2)","v":7.0000000000000007E-2},{"$f":"+ROUND(ROUND(KR45*(Simulador!$F$63/360),4),2)","v":7.0000000000000007E-2},{"$f":"+ROUND(ROUND(KS45*(Simulador!$F$63/360),4),2)","v":7.0000000000000007E-2},{"$f":"+ROUND(ROUND(KT45*(Simulador!$F$63/360),4),2)","v":7.0000000000000007E-2},{"$f":"+ROUND(ROUND(KU45*(Simulador!$F$63/360),4),2)","v":7.0000000000000007E-2},{"$f":"+ROUND(ROUND(KV45*(Simulador!$F$63/360),4),2)","v":0.08},{"$f":"+ROUND(ROUND(KW45*(Simulador!$F$63/360),4),2)","v":0.08},{"$f":"+ROUND(ROUND(KX45*(Simulador!$F$63/360),4),2)","v":0.08},{"$f":"+ROUND(ROUND(KY45*(Simulador!$F$63/360),4),2)","v":0.08},{"$f":"+ROUND(ROUND(KZ45*(Simulador!$F$63/360),4),2)","v":0.08},{"$f":"+ROUND(ROUND(LA45*(Simulador!$F$63/360),4),2)","v":0.08},{"$f":"+ROUND(ROUND(LB45*(Simulador!$F$63/360),4),2)","v":0.08},{"$f":"+ROUND(ROUND(LC45*(Simulador!$F$63/360),4),2)","v":0.08},{"$f":"+ROUND(ROUND(LD45*(Simulador!$F$63/360),4),2)","v":0.08},{"$f":"+ROUND(ROUND(LE45*(Simulador!$F$63/360),4),2)","v":0.08},{"$f":"+ROUND(ROUND(LF45*(Simulador!$F$63/360),4),2)","v":0.08},{"$f":"+ROUND(ROUND(LG45*(Simulador!$F$63/360),4),2)","v":0.08},{"$f":"+ROUND(ROUND(LH45*(Simulador!$F$63/360),4),2)","v":0.08},{"$f":"+ROUND(ROUND(LI45*(Simulador!$F$63/360),4),2)","v":0.08},{"$f":"+ROUND(ROUND(LJ45*(Simulador!$F$63/360),4),2)","v":0.08},{"$f":"+ROUND(ROUND(LK45*(Simulador!$F$63/360),4),2)","v":0.08},{"$f":"+ROUND(ROUND(LL45*(Simulador!$F$63/360),4),2)","v":0.08},{"$f":"+ROUND(ROUND(LM45*(Simulador!$F$63/360),4),2)","v":0.08},{"$f":"+ROUND(ROUND(LN45*(Simulador!$F$63/360),4),2)","v":0.08},{"$f":"+ROUND(ROUND(LO45*(Simulador!$F$63/360),4),2)","v":0.08},{"$f":"+ROUND(ROUND(LP45*(Simulador!$F$63/360),4),2)","v":0.08},{"$f":"+ROUND(ROUND(LQ45*(Simulador!$F$63/360),4),2)","v":0.08},{"$f":"+ROUND(ROUND(LR45*(Simulador!$F$63/360),4),2)","v":0.08},{"$f":"+ROUND(ROUND(LS45*(Simulador!$F$63/360),4),2)","v":0.08},{"$f":"+ROUND(ROUND(LT45*(Simulador!$F$63/360),4),2)","v":0.08},{"$f":"+ROUND(ROUND(LU45*(Simulador!$F$63/360),4),2)","v":0.08},{"$f":"+ROUND(ROUND(LV45*(Simulador!$F$63/360),4),2)","v":0.08},{"$f":"+ROUND(ROUND(LW45*(Simulador!$F$63/360),4),2)","v":0.08},{"$f":"+ROUND(ROUND(LX45*(Simulador!$F$63/360),4),2)","v":0.08},{"$f":"+ROUND(ROUND(LY45*(Simulador!$F$63/360),4),2)","v":0.08},{"$f":"+ROUND(ROUND(LZ45*(Simulador!$F$63/360),4),2)","v":0.08},{"$f":"+ROUND(ROUND(MA45*(Simulador!$F$63/360),4),2)","v":0.09},{"$f":"+ROUND(ROUND(MB45*(Simulador!$F$63/360),4),2)","v":0.09},{"$f":"+ROUND(ROUND(MC45*(Simulador!$F$63/360),4),2)","v":0.09},{"$f":"+ROUND(ROUND(MD45*(Simulador!$F$63/360),4),2)","v":0.09},{"$f":"+ROUND(ROUND(ME45*(Simulador!$F$63/360),4),2)","v":0.09},{"$f":"+ROUND(ROUND(MF45*(Simulador!$F$63/360),4),2)","v":0.09},{"$f":"+ROUND(ROUND(MG45*(Simulador!$F$63/360),4),2)","v":0.09},{"$f":"+ROUND(ROUND(MH45*(Simulador!$F$63/360),4),2)","v":0.09},{"$f":"+ROUND(ROUND(MI45*(Simulador!$F$63/360),4),2)","v":0.09},{"$f":"+ROUND(ROUND(MJ45*(Simulador!$F$63/360),4),2)","v":0.09},{"$f":"+ROUND(ROUND(MK45*(Simulador!$F$63/360),4),2)","v":0.09},{"$f":"+ROUND(ROUND(ML45*(Simulador!$F$63/360),4),2)","v":0.09},{"$f":"+ROUND(ROUND(MM45*(Simulador!$F$63/360),4),2)","v":0.09},{"$f":"+ROUND(ROUND(MN45*(Simulador!$F$63/360),4),2)","v":0.09},{"$f":"+ROUND(ROUND(MO45*(Simulador!$F$63/360),4),2)","v":0.09},{"$f":"+ROUND(ROUND(MP45*(Simulador!$F$63/360),4),2)","v":0.09},{"$f":"+ROUND(ROUND(MQ45*(Simulador!$F$63/360),4),2)","v":0.09},{"$f":"+ROUND(ROUND(MR45*(Simulador!$F$63/360),4),2)","v":0.09},{"$f":"+ROUND(ROUND(MS45*(Simulador!$F$63/360),4),2)","v":0.09},{"$f":"+ROUND(ROUND(MT45*(Simulador!$F$63/360),4),2)","v":0.09},{"$f":"+ROUND(ROUND(MU45*(Simulador!$F$63/360),4),2)","v":0.09},{"$f":"+ROUND(ROUND(MV45*(Simulador!$F$63/360),4),2)","v":0.09},{"$f":"+ROUND(ROUND(MW45*(Simulador!$F$63/360),4),2)","v":0.09},{"$f":"+ROUND(ROUND(MX45*(Simulador!$F$63/360),4),2)","v":0.09},{"$f":"+ROUND(ROUND(MY45*(Simulador!$F$63/360),4),2)","v":0.09},{"$f":"+ROUND(ROUND(MZ45*(Simulador!$F$63/360),4),2)","v":0.09},{"$f":"+ROUND(ROUND(NA45*(Simulador!$F$63/360),4),2)","v":0.09},{"$f":"+ROUND(ROUND(NB45*(Simulador!$F$63/360),4),2)","v":0.09},{"$f":"+ROUND(ROUND(NC45*(Simulador!$F$63/360),4),2)","v":0.09},{"$f":"+ROUND(ROUND(ND45*(Simulador!$F$63/360),4),2)","v":0.09},{"$f":"+ROUND(ROUND(NE45*(Simulador!$F$63/360),4),2)","v":0.09},{"$f":"+ROUND(ROUND(NF45*(Simulador!$F$63/360),4),2)","v":0.09},{"$f":"+ROUND(ROUND(NG45*(Simulador!$F$63/360),4),2)","v":0.09},{"$f":"+ROUND(ROUND(NH45*(Simulador!$F$63/360),4),2)","v":0.09},{"$f":"+ROUND(ROUND(NI45*(Simulador!$F$63/360),4),2)","v":0.09},{"$f":"+ROUND(ROUND(NJ45*(Simulador!$F$63/360),4),2)","v":0.09},{"$f":"+ROUND(ROUND(NK45*(Simulador!$F$63/360),4),2)","v":0.09},{"$f":"+ROUND(ROUND(NL45*(Simulador!$F$63/360),4),2)","v":0.09},{"$f":"+ROUND(ROUND(NM45*(Simulador!$F$63/360),4),2)","v":0.09},{"$f":"+ROUND(ROUND(NN45*(Simulador!$F$63/360),4),2)","v":0.09},{"$f":"+ROUND(ROUND(NO45*(Simulador!$F$63/360),4),2)","v":0.09},{"$f":"+ROUND(ROUND(NP45*(Simulador!$F$63/360),4),2)","v":0.09},{"$f":"+ROUND(ROUND(NQ45*(Simulador!$F$63/360),4),2)","v":0.09},{"$f":"+ROUND(ROUND(NR45*(Simulador!$F$63/360),4),2)","v":0.09},{"$f":"+ROUND(ROUND(NS45*(Simulador!$F$63/360),4),2)","v":0.09},{"$f":"+ROUND(ROUND(NT45*(Simulador!$F$63/360),4),2)","v":0.09},{"$f":"+ROUND(ROUND(NU45*(Simulador!$F$63/360),4),2)","v":0.09},{"$f":"+ROUND(ROUND(NV45*(Simulador!$F$63/360),4),2)","v":0.09},{"$f":"+ROUND(ROUND(NW45*(Simulador!$F$63/360),4),2)","v":0.09},{"$f":"+ROUND(ROUND(NX45*(Simulador!$F$63/360),4),2)","v":0.09},{"$f":"+ROUND(ROUND(NY45*(Simulador!$F$63/360),4),2)","v":0.09},{"$f":"+ROUND(ROUND(NZ45*(Simulador!$F$63/360),4),2)","v":0.09},{"$f":"+ROUND(ROUND(OA45*(Simulador!$F$63/360),4),2)","v":0.09},{"$f":"+ROUND(ROUND(OB45*(Simulador!$F$63/360),4),2)","v":0.09},{"$f":"+ROUND(ROUND(OC45*(Simulador!$F$63/360),4),2)","v":0.09},{"$f":"+ROUND(ROUND(OD45*(Simulador!$F$63/360),4),2)","v":0.09},{"$f":"+ROUND(ROUND(OE45*(Simulador!$F$63/360),4),2)","v":0.09},{"$f":"+ROUND(ROUND(OF45*(Simulador!$F$63/360),4),2)","v":0.09},{"$f":"+ROUND(ROUND(OG45*(Simulador!$F$63/360),4),2)","v":0.09},{"$f":"+ROUND(ROUND(OH45*(Simulador!$F$63/360),4),2)","v":0.09},{"$f":"+ROUND(ROUND(OI45*(Simulador!$F$63/360),4),2)","v":0.09},{"$f":"+ROUND(ROUND(OJ45*(Simulador!$F$63/360),4),2)","v":0.1},{"$f":"+ROUND(ROUND(OK45*(Simulador!$F$63/360),4),2)","v":0.1},{"$f":"+ROUND(ROUND(OL45*(Simulador!$F$63/360),4),2)","v":0.1},{"$f":"+ROUND(ROUND(OM45*(Simulador!$F$63/360),4),2)","v":0.1},{"$f":"+ROUND(ROUND(ON45*(Simulador!$F$63/360),4),2)","v":0.1},{"$f":"+ROUND(ROUND(OO45*(Simulador!$F$63/360),4),2)","v":0.1},{"$f":"+ROUND(ROUND(OP45*(Simulador!$F$63/360),4),2)","v":0.1},{"$f":"+ROUND(ROUND(OQ45*(Simulador!$F$63/360),4),2)","v":0.1},{"$f":"+ROUND(ROUND(OR45*(Simulador!$F$63/360),4),2)","v":0.1},{"$f":"+ROUND(ROUND(OS45*(Simulador!$F$63/360),4),2)","v":0.1},{"$f":"+ROUND(ROUND(OT45*(Simulador!$F$63/360),4),2)","v":0.1},{"$f":"+ROUND(ROUND(OU45*(Simulador!$F$63/360),4),2)","v":0.1},{"$f":"+ROUND(ROUND(OV45*(Simulador!$F$63/360),4),2)","v":0.1},{"$f":"+ROUND(ROUND(OW45*(Simulador!$F$63/360),4),2)","v":0.1},{"$f":"+ROUND(ROUND(OX45*(Simulador!$F$63/360),4),2)","v":0.1},{"$f":"+ROUND(ROUND(OY45*(Simulador!$F$63/360),4),2)","v":0.1},{"$f":"+ROUND(ROUND(OZ45*(Simulador!$F$63/360),4),2)","v":0.1},{"$f":"+ROUND(ROUND(PA45*(Simulador!$F$63/360),4),2)","v":0.1},{"$f":"+ROUND(ROUND(PB45*(Simulador!$F$63/360),4),2)","v":0.1},{"$f":"+ROUND(ROUND(PC45*(Simulador!$F$63/360),4),2)","v":0.1},{"$f":"+ROUND(ROUND(PD45*(Simulador!$F$63/360),4),2)","v":0.1},{"$f":"+ROUND(ROUND(PE45*(Simulador!$F$63/360),4),2)","v":0.1},{"$f":"+ROUND(ROUND(PF45*(Simulador!$F$63/360),4),2)","v":0.1},{"$f":"+ROUND(ROUND(PG45*(Simulador!$F$63/360),4),2)","v":0.1},{"$f":"+ROUND(ROUND(PH45*(Simulador!$F$63/360),4),2)","v":0.1},{"$f":"+ROUND(ROUND(PI45*(Simulador!$F$63/360),4),2)","v":0.1},{"$f":"+ROUND(ROUND(PJ45*(Simulador!$F$63/360),4),2)","v":0.1},{"$f":"+ROUND(ROUND(PK45*(Simulador!$F$63/360),4),2)","v":0.1},{"$f":"+ROUND(ROUND(PL45*(Simulador!$F$63/360),4),2)","v":0.1},{"$f":"+ROUND(ROUND(PM45*(Simulador!$F$63/360),4),2)","v":0.1},{"$f":"+ROUND(ROUND(PN45*(Simulador!$F$63/360),4),2)","v":0.1},{"$f":"+ROUND(ROUND(PO45*(Simulador!$F$63/360),4),2)","v":0.11},{"$f":"+ROUND(ROUND(PP45*(Simulador!$F$63/360),4),2)","v":0.11},{"$f":"+ROUND(ROUND(PQ45*(Simulador!$F$63/360),4),2)","v":0.11},{"$f":"+ROUND(ROUND(PR45*(Simulador!$F$63/360),4),2)","v":0.11},{"$f":"+ROUND(ROUND(PS45*(Simulador!$F$63/360),4),2)","v":0.11},{"$f":"+ROUND(ROUND(PT45*(Simulador!$F$63/360),4),2)","v":0.11},{"$f":"+ROUND(ROUND(PU45*(Simulador!$F$63/360),4),2)","v":0.11},{"$f":"+ROUND(ROUND(PV45*(Simulador!$F$63/360),4),2)","v":0.11},{"$f":"+ROUND(ROUND(PW45*(Simulador!$F$63/360),4),2)","v":0.11},{"$f":"+ROUND(ROUND(PX45*(Simulador!$F$63/360),4),2)","v":0.11},{"$f":"+ROUND(ROUND(PY45*(Simulador!$F$63/360),4),2)","v":0.11},{"$f":"+ROUND(ROUND(PZ45*(Simulador!$F$63/360),4),2)","v":0.11},{"$f":"+ROUND(ROUND(QA45*(Simulador!$F$63/360),4),2)","v":0.11},{"$f":"+ROUND(ROUND(QB45*(Simulador!$F$63/360),4),2)","v":0.11},{"$f":"+ROUND(ROUND(QC45*(Simulador!$F$63/360),4),2)","v":0.11},{"$f":"+ROUND(ROUND(QD45*(Simulador!$F$63/360),4),2)","v":0.11},{"$f":"+ROUND(ROUND(QE45*(Simulador!$F$63/360),4),2)","v":0.11},{"$f":"+ROUND(ROUND(QF45*(Simulador!$F$63/360),4),2)","v":0.11},{"$f":"+ROUND(ROUND(QG45*(Simulador!$F$63/360),4),2)","v":0.11},{"$f":"+ROUND(ROUND(QH45*(Simulador!$F$63/360),4),2)","v":0.11},{"$f":"+ROUND(ROUND(QI45*(Simulador!$F$63/360),4),2)","v":0.11},{"$f":"+ROUND(ROUND(QJ45*(Simulador!$F$63/360),4),2)","v":0.11},{"$f":"+ROUND(ROUND(QK45*(Simulador!$F$63/360),4),2)","v":0.11},{"$f":"+ROUND(ROUND(QL45*(Simulador!$F$63/360),4),2)","v":0.11},{"$f":"+ROUND(ROUND(QM45*(Simulador!$F$63/360),4),2)","v":0.11},{"$f":"+ROUND(ROUND(QN45*(Simulador!$F$63/360),4),2)","v":0.11},{"$f":"+ROUND(ROUND(QO45*(Simulador!$F$63/360),4),2)","v":0.11},{"$f":"+ROUND(ROUND(QP45*(Simulador!$F$63/360),4),2)","v":0.11},{"$f":"+ROUND(ROUND(QQ45*(Simulador!$F$63/360),4),2)","v":0.11},{"$f":"+ROUND(ROUND(QR45*(Simulador!$F$63/360),4),2)","v":0.11},{"$f":"+ROUND(ROUND(QS45*(Simulador!$F$63/360),4),2)","v":0.12},{"$f":"+ROUND(ROUND(QT45*(Simulador!$F$63/360),4),2)","v":0.12},{"$f":"+ROUND(ROUND(QU45*(Simulador!$F$63/360),4),2)","v":0.12},{"$f":"+ROUND(ROUND(QV45*(Simulador!$F$63/360),4),2)","v":0.12},{"$f":"+ROUND(ROUND(QW45*(Simulador!$F$63/360),4),2)","v":0.12},{"$f":"+ROUND(ROUND(QX45*(Simulador!$F$63/360),4),2)","v":0.12},{"$f":"+ROUND(ROUND(QY45*(Simulador!$F$63/360),4),2)","v":0.12},{"$f":"+ROUND(ROUND(QZ45*(Simulador!$F$63/360),4),2)","v":0.12},{"$f":"+ROUND(ROUND(RA45*(Simulador!$F$63/360),4),2)","v":0.12},{"$f":"+ROUND(ROUND(RB45*(Simulador!$F$63/360),4),2)","v":0.12},{"$f":"+ROUND(ROUND(RC45*(Simulador!$F$63/360),4),2)","v":0.12},{"$f":"+ROUND(ROUND(RD45*(Simulador!$F$63/360),4),2)","v":0.12},{"$f":"+ROUND(ROUND(RE45*(Simulador!$F$63/360),4),2)","v":0.12},{"$f":"+ROUND(ROUND(RF45*(Simulador!$F$63/360),4),2)","v":0.12},{"$f":"+ROUND(ROUND(RG45*(Simulador!$F$63/360),4),2)","v":0.12},{"$f":"+ROUND(ROUND(RH45*(Simulador!$F$63/360),4),2)","v":0.12},{"$f":"+ROUND(ROUND(RI45*(Simulador!$F$63/360),4),2)","v":0.12},{"$f":"+ROUND(ROUND(RJ45*(Simulador!$F$63/360),4),2)","v":0.12},{"$f":"+ROUND(ROUND(RK45*(Simulador!$F$63/360),4),2)","v":0.12},{"$f":"+ROUND(ROUND(RL45*(Simulador!$F$63/360),4),2)","v":0.12},{"$f":"+ROUND(ROUND(RM45*(Simulador!$F$63/360),4),2)","v":0.12},{"$f":"+ROUND(ROUND(RN45*(Simulador!$F$63/360),4),2)","v":0.12},{"$f":"+ROUND(ROUND(RO45*(Simulador!$F$63/360),4),2)","v":0.12},{"$f":"+ROUND(ROUND(RP45*(Simulador!$F$63/360),4),2)","v":0.12},{"$f":"+ROUND(ROUND(RQ45*(Simulador!$F$63/360),4),2)","v":0.12},{"$f":"+ROUND(ROUND(RR45*(Simulador!$F$63/360),4),2)","v":0.12},{"$f":"+ROUND(ROUND(RS45*(Simulador!$F$63/360),4),2)","v":0.12},{"$f":"+ROUND(ROUND(RT45*(Simulador!$F$63/360),4),2)","v":0.12},{"$f":"+ROUND(ROUND(RU45*(Simulador!$F$63/360),4),2)","v":0.12},{"$f":"+ROUND(ROUND(RV45*(Simulador!$F$63/360),4),2)","v":0.12},{"$f":"+ROUND(ROUND(RW45*(Simulador!$F$63/360),4),2)","v":0.12},{"$f":"+ROUND(ROUND(RX45*(Simulador!$F$63/360),4),2)","v":0.12},{"$f":"+ROUND(ROUND(RY45*(Simulador!$F$63/360),4),2)","v":0.12},{"$f":"+ROUND(ROUND(RZ45*(Simulador!$F$63/360),4),2)","v":0.12},{"$f":"+ROUND(ROUND(SA45*(Simulador!$F$63/360),4),2)","v":0.12},{"$f":"+ROUND(ROUND(SB45*(Simulador!$F$63/360),4),2)","v":0.12},{"$f":"+ROUND(ROUND(SC45*(Simulador!$F$63/360),4),2)","v":0.12},{"$f":"+ROUND(ROUND(SD45*(Simulador!$F$63/360),4),2)","v":0.12},{"$f":"+ROUND(ROUND(SE45*(Simulador!$F$63/360),4),2)","v":0.12},{"$f":"+ROUND(ROUND(SF45*(Simulador!$F$63/360),4),2)","v":0.12},{"$f":"+ROUND(ROUND(SG45*(Simulador!$F$63/360),4),2)","v":0.12},{"$f":"+ROUND(ROUND(SH45*(Simulador!$F$63/360),4),2)","v":0.12},{"$f":"+ROUND(ROUND(SI45*(Simulador!$F$63/360),4),2)","v":0.12},{"$f":"+ROUND(ROUND(SJ45*(Simulador!$F$63/360),4),2)","v":0.12},{"$f":"+ROUND(ROUND(SK45*(Simulador!$F$63/360),4),2)","v":0.12},{"$f":"+ROUND(ROUND(SL45*(Simulador!$F$63/360),4),2)","v":0.12},{"$f":"+ROUND(ROUND(SM45*(Simulador!$F$63/360),4),2)","v":0.12},{"$f":"+ROUND(ROUND(SN45*(Simulador!$F$63/360),4),2)","v":0.12},{"$f":"+ROUND(ROUND(SO45*(Simulador!$F$63/360),4),2)","v":0.12},{"$f":"+ROUND(ROUND(SP45*(Simulador!$F$63/360),4),2)","v":0.12},{"$f":"+ROUND(ROUND(SQ45*(Simulador!$F$63/360),4),2)","v":0.12},{"$f":"+ROUND(ROUND(SR45*(Simulador!$F$63/360),4),2)","v":0.12},{"$f":"+ROUND(ROUND(SS45*(Simulador!$F$63/360),4),2)","v":0.12},{"$f":"+ROUND(ROUND(ST45*(Simulador!$F$63/360),4),2)","v":0.12},{"$f":"+ROUND(ROUND(SU45*(Simulador!$F$63/360),4),2)","v":0.12},{"$f":"+ROUND(ROUND(SV45*(Simulador!$F$63/360),4),2)","v":0.12},{"$f":"+ROUND(ROUND(SW45*(Simulador!$F$63/360),4),2)","v":0.12},{"$f":"+ROUND(ROUND(SX45*(Simulador!$F$63/360),4),2)","v":0.12},{"$f":"+ROUND(ROUND(SY45*(Simulador!$F$63/360),4),2)","v":0.12},{"$f":"+ROUND(ROUND(SZ45*(Simulador!$F$63/360),4),2)","v":0.12},{"$f":"+ROUND(ROUND(TA45*(Simulador!$F$63/360),4),2)","v":0.12},{"$f":"+ROUND(ROUND(TB45*(Simulador!$F$63/360),4),2)","v":0.13},{"$f":"+ROUND(ROUND(TC45*(Simulador!$F$63/360),4),2)","v":0.13},{"$f":"+ROUND(ROUND(TD45*(Simulador!$F$63/360),4),2)","v":0.13},{"$f":"+ROUND(ROUND(TE45*(Simulador!$F$63/360),4),2)","v":0.13},{"$f":"+ROUND(ROUND(TF45*(Simulador!$F$63/360),4),2)","v":0.13},{"$f":"+ROUND(ROUND(TG45*(Simulador!$F$63/360),4),2)","v":0.13},{"$f":"+ROUND(ROUND(TH45*(Simulador!$F$63/360),4),2)","v":0.13},{"$f":"+ROUND(ROUND(TI45*(Simulador!$F$63/360),4),2)","v":0.13},{"$f":"+ROUND(ROUND(TJ45*(Simulador!$F$63/360),4),2)","v":0.13},{"$f":"+ROUND(ROUND(TK45*(Simulador!$F$63/360),4),2)","v":0.13},{"$f":"+ROUND(ROUND(TL45*(Simulador!$F$63/360),4),2)","v":0.13},{"$f":"+ROUND(ROUND(TM45*(Simulador!$F$63/360),4),2)","v":0.13},{"$f":"+ROUND(ROUND(TN45*(Simulador!$F$63/360),4),2)","v":0.13},{"$f":"+ROUND(ROUND(TO45*(Simulador!$F$63/360),4),2)","v":0.13},{"$f":"+ROUND(ROUND(TP45*(Simulador!$F$63/360),4),2)","v":0.13},{"$f":"+ROUND(ROUND(TQ45*(Simulador!$F$63/360),4),2)","v":0.13},{"$f":"+ROUND(ROUND(TR45*(Simulador!$F$63/360),4),2)","v":0.13},{"$f":"+ROUND(ROUND(TS45*(Simulador!$F$63/360),4),2)","v":0.13},{"$f":"+ROUND(ROUND(TT45*(Simulador!$F$63/360),4),2)","v":0.13},{"$f":"+ROUND(ROUND(TU45*(Simulador!$F$63/360),4),2)","v":0.13},{"$f":"+ROUND(ROUND(TV45*(Simulador!$F$63/360),4),2)","v":0.13},{"$f":"+ROUND(ROUND(TW45*(Simulador!$F$63/360),4),2)","v":0.13},{"$f":"+ROUND(ROUND(TX45*(Simulador!$F$63/360),4),2)","v":0.13},{"$f":"+ROUND(ROUND(TY45*(Simulador!$F$63/360),4),2)","v":0.13},{"$f":"+ROUND(ROUND(TZ45*(Simulador!$F$63/360),4),2)","v":0.13},{"$f":"+ROUND(ROUND(UA45*(Simulador!$F$63/360),4),2)","v":0.13},{"$f":"+ROUND(ROUND(UB45*(Simulador!$F$63/360),4),2)","v":0.13},{"$f":"+ROUND(ROUND(UC45*(Simulador!$F$63/360),4),2)","v":0.13},{"$f":"+ROUND(ROUND(UD45*(Simulador!$F$63/360),4),2)","v":0.13},{"$f":"+ROUND(ROUND(UE45*(Simulador!$F$63/360),4),2)","v":0.13},{"$f":"+ROUND(ROUND(UF45*(Simulador!$F$63/360),4),2)","v":0.13},{"$f":"+ROUND(ROUND(UG45*(Simulador!$F$63/360),4),2)","v":0.14000000000000001},{"$f":"+ROUND(ROUND(UH45*(Simulador!$F$63/360),4),2)","v":0.14000000000000001},{"$f":"+ROUND(ROUND(UI45*(Simulador!$F$63/360),4),2)","v":0.14000000000000001},{"$f":"+ROUND(ROUND(UJ45*(Simulador!$F$63/360),4),2)","v":0.14000000000000001},{"$f":"+ROUND(ROUND(UK45*(Simulador!$F$63/360),4),2)","v":0.14000000000000001},{"$f":"+ROUND(ROUND(UL45*(Simulador!$F$63/360),4),2)","v":0.14000000000000001},{"$f":"+ROUND(ROUND(UM45*(Simulador!$F$63/360),4),2)","v":0.14000000000000001},{"$f":"+ROUND(ROUND(UN45*(Simulador!$F$63/360),4),2)","v":0.14000000000000001},{"$f":"+ROUND(ROUND(UO45*(Simulador!$F$63/360),4),2)","v":0.14000000000000001},{"$f":"+ROUND(ROUND(UP45*(Simulador!$F$63/360),4),2)","v":0.14000000000000001},{"$f":"+ROUND(ROUND(UQ45*(Simulador!$F$63/360),4),2)","v":0.14000000000000001},{"$f":"+ROUND(ROUND(UR45*(Simulador!$F$63/360),4),2)","v":0.14000000000000001},{"$f":"+ROUND(ROUND(US45*(Simulador!$F$63/360),4),2)","v":0.14000000000000001},{"$f":"+ROUND(ROUND(UT45*(Simulador!$F$63/360),4),2)","v":0.14000000000000001},{"$f":"+ROUND(ROUND(UU45*(Simulador!$F$63/360),4),2)","v":0.14000000000000001},{"$f":"+ROUND(ROUND(UV45*(Simulador!$F$63/360),4),2)","v":0.14000000000000001},{"$f":"+ROUND(ROUND(UW45*(Simulador!$F$63/360),4),2)","v":0.14000000000000001},{"$f":"+ROUND(ROUND(UX45*(Simulador!$F$63/360),4),2)","v":0.14000000000000001},{"$f":"+ROUND(ROUND(UY45*(Simulador!$F$63/360),4),2)","v":0.14000000000000001},{"$f":"+ROUND(ROUND(UZ45*(Simulador!$F$63/360),4),2)","v":0.14000000000000001},{"$f":"+ROUND(ROUND(VA45*(Simulador!$F$63/360),4),2)","v":0.14000000000000001},{"$f":"+ROUND(ROUND(VB45*(Simulador!$F$63/360),4),2)","v":0.14000000000000001},{"$f":"+ROUND(ROUND(VC45*(Simulador!$F$63/360),4),2)","v":0.14000000000000001},{"$f":"+ROUND(ROUND(VD45*(Simulador!$F$63/360),4),2)","v":0.14000000000000001},{"$f":"+ROUND(ROUND(VE45*(Simulador!$F$63/360),4),2)","v":0.14000000000000001},{"$f":"+ROUND(ROUND(VF45*(Simulador!$F$63/360),4),2)","v":0.14000000000000001},{"$f":"+ROUND(ROUND(VG45*(Simulador!$F$63/360),4),2)","v":0.14000000000000001},{"$f":"+ROUND(ROUND(VH45*(Simulador!$F$63/360),4),2)","v":0.14000000000000001},{"$f":"+ROUND(ROUND(VI45*(Simulador!$F$63/360),4),2)","v":0.14000000000000001},{"$f":"+ROUND(ROUND(VJ45*(Simulador!$F$63/360),4),2)","v":0.14000000000000001},{"$f":"+ROUND(ROUND(VK45*(Simulador!$F$63/360),4),2)","v":0.14000000000000001},{"$f":"+ROUND(ROUND(VL45*(Simulador!$F$63/360),4),2)","v":0.15},{"$f":"+ROUND(ROUND(VM45*(Simulador!$F$63/360),4),2)","v":0.15},{"$f":"+ROUND(ROUND(VN45*(Simulador!$F$63/360),4),2)","v":0.15},{"$f":"+ROUND(ROUND(VO45*(Simulador!$F$63/360),4),2)","v":0.15},{"$f":"+ROUND(ROUND(VP45*(Simulador!$F$63/360),4),2)","v":0.15},{"$f":"+ROUND(ROUND(VQ45*(Simulador!$F$63/360),4),2)","v":0.15},{"$f":"+ROUND(ROUND(VR45*(Simulador!$F$63/360),4),2)","v":0.15},{"$f":"+ROUND(ROUND(VS45*(Simulador!$F$63/360),4),2)","v":0.15},{"$f":"+ROUND(ROUND(VT45*(Simulador!$F$63/360),4),2)","v":0.15},{"$f":"+ROUND(ROUND(VU45*(Simulador!$F$63/360),4),2)","v":0.15},{"$f":"+ROUND(ROUND(VV45*(Simulador!$F$63/360),4),2)","v":0.15},{"$f":"+ROUND(ROUND(VW45*(Simulador!$F$63/360),4),2)","v":0.15},{"$f":"+ROUND(ROUND(VX45*(Simulador!$F$63/360),4),2)","v":0.15},{"$f":"+ROUND(ROUND(VY45*(Simulador!$F$63/360),4),2)","v":0.15},{"$f":"+ROUND(ROUND(VZ45*(Simulador!$F$63/360),4),2)","v":0.15},{"$f":"+ROUND(ROUND(WA45*(Simulador!$F$63/360),4),2)","v":0.15},{"$f":"+ROUND(ROUND(WB45*(Simulador!$F$63/360),4),2)","v":0.15},{"$f":"+ROUND(ROUND(WC45*(Simulador!$F$63/360),4),2)","v":0.15},{"$f":"+ROUND(ROUND(WD45*(Simulador!$F$63/360),4),2)","v":0.15},{"$f":"+ROUND(ROUND(WE45*(Simulador!$F$63/360),4),2)","v":0.15},{"$f":"+ROUND(ROUND(WF45*(Simulador!$F$63/360),4),2)","v":0.15},{"$f":"+ROUND(ROUND(WG45*(Simulador!$F$63/360),4),2)","v":0.15},{"$f":"+ROUND(ROUND(WH45*(Simulador!$F$63/360),4),2)","v":0.15},{"$f":"+ROUND(ROUND(WI45*(Simulador!$F$63/360),4),2)","v":0.15},{"$f":"+ROUND(ROUND(WJ45*(Simulador!$F$63/360),4),2)","v":0.15},{"$f":"+ROUND(ROUND(WK45*(Simulador!$F$63/360),4),2)","v":0.15},{"$f":"+ROUND(ROUND(WL45*(Simulador!$F$63/360),4),2)","v":0.15},{"$f":"+ROUND(ROUND(WM45*(Simulador!$F$63/360),4),2)","v":0.15},{"$f":"+ROUND(ROUND(WN45*(Simulador!$F$63/360),4),2)","v":0.15},{"$f":"+ROUND(ROUND(WO45*(Simulador!$F$63/360),4),2)","v":0.15},{"$f":"+ROUND(ROUND(WP45*(Simulador!$F$63/360),4),2)","v":0.15},{"$f":"+ROUND(ROUND(WQ45*(Simulador!$F$63/360),4),2)","v":0.15},{"$f":"+ROUND(ROUND(WR45*(Simulador!$F$63/360),4),2)","v":0.15},{"$f":"+ROUND(ROUND(WS45*(Simulador!$F$63/360),4),2)","v":0.15},{"$f":"+ROUND(ROUND(WT45*(Simulador!$F$63/360),4),2)","v":0.15},{"$f":"+ROUND(ROUND(WU45*(Simulador!$F$63/360),4),2)","v":0.15},{"$f":"+ROUND(ROUND(WV45*(Simulador!$F$63/360),4),2)","v":0.15},{"$f":"+ROUND(ROUND(WW45*(Simulador!$F$63/360),4),2)","v":0.15},{"$f":"+ROUND(ROUND(WX45*(Simulador!$F$63/360),4),2)","v":0.15},{"$f":"+ROUND(ROUND(WY45*(Simulador!$F$63/360),4),2)","v":0.15},{"$f":"+ROUND(ROUND(WZ45*(Simulador!$F$63/360),4),2)","v":0.15},{"$f":"+ROUND(ROUND(XA45*(Simulador!$F$63/360),4),2)","v":0.15},{"$f":"+ROUND(ROUND(XB45*(Simulador!$F$63/360),4),2)","v":0.15},{"$f":"+ROUND(ROUND(XC45*(Simulador!$F$63/360),4),2)","v":0.15},{"$f":"+ROUND(ROUND(XD45*(Simulador!$F$63/360),4),2)","v":0.15},{"$f":"+ROUND(ROUND(XE45*(Simulador!$F$63/360),4),2)","v":0.15},{"$f":"+ROUND(ROUND(XF45*(Simulador!$F$63/360),4),2)","v":0.15},{"$f":"+ROUND(ROUND(XG45*(Simulador!$F$63/360),4),2)","v":0.15},{"$f":"+ROUND(ROUND(XH45*(Simulador!$F$63/360),4),2)","v":0.15},{"$f":"+ROUND(ROUND(XI45*(Simulador!$F$63/360),4),2)","v":0.15},{"$f":"+ROUND(ROUND(XJ45*(Simulador!$F$63/360),4),2)","v":0.15},{"$f":"+ROUND(ROUND(XK45*(Simulador!$F$63/360),4),2)","v":0.15},{"$f":"+ROUND(ROUND(XL45*(Simulador!$F$63/360),4),2)","v":0.15},{"$f":"+ROUND(ROUND(XM45*(Simulador!$F$63/360),4),2)","v":0.15},{"$f":"+ROUND(ROUND(XN45*(Simulador!$F$63/360),4),2)","v":0.15},{"$f":"+ROUND(ROUND(XO45*(Simulador!$F$63/360),4),2)","v":0.15},{"$f":"+ROUND(ROUND(XP45*(Simulador!$F$63/360),4),2)","v":0.15},{"$f":"+ROUND(ROUND(XQ45*(Simulador!$F$63/360),4),2)","v":0.15},{"$f":"+ROUND(ROUND(XR45*(Simulador!$F$63/360),4),2)","v":0.15},{"$f":"+ROUND(ROUND(XS45*(Simulador!$F$63/360),4),2)","v":0.16},{"$f":"+ROUND(ROUND(XT45*(Simulador!$F$63/360),4),2)","v":0.16},{"$f":"+ROUND(ROUND(XU45*(Simulador!$F$63/360),4),2)","v":0.16},{"$f":"+ROUND(ROUND(XV45*(Simulador!$F$63/360),4),2)","v":0.16},{"$f":"+ROUND(ROUND(XW45*(Simulador!$F$63/360),4),2)","v":0.16},{"$f":"+ROUND(ROUND(XX45*(Simulador!$F$63/360),4),2)","v":0.16},{"$f":"+ROUND(ROUND(XY45*(Simulador!$F$63/360),4),2)","v":0.16},{"$f":"+ROUND(ROUND(XZ45*(Simulador!$F$63/360),4),2)","v":0.16},{"$f":"+ROUND(ROUND(YA45*(Simulador!$F$63/360),4),2)","v":0.16},{"$f":"+ROUND(ROUND(YB45*(Simulador!$F$63/360),4),2)","v":0.16},{"$f":"+ROUND(ROUND(YC45*(Simulador!$F$63/360),4),2)","v":0.16},{"$f":"+ROUND(ROUND(YD45*(Simulador!$F$63/360),4),2)","v":0.16},{"$f":"+ROUND(ROUND(YE45*(Simulador!$F$63/360),4),2)","v":0.16},{"$f":"+ROUND(ROUND(YF45*(Simulador!$F$63/360),4),2)","v":0.16},{"$f":"+ROUND(ROUND(YG45*(Simulador!$F$63/360),4),2)","v":0.16},{"$f":"+ROUND(ROUND(YH45*(Simulador!$F$63/360),4),2)","v":0.16},{"$f":"+ROUND(ROUND(YI45*(Simulador!$F$63/360),4),2)","v":0.16},{"$f":"+ROUND(ROUND(YJ45*(Simulador!$F$63/360),4),2)","v":0.16},{"$f":"+ROUND(ROUND(YK45*(Simulador!$F$63/360),4),2)","v":0.16},{"$f":"+ROUND(ROUND(YL45*(Simulador!$F$63/360),4),2)","v":0.16},{"$f":"+ROUND(ROUND(YM45*(Simulador!$F$63/360),4),2)","v":0.16},{"$f":"+ROUND(ROUND(YN45*(Simulador!$F$63/360),4),2)","v":0.16},{"$f":"+ROUND(ROUND(YO45*(Simulador!$F$63/360),4),2)","v":0.16},{"$f":"+ROUND(ROUND(YP45*(Simulador!$F$63/360),4),2)","v":0.16},{"$f":"+ROUND(ROUND(YQ45*(Simulador!$F$63/360),4),2)","v":0.16},{"$f":"+ROUND(ROUND(YR45*(Simulador!$F$63/360),4),2)","v":0.16},{"$f":"+ROUND(ROUND(YS45*(Simulador!$F$63/360),4),2)","v":0.16},{"$f":"+ROUND(ROUND(YT45*(Simulador!$F$63/360),4),2)","v":0.16},{"$f":"+ROUND(ROUND(YU45*(Simulador!$F$63/360),4),2)","v":0.16},{"$f":"+ROUND(ROUND(YV45*(Simulador!$F$63/360),4),2)","v":0.16},{"$f":"+ROUND(ROUND(YW45*(Simulador!$F$63/360),4),2)","v":0.17},{"$f":"+ROUND(ROUND(YX45*(Simulador!$F$63/360),4),2)","v":0.17},{"$f":"+ROUND(ROUND(YY45*(Simulador!$F$63/360),4),2)","v":0.17},{"$f":"+ROUND(ROUND(YZ45*(Simulador!$F$63/360),4),2)","v":0.17},{"$f":"+ROUND(ROUND(ZA45*(Simulador!$F$63/360),4),2)","v":0.17},{"$f":"+ROUND(ROUND(ZB45*(Simulador!$F$63/360),4),2)","v":0.17},{"$f":"+ROUND(ROUND(ZC45*(Simulador!$F$63/360),4),2)","v":0.17},{"$f":"+ROUND(ROUND(ZD45*(Simulador!$F$63/360),4),2)","v":0.17},{"$f":"+ROUND(ROUND(ZE45*(Simulador!$F$63/360),4),2)","v":0.17},{"$f":"+ROUND(ROUND(ZF45*(Simulador!$F$63/360),4),2)","v":0.17},{"$f":"+ROUND(ROUND(ZG45*(Simulador!$F$63/360),4),2)","v":0.17},{"$f":"+ROUND(ROUND(ZH45*(Simulador!$F$63/360),4),2)","v":0.17},{"$f":"+ROUND(ROUND(ZI45*(Simulador!$F$63/360),4),2)","v":0.17},{"$f":"+ROUND(ROUND(ZJ45*(Simulador!$F$63/360),4),2)","v":0.17},{"$f":"+ROUND(ROUND(ZK45*(Simulador!$F$63/360),4),2)","v":0.17},{"$f":"+ROUND(ROUND(ZL45*(Simulador!$F$63/360),4),2)","v":0.17},{"$f":"+ROUND(ROUND(ZM45*(Simulador!$F$63/360),4),2)","v":0.17},{"$f":"+ROUND(ROUND(ZN45*(Simulador!$F$63/360),4),2)","v":0.17},{"$f":"+ROUND(ROUND(ZO45*(Simulador!$F$63/360),4),2)","v":0.17},{"$f":"+ROUND(ROUND(ZP45*(Simulador!$F$63/360),4),2)","v":0.17},{"$f":"+ROUND(ROUND(ZQ45*(Simulador!$F$63/360),4),2)","v":0.17},{"$f":"+ROUND(ROUND(ZR45*(Simulador!$F$63/360),4),2)","v":0.17},{"$f":"+ROUND(ROUND(ZS45*(Simulador!$F$63/360),4),2)","v":0.17},{"$f":"+ROUND(ROUND(ZT45*(Simulador!$F$63/360),4),2)","v":0.17},{"$f":"+ROUND(ROUND(ZU45*(Simulador!$F$63/360),4),2)","v":0.17},{"$f":"+ROUND(ROUND(ZV45*(Simulador!$F$63/360),4),2)","v":0.17},{"$f":"+ROUND(ROUND(ZW45*(Simulador!$F$63/360),4),2)","v":0.17},{"$f":"+ROUND(ROUND(ZX45*(Simulador!$F$63/360),4),2)","v":0.17},{"$f":"+ROUND(ROUND(ZY45*(Simulador!$F$63/360),4),2)","v":0.17},{"$f":"+ROUND(ROUND(ZZ45*(Simulador!$F$63/360),4),2)","v":0.17},{"$f":"+ROUND(ROUND(AAA45*(Simulador!$F$63/360),4),2)","v":0.17},{"$f":"+ROUND(ROUND(AAB45*(Simulador!$F$63/360),4),2)","v":0.18},{"$f":"+ROUND(ROUND(AAC45*(Simulador!$F$63/360),4),2)","v":0.18},{"$f":"+ROUND(ROUND(AAD45*(Simulador!$F$63/360),4),2)","v":0.18},{"$f":"+ROUND(ROUND(AAE45*(Simulador!$F$63/360),4),2)","v":0.18},{"$f":"+ROUND(ROUND(AAF45*(Simulador!$F$63/360),4),2)","v":0.18},{"$f":"+ROUND(ROUND(AAG45*(Simulador!$F$63/360),4),2)","v":0.18},{"$f":"+ROUND(ROUND(AAH45*(Simulador!$F$63/360),4),2)","v":0.18},{"$f":"+ROUND(ROUND(AAI45*(Simulador!$F$63/360),4),2)","v":0.18},{"$f":"+ROUND(ROUND(AAJ45*(Simulador!$F$63/360),4),2)","v":0.18},{"$f":"+ROUND(ROUND(AAK45*(Simulador!$F$63/360),4),2)","v":0.18},{"$f":"+ROUND(ROUND(AAL45*(Simulador!$F$63/360),4),2)","v":0.18},{"$f":"+ROUND(ROUND(AAM45*(Simulador!$F$63/360),4),2)","v":0.18},{"$f":"+ROUND(ROUND(AAN45*(Simulador!$F$63/360),4),2)","v":0.18},{"$f":"+ROUND(ROUND(AAO45*(Simulador!$F$63/360),4),2)","v":0.18},{"$f":"+ROUND(ROUND(AAP45*(Simulador!$F$63/360),4),2)","v":0.18},{"$f":"+ROUND(ROUND(AAQ45*(Simulador!$F$63/360),4),2)","v":0.18},{"$f":"+ROUND(ROUND(AAR45*(Simulador!$F$63/360),4),2)","v":0.18},{"$f":"+ROUND(ROUND(AAS45*(Simulador!$F$63/360),4),2)","v":0.18},{"$f":"+ROUND(ROUND(AAT45*(Simulador!$F$63/360),4),2)","v":0.18},{"$f":"+ROUND(ROUND(AAU45*(Simulador!$F$63/360),4),2)","v":0.18}]
[null,"Interés acumulado mensual",{"$f":"+C46","v":0},{"$f":"+D46+IF(D$15=\"No\",C47,0)","v":0.01},0.02,0.03,0.04,0.05,6.0000000000000005E-2,7.0000000000000007E-2,0.08,0.09,9.9999999999999992E-2,0.10999999999999999,0.01,0.02,0.03,0.04,0.05,6.0000000000000005E-2,7.0000000000000007E-2,0.08,0.09,9.9999999999999992E-2,0.10999999999999999,0.11999999999999998,0.12999999999999998,0.13999999999999999,0.15,0.16,0.17,0.18000000000000002,0.19000000000000003,0.20000000000000004,0.22000000000000003,0.24000000000000002,0.26,0.28000000000000003,0.30000000000000004,0.32000000000000006,0.34000000000000008,0.3600000000000001,0.38000000000000012,0.02,0.04,0.06,0.08,0.1,0.12000000000000001,0.14000000000000001,0.16,0.18,0.19999999999999998,0.21999999999999997,0.23999999999999996,0.25999999999999995,0.27999999999999997,0.3,0.32,0.34,0.36000000000000004,0.38000000000000006,0.40000000000000008,0.4200000000000001,0.44000000000000011,0.46000000000000013,0.48000000000000015,{"$f":"+BP46+IF(BP$15=\"No\",BO47,0)","v":0.50000000000000011},0.52000000000000013,0.54000000000000015,0.56000000000000016,0.58000000000000018,0.6000000000000002,0.62000000000000022,0.64000000000000024,0.02,0.04,0.06,0.08,0.1,0.12000000000000001,0.14000000000000001,0.16,0.18,0.19999999999999998,0.21999999999999997,0.23999999999999996,0.25999999999999995,0.27999999999999997,0.3,0.32,0.34,0.36000000000000004,0.38000000000000006,0.40000000000000008,0.43000000000000005,0.46000000000000008,0.4900000000000001,0.52000000000000013,0.55000000000000016,0.58000000000000018,0.61000000000000021,0.64000000000000024,0.67000000000000026,0.70000000000000029,0.73000000000000032,0.03,0.06,0.09,0.12,0.15,0.18,0.21,0.24,0.27,0.30000000000000004,0.33000000000000007,0.3600000000000001,0.39000000000000012,0.42000000000000015,0.45000000000000018,0.4800000000000002,0.51000000000000023,0.54000000000000026,0.57000000000000028,0.60000000000000031,0.64000000000000035,0.68000000000000038,0.72000000000000042,0.76000000000000045,0.80000000000000049,{"$f":"+EB46+IF(EB$15=\"No\",EA47,0)","v":0.84000000000000052},0.88000000000000056,0.9200000000000006,0.04,0.08,0.12,0.16,0.2,0.24000000000000002,0.28000000000000003,0.32,0.36,0.39999999999999997,0.43999999999999995,0.47999999999999993,0.51999999999999991,0.55999999999999994,0.6,0.64,0.68,0.72000000000000008,0.76000000000000012,0.80000000000000016,0.84000000000000019,0.88000000000000023,0.92000000000000026,0.9600000000000003,1.0000000000000002,1.0400000000000003,1.0800000000000003,1.1200000000000003,1.1600000000000004,1.2000000000000004,1.2400000000000004,1.2800000000000005,0.04,0.08,0.12,0.16,0.2,0.24000000000000002,0.28000000000000003,0.32,0.36,0.39999999999999997,0.43999999999999995,0.47999999999999993,0.51999999999999991,0.55999999999999994,0.6,0.64,0.68,0.72000000000000008,0.76000000000000012,0.80000000000000016,0.84000000000000019,0.89000000000000024,0.94000000000000028,0.99000000000000032,1.0400000000000003,1.0900000000000003,1.1400000000000003,1.1900000000000004,1.2400000000000004,{"$f":"+GN46+IF(GN$15=\"No\",GM47,0)","v":1.2900000000000005},1.3400000000000005,0.05,0.1,0.15000000000000002,0.2,0.25,0.3,0.35,0.39999999999999997,0.44999999999999996,0.49999999999999994,0.54999999999999993,0.6,0.65,0.70000000000000007,0.75000000000000011,0.80000000000000016,0.8500000000000002,0.90000000000000024,0.95000000000000029,1.0000000000000002,1.0500000000000003,1.1100000000000003,1.1700000000000004,1.2300000000000004,1.2900000000000005,1.3500000000000005,1.4100000000000006,1.4700000000000006,0.06,0.12,0.18,0.24,0.3,0.36,0.42,0.48,0.54,0.60000000000000009,0.66000000000000014,0.7200000000000002,0.78000000000000025,0.8400000000000003,0.90000000000000036,0.96000000000000041,1.0200000000000005,1.0800000000000005,1.1400000000000006,1.2000000000000006,1.2600000000000007,1.3200000000000007,1.3800000000000008,1.4400000000000008,1.5000000000000009,1.5600000000000009,1.620000000000001,1.680000000000001,1.7400000000000011,1.8000000000000012,1.8600000000000012,1.9200000000000013,7.0000000000000007E-2,0.14000000000000001,{"$f":"+IZ46+IF(IZ$15=\"No\",IY47,0)","v":0.21000000000000002},0.28000000000000003,0.35000000000000003,0.42000000000000004,0.49000000000000005,0.56000000000000005,0.63000000000000012,0.70000000000000018,0.77000000000000024,0.8400000000000003,0.91000000000000036,0.98000000000000043,1.0500000000000005,1.1200000000000006,1.1900000000000006,1.2600000000000007,1.3300000000000007,1.4000000000000008,1.4700000000000009,1.5400000000000009,1.610000000000001,1.680000000000001,1.7500000000000011,1.8200000000000012,1.8900000000000012,1.9600000000000013,2.0300000000000011,2.100000000000001,7.0000000000000007E-2,0.14000000000000001,0.21000000000000002,0.28000000000000003,0.35000000000000003,0.42000000000000004,0.49000000000000005,0.56000000000000005,0.63000000000000012,0.70000000000000018,0.77000000000000024,0.8400000000000003,0.91000000000000036,0.98000000000000043,1.0500000000000005,1.1200000000000006,1.1900000000000006,1.2600000000000007,1.3300000000000007,1.4000000000000008,1.4800000000000009,1.5600000000000009,1.640000000000001,1.7200000000000011,1.8000000000000012,1.8800000000000012,1.9600000000000013,2.0400000000000014,2.1200000000000014,0.08,0.16,0.24,0.32,0.4,0.48000000000000004,0.56000000000000005,{"$f":"+LL46+IF(LL$15=\"No\",LK47,0)","v":0.64},0.72,0.79999999999999993,0.87999999999999989,0.95999999999999985,1.0399999999999998,1.1199999999999999,1.2,1.28,1.36,1.4400000000000002,1.5200000000000002,1.6000000000000003,1.6800000000000004,1.7600000000000005,1.8500000000000005,1.9400000000000006,2.0300000000000007,2.1200000000000006,2.2100000000000004,2.3000000000000003,2.39,2.48,2.57,2.6599999999999997,0.09,0.18,0.27,0.36,0.44999999999999996,0.53999999999999992,0.62999999999999989,0.71999999999999986,0.80999999999999983,0.8999999999999998,0.98999999999999977,1.0799999999999998,1.17,1.26,1.35,1.4400000000000002,1.5300000000000002,1.6200000000000003,1.7100000000000004,1.8000000000000005,1.8900000000000006,1.9800000000000006,2.0700000000000007,2.1600000000000006,2.2500000000000004,2.3400000000000003,2.4300000000000002,2.52,2.61,2.6999999999999997,2.7899999999999996,0.09,0.18,0.27,0.36,0.44999999999999996,0.53999999999999992,0.62999999999999989,0.71999999999999986,{"$f":"+NX46+IF(NX$15=\"No\",NW47,0)","v":0.80999999999999983},0.8999999999999998,0.98999999999999977,1.0799999999999998,1.17,1.26,1.35,1.4400000000000002,1.5300000000000002,1.6200000000000003,1.7100000000000004,1.8000000000000005,1.9000000000000006,2.0000000000000004,2.1000000000000005,2.2000000000000006,2.3000000000000007,2.4000000000000008,2.5000000000000009,2.600000000000001,2.7000000000000011,2.8000000000000012,2.9000000000000012,0.1,0.2,0.30000000000000004,0.4,0.5,0.6,0.7,0.79999999999999993,0.89999999999999991,0.99999999999999989,1.0999999999999999,1.2,1.3,1.4000000000000001,1.5000000000000002,1.6000000000000003,1.7000000000000004,1.8000000000000005,1.9000000000000006,2.0000000000000004,2.1100000000000003,2.2200000000000002,2.33,2.44,2.5499999999999998,2.6599999999999997,2.7699999999999996,2.8799999999999994,2.9899999999999993,3.0999999999999992,0.11,0.22,0.33,0.44,0.55000000000000004,0.66,0.77,0.88,0.99,1.1000000000000001,1.2100000000000002,{"$f":"+QJ46+IF(QJ$15=\"No\",QI47,0)","v":1.3200000000000003},1.4300000000000004,1.5400000000000005,1.6500000000000006,1.7600000000000007,1.8700000000000008,1.9800000000000009,2.0900000000000007,2.2000000000000006,2.3200000000000007,2.4400000000000008,2.5600000000000009,2.680000000000001,2.8000000000000012,2.9200000000000013,3.0400000000000014,3.1600000000000015,3.2800000000000016,3.4000000000000017,0.12,0.24,0.36,0.48,0.6,0.72,0.84,0.96,1.08,1.2000000000000002,1.3200000000000003,1.4400000000000004,1.5600000000000005,1.6800000000000006,1.8000000000000007,1.9200000000000008,2.0400000000000009,2.160000000000001,2.2800000000000011,2.4000000000000012,2.5200000000000014,2.6400000000000015,2.7600000000000016,2.8800000000000017,3.0000000000000018,3.1200000000000019,3.240000000000002,3.3600000000000021,3.4800000000000022,3.6000000000000023,3.7200000000000024,0.12,0.24,0.36,0.48,0.6,0.72,0.84,0.96,1.08,1.2000000000000002,1.3200000000000003,1.4400000000000004,1.5600000000000005,1.6800000000000006,{"$f":"+SV46+IF(SV$15=\"No\",SU47,0)","v":1.8000000000000007},1.9200000000000008,2.0400000000000009,2.160000000000001,2.2800000000000011,2.4000000000000012,2.5300000000000011,2.660000000000001,2.7900000000000009,2.9200000000000008,3.0500000000000007,3.1800000000000006,3.3100000000000005,3.4400000000000004,3.5700000000000003,3.7,0.13,0.26,0.39,0.52,0.65,0.78,0.91,1.04,1.17,1.2999999999999998,1.4299999999999997,1.5599999999999996,1.6899999999999995,1.8199999999999994,1.9499999999999993,2.0799999999999992,2.2099999999999991,2.339999999999999,2.4699999999999989,2.5999999999999988,2.7299999999999986,2.8699999999999988,3.0099999999999989,3.149999999999999,3.2899999999999991,3.4299999999999993,3.5699999999999994,3.7099999999999995,3.8499999999999996,3.9899999999999998,0.14000000000000001,0.28000000000000003,0.42000000000000004,0.56000000000000005,0.70000000000000007,0.84000000000000008,0.98000000000000009,1.1200000000000001,1.2600000000000002,1.4000000000000004,1.5400000000000005,1.6800000000000006,1.8200000000000007,1.9600000000000009,2.100000000000001,2.2400000000000011,2.3800000000000012,2.5200000000000014,{"$f":"+VH46+IF(VH$15=\"No\",VG47,0)","v":2.6600000000000015},2.8000000000000016,2.9400000000000017,3.0800000000000018,3.2300000000000018,3.3800000000000017,3.5300000000000016,3.6800000000000015,3.8300000000000014,3.9800000000000013,0.15,0.3,0.44999999999999996,0.6,0.75,0.9,1.05,1.2,1.3499999999999999,1.4999999999999998,1.6499999999999997,1.7999999999999996,1.9499999999999995,2.0999999999999996,2.2499999999999996,2.3999999999999995,2.5499999999999994,2.6999999999999993,2.8499999999999992,2.9999999999999991,3.149999999999999,3.2999999999999989,3.4499999999999988,3.5999999999999988,3.7499999999999987,3.8999999999999986,4.0499999999999989,4.1999999999999993,4.3499999999999996,4.5,4.6500000000000004,4.8000000000000007,4.9500000000000011,0.15,0.3,0.44999999999999996,0.6,0.75,0.9,1.05,1.2,1.3499999999999999,1.4999999999999998,1.6499999999999997,1.7999999999999996,1.9499999999999995,2.0999999999999996,2.2499999999999996,2.3999999999999995,2.5499999999999994,2.6999999999999993,2.8499999999999992,2.9999999999999991,3.1599999999999993,{"$f":"+XT46+IF(XT$15=\"No\",XS47,0)","v":3.3199999999999994},3.4799999999999995,3.6399999999999997,3.8,3.96,4.12,4.28,4.4400000000000004,0.16,0.32,0.48,0.64,0.8,0.96000000000000008,1.1200000000000001,1.28,1.44,1.5999999999999999,1.7599999999999998,1.9199999999999997,2.0799999999999996,2.2399999999999998,2.4,2.56,2.72,2.8800000000000003,3.0400000000000005,3.2000000000000006,3.3600000000000008,3.5300000000000007,3.7000000000000006,3.8700000000000006,4.0400000000000009,4.2100000000000009,4.3800000000000008,4.5500000000000007,4.7200000000000006,4.8900000000000006,5.0600000000000005,5.23,0.17,0.34,0.51,0.68,0.85000000000000009,1.02,1.19,1.3599999999999999,1.5299999999999998,1.6999999999999997,1.8699999999999997,2.0399999999999996,2.2099999999999995,2.3799999999999994,2.5499999999999994,2.7199999999999993,2.8899999999999992,3.0599999999999992,3.2299999999999991,3.399999999999999,3.5799999999999992,3.7599999999999993,3.9399999999999995,4.1199999999999992,{"$f":"+AAF46+IF(AAF$15=\"No\",AAE47,0)","v":4.2999999999999989},4.4799999999999986,4.6599999999999984,4.8399999999999981,5.0199999999999978,5.1999999999999975,0.18,0.36,0.54,0.72,0.89999999999999991,1.0799999999999998,1.2599999999999998,1.4399999999999997,1.6199999999999997,1.7999999999999996]
[null,"Interés acumulado periodo",{"$f":"+C46","v":0},{"$f":"+C48+D46","v":0.01},0.02,0.03,0.04,0.05,6.0000000000000005E-2,7.0000000000000007E-2,0.08,0.09,9.9999999999999992E-2,0.10999999999999999,0.11999999999999998,0.12999999999999998,0.13999999999999999,0.15,0.16,0.17,0.18000000000000002,0.19000000000000003,0.20000000000000004,0.21000000000000005,0.22000000000000006,0.23000000000000007,0.24000000000000007,0.25000000000000006,0.26000000000000006,0.27000000000000007,0.28000000000000008,0.29000000000000009,0.3000000000000001,0.31000000000000011,0.33000000000000013,0.35000000000000014,0.37000000000000016,0.39000000000000018,0.4100000000000002,0.43000000000000022,0.45000000000000023,0.47000000000000025,0.49000000000000027,0.51000000000000023,0.53000000000000025,0.55000000000000027,0.57000000000000028,0.5900000000000003,0.61000000000000032,0.63000000000000034,0.65000000000000036,0.67000000000000037,0.69000000000000039,0.71000000000000041,0.73000000000000043,0.75000000000000044,0.77000000000000046,0.79000000000000048,0.8100000000000005,0.83000000000000052,0.85000000000000053,0.87000000000000055,0.89000000000000057,0.91000000000000059,0.9300000000000006,0.95000000000000062,0.97000000000000064,{"$f":"+BO48+BP46","v":0.99000000000000066},1.0100000000000007,1.0300000000000007,1.0500000000000007,1.0700000000000007,1.0900000000000007,1.1100000000000008,1.1300000000000008,1.1500000000000008,1.1700000000000008,1.1900000000000008,1.2100000000000009,1.2300000000000009,1.2500000000000009,1.2700000000000009,1.2900000000000009,1.3100000000000009,1.330000000000001,1.350000000000001,1.370000000000001,1.390000000000001,1.410000000000001,1.430000000000001,1.4500000000000011,1.4700000000000011,1.4900000000000011,1.5100000000000011,1.5300000000000011,1.5600000000000012,1.5900000000000012,1.6200000000000012,1.6500000000000012,1.6800000000000013,1.7100000000000013,1.7400000000000013,1.7700000000000014,1.8000000000000014,1.8300000000000014,1.8600000000000014,1.8900000000000015,1.9200000000000015,1.9500000000000015,1.9800000000000015,2.0100000000000016,2.0400000000000014,2.0700000000000012,2.100000000000001,2.1300000000000008,2.1600000000000006,2.1900000000000004,2.2200000000000002,2.25,2.2799999999999998,2.3099999999999996,2.3399999999999994,2.3699999999999992,2.399999999999999,2.4299999999999988,2.4599999999999986,2.4999999999999987,2.5399999999999987,2.5799999999999987,2.6199999999999988,2.6599999999999988,{"$f":"+EA48+EB46","v":2.6999999999999988},2.7399999999999989,2.7799999999999989,2.819999999999999,2.859999999999999,2.899999999999999,2.9399999999999991,2.9799999999999991,3.0199999999999991,3.0599999999999992,3.0999999999999992,3.1399999999999992,3.1799999999999993,3.2199999999999993,3.2599999999999993,3.2999999999999994,3.3399999999999994,3.3799999999999994,3.4199999999999995,3.4599999999999995,3.4999999999999996,3.5399999999999996,3.5799999999999996,3.6199999999999997,3.6599999999999997,3.6999999999999997,3.7399999999999998,3.78,3.82,3.86,3.9,3.94,3.98,4.0199999999999996,4.0599999999999996,4.0999999999999996,4.1399999999999997,4.18,4.22,4.26,4.3,4.34,4.38,4.42,4.46,4.5,4.54,4.58,4.62,4.66,4.7,4.74,4.78,4.82,4.8600000000000003,4.9000000000000004,4.95,5,5.05,5.0999999999999996,5.1499999999999995,5.1999999999999993,5.2499999999999991,5.2999999999999989,{"$f":"+GM48+GN46","v":5.3499999999999988},5.3999999999999986,5.4499999999999984,5.4999999999999982,5.549999999999998,5.5999999999999979,5.6499999999999977,5.6999999999999975,5.7499999999999973,5.7999999999999972,5.849999999999997,5.8999999999999968,5.9499999999999966,5.9999999999999964,6.0499999999999963,6.0999999999999961,6.1499999999999959,6.1999999999999957,6.2499999999999956,6.2999999999999954,6.3499999999999952,6.399999999999995,6.4499999999999948,6.5099999999999945,6.5699999999999941,6.6299999999999937,6.6899999999999933,6.7499999999999929,6.8099999999999925,6.8699999999999921,6.9299999999999917,6.9899999999999913,7.0499999999999909,7.1099999999999905,7.1699999999999902,7.2299999999999898,7.2899999999999894,7.349999999999989,7.4099999999999886,7.4699999999999882,7.5299999999999878,7.5899999999999874,7.649999999999987,7.7099999999999866,7.7699999999999863,7.8299999999999859,7.8899999999999855,7.9499999999999851,8.0099999999999856,8.0699999999999861,8.1299999999999866,8.1899999999999871,8.2499999999999876,8.3099999999999881,8.3699999999999886,8.4299999999999891,8.4899999999999896,8.5499999999999901,8.6099999999999905,8.669999999999991,8.7299999999999915,8.789999999999992,8.8599999999999923,8.9299999999999926,{"$f":"+IY48+IZ46","v":8.9999999999999929},9.0699999999999932,9.1399999999999935,9.2099999999999937,9.279999999999994,9.3499999999999943,9.4199999999999946,9.4899999999999949,9.5599999999999952,9.6299999999999955,9.6999999999999957,9.769999999999996,9.8399999999999963,9.9099999999999966,9.9799999999999969,10.049999999999997,10.119999999999997,10.189999999999998,10.259999999999998,10.329999999999998,10.399999999999999,10.469999999999999,10.54,10.61,10.68,10.75,10.82,10.89,10.96,11.030000000000001,11.100000000000001,11.170000000000002,11.240000000000002,11.310000000000002,11.380000000000003,11.450000000000003,11.520000000000003,11.590000000000003,11.660000000000004,11.730000000000004,11.800000000000004,11.870000000000005,11.940000000000005,12.010000000000005,12.080000000000005,12.150000000000006,12.220000000000006,12.290000000000006,12.370000000000006,12.450000000000006,12.530000000000006,12.610000000000007,12.690000000000007,12.770000000000007,12.850000000000007,12.930000000000007,13.010000000000007,13.090000000000007,13.170000000000007,13.250000000000007,13.330000000000007,13.410000000000007,13.490000000000007,13.570000000000007,{"$f":"+LK48+LL46","v":13.650000000000007},13.730000000000008,13.810000000000008,13.890000000000008,13.970000000000008,14.050000000000008,14.130000000000008,14.210000000000008,14.290000000000008,14.370000000000008,14.450000000000008,14.530000000000008,14.610000000000008,14.690000000000008,14.770000000000008,14.860000000000008,14.950000000000008,15.040000000000008,15.130000000000008,15.220000000000008,15.310000000000008,15.400000000000007,15.490000000000007,15.580000000000007,15.670000000000007,15.760000000000007,15.850000000000007,15.940000000000007,16.030000000000008,16.120000000000008,16.210000000000008,16.300000000000008,16.390000000000008,16.480000000000008,16.570000000000007,16.660000000000007,16.750000000000007,16.840000000000007,16.930000000000007,17.020000000000007,17.110000000000007,17.200000000000006,17.290000000000006,17.380000000000006,17.470000000000006,17.560000000000006,17.650000000000006,17.740000000000006,17.830000000000005,17.920000000000005,18.010000000000005,18.100000000000005,18.190000000000005,18.280000000000005,18.370000000000005,18.460000000000004,18.550000000000004,18.640000000000004,18.730000000000004,18.820000000000004,18.910000000000004,19.000000000000004,19.090000000000003,19.180000000000003,{"$f":"+NW48+NX46","v":19.270000000000003},19.360000000000003,19.450000000000003,19.540000000000003,19.630000000000003,19.720000000000002,19.810000000000002,19.900000000000002,19.990000000000002,20.080000000000002,20.170000000000002,20.260000000000002,20.360000000000003,20.460000000000004,20.560000000000006,20.660000000000007,20.760000000000009,20.86000000000001,20.960000000000012,21.060000000000013,21.160000000000014,21.260000000000016,21.360000000000017,21.460000000000019,21.56000000000002,21.660000000000021,21.760000000000023,21.860000000000024,21.960000000000026,22.060000000000027,22.160000000000029,22.26000000000003,22.360000000000031,22.460000000000033,22.560000000000034,22.660000000000036,22.760000000000037,22.860000000000039,22.96000000000004,23.060000000000041,23.160000000000043,23.260000000000044,23.360000000000046,23.470000000000045,23.580000000000044,23.690000000000044,23.800000000000043,23.910000000000043,24.020000000000042,24.130000000000042,24.240000000000041,24.350000000000041,24.46000000000004,24.570000000000039,24.680000000000039,24.790000000000038,24.900000000000038,25.010000000000037,25.120000000000037,25.230000000000036,25.340000000000035,25.450000000000035,25.560000000000034,25.670000000000034,{"$f":"+QI48+QJ46","v":25.780000000000033},25.890000000000033,26.000000000000032,26.110000000000031,26.220000000000031,26.33000000000003,26.44000000000003,26.550000000000029,26.660000000000029,26.78000000000003,26.900000000000031,27.020000000000032,27.140000000000033,27.260000000000034,27.380000000000035,27.500000000000036,27.620000000000037,27.740000000000038,27.860000000000039,27.98000000000004,28.100000000000041,28.220000000000041,28.340000000000042,28.460000000000043,28.580000000000044,28.700000000000045,28.820000000000046,28.940000000000047,29.060000000000048,29.180000000000049,29.30000000000005,29.420000000000051,29.540000000000052,29.660000000000053,29.780000000000054,29.900000000000055,30.020000000000056,30.140000000000057,30.260000000000058,30.380000000000059,30.50000000000006,30.620000000000061,30.740000000000062,30.860000000000063,30.980000000000064,31.100000000000065,31.220000000000066,31.340000000000067,31.460000000000068,31.580000000000069,31.70000000000007,31.820000000000071,31.940000000000072,32.060000000000073,32.180000000000071,32.300000000000068,32.420000000000066,32.540000000000063,32.660000000000061,32.780000000000058,32.900000000000055,33.020000000000053,33.14000000000005,33.260000000000048,{"$f":"+SU48+SV46","v":33.380000000000045},33.500000000000043,33.62000000000004,33.740000000000038,33.860000000000035,33.980000000000032,34.110000000000035,34.240000000000038,34.37000000000004,34.500000000000043,34.630000000000045,34.760000000000048,34.89000000000005,35.020000000000053,35.150000000000055,35.280000000000058,35.410000000000061,35.540000000000063,35.670000000000066,35.800000000000068,35.930000000000071,36.060000000000073,36.190000000000076,36.320000000000078,36.450000000000081,36.580000000000084,36.710000000000086,36.840000000000089,36.970000000000091,37.100000000000094,37.230000000000096,37.360000000000099,37.490000000000101,37.620000000000104,37.750000000000107,37.880000000000109,38.010000000000112,38.150000000000112,38.290000000000113,38.430000000000113,38.570000000000114,38.710000000000115,38.850000000000115,38.990000000000116,39.130000000000116,39.270000000000117,39.410000000000117,39.550000000000118,39.690000000000119,39.830000000000119,39.97000000000012,40.11000000000012,40.250000000000121,40.390000000000121,40.530000000000122,40.670000000000122,40.810000000000123,40.950000000000124,41.090000000000124,41.230000000000125,41.370000000000125,41.510000000000126,41.650000000000126,41.790000000000127,{"$f":"+VG48+VH46","v":41.930000000000128},42.070000000000128,42.210000000000129,42.350000000000129,42.500000000000128,42.650000000000126,42.800000000000125,42.950000000000124,43.100000000000122,43.250000000000121,43.400000000000119,43.550000000000118,43.700000000000117,43.850000000000115,44.000000000000114,44.150000000000112,44.300000000000111,44.450000000000109,44.600000000000108,44.750000000000107,44.900000000000105,45.050000000000104,45.200000000000102,45.350000000000101,45.500000000000099,45.650000000000098,45.800000000000097,45.950000000000095,46.100000000000094,46.250000000000092,46.400000000000091,46.55000000000009,46.700000000000088,46.850000000000087,47.000000000000085,47.150000000000084,47.300000000000082,47.450000000000081,47.60000000000008,47.750000000000078,47.900000000000077,48.050000000000075,48.200000000000074,48.350000000000072,48.500000000000071,48.65000000000007,48.800000000000068,48.950000000000067,49.100000000000065,49.250000000000064,49.400000000000063,49.550000000000061,49.70000000000006,49.850000000000058,50.000000000000057,50.150000000000055,50.300000000000054,50.450000000000053,50.600000000000051,50.75000000000005,50.900000000000048,51.050000000000047,51.200000000000045,51.360000000000042,{"$f":"+XS48+XT46","v":51.520000000000039},51.680000000000035,51.840000000000032,52.000000000000028,52.160000000000025,52.320000000000022,52.480000000000018,52.640000000000015,52.800000000000011,52.960000000000008,53.120000000000005,53.28,53.44,53.599999999999994,53.759999999999991,53.919999999999987,54.079999999999984,54.239999999999981,54.399999999999977,54.559999999999974,54.71999999999997,54.879999999999967,55.039999999999964,55.19999999999996,55.359999999999957,55.519999999999953,55.67999999999995,55.839999999999947,55.999999999999943,56.169999999999945,56.339999999999947,56.509999999999948,56.67999999999995,56.849999999999952,57.019999999999953,57.189999999999955,57.359999999999957,57.529999999999959,57.69999999999996,57.869999999999962,58.039999999999964,58.209999999999965,58.379999999999967,58.549999999999969,58.71999999999997,58.889999999999972,59.059999999999974,59.229999999999976,59.399999999999977,59.569999999999979,59.739999999999981,59.909999999999982,60.079999999999984,60.249999999999986,60.419999999999987,60.589999999999989,60.759999999999991,60.929999999999993,61.099999999999994,61.269999999999996,61.449999999999996,61.629999999999995,61.809999999999995,61.989999999999995,{"$f":"+AAE48+AAF46","v":62.169999999999995},62.349999999999994,62.529999999999994,62.709999999999994,62.889999999999993,63.069999999999993,63.249999999999993,63.429999999999993,63.609999999999992,63.789999999999992,63.969999999999992,64.149999999999991,64.33,64.510000000000005,64.690000000000012,64.870000000000019]
[]
[]
[null,"Sugerencia 2"]
[null,"Capital Acumulado",{"$f":"+C$26","v":10},{"$f":"+C52+D$26","v":60},60,60,60,60,60,60,60,60,60,60,60,60,60,60,60,60,60,60,60,60,60,60,60,60,60,60,60,60,60,60,110,110,110,110,110,110,110,110,110,110,110,110,110,110,110,110,110,110,110,110,110,110,110,110,110,110,110,110,110,110,110,160,160,{"$f":"+BO52+BP$26","v":160},160,160,160,160,160,160,160,160,160,160,160,160,160,160,160,160,160,160,160,160,160,160,160,160,160,160,160,210,210,210,210,210,210,210,210,210,210,210,210,210,210,210,210,210,210,210,210,210,210,210,210,210,210,210,210,210,210,210,260,260,260,260,260,{"$f":"+EA52+EB$26","v":260},260,260,260,260,260,260,260,260,260,260,260,260,260,260,260,260,260,260,260,260,260,260,260,260,310,310,310,310,310,310,310,310,310,310,310,310,310,310,310,310,310,310,310,310,310,310,310,310,310,310,310,310,310,310,310,360,360,360,360,360,360,360,360,{"$f":"+GM52+GN$26","v":360},360,360,360,360,360,360,360,360,360,360,360,360,360,360,360,360,360,360,360,360,360,360,410,410,410,410,410,410,410,410,410,410,410,410,410,410,410,410,410,410,410,410,410,410,410,410,410,410,410,410,460,460,460,460,460,460,460,460,460,460,460,460,460,{"$f":"+IY52+IZ$26","v":460},460,460,460,460,460,460,460,460,460,460,460,460,460,460,460,460,460,510,510,510,510,510,510,510,510,510,510,510,510,510,510,510,510,510,510,510,510,510,510,510,510,510,510,510,510,510,510,560,560,560,560,560,560,560,560,560,560,560,560,560,560,560,560,{"$f":"+LK52+LL$26","v":560},560,560,560,560,560,560,560,560,560,560,560,560,560,560,610,610,610,610,610,610,610,610,610,610,610,610,610,610,610,610,610,610,610,610,610,610,610,610,610,610,610,610,610,610,660,660,660,660,660,660,660,660,660,660,660,660,660,660,660,660,660,660,660,{"$f":"+NW52+NX$26","v":660},660,660,660,660,660,660,660,660,660,660,660,710,710,710,710,710,710,710,710,710,710,710,710,710,710,710,710,710,710,710,710,710,710,710,710,710,710,710,710,710,710,710,760,760,760,760,760,760,760,760,760,760,760,760,760,760,760,760,760,760,760,760,760,{"$f":"+QI52+QJ$26","v":760},760,760,760,760,760,760,760,760,810,810,810,810,810,810,810,810,810,810,810,810,810,810,810,810,810,810,810,810,810,810,810,810,810,810,810,810,810,810,810,860,860,860,860,860,860,860,860,860,860,860,860,860,860,860,860,860,860,860,860,860,860,860,860,{"$f":"+SU52+SV$26","v":860},860,860,860,860,860,910,910,910,910,910,910,910,910,910,910,910,910,910,910,910,910,910,910,910,910,910,910,910,910,910,910,910,910,910,910,910,960,960,960,960,960,960,960,960,960,960,960,960,960,960,960,960,960,960,960,960,960,960,960,960,960,960,960,{"$f":"+VG52+VH$26","v":960},960,960,960,1010,1010,1010,1010,1010,1010,1010,1010,1010,1010,1010,1010,1010,1010,1010,1010,1010,1010,1010,1010,1010,1010,1010,1010,1010,1010,1010,1010,1060,1060,1060,1060,1060,1060,1060,1060,1060,1060,1060,1060,1060,1060,1060,1060,1060,1060,1060,1060,1060,1060,1060,1060,1060,1060,1060,1060,1060,1060,1060,1110,{"$f":"+XS52+XT$26","v":1110},1110,1110,1110,1110,1110,1110,1110,1110,1110,1110,1110,1110,1110,1110,1110,1110,1110,1110,1110,1110,1110,1110,1110,1110,1110,1110,1110,1110,1160,1160,1160,1160,1160,1160,1160,1160,1160,1160,1160,1160,1160,1160,1160,1160,1160,1160,1160,1160,1160,1160,1160,1160,1160,1160,1160,1160,1160,1160,1160,1210,1210,1210,1210,{"$f":"+AAE52+AAF$26","v":1210},1210,1210,1210,1210,1210,1210,1210,1210,1210,1210,1210,1210,1210,1210,1210]
[null,"Capital Acumulado + interés",{"$f":"+C26","v":10},{"$f":"+IF(Simulador!$C$50=\"Si\",D$26+C53+C54,D$26+C53+C55)","v":60},{"$f":"+IF(Simulador!$C$50=\"Si\",E$26+D53+D54,E$26+D53+D55)","v":60},{"$f":"+IF(Simulador!$C$50=\"Si\",F$26+E53+E54,F$26+E53+E55)","v":60},{"$f":"+IF(Simulador!$C$50=\"Si\",G$26+F53+F54,G$26+F53+F55)","v":60},{"$f":"+IF(Simulador!$C$50=\"Si\",H$26+G53+G54,H$26+G53+G55)","v":60},{"$f":"+IF(Simulador!$C$50=\"Si\",I$26+H53+H54,I$26+H53+H55)","v":60},{"$f":"+IF(Simulador!$C$50=\"Si\",J$26+I53+I54,J$26+I53+I55)","v":60},{"$f":"+IF(Simulador!$C$50=\"Si\",K$26+J53+J54,K$26+J53+J55)","v":60},{"$f":"+IF(Simulador!$C$50=\"Si\",L$26+K53+K54,L$26+K53+K55)","v":60},{"$f":"+IF(Simulador!$C$50=\"Si\",M$26+L53+L54,M$26+L53+L55)","v":60},{"$f":"+IF(Simulador!$C$50=\"Si\",N$26+M53+M54,N$26+M53+M55)","v":60},{"$f":"+IF(Simulador!$C$50=\"Si\",O$26+N53+N54,O$26+N53+N55)","v":60},{"$f":"+IF(Simulador!$C$50=\"Si\",P$26+O53+O54,P$26+O53+O55)","v":60.11},{"$f":"+IF(Simulador!$C$50=\"Si\",Q$26+P53+P54,Q$26+P53+P55)","v":60.11},{"$f":"+IF(Simulador!$C$50=\"Si\",R$26+Q53+Q54,R$26+Q53+Q55)","v":60.11},{"$f":"+IF(Simulador!$C$50=\"Si\",S$26+R53+R54,S$26+R53+R55)","v":60.11},{"$f":"+IF(Simulador!$C$50=\"Si\",T$26+S53+S54,T$26+S53+S55)","v":60.11},{"$f":"+IF(Simulador!$C$50=\"Si\",U$26+T53+T54,U$26+T53+T55)","v":60.11},{"$f":"+IF(Simulador!$C$50=\"Si\",V$26+U53+U54,V$26+U53+U55)","v":60.11},{"$f":"+IF(Simulador!$C$50=\"Si\",W$26+V53+V54,W$26+V53+V55)","v":60.11},{"$f":"+IF(Simulador!$C$50=\"Si\",X$26+W53+W54,X$26+W53+W55)","v":60.11},{"$f":"+IF(Simulador!$C$50=\"Si\",Y$26+X53+X54,Y$26+X53+X55)","v":60.11},{"$f":"+IF(Simulador!$C$50=\"Si\",Z$26+Y53+Y54,Z$26+Y53+Y55)","v":60.11},{"$f":"+IF(Simulador!$C$50=\"Si\",AA$26+Z53+Z54,AA$26+Z53+Z55)","v":60.11},{"$f":"+IF(Simulador!$C$50=\"Si\",AB$26+AA53+AA54,AB$26+AA53+AA55)","v":60.11},{"$f":"+IF(Simulador!$C$50=\"Si\",AC$26+AB53+AB54,AC$26+AB53+AB55)","v":60.11},{"$f":"+IF(Simulador!$C$50=\"Si\",AD$26+AC53+AC54,AD$26+AC53+AC55)","v":60.11},{"$f":"+IF(Simulador!$C$50=\"Si\",AE$26+AD53+AD54,AE$26+AD53+AD55)","v":60.11},{"$f":"+IF(Simulador!$C$50=\"Si\",AF$26+AE53+AE54,AF$26+AE53+AE55)","v":60.11},{"$f":"+IF(Simulador!$C$50=\"Si\",AG$26+AF53+AF54,AG$26+AF53+AF55)","v":60.11},{"$f":"+IF(Simulador!$C$50=\"Si\",AH$26+AG53+AG54,AH$26+AG53+AG55)","v":60.11},{"$f":"+IF(Simulador!$C$50=\"Si\",AI$26+AH53+AH54,AI$26+AH53+AH55)","v":110.11},{"$f":"+IF(Simulador!$C$50=\"Si\",AJ$26+AI53+AI54,AJ$26+AI53+AI55)","v":110.11},{"$f":"+IF(Simulador!$C$50=\"Si\",AK$26+AJ53+AJ54,AK$26+AJ53+AJ55)","v":110.11},{"$f":"+IF(Simulador!$C$50=\"Si\",AL$26+AK53+AK54,AL$26+AK53+AK55)","v":110.11},{"$f":"+IF(Simulador!$C$50=\"Si\",AM$26+AL53+AL54,AM$26+AL53+AL55)","v":110.11},{"$f":"+IF(Simulador!$C$50=\"Si\",AN$26+AM53+AM54,AN$26+AM53+AM55)","v":110.11},{"$f":"+IF(Simulador!$C$50=\"Si\",AO$26+AN53+AN54,AO$26+AN53+AN55)","v":110.11},{"$f":"+IF(Simulador!$C$50=\"Si\",AP$26+AO53+AO54,AP$26+AO53+AO55)","v":110.11},{"$f":"+IF(Simulador!$C$50=\"Si\",AQ$26+AP53+AP54,AQ$26+AP53+AP55)","v":110.11},{"$f":"+IF(Simulador!$C$50=\"Si\",AR$26+AQ53+AQ54,AR$26+AQ53+AQ55)","v":110.11},{"$f":"+IF(Simulador!$C$50=\"Si\",AS$26+AR53+AR54,AS$26+AR53+AR55)","v":110.49},{"$f":"+IF(Simulador!$C$50=\"Si\",AT$26+AS53+AS54,AT$26+AS53+AS55)","v":110.49},{"$f":"+IF(Simulador!$C$50=\"Si\",AU$26+AT53+AT54,AU$26+AT53+AT55)","v":110.49},{"$f":"+IF(Simulador!$C$50=\"Si\",AV$26+AU53+AU54,AV$26+AU53+AU55)","v":110.49},{"$f":"+IF(Simulador!$C$50=\"Si\",AW$26+AV53+AV54,AW$26+AV53+AV55)","v":110.49},{"$f":"+IF(Simulador!$C$50=\"Si\",AX$26+AW53+AW54,AX$26+AW53+AW55)","v":110.49},{"$f":"+IF(Simulador!$C$50=\"Si\",AY$26+AX53+AX54,AY$26+AX53+AX55)","v":110.49},{"$f":"+IF(Simulador!$C$50=\"Si\",AZ$26+AY53+AY54,AZ$26+AY53+AY55)","v":110.49},{"$f":"+IF(Simulador!$C$50=\"Si\",BA$26+AZ53+AZ54,BA$26+AZ53+AZ55)","v":110.49},{"$f":"+IF(Simulador!$C$50=\"Si\",BB$26+BA53+BA54,BB$26+BA53+BA55)","v":110.49},{"$f":"+IF(Simulador!$C$50=\"Si\",BC$26+BB53+BB54,BC$26+BB53+BB55)","v":110.49},{"$f":"+IF(Simulador!$C$50=\"Si\",BD$26+BC53+BC54,BD$26+BC53+BC55)","v":110.49},{"$f":"+IF(Simulador!$C$50=\"Si\",BE$26+BD53+BD54,BE$26+BD53+BD55)","v":110.49},{"$f":"+IF(Simulador!$C$50=\"Si\",BF$26+BE53+BE54,BF$26+BE53+BE55)","v":110.49},{"$f":"+IF(Simulador!$C$50=\"Si\",BG$26+BF53+BF54,BG$26+BF53+BF55)","v":110.49},{"$f":"+IF(Simulador!$C$50=\"Si\",BH$26+BG53+BG54,BH$26+BG53+BG55)","v":110.49},{"$f":"+IF(Simulador!$C$50=\"Si\",BI$26+BH53+BH54,BI$26+BH53+BH55)","v":110.49},{"$f":"+IF(Simulador!$C$50=\"Si\",BJ$26+BI53+BI54,BJ$26+BI53+BI55)","v":110.49},{"$f":"+IF(Simulador!$C$50=\"Si\",BK$26+BJ53+BJ54,BK$26+BJ53+BJ55)","v":110.49},{"$f":"+IF(Simulador!$C$50=\"Si\",BL$26+BK53+BK54,BL$26+BK53+BK55)","v":110.49},{"$f":"+IF(Simulador!$C$50=\"Si\",BM$26+BL53+BL54,BM$26+BL53+BL55)","v":110.49},{"$f":"+IF(Simulador!$C$50=\"Si\",BN$26+BM53+BM54,BN$26+BM53+BM55)","v":160.49},{"$f":"+IF(Simulador!$C$50=\"Si\",BO$26+BN53+BN54,BO$26+BN53+BN55)","v":160.49},{"$f":"+IF(Simulador!$C$50=\"Si\",BP$26+BO53+BO54,BP$26+BO53+BO55)","v":160.49},{"$f":"+IF(Simulador!$C$50=\"Si\",BQ$26+BP53+BP54,BQ$26+BP53+BP55)","v":160.49},{"$f":"+IF(Simulador!$C$50=\"Si\",BR$26+BQ53+BQ54,BR$26+BQ53+BQ55)","v":160.49},{"$f":"+IF(Simulador!$C$50=\"Si\",BS$26+BR53+BR54,BS$26+BR53+BR55)","v":160.49},{"$f":"+IF(Simulador!$C$50=\"Si\",BT$26+BS53+BS54,BT$26+BS53+BS55)","v":160.49},{"$f":"+IF(Simulador!$C$50=\"Si\",BU$26+BT53+BT54,BU$26+BT53+BT55)","v":160.49},{"$f":"+IF(Simulador!$C$50=\"Si\",BV$26+BU53+BU54,BV$26+BU53+BU55)","v":160.49},{"$f":"+IF(Simulador!$C$50=\"Si\",BW$26+BV53+BV54,BW$26+BV53+BV55)","v":160.49},{"$f":"+IF(Simulador!$C$50=\"Si\",BX$26+BW53+BW54,BX$26+BW53+BW55)","v":160.49},{"$f":"+IF(Simulador!$C$50=\"Si\",BY$26+BX53+BX54,BY$26+BX53+BX55)","v":161.13},{"$f":"+IF(Simulador!$C$50=\"Si\",BZ$26+BY53+BY54,BZ$26+BY53+BY55)","v":161.13},{"$f":"+IF(Simulador!$C$50=\"Si\",CA$26+BZ53+BZ54,CA$26+BZ53+BZ55)","v":161.13},{"$f":"+IF(Simulador!$C$50=\"Si\",CB$26+CA53+CA54,CB$26+CA53+CA55)","v":161.13},{"$f":"+IF(Simulador!$C$50=\"Si\",CC$26+CB53+CB54,CC$26+CB53+CB55)","v":161.13},{"$f":"+IF(Simulador!$C$50=\"Si\",CD$26+CC53+CC54,CD$26+CC53+CC55)","v":161.13},{"$f":"+IF(Simulador!$C$50=\"Si\",CE$26+CD53+CD54,CE$26+CD53+CD55)","v":161.13},{"$f":"+IF(Simulador!$C$50=\"Si\",CF$26+CE53+CE54,CF$26+CE53+CE55)","v":161.13},{"$f":"+IF(Simulador!$C$50=\"Si\",CG$26+CF53+CF54,CG$26+CF53+CF55)","v":161.13},{"$f":"+IF(Simulador!$C$50=\"Si\",CH$26+CG53+CG54,CH$26+CG53+CG55)","v":161.13},{"$f":"+IF(Simulador!$C$50=\"Si\",CI$26+CH53+CH54,CI$26+CH53+CH55)","v":161.13},{"$f":"+IF(Simulador!$C$50=\"Si\",CJ$26+CI53+CI54,CJ$26+CI53+CI55)","v":161.13},{"$f":"+IF(Simulador!$C$50=\"Si\",CK$26+CJ53+CJ54,CK$26+CJ53+CJ55)","v":161.13},{"$f":"+IF(Simulador!$C$50=\"Si\",CL$26+CK53+CK54,CL$26+CK53+CK55)","v":161.13},{"$f":"+IF(Simulador!$C$50=\"Si\",CM$26+CL53+CL54,CM$26+CL53+CL55)","v":161.13},{"$f":"+IF(Simulador!$C$50=\"Si\",CN$26+CM53+CM54,CN$26+CM53+CM55)","v":161.13},{"$f":"+IF(Simulador!$C$50=\"Si\",CO$26+CN53+CN54,CO$26+CN53+CN55)","v":161.13},{"$f":"+IF(Simulador!$C$50=\"Si\",CP$26+CO53+CO54,CP$26+CO53+CO55)","v":161.13},{"$f":"+IF(Simulador!$C$50=\"Si\",CQ$26+CP53+CP54,CQ$26+CP53+CP55)","v":161.13},{"$f":"+IF(Simulador!$C$50=\"Si\",CR$26+CQ53+CQ54,CR$26+CQ53+CQ55)","v":211.13},{"$f":"+IF(Simulador!$C$50=\"Si\",CS$26+CR53+CR54,CS$26+CR53+CR55)","v":211.13},{"$f":"+IF(Simulador!$C$50=\"Si\",CT$26+CS53+CS54,CT$26+CS53+CS55)","v":211.13},{"$f":"+IF(Simulador!$C$50=\"Si\",CU$26+CT53+CT54,CU$26+CT53+CT55)","v":211.13},{"$f":"+IF(Simulador!$C$50=\"Si\",CV$26+CU53+CU54,CV$26+CU53+CU55)","v":211.13},{"$f":"+IF(Simulador!$C$50=\"Si\",CW$26+CV53+CV54,CW$26+CV53+CV55)","v":211.13},{"$f":"+IF(Simulador!$C$50=\"Si\",CX$26+CW53+CW54,CX$26+CW53+CW55)","v":211.13},{"$f":"+IF(Simulador!$C$50=\"Si\",CY$26+CX53+CX54,CY$26+CX53+CX55)","v":211.13},{"$f":"+IF(Simulador!$C$50=\"Si\",CZ$26+CY53+CY54,CZ$26+CY53+CY55)","v":211.13},{"$f":"+IF(Simulador!$C$50=\"Si\",DA$26+CZ53+CZ54,DA$26+CZ53+CZ55)","v":211.13},{"$f":"+IF(Simulador!$C$50=\"Si\",DB$26+DA53+DA54,DB$26+DA53+DA55)","v":211.13},{"$f":"+IF(Simulador!$C$50=\"Si\",DC$26+DB53+DB54,DC$26+DB53+DB55)","v":211.13},{"$f":"+IF(Simulador!$C$50=\"Si\",DD$26+DC53+DC54,DD$26+DC53+DC55)","v":211.85999999999999},{"$f":"+IF(Simulador!$C$50=\"Si\",DE$26+DD53+DD54,DE$26+DD53+DD55)","v":211.85999999999999},{"$f":"+IF(Simulador!$C$50=\"Si\",DF$26+DE53+DE54,DF$26+DE53+DE55)","v":211.85999999999999},{"$f":"+IF(Simulador!$C$50=\"Si\",DG$26+DF53+DF54,DG$26+DF53+DF55)","v":211.85999999999999},{"$f":"+IF(Simulador!$C$50=\"Si\",DH$26+DG53+DG54,DH$26+DG53+DG55)","v":211.85999999999999},{"$f":"+IF(Simulador!$C$50=\"Si\",DI$26+DH53+DH54,DI$26+DH53+DH55)","v":211.85999999999999},{"$f":"+IF(Simulador!$C$50=\"Si\",DJ$26+DI53+DI54,DJ$26+DI53+DI55)","v":211.85999999999999},{"$f":"+IF(Simulador!$C$50=\"Si\",DK$26+DJ53+DJ54,DK$26+DJ53+DJ55)","v":211.85999999999999},{"$f":"+IF(Simulador!$C$50=\"Si\",DL$26+DK53+DK54,DL$26+DK53+DK55)","v":211.85999999999999},{"$f":"+IF(Simulador!$C$50=\"Si\",DM$26+DL53+DL54,DM$26+DL53+DL55)","v":211.85999999999999},{"$f":"+IF(Simulador!$C$50=\"Si\",DN$26+DM53+DM54,DN$26+DM53+DM55)","v":211.85999999999999},{"$f":"+IF(Simulador!$C$50=\"Si\",DO$26+DN53+DN54,DO$26+DN53+DN55)","v":211.85999999999999},{"$f":"+IF(Simulador!$C$50=\"Si\",DP$26+DO53+DO54,DP$26+DO53+DO55)","v":211.85999999999999},{"$f":"+IF(Simulador!$C$50=\"Si\",DQ$26+DP53+DP54,DQ$26+DP53+DP55)","v":211.85999999999999},{"$f":"+IF(Simulador!$C$50=\"Si\",DR$26+DQ53+DQ54,DR$26+DQ53+DQ55)","v":211.85999999999999},{"$f":"+IF(Simulador!$C$50=\"Si\",DS$26+DR53+DR54,DS$26+DR53+DR55)","v":211.85999999999999},{"$f":"+IF(Simulador!$C$50=\"Si\",DT$26+DS53+DS54,DT$26+DS53+DS55)","v":211.85999999999999},{"$f":"+IF(Simulador!$C$50=\"Si\",DU$26+DT53+DT54,DU$26+DT53+DT55)","v":211.85999999999999},{"$f":"+IF(Simulador!$C$50=\"Si\",DV$26+DU53+DU54,DV$26+DU53+DU55)","v":211.85999999999999},{"$f":"+IF(Simulador!$C$50=\"Si\",DW$26+DV53+DV54,DW$26+DV53+DV55)","v":261.86},{"$f":"+IF(Simulador!$C$50=\"Si\",DX$26+DW53+DW54,DX$26+DW53+DW55)","v":261.86},{"$f":"+IF(Simulador!$C$50=\"Si\",DY$26+DX53+DX54,DY$26+DX53+DX55)","v":261.86},{"$f":"+IF(Simulador!$C$50=\"Si\",DZ$26+DY53+DY54,DZ$26+DY53+DY55)","v":261.86},{"$f":"+IF(Simulador!$C$50=\"Si\",EA$26+DZ53+DZ54,EA$26+DZ53+DZ55)","v":261.86},{"$f":"+IF(Simulador!$C$50=\"Si\",EB$26+EA53+EA54,EB$26+EA53+EA55)","v":261.86},{"$f":"+IF(Simulador!$C$50=\"Si\",EC$26+EB53+EB54,EC$26+EB53+EB55)","v":261.86},{"$f":"+IF(Simulador!$C$50=\"Si\",ED$26+EC53+EC54,ED$26+EC53+EC55)","v":261.86},{"$f":"+IF(Simulador!$C$50=\"Si\",EE$26+ED53+ED54,EE$26+ED53+ED55)","v":261.86},{"$f":"+IF(Simulador!$C$50=\"Si\",EF$26+EE53+EE54,EF$26+EE53+EE55)","v":262.78000000000003},{"$f":"+IF(Simulador!$C$50=\"Si\",EG$26+EF53+EF54,EG$26+EF53+EF55)","v":262.78000000000003},{"$f":"+IF(Simulador!$C$50=\"Si\",EH$26+EG53+EG54,EH$26+EG53+EG55)","v":262.78000000000003},{"$f":"+IF(Simulador!$C$50=\"Si\",EI$26+EH53+EH54,EI$26+EH53+EH55)","v":262.78000000000003},{"$f":"+IF(Simulador!$C$50=\"Si\",EJ$26+EI53+EI54,EJ$26+EI53+EI55)","v":262.78000000000003},{"$f":"+IF(Simulador!$C$50=\"Si\",EK$26+EJ53+EJ54,EK$26+EJ53+EJ55)","v":262.78000000000003},{"$f":"+IF(Simulador!$C$50=\"Si\",EL$26+EK53+EK54,EL$26+EK53+EK55)","v":262.78000000000003},{"$f":"+IF(Simulador!$C$50=\"Si\",EM$26+EL53+EL54,EM$26+EL53+EL55)","v":262.78000000000003},{"$f":"+IF(Simulador!$C$50=\"Si\",EN$26+EM53+EM54,EN$26+EM53+EM55)","v":262.78000000000003},{"$f":"+IF(Simulador!$C$50=\"Si\",EO$26+EN53+EN54,EO$26+EN53+EN55)","v":262.78000000000003},{"$f":"+IF(Simulador!$C$50=\"Si\",EP$26+EO53+EO54,EP$26+EO53+EO55)","v":262.78000000000003},{"$f":"+IF(Simulador!$C$50=\"Si\",EQ$26+EP53+EP54,EQ$26+EP53+EP55)","v":262.78000000000003},{"$f":"+IF(Simulador!$C$50=\"Si\",ER$26+EQ53+EQ54,ER$26+EQ53+EQ55)","v":262.78000000000003},{"$f":"+IF(Simulador!$C$50=\"Si\",ES$26+ER53+ER54,ES$26+ER53+ER55)","v":262.78000000000003},{"$f":"+IF(Simulador!$C$50=\"Si\",ET$26+ES53+ES54,ET$26+ES53+ES55)","v":262.78000000000003},{"$f":"+IF(Simulador!$C$50=\"Si\",EU$26+ET53+ET54,EU$26+ET53+ET55)","v":262.78000000000003},{"$f":"+IF(Simulador!$C$50=\"Si\",EV$26+EU53+EU54,EV$26+EU53+EU55)","v":262.78000000000003},{"$f":"+IF(Simulador!$C$50=\"Si\",EW$26+EV53+EV54,EW$26+EV53+EV55)","v":262.78000000000003},{"$f":"+IF(Simulador!$C$50=\"Si\",EX$26+EW53+EW54,EX$26+EW53+EW55)","v":262.78000000000003},{"$f":"+IF(Simulador!$C$50=\"Si\",EY$26+EX53+EX54,EY$26+EX53+EX55)","v":262.78000000000003},{"$f":"+IF(Simulador!$C$50=\"Si\",EZ$26+EY53+EY54,EZ$26+EY53+EY55)","v":262.78000000000003},{"$f":"+IF(Simulador!$C$50=\"Si\",FA$26+EZ53+EZ54,FA$26+EZ53+EZ55)","v":312.78000000000003},{"$f":"+IF(Simulador!$C$50=\"Si\",FB$26+FA53+FA54,FB$26+FA53+FA55)","v":312.78000000000003},{"$f":"+IF(Simulador!$C$50=\"Si\",FC$26+FB53+FB54,FC$26+FB53+FB55)","v":312.78000000000003},{"$f":"+IF(Simulador!$C$50=\"Si\",FD$26+FC53+FC54,FD$26+FC53+FC55)","v":312.78000000000003},{"$f":"+IF(Simulador!$C$50=\"Si\",FE$26+FD53+FD54,FE$26+FD53+FD55)","v":312.78000000000003},{"$f":"+IF(Simulador!$C$50=\"Si\",FF$26+FE53+FE54,FF$26+FE53+FE55)","v":312.78000000000003},{"$f":"+IF(Simulador!$C$50=\"Si\",FG$26+FF53+FF54,FG$26+FF53+FF55)","v":312.78000000000003},{"$f":"+IF(Simulador!$C$50=\"Si\",FH$26+FG53+FG54,FH$26+FG53+FG55)","v":312.78000000000003},{"$f":"+IF(Simulador!$C$50=\"Si\",FI$26+FH53+FH54,FI$26+FH53+FH55)","v":312.78000000000003},{"$f":"+IF(Simulador!$C$50=\"Si\",FJ$26+FI53+FI54,FJ$26+FI53+FI55)","v":312.78000000000003},{"$f":"+IF(Simulador!$C$50=\"Si\",FK$26+FJ53+FJ54,FK$26+FJ53+FJ55)","v":312.78000000000003},{"$f":"+IF(Simulador!$C$50=\"Si\",FL$26+FK53+FK54,FL$26+FK53+FK55)","v":314.06},{"$f":"+IF(Simulador!$C$50=\"Si\",FM$26+FL53+FL54,FM$26+FL53+FL55)","v":314.06},{"$f":"+IF(Simulador!$C$50=\"Si\",FN$26+FM53+FM54,FN$26+FM53+FM55)","v":314.06},{"$f":"+IF(Simulador!$C$50=\"Si\",FO$26+FN53+FN54,FO$26+FN53+FN55)","v":314.06},{"$f":"+IF(Simulador!$C$50=\"Si\",FP$26+FO53+FO54,FP$26+FO53+FO55)","v":314.06},{"$f":"+IF(Simulador!$C$50=\"Si\",FQ$26+FP53+FP54,FQ$26+FP53+FP55)","v":314.06},{"$f":"+IF(Simulador!$C$50=\"Si\",FR$26+FQ53+FQ54,FR$26+FQ53+FQ55)","v":314.06},{"$f":"+IF(Simulador!$C$50=\"Si\",FS$26+FR53+FR54,FS$26+FR53+FR55)","v":314.06},{"$f":"+IF(Simulador!$C$50=\"Si\",FT$26+FS53+FS54,FT$26+FS53+FS55)","v":314.06},{"$f":"+IF(Simulador!$C$50=\"Si\",FU$26+FT53+FT54,FU$26+FT53+FT55)","v":314.06},{"$f":"+IF(Simulador!$C$50=\"Si\",FV$26+FU53+FU54,FV$26+FU53+FU55)","v":314.06},{"$f":"+IF(Simulador!$C$50=\"Si\",FW$26+FV53+FV54,FW$26+FV53+FV55)","v":314.06},{"$f":"+IF(Simulador!$C$50=\"Si\",FX$26+FW53+FW54,FX$26+FW53+FW55)","v":314.06},{"$f":"+IF(Simulador!$C$50=\"Si\",FY$26+FX53+FX54,FY$26+FX53+FX55)","v":314.06},{"$f":"+IF(Simulador!$C$50=\"Si\",FZ$26+FY53+FY54,FZ$26+FY53+FY55)","v":314.06},{"$f":"+IF(Simulador!$C$50=\"Si\",GA$26+FZ53+FZ54,GA$26+FZ53+FZ55)","v":314.06},{"$f":"+IF(Simulador!$C$50=\"Si\",GB$26+GA53+GA54,GB$26+GA53+GA55)","v":314.06},{"$f":"+IF(Simulador!$C$50=\"Si\",GC$26+GB53+GB54,GC$26+GB53+GB55)","v":314.06},{"$f":"+IF(Simulador!$C$50=\"Si\",GD$26+GC53+GC54,GD$26+GC53+GC55)","v":314.06},{"$f":"+IF(Simulador!$C$50=\"Si\",GE$26+GD53+GD54,GE$26+GD53+GD55)","v":314.06},{"$f":"+IF(Simulador!$C$50=\"Si\",GF$26+GE53+GE54,GF$26+GE53+GE55)","v":364.06},{"$f":"+IF(Simulador!$C$50=\"Si\",GG$26+GF53+GF54,GG$26+GF53+GF55)","v":364.06},{"$f":"+IF(Simulador!$C$50=\"Si\",GH$26+GG53+GG54,GH$26+GG53+GG55)","v":364.06},{"$f":"+IF(Simulador!$C$50=\"Si\",GI$26+GH53+GH54,GI$26+GH53+GH55)","v":364.06},{"$f":"+IF(Simulador!$C$50=\"Si\",GJ$26+GI53+GI54,GJ$26+GI53+GI55)","v":364.06},{"$f":"+IF(Simulador!$C$50=\"Si\",GK$26+GJ53+GJ54,GK$26+GJ53+GJ55)","v":364.06},{"$f":"+IF(Simulador!$C$50=\"Si\",GL$26+GK53+GK54,GL$26+GK53+GK55)","v":364.06},{"$f":"+IF(Simulador!$C$50=\"Si\",GM$26+GL53+GL54,GM$26+GL53+GL55)","v":364.06},{"$f":"+IF(Simulador!$C$50=\"Si\",GN$26+GM53+GM54,GN$26+GM53+GM55)","v":364.06},{"$f":"+IF(Simulador!$C$50=\"Si\",GO$26+GN53+GN54,GO$26+GN53+GN55)","v":364.06},{"$f":"+IF(Simulador!$C$50=\"Si\",GP$26+GO53+GO54,GP$26+GO53+GO55)","v":364.06},{"$f":"+IF(Simulador!$C$50=\"Si\",GQ$26+GP53+GP54,GQ$26+GP53+GP55)","v":365.4},{"$f":"+IF(Simulador!$C$50=\"Si\",GR$26+GQ53+GQ54,GR$26+GQ53+GQ55)","v":365.4},{"$f":"+IF(Simulador!$C$50=\"Si\",GS$26+GR53+GR54,GS$26+GR53+GR55)","v":365.4},{"$f":"+IF(Simulador!$C$50=\"Si\",GT$26+GS53+GS54,GT$26+GS53+GS55)","v":365.4},{"$f":"+IF(Simulador!$C$50=\"Si\",GU$26+GT53+GT54,GU$26+GT53+GT55)","v":365.4},{"$f":"+IF(Simulador!$C$50=\"Si\",GV$26+GU53+GU54,GV$26+GU53+GU55)","v":365.4},{"$f":"+IF(Simulador!$C$50=\"Si\",GW$26+GV53+GV54,GW$26+GV53+GV55)","v":365.4},{"$f":"+IF(Simulador!$C$50=\"Si\",GX$26+GW53+GW54,GX$26+GW53+GW55)","v":365.4},{"$f":"+IF(Simulador!$C$50=\"Si\",GY$26+GX53+GX54,GY$26+GX53+GX55)","v":365.4},{"$f":"+IF(Simulador!$C$50=\"Si\",GZ$26+GY53+GY54,GZ$26+GY53+GY55)","v":365.4},{"$f":"+IF(Simulador!$C$50=\"Si\",HA$26+GZ53+GZ54,HA$26+GZ53+GZ55)","v":365.4},{"$f":"+IF(Simulador!$C$50=\"Si\",HB$26+HA53+HA54,HB$26+HA53+HA55)","v":365.4},{"$f":"+IF(Simulador!$C$50=\"Si\",HC$26+HB53+HB54,HC$26+HB53+HB55)","v":365.4},{"$f":"+IF(Simulador!$C$50=\"Si\",HD$26+HC53+HC54,HD$26+HC53+HC55)","v":365.4},{"$f":"+IF(Simulador!$C$50=\"Si\",HE$26+HD53+HD54,HE$26+HD53+HD55)","v":365.4},{"$f":"+IF(Simulador!$C$50=\"Si\",HF$26+HE53+HE54,HF$26+HE53+HE55)","v":365.4},{"$f":"+IF(Simulador!$C$50=\"Si\",HG$26+HF53+HF54,HG$26+HF53+HF55)","v":365.4},{"$f":"+IF(Simulador!$C$50=\"Si\",HH$26+HG53+HG54,HH$26+HG53+HG55)","v":365.4},{"$f":"+IF(Simulador!$C$50=\"Si\",HI$26+HH53+HH54,HI$26+HH53+HH55)","v":365.4},{"$f":"+IF(Simulador!$C$50=\"Si\",HJ$26+HI53+HI54,HJ$26+HI53+HI55)","v":365.4},{"$f":"+IF(Simulador!$C$50=\"Si\",HK$26+HJ53+HJ54,HK$26+HJ53+HJ55)","v":415.4},{"$f":"+IF(Simulador!$C$50=\"Si\",HL$26+HK53+HK54,HL$26+HK53+HK55)","v":415.4},{"$f":"+IF(Simulador!$C$50=\"Si\",HM$26+HL53+HL54,HM$26+HL53+HL55)","v":415.4},{"$f":"+IF(Simulador!$C$50=\"Si\",HN$26+HM53+HM54,HN$26+HM53+HM55)","v":415.4},{"$f":"+IF(Simulador!$C$50=\"Si\",HO$26+HN53+HN54,HO$26+HN53+HN55)","v":415.4},{"$f":"+IF(Simulador!$C$50=\"Si\",HP$26+HO53+HO54,HP$26+HO53+HO55)","v":415.4},{"$f":"+IF(Simulador!$C$50=\"Si\",HQ$26+HP53+HP54,HQ$26+HP53+HP55)","v":415.4},{"$f":"+IF(Simulador!$C$50=\"Si\",HR$26+HQ53+HQ54,HR$26+HQ53+HQ55)","v":415.4},{"$f":"+IF(Simulador!$C$50=\"Si\",HS$26+HR53+HR54,HS$26+HR53+HR55)","v":416.87},{"$f":"+IF(Simulador!$C$50=\"Si\",HT$26+HS53+HS54,HT$26+HS53+HS55)","v":416.87},{"$f":"+IF(Simulador!$C$50=\"Si\",HU$26+HT53+HT54,HU$26+HT53+HT55)","v":416.87},{"$f":"+IF(Simulador!$C$50=\"Si\",HV$26+HU53+HU54,HV$26+HU53+HU55)","v":416.87},{"$f":"+IF(Simulador!$C$50=\"Si\",HW$26+HV53+HV54,HW$26+HV53+HV55)","v":416.87},{"$f":"+IF(Simulador!$C$50=\"Si\",HX$26+HW53+HW54,HX$26+HW53+HW55)","v":416.87},{"$f":"+IF(Simulador!$C$50=\"Si\",HY$26+HX53+HX54,HY$26+HX53+HX55)","v":416.87},{"$f":"+IF(Simulador!$C$50=\"Si\",HZ$26+HY53+HY54,HZ$26+HY53+HY55)","v":416.87},{"$f":"+IF(Simulador!$C$50=\"Si\",IA$26+HZ53+HZ54,IA$26+HZ53+HZ55)","v":416.87},{"$f":"+IF(Simulador!$C$50=\"Si\",IB$26+IA53+IA54,IB$26+IA53+IA55)","v":416.87},{"$f":"+IF(Simulador!$C$50=\"Si\",IC$26+IB53+IB54,IC$26+IB53+IB55)","v":416.87},{"$f":"+IF(Simulador!$C$50=\"Si\",ID$26+IC53+IC54,ID$26+IC53+IC55)","v":416.87},{"$f":"+IF(Simulador!$C$50=\"Si\",IE$26+ID53+ID54,IE$26+ID53+ID55)","v":416.87},{"$f":"+IF(Simulador!$C$50=\"Si\",IF$26+IE53+IE54,IF$26+IE53+IE55)","v":416.87},{"$f":"+IF(Simulador!$C$50=\"Si\",IG$26+IF53+IF54,IG$26+IF53+IF55)","v":416.87},{"$f":"+IF(Simulador!$C$50=\"Si\",IH$26+IG53+IG54,IH$26+IG53+IG55)","v":416.87},{"$f":"+IF(Simulador!$C$50=\"Si\",II$26+IH53+IH54,II$26+IH53+IH55)","v":416.87},{"$f":"+IF(Simulador!$C$50=\"Si\",IJ$26+II53+II54,IJ$26+II53+II55)","v":416.87},{"$f":"+IF(Simulador!$C$50=\"Si\",IK$26+IJ53+IJ54,IK$26+IJ53+IJ55)","v":416.87},{"$f":"+IF(Simulador!$C$50=\"Si\",IL$26+IK53+IK54,IL$26+IK53+IK55)","v":416.87},{"$f":"+IF(Simulador!$C$50=\"Si\",IM$26+IL53+IL54,IM$26+IL53+IL55)","v":466.87},{"$f":"+IF(Simulador!$C$50=\"Si\",IN$26+IM53+IM54,IN$26+IM53+IM55)","v":466.87},{"$f":"+IF(Simulador!$C$50=\"Si\",IO$26+IN53+IN54,IO$26+IN53+IN55)","v":466.87},{"$f":"+IF(Simulador!$C$50=\"Si\",IP$26+IO53+IO54,IP$26+IO53+IO55)","v":466.87},{"$f":"+IF(Simulador!$C$50=\"Si\",IQ$26+IP53+IP54,IQ$26+IP53+IP55)","v":466.87},{"$f":"+IF(Simulador!$C$50=\"Si\",IR$26+IQ53+IQ54,IR$26+IQ53+IQ55)","v":466.87},{"$f":"+IF(Simulador!$C$50=\"Si\",IS$26+IR53+IR54,IS$26+IR53+IR55)","v":466.87},{"$f":"+IF(Simulador!$C$50=\"Si\",IT$26+IS53+IS54,IT$26+IS53+IS55)","v":466.87},{"$f":"+IF(Simulador!$C$50=\"Si\",IU$26+IT53+IT54,IU$26+IT53+IT55)","v":466.87},{"$f":"+IF(Simulador!$C$50=\"Si\",IV$26+IU53+IU54,IV$26+IU53+IU55)","v":466.87},{"$f":"+IF(Simulador!$C$50=\"Si\",IW$26+IV53+IV54,IW$26+IV53+IV55)","v":466.87},{"$f":"+IF(Simulador!$C$50=\"Si\",IX$26+IW53+IW54,IX$26+IW53+IW55)","v":466.87},{"$f":"+IF(Simulador!$C$50=\"Si\",IY$26+IX53+IX54,IY$26+IX53+IX55)","v":468.79},{"$f":"+IF(Simulador!$C$50=\"Si\",IZ$26+IY53+IY54,IZ$26+IY53+IY55)","v":468.79},{"$f":"+IF(Simulador!$C$50=\"Si\",JA$26+IZ53+IZ54,JA$26+IZ53+IZ55)","v":468.79},{"$f":"+IF(Simulador!$C$50=\"Si\",JB$26+JA53+JA54,JB$26+JA53+JA55)","v":468.79},{"$f":"+IF(Simulador!$C$50=\"Si\",JC$26+JB53+JB54,JC$26+JB53+JB55)","v":468.79},{"$f":"+IF(Simulador!$C$50=\"Si\",JD$26+JC53+JC54,JD$26+JC53+JC55)","v":468.79},{"$f":"+IF(Simulador!$C$50=\"Si\",JE$26+JD53+JD54,JE$26+JD53+JD55)","v":468.79},{"$f":"+IF(Simulador!$C$50=\"Si\",JF$26+JE53+JE54,JF$26+JE53+JE55)","v":468.79},{"$f":"+IF(Simulador!$C$50=\"Si\",JG$26+JF53+JF54,JG$26+JF53+JF55)","v":468.79},{"$f":"+IF(Simulador!$C$50=\"Si\",JH$26+JG53+JG54,JH$26+JG53+JG55)","v":468.79},{"$f":"+IF(Simulador!$C$50=\"Si\",JI$26+JH53+JH54,JI$26+JH53+JH55)","v":468.79},{"$f":"+IF(Simulador!$C$50=\"Si\",JJ$26+JI53+JI54,JJ$26+JI53+JI55)","v":468.79},{"$f":"+IF(Simulador!$C$50=\"Si\",JK$26+JJ53+JJ54,JK$26+JJ53+JJ55)","v":468.79},{"$f":"+IF(Simulador!$C$50=\"Si\",JL$26+JK53+JK54,JL$26+JK53+JK55)","v":468.79},{"$f":"+IF(Simulador!$C$50=\"Si\",JM$26+JL53+JL54,JM$26+JL53+JL55)","v":468.79},{"$f":"+IF(Simulador!$C$50=\"Si\",JN$26+JM53+JM54,JN$26+JM53+JM55)","v":468.79},{"$f":"+IF(Simulador!$C$50=\"Si\",JO$26+JN53+JN54,JO$26+JN53+JN55)","v":468.79},{"$f":"+IF(Simulador!$C$50=\"Si\",JP$26+JO53+JO54,JP$26+JO53+JO55)","v":468.79},{"$f":"+IF(Simulador!$C$50=\"Si\",JQ$26+JP53+JP54,JQ$26+JP53+JP55)","v":468.79},{"$f":"+IF(Simulador!$C$50=\"Si\",JR$26+JQ53+JQ54,JR$26+JQ53+JQ55)","v":518.79},{"$f":"+IF(Simulador!$C$50=\"Si\",JS$26+JR53+JR54,JS$26+JR53+JR55)","v":518.79},{"$f":"+IF(Simulador!$C$50=\"Si\",JT$26+JS53+JS54,JT$26+JS53+JS55)","v":518.79},{"$f":"+IF(Simulador!$C$50=\"Si\",JU$26+JT53+JT54,JU$26+JT53+JT55)","v":518.79},{"$f":"+IF(Simulador!$C$50=\"Si\",JV$26+JU53+JU54,JV$26+JU53+JU55)","v":518.79},{"$f":"+IF(Simulador!$C$50=\"Si\",JW$26+JV53+JV54,JW$26+JV53+JV55)","v":518.79},{"$f":"+IF(Simulador!$C$50=\"Si\",JX$26+JW53+JW54,JX$26+JW53+JW55)","v":518.79},{"$f":"+IF(Simulador!$C$50=\"Si\",JY$26+JX53+JX54,JY$26+JX53+JX55)","v":518.79},{"$f":"+IF(Simulador!$C$50=\"Si\",JZ$26+JY53+JY54,JZ$26+JY53+JY55)","v":518.79},{"$f":"+IF(Simulador!$C$50=\"Si\",KA$26+JZ53+JZ54,KA$26+JZ53+JZ55)","v":518.79},{"$f":"+IF(Simulador!$C$50=\"Si\",KB$26+KA53+KA54,KB$26+KA53+KA55)","v":518.79},{"$f":"+IF(Simulador!$C$50=\"Si\",KC$26+KB53+KB54,KC$26+KB53+KB55)","v":520.89},{"$f":"+IF(Simulador!$C$50=\"Si\",KD$26+KC53+KC54,KD$26+KC53+KC55)","v":520.89},{"$f":"+IF(Simulador!$C$50=\"Si\",KE$26+KD53+KD54,KE$26+KD53+KD55)","v":520.89},{"$f":"+IF(Simulador!$C$50=\"Si\",KF$26+KE53+KE54,KF$26+KE53+KE55)","v":520.89},{"$f":"+IF(Simulador!$C$50=\"Si\",KG$26+KF53+KF54,KG$26+KF53+KF55)","v":520.89},{"$f":"+IF(Simulador!$C$50=\"Si\",KH$26+KG53+KG54,KH$26+KG53+KG55)","v":520.89},{"$f":"+IF(Simulador!$C$50=\"Si\",KI$26+KH53+KH54,KI$26+KH53+KH55)","v":520.89},{"$f":"+IF(Simulador!$C$50=\"Si\",KJ$26+KI53+KI54,KJ$26+KI53+KI55)","v":520.89},{"$f":"+IF(Simulador!$C$50=\"Si\",KK$26+KJ53+KJ54,KK$26+KJ53+KJ55)","v":520.89},{"$f":"+IF(Simulador!$C$50=\"Si\",KL$26+KK53+KK54,KL$26+KK53+KK55)","v":520.89},{"$f":"+IF(Simulador!$C$50=\"Si\",KM$26+KL53+KL54,KM$26+KL53+KL55)","v":520.89},{"$f":"+IF(Simulador!$C$50=\"Si\",KN$26+KM53+KM54,KN$26+KM53+KM55)","v":520.89},{"$f":"+IF(Simulador!$C$50=\"Si\",KO$26+KN53+KN54,KO$26+KN53+KN55)","v":520.89},{"$f":"+IF(Simulador!$C$50=\"Si\",KP$26+KO53+KO54,KP$26+KO53+KO55)","v":520.89},{"$f":"+IF(Simulador!$C$50=\"Si\",KQ$26+KP53+KP54,KQ$26+KP53+KP55)","v":520.89},{"$f":"+IF(Simulador!$C$50=\"Si\",KR$26+KQ53+KQ54,KR$26+KQ53+KQ55)","v":520.89},{"$f":"+IF(Simulador!$C$50=\"Si\",KS$26+KR53+KR54,KS$26+KR53+KR55)","v":520.89},{"$f":"+IF(Simulador!$C$50=\"Si\",KT$26+KS53+KS54,KT$26+KS53+KS55)","v":520.89},{"$f":"+IF(Simulador!$C$50=\"Si\",KU$26+KT53+KT54,KU$26+KT53+KT55)","v":520.89},{"$f":"+IF(Simulador!$C$50=\"Si\",KV$26+KU53+KU54,KV$26+KU53+KU55)","v":570.89},{"$f":"+IF(Simulador!$C$50=\"Si\",KW$26+KV53+KV54,KW$26+KV53+KV55)","v":570.89},{"$f":"+IF(Simulador!$C$50=\"Si\",KX$26+KW53+KW54,KX$26+KW53+KW55)","v":570.89},{"$f":"+IF(Simulador!$C$50=\"Si\",KY$26+KX53+KX54,KY$26+KX53+KX55)","v":570.89},{"$f":"+IF(Simulador!$C$50=\"Si\",KZ$26+KY53+KY54,KZ$26+KY53+KY55)","v":570.89},{"$f":"+IF(Simulador!$C$50=\"Si\",LA$26+KZ53+KZ54,LA$26+KZ53+KZ55)","v":570.89},{"$f":"+IF(Simulador!$C$50=\"Si\",LB$26+LA53+LA54,LB$26+LA53+LA55)","v":570.89},{"$f":"+IF(Simulador!$C$50=\"Si\",LC$26+LB53+LB54,LC$26+LB53+LB55)","v":570.89},{"$f":"+IF(Simulador!$C$50=\"Si\",LD$26+LC53+LC54,LD$26+LC53+LC55)","v":570.89},{"$f":"+IF(Simulador!$C$50=\"Si\",LE$26+LD53+LD54,LE$26+LD53+LD55)","v":570.89},{"$f":"+IF(Simulador!$C$50=\"Si\",LF$26+LE53+LE54,LF$26+LE53+LE55)","v":573.01},{"$f":"+IF(Simulador!$C$50=\"Si\",LG$26+LF53+LF54,LG$26+LF53+LF55)","v":573.01},{"$f":"+IF(Simulador!$C$50=\"Si\",LH$26+LG53+LG54,LH$26+LG53+LG55)","v":573.01},{"$f":"+IF(Simulador!$C$50=\"Si\",LI$26+LH53+LH54,LI$26+LH53+LH55)","v":573.01},{"$f":"+IF(Simulador!$C$50=\"Si\",LJ$26+LI53+LI54,LJ$26+LI53+LI55)","v":573.01},{"$f":"+IF(Simulador!$C$50=\"Si\",LK$26+LJ53+LJ54,LK$26+LJ53+LJ55)","v":573.01},{"$f":"+IF(Simulador!$C$50=\"Si\",LL$26+LK53+LK54,LL$26+LK53+LK55)","v":573.01},{"$f":"+IF(Simulador!$C$50=\"Si\",LM$26+LL53+LL54,LM$26+LL53+LL55)","v":573.01},{"$f":"+IF(Simulador!$C$50=\"Si\",LN$26+LM53+LM54,LN$26+LM53+LM55)","v":573.01},{"$f":"+IF(Simulador!$C$50=\"Si\",LO$26+LN53+LN54,LO$26+LN53+LN55)","v":573.01},{"$f":"+IF(Simulador!$C$50=\"Si\",LP$26+LO53+LO54,LP$26+LO53+LO55)","v":573.01},{"$f":"+IF(Simulador!$C$50=\"Si\",LQ$26+LP53+LP54,LQ$26+LP53+LP55)","v":573.01},{"$f":"+IF(Simulador!$C$50=\"Si\",LR$26+LQ53+LQ54,LR$26+LQ53+LQ55)","v":573.01},{"$f":"+IF(Simulador!$C$50=\"Si\",LS$26+LR53+LR54,LS$26+LR53+LR55)","v":573.01},{"$f":"+IF(Simulador!$C$50=\"Si\",LT$26+LS53+LS54,LT$26+LS53+LS55)","v":573.01},{"$f":"+IF(Simulador!$C$50=\"Si\",LU$26+LT53+LT54,LU$26+LT53+LT55)","v":573.01},{"$f":"+IF(Simulador!$C$50=\"Si\",LV$26+LU53+LU54,LV$26+LU53+LU55)","v":573.01},{"$f":"+IF(Simulador!$C$50=\"Si\",LW$26+LV53+LV54,LW$26+LV53+LV55)","v":573.01},{"$f":"+IF(Simulador!$C$50=\"Si\",LX$26+LW53+LW54,LX$26+LW53+LW55)","v":573.01},{"$f":"+IF(Simulador!$C$50=\"Si\",LY$26+LX53+LX54,LY$26+LX53+LX55)","v":573.01},{"$f":"+IF(Simulador!$C$50=\"Si\",LZ$26+LY53+LY54,LZ$26+LY53+LY55)","v":573.01},{"$f":"+IF(Simulador!$C$50=\"Si\",MA$26+LZ53+LZ54,MA$26+LZ53+LZ55)","v":623.01},{"$f":"+IF(Simulador!$C$50=\"Si\",MB$26+MA53+MA54,MB$26+MA53+MA55)","v":623.01},{"$f":"+IF(Simulador!$C$50=\"Si\",MC$26+MB53+MB54,MC$26+MB53+MB55)","v":623.01},{"$f":"+IF(Simulador!$C$50=\"Si\",MD$26+MC53+MC54,MD$26+MC53+MC55)","v":623.01},{"$f":"+IF(Simulador!$C$50=\"Si\",ME$26+MD53+MD54,ME$26+MD53+MD55)","v":623.01},{"$f":"+IF(Simulador!$C$50=\"Si\",MF$26+ME53+ME54,MF$26+ME53+ME55)","v":623.01},{"$f":"+IF(Simulador!$C$50=\"Si\",MG$26+MF53+MF54,MG$26+MF53+MF55)","v":623.01},{"$f":"+IF(Simulador!$C$50=\"Si\",MH$26+MG53+MG54,MH$26+MG53+MG55)","v":623.01},{"$f":"+IF(Simulador!$C$50=\"Si\",MI$26+MH53+MH54,MI$26+MH53+MH55)","v":623.01},{"$f":"+IF(Simulador!$C$50=\"Si\",MJ$26+MI53+MI54,MJ$26+MI53+MI55)","v":623.01},{"$f":"+IF(Simulador!$C$50=\"Si\",MK$26+MJ53+MJ54,MK$26+MJ53+MJ55)","v":623.01},{"$f":"+IF(Simulador!$C$50=\"Si\",ML$26+MK53+MK54,ML$26+MK53+MK55)","v":625.66999999999996},{"$f":"+IF(Simulador!$C$50=\"Si\",MM$26+ML53+ML54,MM$26+ML53+ML55)","v":625.66999999999996},{"$f":"+IF(Simulador!$C$50=\"Si\",MN$26+MM53+MM54,MN$26+MM53+MM55)","v":625.66999999999996},{"$f":"+IF(Simulador!$C$50=\"Si\",MO$26+MN53+MN54,MO$26+MN53+MN55)","v":625.66999999999996},{"$f":"+IF(Simulador!$C$50=\"Si\",MP$26+MO53+MO54,MP$26+MO53+MO55)","v":625.66999999999996},{"$f":"+IF(Simulador!$C$50=\"Si\",MQ$26+MP53+MP54,MQ$26+MP53+MP55)","v":625.66999999999996},{"$f":"+IF(Simulador!$C$50=\"Si\",MR$26+MQ53+MQ54,MR$26+MQ53+MQ55)","v":625.66999999999996},{"$f":"+IF(Simulador!$C$50=\"Si\",MS$26+MR53+MR54,MS$26+MR53+MR55)","v":625.66999999999996},{"$f":"+IF(Simulador!$C$50=\"Si\",MT$26+MS53+MS54,MT$26+MS53+MS55)","v":625.66999999999996},{"$f":"+IF(Simulador!$C$50=\"Si\",MU$26+MT53+MT54,MU$26+MT53+MT55)","v":625.66999999999996},{"$f":"+IF(Simulador!$C$50=\"Si\",MV$26+MU53+MU54,MV$26+MU53+MU55)","v":625.66999999999996},{"$f":"+IF(Simulador!$C$50=\"Si\",MW$26+MV53+MV54,MW$26+MV53+MV55)","v":625.66999999999996},{"$f":"+IF(Simulador!$C$50=\"Si\",MX$26+MW53+MW54,MX$26+MW53+MW55)","v":625.66999999999996},{"$f":"+IF(Simulador!$C$50=\"Si\",MY$26+MX53+MX54,MY$26+MX53+MX55)","v":625.66999999999996},{"$f":"+IF(Simulador!$C$50=\"Si\",MZ$26+MY53+MY54,MZ$26+MY53+MY55)","v":625.66999999999996},{"$f":"+IF(Simulador!$C$50=\"Si\",NA$26+MZ53+MZ54,NA$26+MZ53+MZ55)","v":625.66999999999996},{"$f":"+IF(Simulador!$C$50=\"Si\",NB$26+NA53+NA54,NB$26+NA53+NA55)","v":625.66999999999996},{"$f":"+IF(Simulador!$C$50=\"Si\",NC$26+NB53+NB54,NC$26+NB53+NB55)","v":625.66999999999996},{"$f":"+IF(Simulador!$C$50=\"Si\",ND$26+NC53+NC54,ND$26+NC53+NC55)","v":625.66999999999996},{"$f":"+IF(Simulador!$C$50=\"Si\",NE$26+ND53+ND54,NE$26+ND53+ND55)","v":675.67},{"$f":"+IF(Simulador!$C$50=\"Si\",NF$26+NE53+NE54,NF$26+NE53+NE55)","v":675.67},{"$f":"+IF(Simulador!$C$50=\"Si\",NG$26+NF53+NF54,NG$26+NF53+NF55)","v":675.67},{"$f":"+IF(Simulador!$C$50=\"Si\",NH$26+NG53+NG54,NH$26+NG53+NG55)","v":675.67},{"$f":"+IF(Simulador!$C$50=\"Si\",NI$26+NH53+NH54,NI$26+NH53+NH55)","v":675.67},{"$f":"+IF(Simulador!$C$50=\"Si\",NJ$26+NI53+NI54,NJ$26+NI53+NI55)","v":675.67},{"$f":"+IF(Simulador!$C$50=\"Si\",NK$26+NJ53+NJ54,NK$26+NJ53+NJ55)","v":675.67},{"$f":"+IF(Simulador!$C$50=\"Si\",NL$26+NK53+NK54,NL$26+NK53+NK55)","v":675.67},{"$f":"+IF(Simulador!$C$50=\"Si\",NM$26+NL53+NL54,NM$26+NL53+NL55)","v":675.67},{"$f":"+IF(Simulador!$C$50=\"Si\",NN$26+NM53+NM54,NN$26+NM53+NM55)","v":675.67},{"$f":"+IF(Simulador!$C$50=\"Si\",NO$26+NN53+NN54,NO$26+NN53+NN55)","v":675.67},{"$f":"+IF(Simulador!$C$50=\"Si\",NP$26+NO53+NO54,NP$26+NO53+NO55)","v":675.67},{"$f":"+IF(Simulador!$C$50=\"Si\",NQ$26+NP53+NP54,NQ$26+NP53+NP55)","v":678.45999999999992},{"$f":"+IF(Simulador!$C$50=\"Si\",NR$26+NQ53+NQ54,NR$26+NQ53+NQ55)","v":678.45999999999992},{"$f":"+IF(Simulador!$C$50=\"Si\",NS$26+NR53+NR54,NS$26+NR53+NR55)","v":678.45999999999992},{"$f":"+IF(Simulador!$C$50=\"Si\",NT$26+NS53+NS54,NT$26+NS53+NS55)","v":678.45999999999992},{"$f":"+IF(Simulador!$C$50=\"Si\",NU$26+NT53+NT54,NU$26+NT53+NT55)","v":678.45999999999992},{"$f":"+IF(Simulador!$C$50=\"Si\",NV$26+NU53+NU54,NV$26+NU53+NU55)","v":678.45999999999992},{"$f":"+IF(Simulador!$C$50=\"Si\",NW$26+NV53+NV54,NW$26+NV53+NV55)","v":678.45999999999992},{"$f":"+IF(Simulador!$C$50=\"Si\",NX$26+NW53+NW54,NX$26+NW53+NW55)","v":678.45999999999992},{"$f":"+IF(Simulador!$C$50=\"Si\",NY$26+NX53+NX54,NY$26+NX53+NX55)","v":678.45999999999992},{"$f":"+IF(Simulador!$C$50=\"Si\",NZ$26+NY53+NY54,NZ$26+NY53+NY55)","v":678.45999999999992},{"$f":"+IF(Simulador!$C$50=\"Si\",OA$26+NZ53+NZ54,OA$26+NZ53+NZ55)","v":678.45999999999992},{"$f":"+IF(Simulador!$C$50=\"Si\",OB$26+OA53+OA54,OB$26+OA53+OA55)","v":678.45999999999992},{"$f":"+IF(Simulador!$C$50=\"Si\",OC$26+OB53+OB54,OC$26+OB53+OB55)","v":678.45999999999992},{"$f":"+IF(Simulador!$C$50=\"Si\",OD$26+OC53+OC54,OD$26+OC53+OC55)","v":678.45999999999992},{"$f":"+IF(Simulador!$C$50=\"Si\",OE$26+OD53+OD54,OE$26+OD53+OD55)","v":678.45999999999992},{"$f":"+IF(Simulador!$C$50=\"Si\",OF$26+OE53+OE54,OF$26+OE53+OE55)","v":678.45999999999992},{"$f":"+IF(Simulador!$C$50=\"Si\",OG$26+OF53+OF54,OG$26+OF53+OF55)","v":678.45999999999992},{"$f":"+IF(Simulador!$C$50=\"Si\",OH$26+OG53+OG54,OH$26+OG53+OG55)","v":678.45999999999992},{"$f":"+IF(Simulador!$C$50=\"Si\",OI$26+OH53+OH54,OI$26+OH53+OH55)","v":678.45999999999992},{"$f":"+IF(Simulador!$C$50=\"Si\",OJ$26+OI53+OI54,OJ$26+OI53+OI55)","v":728.45999999999992},{"$f":"+IF(Simulador!$C$50=\"Si\",OK$26+OJ53+OJ54,OK$26+OJ53+OJ55)","v":728.45999999999992},{"$f":"+IF(Simulador!$C$50=\"Si\",OL$26+OK53+OK54,OL$26+OK53+OK55)","v":728.45999999999992},{"$f":"+IF(Simulador!$C$50=\"Si\",OM$26+OL53+OL54,OM$26+OL53+OL55)","v":728.45999999999992},{"$f":"+IF(Simulador!$C$50=\"Si\",ON$26+OM53+OM54,ON$26+OM53+OM55)","v":728.45999999999992},{"$f":"+IF(Simulador!$C$50=\"Si\",OO$26+ON53+ON54,OO$26+ON53+ON55)","v":728.45999999999992},{"$f":"+IF(Simulador!$C$50=\"Si\",OP$26+OO53+OO54,OP$26+OO53+OO55)","v":728.45999999999992},{"$f":"+IF(Simulador!$C$50=\"Si\",OQ$26+OP53+OP54,OQ$26+OP53+OP55)","v":728.45999999999992},{"$f":"+IF(Simulador!$C$50=\"Si\",OR$26+OQ53+OQ54,OR$26+OQ53+OQ55)","v":728.45999999999992},{"$f":"+IF(Simulador!$C$50=\"Si\",OS$26+OR53+OR54,OS$26+OR53+OR55)","v":728.45999999999992},{"$f":"+IF(Simulador!$C$50=\"Si\",OT$26+OS53+OS54,OT$26+OS53+OS55)","v":728.45999999999992},{"$f":"+IF(Simulador!$C$50=\"Si\",OU$26+OT53+OT54,OU$26+OT53+OT55)","v":728.45999999999992},{"$f":"+IF(Simulador!$C$50=\"Si\",OV$26+OU53+OU54,OV$26+OU53+OU55)","v":731.3599999999999},{"$f":"+IF(Simulador!$C$50=\"Si\",OW$26+OV53+OV54,OW$26+OV53+OV55)","v":731.3599999999999},{"$f":"+IF(Simulador!$C$50=\"Si\",OX$26+OW53+OW54,OX$26+OW53+OW55)","v":731.3599999999999},{"$f":"+IF(Simulador!$C$50=\"Si\",OY$26+OX53+OX54,OY$26+OX53+OX55)","v":731.3599999999999},{"$f":"+IF(Simulador!$C$50=\"Si\",OZ$26+OY53+OY54,OZ$26+OY53+OY55)","v":731.3599999999999},{"$f":"+IF(Simulador!$C$50=\"Si\",PA$26+OZ53+OZ54,PA$26+OZ53+OZ55)","v":731.3599999999999},{"$f":"+IF(Simulador!$C$50=\"Si\",PB$26+PA53+PA54,PB$26+PA53+PA55)","v":731.3599999999999},{"$f":"+IF(Simulador!$C$50=\"Si\",PC$26+PB53+PB54,PC$26+PB53+PB55)","v":731.3599999999999},{"$f":"+IF(Simulador!$C$50=\"Si\",PD$26+PC53+PC54,PD$26+PC53+PC55)","v":731.3599999999999},{"$f":"+IF(Simulador!$C$50=\"Si\",PE$26+PD53+PD54,PE$26+PD53+PD55)","v":731.3599999999999},{"$f":"+IF(Simulador!$C$50=\"Si\",PF$26+PE53+PE54,PF$26+PE53+PE55)","v":731.3599999999999},{"$f":"+IF(Simulador!$C$50=\"Si\",PG$26+PF53+PF54,PG$26+PF53+PF55)","v":731.3599999999999},{"$f":"+IF(Simulador!$C$50=\"Si\",PH$26+PG53+PG54,PH$26+PG53+PG55)","v":731.3599999999999},{"$f":"+IF(Simulador!$C$50=\"Si\",PI$26+PH53+PH54,PI$26+PH53+PH55)","v":731.3599999999999},{"$f":"+IF(Simulador!$C$50=\"Si\",PJ$26+PI53+PI54,PJ$26+PI53+PI55)","v":731.3599999999999},{"$f":"+IF(Simulador!$C$50=\"Si\",PK$26+PJ53+PJ54,PK$26+PJ53+PJ55)","v":731.3599999999999},{"$f":"+IF(Simulador!$C$50=\"Si\",PL$26+PK53+PK54,PL$26+PK53+PK55)","v":731.3599999999999},{"$f":"+IF(Simulador!$C$50=\"Si\",PM$26+PL53+PL54,PM$26+PL53+PL55)","v":731.3599999999999},{"$f":"+IF(Simulador!$C$50=\"Si\",PN$26+PM53+PM54,PN$26+PM53+PM55)","v":731.3599999999999},{"$f":"+IF(Simulador!$C$50=\"Si\",PO$26+PN53+PN54,PO$26+PN53+PN55)","v":781.3599999999999},{"$f":"+IF(Simulador!$C$50=\"Si\",PP$26+PO53+PO54,PP$26+PO53+PO55)","v":781.3599999999999},{"$f":"+IF(Simulador!$C$50=\"Si\",PQ$26+PP53+PP54,PQ$26+PP53+PP55)","v":781.3599999999999},{"$f":"+IF(Simulador!$C$50=\"Si\",PR$26+PQ53+PQ54,PR$26+PQ53+PQ55)","v":781.3599999999999},{"$f":"+IF(Simulador!$C$50=\"Si\",PS$26+PR53+PR54,PS$26+PR53+PR55)","v":781.3599999999999},{"$f":"+IF(Simulador!$C$50=\"Si\",PT$26+PS53+PS54,PT$26+PS53+PS55)","v":781.3599999999999},{"$f":"+IF(Simulador!$C$50=\"Si\",PU$26+PT53+PT54,PU$26+PT53+PT55)","v":781.3599999999999},{"$f":"+IF(Simulador!$C$50=\"Si\",PV$26+PU53+PU54,PV$26+PU53+PU55)","v":781.3599999999999},{"$f":"+IF(Simulador!$C$50=\"Si\",PW$26+PV53+PV54,PW$26+PV53+PV55)","v":781.3599999999999},{"$f":"+IF(Simulador!$C$50=\"Si\",PX$26+PW53+PW54,PX$26+PW53+PW55)","v":781.3599999999999},{"$f":"+IF(Simulador!$C$50=\"Si\",PY$26+PX53+PX54,PY$26+PX53+PX55)","v":781.3599999999999},{"$f":"+IF(Simulador!$C$50=\"Si\",PZ$26+PY53+PY54,PZ$26+PY53+PY55)","v":784.45999999999992},{"$f":"+IF(Simulador!$C$50=\"Si\",QA$26+PZ53+PZ54,QA$26+PZ53+PZ55)","v":784.45999999999992},{"$f":"+IF(Simulador!$C$50=\"Si\",QB$26+QA53+QA54,QB$26+QA53+QA55)","v":784.45999999999992},{"$f":"+IF(Simulador!$C$50=\"Si\",QC$26+QB53+QB54,QC$26+QB53+QB55)","v":784.45999999999992},{"$f":"+IF(Simulador!$C$50=\"Si\",QD$26+QC53+QC54,QD$26+QC53+QC55)","v":784.45999999999992},{"$f":"+IF(Simulador!$C$50=\"Si\",QE$26+QD53+QD54,QE$26+QD53+QD55)","v":784.45999999999992},{"$f":"+IF(Simulador!$C$50=\"Si\",QF$26+QE53+QE54,QF$26+QE53+QE55)","v":784.45999999999992},{"$f":"+IF(Simulador!$C$50=\"Si\",QG$26+QF53+QF54,QG$26+QF53+QF55)","v":784.45999999999992},{"$f":"+IF(Simulador!$C$50=\"Si\",QH$26+QG53+QG54,QH$26+QG53+QG55)","v":784.45999999999992},{"$f":"+IF(Simulador!$C$50=\"Si\",QI$26+QH53+QH54,QI$26+QH53+QH55)","v":784.45999999999992},{"$f":"+IF(Simulador!$C$50=\"Si\",QJ$26+QI53+QI54,QJ$26+QI53+QI55)","v":784.45999999999992},{"$f":"+IF(Simulador!$C$50=\"Si\",QK$26+QJ53+QJ54,QK$26+QJ53+QJ55)","v":784.45999999999992},{"$f":"+IF(Simulador!$C$50=\"Si\",QL$26+QK53+QK54,QL$26+QK53+QK55)","v":784.45999999999992},{"$f":"+IF(Simulador!$C$50=\"Si\",QM$26+QL53+QL54,QM$26+QL53+QL55)","v":784.45999999999992},{"$f":"+IF(Simulador!$C$50=\"Si\",QN$26+QM53+QM54,QN$26+QM53+QM55)","v":784.45999999999992},{"$f":"+IF(Simulador!$C$50=\"Si\",QO$26+QN53+QN54,QO$26+QN53+QN55)","v":784.45999999999992},{"$f":"+IF(Simulador!$C$50=\"Si\",QP$26+QO53+QO54,QP$26+QO53+QO55)","v":784.45999999999992},{"$f":"+IF(Simulador!$C$50=\"Si\",QQ$26+QP53+QP54,QQ$26+QP53+QP55)","v":784.45999999999992},{"$f":"+IF(Simulador!$C$50=\"Si\",QR$26+QQ53+QQ54,QR$26+QQ53+QQ55)","v":784.45999999999992},{"$f":"+IF(Simulador!$C$50=\"Si\",QS$26+QR53+QR54,QS$26+QR53+QR55)","v":834.45999999999992},{"$f":"+IF(Simulador!$C$50=\"Si\",QT$26+QS53+QS54,QT$26+QS53+QS55)","v":834.45999999999992},{"$f":"+IF(Simulador!$C$50=\"Si\",QU$26+QT53+QT54,QU$26+QT53+QT55)","v":834.45999999999992},{"$f":"+IF(Simulador!$C$50=\"Si\",QV$26+QU53+QU54,QV$26+QU53+QU55)","v":834.45999999999992},{"$f":"+IF(Simulador!$C$50=\"Si\",QW$26+QV53+QV54,QW$26+QV53+QV55)","v":834.45999999999992},{"$f":"+IF(Simulador!$C$50=\"Si\",QX$26+QW53+QW54,QX$26+QW53+QW55)","v":834.45999999999992},{"$f":"+IF(Simulador!$C$50=\"Si\",QY$26+QX53+QX54,QY$26+QX53+QX55)","v":834.45999999999992},{"$f":"+IF(Simulador!$C$50=\"Si\",QZ$26+QY53+QY54,QZ$26+QY53+QY55)","v":834.45999999999992},{"$f":"+IF(Simulador!$C$50=\"Si\",RA$26+QZ53+QZ54,RA$26+QZ53+QZ55)","v":834.45999999999992},{"$f":"+IF(Simulador!$C$50=\"Si\",RB$26+RA53+RA54,RB$26+RA53+RA55)","v":834.45999999999992},{"$f":"+IF(Simulador!$C$50=\"Si\",RC$26+RB53+RB54,RC$26+RB53+RB55)","v":834.45999999999992},{"$f":"+IF(Simulador!$C$50=\"Si\",RD$26+RC53+RC54,RD$26+RC53+RC55)","v":837.8599999999999},{"$f":"+IF(Simulador!$C$50=\"Si\",RE$26+RD53+RD54,RE$26+RD53+RD55)","v":837.8599999999999},{"$f":"+IF(Simulador!$C$50=\"Si\",RF$26+RE53+RE54,RF$26+RE53+RE55)","v":837.8599999999999},{"$f":"+IF(Simulador!$C$50=\"Si\",RG$26+RF53+RF54,RG$26+RF53+RF55)","v":837.8599999999999},{"$f":"+IF(Simulador!$C$50=\"Si\",RH$26+RG53+RG54,RH$26+RG53+RG55)","v":837.8599999999999},{"$f":"+IF(Simulador!$C$50=\"Si\",RI$26+RH53+RH54,RI$26+RH53+RH55)","v":837.8599999999999},{"$f":"+IF(Simulador!$C$50=\"Si\",RJ$26+RI53+RI54,RJ$26+RI53+RI55)","v":837.8599999999999},{"$f":"+IF(Simulador!$C$50=\"Si\",RK$26+RJ53+RJ54,RK$26+RJ53+RJ55)","v":837.8599999999999},{"$f":"+IF(Simulador!$C$50=\"Si\",RL$26+RK53+RK54,RL$26+RK53+RK55)","v":837.8599999999999},{"$f":"+IF(Simulador!$C$50=\"Si\",RM$26+RL53+RL54,RM$26+RL53+RL55)","v":837.8599999999999},{"$f":"+IF(Simulador!$C$50=\"Si\",RN$26+RM53+RM54,RN$26+RM53+RM55)","v":837.8599999999999},{"$f":"+IF(Simulador!$C$50=\"Si\",RO$26+RN53+RN54,RO$26+RN53+RN55)","v":837.8599999999999},{"$f":"+IF(Simulador!$C$50=\"Si\",RP$26+RO53+RO54,RP$26+RO53+RO55)","v":837.8599999999999},{"$f":"+IF(Simulador!$C$50=\"Si\",RQ$26+RP53+RP54,RQ$26+RP53+RP55)","v":837.8599999999999},{"$f":"+IF(Simulador!$C$50=\"Si\",RR$26+RQ53+RQ54,RR$26+RQ53+RQ55)","v":837.8599999999999},{"$f":"+IF(Simulador!$C$50=\"Si\",RS$26+RR53+RR54,RS$26+RR53+RR55)","v":837.8599999999999},{"$f":"+IF(Simulador!$C$50=\"Si\",RT$26+RS53+RS54,RT$26+RS53+RS55)","v":837.8599999999999},{"$f":"+IF(Simulador!$C$50=\"Si\",RU$26+RT53+RT54,RU$26+RT53+RT55)","v":837.8599999999999},{"$f":"+IF(Simulador!$C$50=\"Si\",RV$26+RU53+RU54,RV$26+RU53+RU55)","v":837.8599999999999},{"$f":"+IF(Simulador!$C$50=\"Si\",RW$26+RV53+RV54,RW$26+RV53+RV55)","v":837.8599999999999},{"$f":"+IF(Simulador!$C$50=\"Si\",RX$26+RW53+RW54,RX$26+RW53+RW55)","v":887.8599999999999},{"$f":"+IF(Simulador!$C$50=\"Si\",RY$26+RX53+RX54,RY$26+RX53+RX55)","v":887.8599999999999},{"$f":"+IF(Simulador!$C$50=\"Si\",RZ$26+RY53+RY54,RZ$26+RY53+RY55)","v":887.8599999999999},{"$f":"+IF(Simulador!$C$50=\"Si\",SA$26+RZ53+RZ54,SA$26+RZ53+RZ55)","v":887.8599999999999},{"$f":"+IF(Simulador!$C$50=\"Si\",SB$26+SA53+SA54,SB$26+SA53+SA55)","v":887.8599999999999},{"$f":"+IF(Simulador!$C$50=\"Si\",SC$26+SB53+SB54,SC$26+SB53+SB55)","v":887.8599999999999},{"$f":"+IF(Simulador!$C$50=\"Si\",SD$26+SC53+SC54,SD$26+SC53+SC55)","v":887.8599999999999},{"$f":"+IF(Simulador!$C$50=\"Si\",SE$26+SD53+SD54,SE$26+SD53+SD55)","v":887.8599999999999},{"$f":"+IF(Simulador!$C$50=\"Si\",SF$26+SE53+SE54,SF$26+SE53+SE55)","v":887.8599999999999},{"$f":"+IF(Simulador!$C$50=\"Si\",SG$26+SF53+SF54,SG$26+SF53+SF55)","v":887.8599999999999},{"$f":"+IF(Simulador!$C$50=\"Si\",SH$26+SG53+SG54,SH$26+SG53+SG55)","v":887.8599999999999},{"$f":"+IF(Simulador!$C$50=\"Si\",SI$26+SH53+SH54,SI$26+SH53+SH55)","v":891.57999999999993},{"$f":"+IF(Simulador!$C$50=\"Si\",SJ$26+SI53+SI54,SJ$26+SI53+SI55)","v":891.57999999999993},{"$f":"+IF(Simulador!$C$50=\"Si\",SK$26+SJ53+SJ54,SK$26+SJ53+SJ55)","v":891.57999999999993},{"$f":"+IF(Simulador!$C$50=\"Si\",SL$26+SK53+SK54,SL$26+SK53+SK55)","v":891.57999999999993},{"$f":"+IF(Simulador!$C$50=\"Si\",SM$26+SL53+SL54,SM$26+SL53+SL55)","v":891.57999999999993},{"$f":"+IF(Simulador!$C$50=\"Si\",SN$26+SM53+SM54,SN$26+SM53+SM55)","v":891.57999999999993},{"$f":"+IF(Simulador!$C$50=\"Si\",SO$26+SN53+SN54,SO$26+SN53+SN55)","v":891.57999999999993},{"$f":"+IF(Simulador!$C$50=\"Si\",SP$26+SO53+SO54,SP$26+SO53+SO55)","v":891.57999999999993},{"$f":"+IF(Simulador!$C$50=\"Si\",SQ$26+SP53+SP54,SQ$26+SP53+SP55)","v":891.57999999999993},{"$f":"+IF(Simulador!$C$50=\"Si\",SR$26+SQ53+SQ54,SR$26+SQ53+SQ55)","v":891.57999999999993},{"$f":"+IF(Simulador!$C$50=\"Si\",SS$26+SR53+SR54,SS$26+SR53+SR55)","v":891.57999999999993},{"$f":"+IF(Simulador!$C$50=\"Si\",ST$26+SS53+SS54,ST$26+SS53+SS55)","v":891.57999999999993},{"$f":"+IF(Simulador!$C$50=\"Si\",SU$26+ST53+ST54,SU$26+ST53+ST55)","v":891.57999999999993},{"$f":"+IF(Simulador!$C$50=\"Si\",SV$26+SU53+SU54,SV$26+SU53+SU55)","v":891.57999999999993},{"$f":"+IF(Simulador!$C$50=\"Si\",SW$26+SV53+SV54,SW$26+SV53+SV55)","v":891.57999999999993},{"$f":"+IF(Simulador!$C$50=\"Si\",SX$26+SW53+SW54,SX$26+SW53+SW55)","v":891.57999999999993},{"$f":"+IF(Simulador!$C$50=\"Si\",SY$26+SX53+SX54,SY$26+SX53+SX55)","v":891.57999999999993},{"$f":"+IF(Simulador!$C$50=\"Si\",SZ$26+SY53+SY54,SZ$26+SY53+SY55)","v":891.57999999999993},{"$f":"+IF(Simulador!$C$50=\"Si\",TA$26+SZ53+SZ54,TA$26+SZ53+SZ55)","v":891.57999999999993},{"$f":"+IF(Simulador!$C$50=\"Si\",TB$26+TA53+TA54,TB$26+TA53+TA55)","v":941.57999999999993},{"$f":"+IF(Simulador!$C$50=\"Si\",TC$26+TB53+TB54,TC$26+TB53+TB55)","v":941.57999999999993},{"$f":"+IF(Simulador!$C$50=\"Si\",TD$26+TC53+TC54,TD$26+TC53+TC55)","v":941.57999999999993},{"$f":"+IF(Simulador!$C$50=\"Si\",TE$26+TD53+TD54,TE$26+TD53+TD55)","v":941.57999999999993},{"$f":"+IF(Simulador!$C$50=\"Si\",TF$26+TE53+TE54,TF$26+TE53+TE55)","v":941.57999999999993},{"$f":"+IF(Simulador!$C$50=\"Si\",TG$26+TF53+TF54,TG$26+TF53+TF55)","v":941.57999999999993},{"$f":"+IF(Simulador!$C$50=\"Si\",TH$26+TG53+TG54,TH$26+TG53+TG55)","v":941.57999999999993},{"$f":"+IF(Simulador!$C$50=\"Si\",TI$26+TH53+TH54,TI$26+TH53+TH55)","v":941.57999999999993},{"$f":"+IF(Simulador!$C$50=\"Si\",TJ$26+TI53+TI54,TJ$26+TI53+TI55)","v":941.57999999999993},{"$f":"+IF(Simulador!$C$50=\"Si\",TK$26+TJ53+TJ54,TK$26+TJ53+TJ55)","v":941.57999999999993},{"$f":"+IF(Simulador!$C$50=\"Si\",TL$26+TK53+TK54,TL$26+TK53+TK55)","v":941.57999999999993},{"$f":"+IF(Simulador!$C$50=\"Si\",TM$26+TL53+TL54,TM$26+TL53+TL55)","v":945.28},{"$f":"+IF(Simulador!$C$50=\"Si\",TN$26+TM53+TM54,TN$26+TM53+TM55)","v":945.28},{"$f":"+IF(Simulador!$C$50=\"Si\",TO$26+TN53+TN54,TO$26+TN53+TN55)","v":945.28},{"$f":"+IF(Simulador!$C$50=\"Si\",TP$26+TO53+TO54,TP$26+TO53+TO55)","v":945.28},{"$f":"+IF(Simulador!$C$50=\"Si\",TQ$26+TP53+TP54,TQ$26+TP53+TP55)","v":945.28},{"$f":"+IF(Simulador!$C$50=\"Si\",TR$26+TQ53+TQ54,TR$26+TQ53+TQ55)","v":945.28},{"$f":"+IF(Simulador!$C$50=\"Si\",TS$26+TR53+TR54,TS$26+TR53+TR55)","v":945.28},{"$f":"+IF(Simulador!$C$50=\"Si\",TT$26+TS53+TS54,TT$26+TS53+TS55)","v":945.28},{"$f":"+IF(Simulador!$C$50=\"Si\",TU$26+TT53+TT54,TU$26+TT53+TT55)","v":945.28},{"$f":"+IF(Simulador!$C$50=\"Si\",TV$26+TU53+TU54,TV$26+TU53+TU55)","v":945.28},{"$f":"+IF(Simulador!$C$50=\"Si\",TW$26+TV53+TV54,TW$26+TV53+TV55)","v":945.28},{"$f":"+IF(Simulador!$C$50=\"Si\",TX$26+TW53+TW54,TX$26+TW53+TW55)","v":945.28},{"$f":"+IF(Simulador!$C$50=\"Si\",TY$26+TX53+TX54,TY$26+TX53+TX55)","v":945.28},{"$f":"+IF(Simulador!$C$50=\"Si\",TZ$26+TY53+TY54,TZ$26+TY53+TY55)","v":945.28},{"$f":"+IF(Simulador!$C$50=\"Si\",UA$26+TZ53+TZ54,UA$26+TZ53+TZ55)","v":945.28},{"$f":"+IF(Simulador!$C$50=\"Si\",UB$26+UA53+UA54,UB$26+UA53+UA55)","v":945.28},{"$f":"+IF(Simulador!$C$50=\"Si\",UC$26+UB53+UB54,UC$26+UB53+UB55)","v":945.28},{"$f":"+IF(Simulador!$C$50=\"Si\",UD$26+UC53+UC54,UD$26+UC53+UC55)","v":945.28},{"$f":"+IF(Simulador!$C$50=\"Si\",UE$26+UD53+UD54,UE$26+UD53+UD55)","v":945.28},{"$f":"+IF(Simulador!$C$50=\"Si\",UF$26+UE53+UE54,UF$26+UE53+UE55)","v":945.28},{"$f":"+IF(Simulador!$C$50=\"Si\",UG$26+UF53+UF54,UG$26+UF53+UF55)","v":995.28},{"$f":"+IF(Simulador!$C$50=\"Si\",UH$26+UG53+UG54,UH$26+UG53+UG55)","v":995.28},{"$f":"+IF(Simulador!$C$50=\"Si\",UI$26+UH53+UH54,UI$26+UH53+UH55)","v":995.28},{"$f":"+IF(Simulador!$C$50=\"Si\",UJ$26+UI53+UI54,UJ$26+UI53+UI55)","v":995.28},{"$f":"+IF(Simulador!$C$50=\"Si\",UK$26+UJ53+UJ54,UK$26+UJ53+UJ55)","v":995.28},{"$f":"+IF(Simulador!$C$50=\"Si\",UL$26+UK53+UK54,UL$26+UK53+UK55)","v":995.28},{"$f":"+IF(Simulador!$C$50=\"Si\",UM$26+UL53+UL54,UM$26+UL53+UL55)","v":995.28},{"$f":"+IF(Simulador!$C$50=\"Si\",UN$26+UM53+UM54,UN$26+UM53+UM55)","v":995.28},{"$f":"+IF(Simulador!$C$50=\"Si\",UO$26+UN53+UN54,UO$26+UN53+UN55)","v":995.28},{"$f":"+IF(Simulador!$C$50=\"Si\",UP$26+UO53+UO54,UP$26+UO53+UO55)","v":995.28},{"$f":"+IF(Simulador!$C$50=\"Si\",UQ$26+UP53+UP54,UQ$26+UP53+UP55)","v":999.27},{"$f":"+IF(Simulador!$C$50=\"Si\",UR$26+UQ53+UQ54,UR$26+UQ53+UQ55)","v":999.27},{"$f":"+IF(Simulador!$C$50=\"Si\",US$26+UR53+UR54,US$26+UR53+UR55)","v":999.27},{"$f":"+IF(Simulador!$C$50=\"Si\",UT$26+US53+US54,UT$26+US53+US55)","v":999.27},{"$f":"+IF(Simulador!$C$50=\"Si\",UU$26+UT53+UT54,UU$26+UT53+UT55)","v":999.27},{"$f":"+IF(Simulador!$C$50=\"Si\",UV$26+UU53+UU54,UV$26+UU53+UU55)","v":999.27},{"$f":"+IF(Simulador!$C$50=\"Si\",UW$26+UV53+UV54,UW$26+UV53+UV55)","v":999.27},{"$f":"+IF(Simulador!$C$50=\"Si\",UX$26+UW53+UW54,UX$26+UW53+UW55)","v":999.27},{"$f":"+IF(Simulador!$C$50=\"Si\",UY$26+UX53+UX54,UY$26+UX53+UX55)","v":999.27},{"$f":"+IF(Simulador!$C$50=\"Si\",UZ$26+UY53+UY54,UZ$26+UY53+UY55)","v":999.27},{"$f":"+IF(Simulador!$C$50=\"Si\",VA$26+UZ53+UZ54,VA$26+UZ53+UZ55)","v":999.27},{"$f":"+IF(Simulador!$C$50=\"Si\",VB$26+VA53+VA54,VB$26+VA53+VA55)","v":999.27},{"$f":"+IF(Simulador!$C$50=\"Si\",VC$26+VB53+VB54,VC$26+VB53+VB55)","v":999.27},{"$f":"+IF(Simulador!$C$50=\"Si\",VD$26+VC53+VC54,VD$26+VC53+VC55)","v":999.27},{"$f":"+IF(Simulador!$C$50=\"Si\",VE$26+VD53+VD54,VE$26+VD53+VD55)","v":999.27},{"$f":"+IF(Simulador!$C$50=\"Si\",VF$26+VE53+VE54,VF$26+VE53+VE55)","v":999.27},{"$f":"+IF(Simulador!$C$50=\"Si\",VG$26+VF53+VF54,VG$26+VF53+VF55)","v":999.27},{"$f":"+IF(Simulador!$C$50=\"Si\",VH$26+VG53+VG54,VH$26+VG53+VG55)","v":999.27},{"$f":"+IF(Simulador!$C$50=\"Si\",VI$26+VH53+VH54,VI$26+VH53+VH55)","v":999.27},{"$f":"+IF(Simulador!$C$50=\"Si\",VJ$26+VI53+VI54,VJ$26+VI53+VI55)","v":999.27},{"$f":"+IF(Simulador!$C$50=\"Si\",VK$26+VJ53+VJ54,VK$26+VJ53+VJ55)","v":999.27},{"$f":"+IF(Simulador!$C$50=\"Si\",VL$26+VK53+VK54,VL$26+VK53+VK55)","v":1049.27},{"$f":"+IF(Simulador!$C$50=\"Si\",VM$26+VL53+VL54,VM$26+VL53+VL55)","v":1049.27},{"$f":"+IF(Simulador!$C$50=\"Si\",VN$26+VM53+VM54,VN$26+VM53+VM55)","v":1049.27},{"$f":"+IF(Simulador!$C$50=\"Si\",VO$26+VN53+VN54,VO$26+VN53+VN55)","v":1049.27},{"$f":"+IF(Simulador!$C$50=\"Si\",VP$26+VO53+VO54,VP$26+VO53+VO55)","v":1049.27},{"$f":"+IF(Simulador!$C$50=\"Si\",VQ$26+VP53+VP54,VQ$26+VP53+VP55)","v":1049.27},{"$f":"+IF(Simulador!$C$50=\"Si\",VR$26+VQ53+VQ54,VR$26+VQ53+VQ55)","v":1049.27},{"$f":"+IF(Simulador!$C$50=\"Si\",VS$26+VR53+VR54,VS$26+VR53+VR55)","v":1053.25},{"$f":"+IF(Simulador!$C$50=\"Si\",VT$26+VS53+VS54,VT$26+VS53+VS55)","v":1053.25},{"$f":"+IF(Simulador!$C$50=\"Si\",VU$26+VT53+VT54,VU$26+VT53+VT55)","v":1053.25},{"$f":"+IF(Simulador!$C$50=\"Si\",VV$26+VU53+VU54,VV$26+VU53+VU55)","v":1053.25},{"$f":"+IF(Simulador!$C$50=\"Si\",VW$26+VV53+VV54,VW$26+VV53+VV55)","v":1053.25},{"$f":"+IF(Simulador!$C$50=\"Si\",VX$26+VW53+VW54,VX$26+VW53+VW55)","v":1053.25},{"$f":"+IF(Simulador!$C$50=\"Si\",VY$26+VX53+VX54,VY$26+VX53+VX55)","v":1053.25},{"$f":"+IF(Simulador!$C$50=\"Si\",VZ$26+VY53+VY54,VZ$26+VY53+VY55)","v":1053.25},{"$f":"+IF(Simulador!$C$50=\"Si\",WA$26+VZ53+VZ54,WA$26+VZ53+VZ55)","v":1053.25},{"$f":"+IF(Simulador!$C$50=\"Si\",WB$26+WA53+WA54,WB$26+WA53+WA55)","v":1053.25},{"$f":"+IF(Simulador!$C$50=\"Si\",WC$26+WB53+WB54,WC$26+WB53+WB55)","v":1053.25},{"$f":"+IF(Simulador!$C$50=\"Si\",WD$26+WC53+WC54,WD$26+WC53+WC55)","v":1053.25},{"$f":"+IF(Simulador!$C$50=\"Si\",WE$26+WD53+WD54,WE$26+WD53+WD55)","v":1053.25},{"$f":"+IF(Simulador!$C$50=\"Si\",WF$26+WE53+WE54,WF$26+WE53+WE55)","v":1053.25},{"$f":"+IF(Simulador!$C$50=\"Si\",WG$26+WF53+WF54,WG$26+WF53+WF55)","v":1053.25},{"$f":"+IF(Simulador!$C$50=\"Si\",WH$26+WG53+WG54,WH$26+WG53+WG55)","v":1053.25},{"$f":"+IF(Simulador!$C$50=\"Si\",WI$26+WH53+WH54,WI$26+WH53+WH55)","v":1053.25},{"$f":"+IF(Simulador!$C$50=\"Si\",WJ$26+WI53+WI54,WJ$26+WI53+WI55)","v":1053.25},{"$f":"+IF(Simulador!$C$50=\"Si\",WK$26+WJ53+WJ54,WK$26+WJ53+WJ55)","v":1053.25},{"$f":"+IF(Simulador!$C$50=\"Si\",WL$26+WK53+WK54,WL$26+WK53+WK55)","v":1053.25},{"$f":"+IF(Simulador!$C$50=\"Si\",WM$26+WL53+WL54,WM$26+WL53+WL55)","v":1053.25},{"$f":"+IF(Simulador!$C$50=\"Si\",WN$26+WM53+WM54,WN$26+WM53+WM55)","v":1103.25},{"$f":"+IF(Simulador!$C$50=\"Si\",WO$26+WN53+WN54,WO$26+WN53+WN55)","v":1103.25},{"$f":"+IF(Simulador!$C$50=\"Si\",WP$26+WO53+WO54,WP$26+WO53+WO55)","v":1103.25},{"$f":"+IF(Simulador!$C$50=\"Si\",WQ$26+WP53+WP54,WQ$26+WP53+WP55)","v":1103.25},{"$f":"+IF(Simulador!$C$50=\"Si\",WR$26+WQ53+WQ54,WR$26+WQ53+WQ55)","v":1103.25},{"$f":"+IF(Simulador!$C$50=\"Si\",WS$26+WR53+WR54,WS$26+WR53+WR55)","v":1103.25},{"$f":"+IF(Simulador!$C$50=\"Si\",WT$26+WS53+WS54,WT$26+WS53+WS55)","v":1103.25},{"$f":"+IF(Simulador!$C$50=\"Si\",WU$26+WT53+WT54,WU$26+WT53+WT55)","v":1103.25},{"$f":"+IF(Simulador!$C$50=\"Si\",WV$26+WU53+WU54,WV$26+WU53+WU55)","v":1103.25},{"$f":"+IF(Simulador!$C$50=\"Si\",WW$26+WV53+WV54,WW$26+WV53+WV55)","v":1103.25},{"$f":"+IF(Simulador!$C$50=\"Si\",WX$26+WW53+WW54,WX$26+WW53+WW55)","v":1103.25},{"$f":"+IF(Simulador!$C$50=\"Si\",WY$26+WX53+WX54,WY$26+WX53+WX55)","v":1103.25},{"$f":"+IF(Simulador!$C$50=\"Si\",WZ$26+WY53+WY54,WZ$26+WY53+WY55)","v":1108.2},{"$f":"+IF(Simulador!$C$50=\"Si\",XA$26+WZ53+WZ54,XA$26+WZ53+WZ55)","v":1108.2},{"$f":"+IF(Simulador!$C$50=\"Si\",XB$26+XA53+XA54,XB$26+XA53+XA55)","v":1108.2},{"$f":"+IF(Simulador!$C$50=\"Si\",XC$26+XB53+XB54,XC$26+XB53+XB55)","v":1108.2},{"$f":"+IF(Simulador!$C$50=\"Si\",XD$26+XC53+XC54,XD$26+XC53+XC55)","v":1108.2},{"$f":"+IF(Simulador!$C$50=\"Si\",XE$26+XD53+XD54,XE$26+XD53+XD55)","v":1108.2},{"$f":"+IF(Simulador!$C$50=\"Si\",XF$26+XE53+XE54,XF$26+XE53+XE55)","v":1108.2},{"$f":"+IF(Simulador!$C$50=\"Si\",XG$26+XF53+XF54,XG$26+XF53+XF55)","v":1108.2},{"$f":"+IF(Simulador!$C$50=\"Si\",XH$26+XG53+XG54,XH$26+XG53+XG55)","v":1108.2},{"$f":"+IF(Simulador!$C$50=\"Si\",XI$26+XH53+XH54,XI$26+XH53+XH55)","v":1108.2},{"$f":"+IF(Simulador!$C$50=\"Si\",XJ$26+XI53+XI54,XJ$26+XI53+XI55)","v":1108.2},{"$f":"+IF(Simulador!$C$50=\"Si\",XK$26+XJ53+XJ54,XK$26+XJ53+XJ55)","v":1108.2},{"$f":"+IF(Simulador!$C$50=\"Si\",XL$26+XK53+XK54,XL$26+XK53+XK55)","v":1108.2},{"$f":"+IF(Simulador!$C$50=\"Si\",XM$26+XL53+XL54,XM$26+XL53+XL55)","v":1108.2},{"$f":"+IF(Simulador!$C$50=\"Si\",XN$26+XM53+XM54,XN$26+XM53+XM55)","v":1108.2},{"$f":"+IF(Simulador!$C$50=\"Si\",XO$26+XN53+XN54,XO$26+XN53+XN55)","v":1108.2},{"$f":"+IF(Simulador!$C$50=\"Si\",XP$26+XO53+XO54,XP$26+XO53+XO55)","v":1108.2},{"$f":"+IF(Simulador!$C$50=\"Si\",XQ$26+XP53+XP54,XQ$26+XP53+XP55)","v":1108.2},{"$f":"+IF(Simulador!$C$50=\"Si\",XR$26+XQ53+XQ54,XR$26+XQ53+XQ55)","v":1108.2},{"$f":"+IF(Simulador!$C$50=\"Si\",XS$26+XR53+XR54,XS$26+XR53+XR55)","v":1158.2},{"$f":"+IF(Simulador!$C$50=\"Si\",XT$26+XS53+XS54,XT$26+XS53+XS55)","v":1158.2},{"$f":"+IF(Simulador!$C$50=\"Si\",XU$26+XT53+XT54,XU$26+XT53+XT55)","v":1158.2},{"$f":"+IF(Simulador!$C$50=\"Si\",XV$26+XU53+XU54,XV$26+XU53+XU55)","v":1158.2},{"$f":"+IF(Simulador!$C$50=\"Si\",XW$26+XV53+XV54,XW$26+XV53+XV55)","v":1158.2},{"$f":"+IF(Simulador!$C$50=\"Si\",XX$26+XW53+XW54,XX$26+XW53+XW55)","v":1158.2},{"$f":"+IF(Simulador!$C$50=\"Si\",XY$26+XX53+XX54,XY$26+XX53+XX55)","v":1158.2},{"$f":"+IF(Simulador!$C$50=\"Si\",XZ$26+XY53+XY54,XZ$26+XY53+XY55)","v":1158.2},{"$f":"+IF(Simulador!$C$50=\"Si\",YA$26+XZ53+XZ54,YA$26+XZ53+XZ55)","v":1158.2},{"$f":"+IF(Simulador!$C$50=\"Si\",YB$26+YA53+YA54,YB$26+YA53+YA55)","v":1158.2},{"$f":"+IF(Simulador!$C$50=\"Si\",YC$26+YB53+YB54,YC$26+YB53+YB55)","v":1162.6400000000001},{"$f":"+IF(Simulador!$C$50=\"Si\",YD$26+YC53+YC54,YD$26+YC53+YC55)","v":1162.6400000000001},{"$f":"+IF(Simulador!$C$50=\"Si\",YE$26+YD53+YD54,YE$26+YD53+YD55)","v":1162.6400000000001},{"$f":"+IF(Simulador!$C$50=\"Si\",YF$26+YE53+YE54,YF$26+YE53+YE55)","v":1162.6400000000001},{"$f":"+IF(Simulador!$C$50=\"Si\",YG$26+YF53+YF54,YG$26+YF53+YF55)","v":1162.6400000000001},{"$f":"+IF(Simulador!$C$50=\"Si\",YH$26+YG53+YG54,YH$26+YG53+YG55)","v":1162.6400000000001},{"$f":"+IF(Simulador!$C$50=\"Si\",YI$26+YH53+YH54,YI$26+YH53+YH55)","v":1162.6400000000001},{"$f":"+IF(Simulador!$C$50=\"Si\",YJ$26+YI53+YI54,YJ$26+YI53+YI55)","v":1162.6400000000001},{"$f":"+IF(Simulador!$C$50=\"Si\",YK$26+YJ53+YJ54,YK$26+YJ53+YJ55)","v":1162.6400000000001},{"$f":"+IF(Simulador!$C$50=\"Si\",YL$26+YK53+YK54,YL$26+YK53+YK55)","v":1162.6400000000001},{"$f":"+IF(Simulador!$C$50=\"Si\",YM$26+YL53+YL54,YM$26+YL53+YL55)","v":1162.6400000000001},{"$f":"+IF(Simulador!$C$50=\"Si\",YN$26+YM53+YM54,YN$26+YM53+YM55)","v":1162.6400000000001},{"$f":"+IF(Simulador!$C$50=\"Si\",YO$26+YN53+YN54,YO$26+YN53+YN55)","v":1162.6400000000001},{"$f":"+IF(Simulador!$C$50=\"Si\",YP$26+YO53+YO54,YP$26+YO53+YO55)","v":1162.6400000000001},{"$f":"+IF(Simulador!$C$50=\"Si\",YQ$26+YP53+YP54,YQ$26+YP53+YP55)","v":1162.6400000000001},{"$f":"+IF(Simulador!$C$50=\"Si\",YR$26+YQ53+YQ54,YR$26+YQ53+YQ55)","v":1162.6400000000001},{"$f":"+IF(Simulador!$C$50=\"Si\",YS$26+YR53+YR54,YS$26+YR53+YR55)","v":1162.6400000000001},{"$f":"+IF(Simulador!$C$50=\"Si\",YT$26+YS53+YS54,YT$26+YS53+YS55)","v":1162.6400000000001},{"$f":"+IF(Simulador!$C$50=\"Si\",YU$26+YT53+YT54,YU$26+YT53+YT55)","v":1162.6400000000001},{"$f":"+IF(Simulador!$C$50=\"Si\",YV$26+YU53+YU54,YV$26+YU53+YU55)","v":1162.6400000000001},{"$f":"+IF(Simulador!$C$50=\"Si\",YW$26+YV53+YV54,YW$26+YV53+YV55)","v":1212.6400000000001},{"$f":"+IF(Simulador!$C$50=\"Si\",YX$26+YW53+YW54,YX$26+YW53+YW55)","v":1212.6400000000001},{"$f":"+IF(Simulador!$C$50=\"Si\",YY$26+YX53+YX54,YY$26+YX53+YX55)","v":1212.6400000000001},{"$f":"+IF(Simulador!$C$50=\"Si\",YZ$26+YY53+YY54,YZ$26+YY53+YY55)","v":1212.6400000000001},{"$f":"+IF(Simulador!$C$50=\"Si\",ZA$26+YZ53+YZ54,ZA$26+YZ53+YZ55)","v":1212.6400000000001},{"$f":"+IF(Simulador!$C$50=\"Si\",ZB$26+ZA53+ZA54,ZB$26+ZA53+ZA55)","v":1212.6400000000001},{"$f":"+IF(Simulador!$C$50=\"Si\",ZC$26+ZB53+ZB54,ZC$26+ZB53+ZB55)","v":1212.6400000000001},{"$f":"+IF(Simulador!$C$50=\"Si\",ZD$26+ZC53+ZC54,ZD$26+ZC53+ZC55)","v":1212.6400000000001},{"$f":"+IF(Simulador!$C$50=\"Si\",ZE$26+ZD53+ZD54,ZE$26+ZD53+ZD55)","v":1212.6400000000001},{"$f":"+IF(Simulador!$C$50=\"Si\",ZF$26+ZE53+ZE54,ZF$26+ZE53+ZE55)","v":1212.6400000000001},{"$f":"+IF(Simulador!$C$50=\"Si\",ZG$26+ZF53+ZF54,ZG$26+ZF53+ZF55)","v":1212.6400000000001},{"$f":"+IF(Simulador!$C$50=\"Si\",ZH$26+ZG53+ZG54,ZH$26+ZG53+ZG55)","v":1212.6400000000001},{"$f":"+IF(Simulador!$C$50=\"Si\",ZI$26+ZH53+ZH54,ZI$26+ZH53+ZH55)","v":1217.8700000000001},{"$f":"+IF(Simulador!$C$50=\"Si\",ZJ$26+ZI53+ZI54,ZJ$26+ZI53+ZI55)","v":1217.8700000000001},{"$f":"+IF(Simulador!$C$50=\"Si\",ZK$26+ZJ53+ZJ54,ZK$26+ZJ53+ZJ55)","v":1217.8700000000001},{"$f":"+IF(Simulador!$C$50=\"Si\",ZL$26+ZK53+ZK54,ZL$26+ZK53+ZK55)","v":1217.8700000000001},{"$f":"+IF(Simulador!$C$50=\"Si\",ZM$26+ZL53+ZL54,ZM$26+ZL53+ZL55)","v":1217.8700000000001},{"$f":"+IF(Simulador!$C$50=\"Si\",ZN$26+ZM53+ZM54,ZN$26+ZM53+ZM55)","v":1217.8700000000001},{"$f":"+IF(Simulador!$C$50=\"Si\",ZO$26+ZN53+ZN54,ZO$26+ZN53+ZN55)","v":1217.8700000000001},{"$f":"+IF(Simulador!$C$50=\"Si\",ZP$26+ZO53+ZO54,ZP$26+ZO53+ZO55)","v":1217.8700000000001},{"$f":"+IF(Simulador!$C$50=\"Si\",ZQ$26+ZP53+ZP54,ZQ$26+ZP53+ZP55)","v":1217.8700000000001},{"$f":"+IF(Simulador!$C$50=\"Si\",ZR$26+ZQ53+ZQ54,ZR$26+ZQ53+ZQ55)","v":1217.8700000000001},{"$f":"+IF(Simulador!$C$50=\"Si\",ZS$26+ZR53+ZR54,ZS$26+ZR53+ZR55)","v":1217.8700000000001},{"$f":"+IF(Simulador!$C$50=\"Si\",ZT$26+ZS53+ZS54,ZT$26+ZS53+ZS55)","v":1217.8700000000001},{"$f":"+IF(Simulador!$C$50=\"Si\",ZU$26+ZT53+ZT54,ZU$26+ZT53+ZT55)","v":1217.8700000000001},{"$f":"+IF(Simulador!$C$50=\"Si\",ZV$26+ZU53+ZU54,ZV$26+ZU53+ZU55)","v":1217.8700000000001},{"$f":"+IF(Simulador!$C$50=\"Si\",ZW$26+ZV53+ZV54,ZW$26+ZV53+ZV55)","v":1217.8700000000001},{"$f":"+IF(Simulador!$C$50=\"Si\",ZX$26+ZW53+ZW54,ZX$26+ZW53+ZW55)","v":1217.8700000000001},{"$f":"+IF(Simulador!$C$50=\"Si\",ZY$26+ZX53+ZX54,ZY$26+ZX53+ZX55)","v":1217.8700000000001},{"$f":"+IF(Simulador!$C$50=\"Si\",ZZ$26+ZY53+ZY54,ZZ$26+ZY53+ZY55)","v":1217.8700000000001},{"$f":"+IF(Simulador!$C$50=\"Si\",AAA$26+ZZ53+ZZ54,AAA$26+ZZ53+ZZ55)","v":1217.8700000000001},{"$f":"+IF(Simulador!$C$50=\"Si\",AAB$26+AAA53+AAA54,AAB$26+AAA53+AAA55)","v":1267.8700000000001},{"$f":"+IF(Simulador!$C$50=\"Si\",AAC$26+AAB53+AAB54,AAC$26+AAB53+AAB55)","v":1267.8700000000001},{"$f":"+IF(Simulador!$C$50=\"Si\",AAD$26+AAC53+AAC54,AAD$26+AAC53+AAC55)","v":1267.8700000000001},{"$f":"+IF(Simulador!$C$50=\"Si\",AAE$26+AAD53+AAD54,AAE$26+AAD53+AAD55)","v":1267.8700000000001},{"$f":"+IF(Simulador!$C$50=\"Si\",AAF$26+AAE53+AAE54,AAF$26+AAE53+AAE55)","v":1267.8700000000001},{"$f":"+IF(Simulador!$C$50=\"Si\",AAG$26+AAF53+AAF54,AAG$26+AAF53+AAF55)","v":1267.8700000000001},{"$f":"+IF(Simulador!$C$50=\"Si\",AAH$26+AAG53+AAG54,AAH$26+AAG53+AAG55)","v":1267.8700000000001},{"$f":"+IF(Simulador!$C$50=\"Si\",AAI$26+AAH53+AAH54,AAI$26+AAH53+AAH55)","v":1267.8700000000001},{"$f":"+IF(Simulador!$C$50=\"Si\",AAJ$26+AAI53+AAI54,AAJ$26+AAI53+AAI55)","v":1267.8700000000001},{"$f":"+IF(Simulador!$C$50=\"Si\",AAK$26+AAJ53+AAJ54,AAK$26+AAJ53+AAJ55)","v":1267.8700000000001},{"$f":"+IF(Simulador!$C$50=\"Si\",AAL$26+AAK53+AAK54,AAL$26+AAK53+AAK55)","v":1267.8700000000001},{"$f":"+IF(Simulador!$C$50=\"Si\",AAM$26+AAL53+AAL54,AAM$26+AAL53+AAL55)","v":1273.0700000000002},{"$f":"+IF(Simulador!$C$50=\"Si\",AAN$26+AAM53+AAM54,AAN$26+AAM53+AAM55)","v":1273.0700000000002},{"$f":"+IF(Simulador!$C$50=\"Si\",AAO$26+AAN53+AAN54,AAO$26+AAN53+AAN55)","v":1273.0700000000002},{"$f":"+IF(Simulador!$C$50=\"Si\",AAP$26+AAO53+AAO54,AAP$26+AAO53+AAO55)","v":1273.0700000000002},{"$f":"+IF(Simulador!$C$50=\"Si\",AAQ$26+AAP53+AAP54,AAQ$26+AAP53+AAP55)","v":1273.0700000000002},{"$f":"+IF(Simulador!$C$50=\"Si\",AAR$26+AAQ53+AAQ54,AAR$26+AAQ53+AAQ55)","v":1273.0700000000002},{"$f":"+IF(Simulador!$C$50=\"Si\",AAS$26+AAR53+AAR54,AAS$26+AAR53+AAR55)","v":1273.0700000000002},{"$f":"+IF(Simulador!$C$50=\"Si\",AAT$26+AAS53+AAS54,AAT$26+AAS53+AAS55)","v":1273.0700000000002},{"$f":"+IF(Simulador!$C$50=\"Si\",AAU$26+AAT53+AAT54,AAU$26+AAT53+AAT55)","v":1273.0700000000002}]
[null,"Capitalización de interés bloqueado",0,{"$f":"+IF((INDEX($C$17:$AAT$17,D$17-1)=Simulador!$I$72),C59,0)","v":0},{"$f":"+IF((INDEX($C$17:$AAT$17,E$17-1)=Simulador!$I$72),D59,0)","v":0},{"$f":"+IF((INDEX($C$17:$AAT$17,F$17-1)=Simulador!$I$72),E59,0)","v":0},{"$f":"+IF((INDEX($C$17:$AAT$17,G$17-1)=Simulador!$I$72),F59,0)","v":0},{"$f":"+IF((INDEX($C$17:$AAT$17,H$17-1)=Simulador!$I$72),G59,0)","v":0},{"$f":"+IF((INDEX($C$17:$AAT$17,I$17-1)=Simulador!$I$72),H59,0)","v":0},{"$f":"+IF((INDEX($C$17:$AAT$17,J$17-1)=Simulador!$I$72),I59,0)","v":0},{"$f":"+IF((INDEX($C$17:$AAT$17,K$17-1)=Simulador!$I$72),J59,0)","v":0},{"$f":"+IF((INDEX($C$17:$AAT$17,L$17-1)=Simulador!$I$72),K59,0)","v":0},{"$f":"+IF((INDEX($C$17:$AAT$17,M$17-1)=Simulador!$I$72),L59,0)","v":0},{"$f":"+IF((INDEX($C$17:$AAT$17,N$17-1)=Simulador!$I$72),M59,0)","v":0},{"$f":"+IF((INDEX($C$17:$AAT$17,O$17-1)=Simulador!$I$72),N59,0)","v":0},{"$f":"+IF((INDEX($C$17:$AAT$17,P$17-1)=Simulador!$I$72),O59,0)","v":0},{"$f":"+IF((INDEX($C$17:$AAT$17,Q$17-1)=Simulador!$I$72),P59,0)","v":0},{"$f":"+IF((INDEX($C$17:$AAT$17,R$17-1)=Simulador!$I$72),Q59,0)","v":0},{"$f":"+IF((INDEX($C$17:$AAT$17,S$17-1)=Simulador!$I$72),R59,0)","v":0},{"$f":"+IF((INDEX($C$17:$AAT$17,T$17-1)=Simulador!$I$72),S59,0)","v":0},{"$f":"+IF((INDEX($C$17:$AAT$17,U$17-1)=Simulador!$I$72),T59,0)","v":0},{"$f":"+IF((INDEX($C$17:$AAT$17,V$17-1)=Simulador!$I$72),U59,0)","v":0},{"$f":"+IF((INDEX($C$17:$AAT$17,W$17-1)=Simulador!$I$72),V59,0)","v":0},{"$f":"+IF((INDEX($C$17:$AAT$17,X$17-1)=Simulador!$I$72),W59,0)","v":0},{"$f":"+IF((INDEX($C$17:$AAT$17,Y$17-1)=Simulador!$I$72),X59,0)","v":0},{"$f":"+IF((INDEX($C$17:$AAT$17,Z$17-1)=Simulador!$I$72),Y59,0)","v":0},{"$f":"+IF((INDEX($C$17:$AAT$17,AA$17-1)=Simulador!$I$72),Z59,0)","v":0},{"$f":"+IF((INDEX($C$17:$AAT$17,AB$17-1)=Simulador!$I$72),AA59,0)","v":0},{"$f":"+IF((INDEX($C$17:$AAT$17,AC$17-1)=Simulador!$I$72),AB59,0)","v":0},{"$f":"+IF((INDEX($C$17:$AAT$17,AD$17-1)=Simulador!$I$72),AC59,0)","v":0},{"$f":"+IF((INDEX($C$17:$AAT$17,AE$17-1)=Simulador!$I$72),AD59,0)","v":0},{"$f":"+IF((INDEX($C$17:$AAT$17,AF$17-1)=Simulador!$I$72),AE59,0)","v":0},{"$f":"+IF((INDEX($C$17:$AAT$17,AG$17-1)=Simulador!$I$72),AF59,0)","v":0},{"$f":"+IF((INDEX($C$17:$AAT$17,AH$17-1)=Simulador!$I$72),AG59,0)","v":0},{"$f":"+IF((INDEX($C$17:$AAT$17,AI$17-1)=Simulador!$I$72),AH59,0)","v":0},{"$f":"+IF((INDEX($C$17:$AAT$17,AJ$17-1)=Simulador!$I$72),AI59,0)","v":0},{"$f":"+IF((INDEX($C$17:$AAT$17,AK$17-1)=Simulador!$I$72),AJ59,0)","v":0},{"$f":"+IF((INDEX($C$17:$AAT$17,AL$17-1)=Simulador!$I$72),AK59,0)","v":0},{"$f":"+IF((INDEX($C$17:$AAT$17,AM$17-1)=Simulador!$I$72),AL59,0)","v":0},{"$f":"+IF((INDEX($C$17:$AAT$17,AN$17-1)=Simulador!$I$72),AM59,0)","v":0},{"$f":"+IF((INDEX($C$17:$AAT$17,AO$17-1)=Simulador!$I$72),AN59,0)","v":0},{"$f":"+IF((INDEX($C$17:$AAT$17,AP$17-1)=Simulador!$I$72),AO59,0)","v":0},{"$f":"+IF((INDEX($C$17:$AAT$17,AQ$17-1)=Simulador!$I$72),AP59,0)","v":0},{"$f":"+IF((INDEX($C$17:$AAT$17,AR$17-1)=Simulador!$I$72),AQ59,0)","v":0},{"$f":"+IF((INDEX($C$17:$AAT$17,AS$17-1)=Simulador!$I$72),AR59,0)","v":0},{"$f":"+IF((INDEX($C$17:$AAT$17,AT$17-1)=Simulador!$I$72),AS59,0)","v":0},{"$f":"+IF((INDEX($C$17:$AAT$17,AU$17-1)=Simulador!$I$72),AT59,0)","v":0},{"$f":"+IF((INDEX($C$17:$AAT$17,AV$17-1)=Simulador!$I$72),AU59,0)","v":0},{"$f":"+IF((INDEX($C$17:$AAT$17,AW$17-1)=Simulador!$I$72),AV59,0)","v":0},{"$f":"+IF((INDEX($C$17:$AAT$17,AX$17-1)=Simulador!$I$72),AW59,0)","v":0},{"$f":"+IF((INDEX($C$17:$AAT$17,AY$17-1)=Simulador!$I$72),AX59,0)","v":0},{"$f":"+IF((INDEX($C$17:$AAT$17,AZ$17-1)=Simulador!$I$72),AY59,0)","v":0},{"$f":"+IF((INDEX($C$17:$AAT$17,BA$17-1)=Simulador!$I$72),AZ59,0)","v":0},{"$f":"+IF((INDEX($C$17:$AAT$17,BB$17-1)=Simulador!$I$72),BA59,0)","v":0},{"$f":"+IF((INDEX($C$17:$AAT$17,BC$17-1)=Simulador!$I$72),BB59,0)","v":0},{"$f":"+IF((INDEX($C$17:$AAT$17,BD$17-1)=Simulador!$I$72),BC59,0)","v":0},{"$f":"+IF((INDEX($C$17:$AAT$17,BE$17-1)=Simulador!$I$72),BD59,0)","v":0},{"$f":"+IF((INDEX($C$17:$AAT$17,BF$17-1)=Simulador!$I$72),BE59,0)","v":0},{"$f":"+IF((INDEX($C$17:$AAT$17,BG$17-1)=Simulador!$I$72),BF59,0)","v":0},{"$f":"+IF((INDEX($C$17:$AAT$17,BH$17-1)=Simulador!$I$72),BG59,0)","v":0},{"$f":"+IF((INDEX($C$17:$AAT$17,BI$17-1)=Simulador!$I$72),BH59,0)","v":0},{"$f":"+IF((INDEX($C$17:$AAT$17,BJ$17-1)=Simulador!$I$72),BI59,0)","v":0},{"$f":"+IF((INDEX($C$17:$AAT$17,BK$17-1)=Simulador!$I$72),BJ59,0)","v":0},{"$f":"+IF((INDEX($C$17:$AAT$17,BL$17-1)=Simulador!$I$72),BK59,0)","v":0},{"$f":"+IF((INDEX($C$17:$AAT$17,BM$17-1)=Simulador!$I$72),BL59,0)","v":0},{"$f":"+IF((INDEX($C$17:$AAT$17,BN$17-1)=Simulador!$I$72),BM59,0)","v":0},{"$f":"+IF((INDEX($C$17:$AAT$17,BO$17-1)=Simulador!$I$72),BN59,0)","v":0},{"$f":"+IF((INDEX($C$17:$AAT$17,BP$17-1)=Simulador!$I$72),BO59,0)","v":0},{"$f":"+IF((INDEX($C$17:$AAT$17,BQ$17-1)=Simulador!$I$72),BP59,0)","v":0},{"$f":"+IF((INDEX($C$17:$AAT$17,BR$17-1)=Simulador!$I$72),BQ59,0)","v":0},{"$f":"+IF((INDEX($C$17:$AAT$17,BS$17-1)=Simulador!$I$72),BR59,0)","v":0},{"$f":"+IF((INDEX($C$17:$AAT$17,BT$17-1)=Simulador!$I$72),BS59,0)","v":0},{"$f":"+IF((INDEX($C$17:$AAT$17,BU$17-1)=Simulador!$I$72),BT59,0)","v":0},{"$f":"+IF((INDEX($C$17:$AAT$17,BV$17-1)=Simulador!$I$72),BU59,0)","v":0},{"$f":"+IF((INDEX($C$17:$AAT$17,BW$17-1)=Simulador!$I$72),BV59,0)","v":0},{"$f":"+IF((INDEX($C$17:$AAT$17,BX$17-1)=Simulador!$I$72),BW59,0)","v":0},{"$f":"+IF((INDEX($C$17:$AAT$17,BY$17-1)=Simulador!$I$72),BX59,0)","v":0},{"$f":"+IF((INDEX($C$17:$AAT$17,BZ$17-1)=Simulador!$I$72),BY59,0)","v":0},{"$f":"+IF((INDEX($C$17:$AAT$17,CA$17-1)=Simulador!$I$72),BZ59,0)","v":0},{"$f":"+IF((INDEX($C$17:$AAT$17,CB$17-1)=Simulador!$I$72),CA59,0)","v":0},{"$f":"+IF((INDEX($C$17:$AAT$17,CC$17-1)=Simulador!$I$72),CB59,0)","v":0},{"$f":"+IF((INDEX($C$17:$AAT$17,CD$17-1)=Simulador!$I$72),CC59,0)","v":0},{"$f":"+IF((INDEX($C$17:$AAT$17,CE$17-1)=Simulador!$I$72),CD59,0)","v":0},{"$f":"+IF((INDEX($C$17:$AAT$17,CF$17-1)=Simulador!$I$72),CE59,0)","v":0},{"$f":"+IF((INDEX($C$17:$AAT$17,CG$17-1)=Simulador!$I$72),CF59,0)","v":0},{"$f":"+IF((INDEX($C$17:$AAT$17,CH$17-1)=Simulador!$I$72),CG59,0)","v":0},{"$f":"+IF((INDEX($C$17:$AAT$17,CI$17-1)=Simulador!$I$72),CH59,0)","v":0},{"$f":"+IF((INDEX($C$17:$AAT$17,CJ$17-1)=Simulador!$I$72),CI59,0)","v":0},{"$f":"+IF((INDEX($C$17:$AAT$17,CK$17-1)=Simulador!$I$72),CJ59,0)","v":0},{"$f":"+IF((INDEX($C$17:$AAT$17,CL$17-1)=Simulador!$I$72),CK59,0)","v":0},{"$f":"+IF((INDEX($C$17:$AAT$17,CM$17-1)=Simulador!$I$72),CL59,0)","v":0},{"$f":"+IF((INDEX($C$17:$AAT$17,CN$17-1)=Simulador!$I$72),CM59,0)","v":0},{"$f":"+IF((INDEX($C$17:$AAT$17,CO$17-1)=Simulador!$I$72),CN59,0)","v":0},{"$f":"+IF((INDEX($C$17:$AAT$17,CP$17-1)=Simulador!$I$72),CO59,0)","v":0},{"$f":"+IF((INDEX($C$17:$AAT$17,CQ$17-1)=Simulador!$I$72),CP59,0)","v":0},{"$f":"+IF((INDEX($C$17:$AAT$17,CR$17-1)=Simulador!$I$72),CQ59,0)","v":0},{"$f":"+IF((INDEX($C$17:$AAT$17,CS$17-1)=Simulador!$I$72),CR59,0)","v":0},{"$f":"+IF((INDEX($C$17:$AAT$17,CT$17-1)=Simulador!$I$72),CS59,0)","v":0},{"$f":"+IF((INDEX($C$17:$AAT$17,CU$17-1)=Simulador!$I$72),CT59,0)","v":0},{"$f":"+IF((INDEX($C$17:$AAT$17,CV$17-1)=Simulador!$I$72),CU59,0)","v":0},{"$f":"+IF((INDEX($C$17:$AAT$17,CW$17-1)=Simulador!$I$72),CV59,0)","v":0},{"$f":"+IF((INDEX($C$17:$AAT$17,CX$17-1)=Simulador!$I$72),CW59,0)","v":0},{"$f":"+IF((INDEX($C$17:$AAT$17,CY$17-1)=Simulador!$I$72),CX59,0)","v":0},{"$f":"+IF((INDEX($C$17:$AAT$17,CZ$17-1)=Simulador!$I$72),CY59,0)","v":0},{"$f":"+IF((INDEX($C$17:$AAT$17,DA$17-1)=Simulador!$I$72),CZ59,0)","v":0},{"$f":"+IF((INDEX($C$17:$AAT$17,DB$17-1)=Simulador!$I$72),DA59,0)","v":0},{"$f":"+IF((INDEX($C$17:$AAT$17,DC$17-1)=Simulador!$I$72),DB59,0)","v":0},{"$f":"+IF((INDEX($C$17:$AAT$17,DD$17-1)=Simulador!$I$72),DC59,0)","v":0},{"$f":"+IF((INDEX($C$17:$AAT$17,DE$17-1)=Simulador!$I$72),DD59,0)","v":0},{"$f":"+IF((INDEX($C$17:$AAT$17,DF$17-1)=Simulador!$I$72),DE59,0)","v":0},{"$f":"+IF((INDEX($C$17:$AAT$17,DG$17-1)=Simulador!$I$72),DF59,0)","v":0},{"$f":"+IF((INDEX($C$17:$AAT$17,DH$17-1)=Simulador!$I$72),DG59,0)","v":0},{"$f":"+IF((INDEX($C$17:$AAT$17,DI$17-1)=Simulador!$I$72),DH59,0)","v":0},{"$f":"+IF((INDEX($C$17:$AAT$17,DJ$17-1)=Simulador!$I$72),DI59,0)","v":0},{"$f":"+IF((INDEX($C$17:$AAT$17,DK$17-1)=Simulador!$I$72),DJ59,0)","v":0},{"$f":"+IF((INDEX($C$17:$AAT$17,DL$17-1)=Simulador!$I$72),DK59,0)","v":0},{"$f":"+IF((INDEX($C$17:$AAT$17,DM$17-1)=Simulador!$I$72),DL59,0)","v":0},{"$f":"+IF((INDEX($C$17:$AAT$17,DN$17-1)=Simulador!$I$72),DM59,0)","v":0},{"$f":"+IF((INDEX($C$17:$AAT$17,DO$17-1)=Simulador!$I$72),DN59,0)","v":0},{"$f":"+IF((INDEX($C$17:$AAT$17,DP$17-1)=Simulador!$I$72),DO59,0)","v":0},{"$f":"+IF((INDEX($C$17:$AAT$17,DQ$17-1)=Simulador!$I$72),DP59,0)","v":0},{"$f":"+IF((INDEX($C$17:$AAT$17,DR$17-1)=Simulador!$I$72),DQ59,0)","v":0},{"$f":"+IF((INDEX($C$17:$AAT$17,DS$17-1)=Simulador!$I$72),DR59,0)","v":0},{"$f":"+IF((INDEX($C$17:$AAT$17,DT$17-1)=Simulador!$I$72),DS59,0)","v":0},{"$f":"+IF((INDEX($C$17:$AAT$17,DU$17-1)=Simulador!$I$72),DT59,0)","v":0},{"$f":"+IF((INDEX($C$17:$AAT$17,DV$17-1)=Simulador!$I$72),DU59,0)","v":0},{"$f":"+IF((INDEX($C$17:$AAT$17,DW$17-1)=Simulador!$I$72),DV59,0)","v":0},{"$f":"+IF((INDEX($C$17:$AAT$17,DX$17-1)=Simulador!$I$72),DW59,0)","v":0},{"$f":"+IF((INDEX($C$17:$AAT$17,DY$17-1)=Simulador!$I$72),DX59,0)","v":0},{"$f":"+IF((INDEX($C$17:$AAT$17,DZ$17-1)=Simulador!$I$72),DY59,0)","v":0},{"$f":"+IF((INDEX($C$17:$AAT$17,EA$17-1)=Simulador!$I$72),DZ59,0)","v":0},{"$f":"+IF((INDEX($C$17:$AAT$17,EB$17-1)=Simulador!$I$72),EA59,0)","v":0},{"$f":"+IF((INDEX($C$17:$AAT$17,EC$17-1)=Simulador!$I$72),EB59,0)","v":0},{"$f":"+IF((INDEX($C$17:$AAT$17,ED$17-1)=Simulador!$I$72),EC59,0)","v":0},{"$f":"+IF((INDEX($C$17:$AAT$17,EE$17-1)=Simulador!$I$72),ED59,0)","v":0},{"$f":"+IF((INDEX($C$17:$AAT$17,EF$17-1)=Simulador!$I$72),EE59,0)","v":0},{"$f":"+IF((INDEX($C$17:$AAT$17,EG$17-1)=Simulador!$I$72),EF59,0)","v":0},{"$f":"+IF((INDEX($C$17:$AAT$17,EH$17-1)=Simulador!$I$72),EG59,0)","v":0},{"$f":"+IF((INDEX($C$17:$AAT$17,EI$17-1)=Simulador!$I$72),EH59,0)","v":0},{"$f":"+IF((INDEX($C$17:$AAT$17,EJ$17-1)=Simulador!$I$72),EI59,0)","v":0},{"$f":"+IF((INDEX($C$17:$AAT$17,EK$17-1)=Simulador!$I$72),EJ59,0)","v":0},{"$f":"+IF((INDEX($C$17:$AAT$17,EL$17-1)=Simulador!$I$72),EK59,0)","v":0},{"$f":"+IF((INDEX($C$17:$AAT$17,EM$17-1)=Simulador!$I$72),EL59,0)","v":0},{"$f":"+IF((INDEX($C$17:$AAT$17,EN$17-1)=Simulador!$I$72),EM59,0)","v":0},{"$f":"+IF((INDEX($C$17:$AAT$17,EO$17-1)=Simulador!$I$72),EN59,0)","v":0},{"$f":"+IF((INDEX($C$17:$AAT$17,EP$17-1)=Simulador!$I$72),EO59,0)","v":0},{"$f":"+IF((INDEX($C$17:$AAT$17,EQ$17-1)=Simulador!$I$72),EP59,0)","v":0},{"$f":"+IF((INDEX($C$17:$AAT$17,ER$17-1)=Simulador!$I$72),EQ59,0)","v":0},{"$f":"+IF((INDEX($C$17:$AAT$17,ES$17-1)=Simulador!$I$72),ER59,0)","v":0},{"$f":"+IF((INDEX($C$17:$AAT$17,ET$17-1)=Simulador!$I$72),ES59,0)","v":0},{"$f":"+IF((INDEX($C$17:$AAT$17,EU$17-1)=Simulador!$I$72),ET59,0)","v":0},{"$f":"+IF((INDEX($C$17:$AAT$17,EV$17-1)=Simulador!$I$72),EU59,0)","v":0},{"$f":"+IF((INDEX($C$17:$AAT$17,EW$17-1)=Simulador!$I$72),EV59,0)","v":0},{"$f":"+IF((INDEX($C$17:$AAT$17,EX$17-1)=Simulador!$I$72),EW59,0)","v":0},{"$f":"+IF((INDEX($C$17:$AAT$17,EY$17-1)=Simulador!$I$72),EX59,0)","v":0},{"$f":"+IF((INDEX($C$17:$AAT$17,EZ$17-1)=Simulador!$I$72),EY59,0)","v":0},{"$f":"+IF((INDEX($C$17:$AAT$17,FA$17-1)=Simulador!$I$72),EZ59,0)","v":0},{"$f":"+IF((INDEX($C$17:$AAT$17,FB$17-1)=Simulador!$I$72),FA59,0)","v":0},{"$f":"+IF((INDEX($C$17:$AAT$17,FC$17-1)=Simulador!$I$72),FB59,0)","v":0},{"$f":"+IF((INDEX($C$17:$AAT$17,FD$17-1)=Simulador!$I$72),FC59,0)","v":0},{"$f":"+IF((INDEX($C$17:$AAT$17,FE$17-1)=Simulador!$I$72),FD59,0)","v":0},{"$f":"+IF((INDEX($C$17:$AAT$17,FF$17-1)=Simulador!$I$72),FE59,0)","v":0},{"$f":"+IF((INDEX($C$17:$AAT$17,FG$17-1)=Simulador!$I$72),FF59,0)","v":0},{"$f":"+IF((INDEX($C$17:$AAT$17,FH$17-1)=Simulador!$I$72),FG59,0)","v":0},{"$f":"+IF((INDEX($C$17:$AAT$17,FI$17-1)=Simulador!$I$72),FH59,0)","v":0},{"$f":"+IF((INDEX($C$17:$AAT$17,FJ$17-1)=Simulador!$I$72),FI59,0)","v":0},{"$f":"+IF((INDEX($C$17:$AAT$17,FK$17-1)=Simulador!$I$72),FJ59,0)","v":0},{"$f":"+IF((INDEX($C$17:$AAT$17,FL$17-1)=Simulador!$I$72),FK59,0)","v":0},{"$f":"+IF((INDEX($C$17:$AAT$17,FM$17-1)=Simulador!$I$72),FL59,0)","v":0},{"$f":"+IF((INDEX($C$17:$AAT$17,FN$17-1)=Simulador!$I$72),FM59,0)","v":0},{"$f":"+IF((INDEX($C$17:$AAT$17,FO$17-1)=Simulador!$I$72),FN59,0)","v":0},{"$f":"+IF((INDEX($C$17:$AAT$17,FP$17-1)=Simulador!$I$72),FO59,0)","v":0},{"$f":"+IF((INDEX($C$17:$AAT$17,FQ$17-1)=Simulador!$I$72),FP59,0)","v":0},{"$f":"+IF((INDEX($C$17:$AAT$17,FR$17-1)=Simulador!$I$72),FQ59,0)","v":0},{"$f":"+IF((INDEX($C$17:$AAT$17,FS$17-1)=Simulador!$I$72),FR59,0)","v":0},{"$f":"+IF((INDEX($C$17:$AAT$17,FT$17-1)=Simulador!$I$72),FS59,0)","v":0},{"$f":"+IF((INDEX($C$17:$AAT$17,FU$17-1)=Simulador!$I$72),FT59,0)","v":0},{"$f":"+IF((INDEX($C$17:$AAT$17,FV$17-1)=Simulador!$I$72),FU59,0)","v":0},{"$f":"+IF((INDEX($C$17:$AAT$17,FW$17-1)=Simulador!$I$72),FV59,0)","v":0},{"$f":"+IF((INDEX($C$17:$AAT$17,FX$17-1)=Simulador!$I$72),FW59,0)","v":0},{"$f":"+IF((INDEX($C$17:$AAT$17,FY$17-1)=Simulador!$I$72),FX59,0)","v":0},{"$f":"+IF((INDEX($C$17:$AAT$17,FZ$17-1)=Simulador!$I$72),FY59,0)","v":0},{"$f":"+IF((INDEX($C$17:$AAT$17,GA$17-1)=Simulador!$I$72),FZ59,0)","v":0},{"$f":"+IF((INDEX($C$17:$AAT$17,GB$17-1)=Simulador!$I$72),GA59,0)","v":0},{"$f":"+IF((INDEX($C$17:$AAT$17,GC$17-1)=Simulador!$I$72),GB59,0)","v":0},{"$f":"+IF((INDEX($C$17:$AAT$17,GD$17-1)=Simulador!$I$72),GC59,0)","v":0},{"$f":"+IF((INDEX($C$17:$AAT$17,GE$17-1)=Simulador!$I$72),GD59,0)","v":0},{"$f":"+IF((INDEX($C$17:$AAT$17,GF$17-1)=Simulador!$I$72),GE59,0)","v":0},{"$f":"+IF((INDEX($C$17:$AAT$17,GG$17-1)=Simulador!$I$72),GF59,0)","v":0},{"$f":"+IF((INDEX($C$17:$AAT$17,GH$17-1)=Simulador!$I$72),GG59,0)","v":0},{"$f":"+IF((INDEX($C$17:$AAT$17,GI$17-1)=Simulador!$I$72),GH59,0)","v":0},{"$f":"+IF((INDEX($C$17:$AAT$17,GJ$17-1)=Simulador!$I$72),GI59,0)","v":0},{"$f":"+IF((INDEX($C$17:$AAT$17,GK$17-1)=Simulador!$I$72),GJ59,0)","v":0},{"$f":"+IF((INDEX($C$17:$AAT$17,GL$17-1)=Simulador!$I$72),GK59,0)","v":0},{"$f":"+IF((INDEX($C$17:$AAT$17,GM$17-1)=Simulador!$I$72),GL59,0)","v":0},{"$f":"+IF((INDEX($C$17:$AAT$17,GN$17-1)=Simulador!$I$72),GM59,0)","v":0},{"$f":"+IF((INDEX($C$17:$AAT$17,GO$17-1)=Simulador!$I$72),GN59,0)","v":0},{"$f":"+IF((INDEX($C$17:$AAT$17,GP$17-1)=Simulador!$I$72),GO59,0)","v":0},{"$f":"+IF((INDEX($C$17:$AAT$17,GQ$17-1)=Simulador!$I$72),GP59,0)","v":0},{"$f":"+IF((INDEX($C$17:$AAT$17,GR$17-1)=Simulador!$I$72),GQ59,0)","v":0},{"$f":"+IF((INDEX($C$17:$AAT$17,GS$17-1)=Simulador!$I$72),GR59,0)","v":0},{"$f":"+IF((INDEX($C$17:$AAT$17,GT$17-1)=Simulador!$I$72),GS59,0)","v":0},{"$f":"+IF((INDEX($C$17:$AAT$17,GU$17-1)=Simulador!$I$72),GT59,0)","v":0},{"$f":"+IF((INDEX($C$17:$AAT$17,GV$17-1)=Simulador!$I$72),GU59,0)","v":0},{"$f":"+IF((INDEX($C$17:$AAT$17,GW$17-1)=Simulador!$I$72),GV59,0)","v":0},{"$f":"+IF((INDEX($C$17:$AAT$17,GX$17-1)=Simulador!$I$72),GW59,0)","v":0},{"$f":"+IF((INDEX($C$17:$AAT$17,GY$17-1)=Simulador!$I$72),GX59,0)","v":0},{"$f":"+IF((INDEX($C$17:$AAT$17,GZ$17-1)=Simulador!$I$72),GY59,0)","v":0},{"$f":"+IF((INDEX($C$17:$AAT$17,HA$17-1)=Simulador!$I$72),GZ59,0)","v":0},{"$f":"+IF((INDEX($C$17:$AAT$17,HB$17-1)=Simulador!$I$72),HA59,0)","v":0},{"$f":"+IF((INDEX($C$17:$AAT$17,HC$17-1)=Simulador!$I$72),HB59,0)","v":0},{"$f":"+IF((INDEX($C$17:$AAT$17,HD$17-1)=Simulador!$I$72),HC59,0)","v":0},{"$f":"+IF((INDEX($C$17:$AAT$17,HE$17-1)=Simulador!$I$72),HD59,0)","v":0},{"$f":"+IF((INDEX($C$17:$AAT$17,HF$17-1)=Simulador!$I$72),HE59,0)","v":0},{"$f":"+IF((INDEX($C$17:$AAT$17,HG$17-1)=Simulador!$I$72),HF59,0)","v":0},{"$f":"+IF((INDEX($C$17:$AAT$17,HH$17-1)=Simulador!$I$72),HG59,0)","v":0},{"$f":"+IF((INDEX($C$17:$AAT$17,HI$17-1)=Simulador!$I$72),HH59,0)","v":0},{"$f":"+IF((INDEX($C$17:$AAT$17,HJ$17-1)=Simulador!$I$72),HI59,0)","v":0},{"$f":"+IF((INDEX($C$17:$AAT$17,HK$17-1)=Simulador!$I$72),HJ59,0)","v":0},{"$f":"+IF((INDEX($C$17:$AAT$17,HL$17-1)=Simulador!$I$72),HK59,0)","v":0},{"$f":"+IF((INDEX($C$17:$AAT$17,HM$17-1)=Simulador!$I$72),HL59,0)","v":0},{"$f":"+IF((INDEX($C$17:$AAT$17,HN$17-1)=Simulador!$I$72),HM59,0)","v":0},{"$f":"+IF((INDEX($C$17:$AAT$17,HO$17-1)=Simulador!$I$72),HN59,0)","v":0},{"$f":"+IF((INDEX($C$17:$AAT$17,HP$17-1)=Simulador!$I$72),HO59,0)","v":0},{"$f":"+IF((INDEX($C$17:$AAT$17,HQ$17-1)=Simulador!$I$72),HP59,0)","v":0},{"$f":"+IF((INDEX($C$17:$AAT$17,HR$17-1)=Simulador!$I$72),HQ59,0)","v":0},{"$f":"+IF((INDEX($C$17:$AAT$17,HS$17-1)=Simulador!$I$72),HR59,0)","v":0},{"$f":"+IF((INDEX($C$17:$AAT$17,HT$17-1)=Simulador!$I$72),HS59,0)","v":0},{"$f":"+IF((INDEX($C$17:$AAT$17,HU$17-1)=Simulador!$I$72),HT59,0)","v":0},{"$f":"+IF((INDEX($C$17:$AAT$17,HV$17-1)=Simulador!$I$72),HU59,0)","v":0},{"$f":"+IF((INDEX($C$17:$AAT$17,HW$17-1)=Simulador!$I$72),HV59,0)","v":0},{"$f":"+IF((INDEX($C$17:$AAT$17,HX$17-1)=Simulador!$I$72),HW59,0)","v":0},{"$f":"+IF((INDEX($C$17:$AAT$17,HY$17-1)=Simulador!$I$72),HX59,0)","v":0},{"$f":"+IF((INDEX($C$17:$AAT$17,HZ$17-1)=Simulador!$I$72),HY59,0)","v":0},{"$f":"+IF((INDEX($C$17:$AAT$17,IA$17-1)=Simulador!$I$72),HZ59,0)","v":0},{"$f":"+IF((INDEX($C$17:$AAT$17,IB$17-1)=Simulador!$I$72),IA59,0)","v":0},{"$f":"+IF((INDEX($C$17:$AAT$17,IC$17-1)=Simulador!$I$72),IB59,0)","v":0},{"$f":"+IF((INDEX($C$17:$AAT$17,ID$17-1)=Simulador!$I$72),IC59,0)","v":0},{"$f":"+IF((INDEX($C$17:$AAT$17,IE$17-1)=Simulador!$I$72),ID59,0)","v":0},{"$f":"+IF((INDEX($C$17:$AAT$17,IF$17-1)=Simulador!$I$72),IE59,0)","v":0},{"$f":"+IF((INDEX($C$17:$AAT$17,IG$17-1)=Simulador!$I$72),IF59,0)","v":0},{"$f":"+IF((INDEX($C$17:$AAT$17,IH$17-1)=Simulador!$I$72),IG59,0)","v":0},{"$f":"+IF((INDEX($C$17:$AAT$17,II$17-1)=Simulador!$I$72),IH59,0)","v":0},{"$f":"+IF((INDEX($C$17:$AAT$17,IJ$17-1)=Simulador!$I$72),II59,0)","v":0},{"$f":"+IF((INDEX($C$17:$AAT$17,IK$17-1)=Simulador!$I$72),IJ59,0)","v":0},{"$f":"+IF((INDEX($C$17:$AAT$17,IL$17-1)=Simulador!$I$72),IK59,0)","v":0},{"$f":"+IF((INDEX($C$17:$AAT$17,IM$17-1)=Simulador!$I$72),IL59,0)","v":0},{"$f":"+IF((INDEX($C$17:$AAT$17,IN$17-1)=Simulador!$I$72),IM59,0)","v":0},{"$f":"+IF((INDEX($C$17:$AAT$17,IO$17-1)=Simulador!$I$72),IN59,0)","v":0},{"$f":"+IF((INDEX($C$17:$AAT$17,IP$17-1)=Simulador!$I$72),IO59,0)","v":0},{"$f":"+IF((INDEX($C$17:$AAT$17,IQ$17-1)=Simulador!$I$72),IP59,0)","v":0},{"$f":"+IF((INDEX($C$17:$AAT$17,IR$17-1)=Simulador!$I$72),IQ59,0)","v":0},{"$f":"+IF((INDEX($C$17:$AAT$17,IS$17-1)=Simulador!$I$72),IR59,0)","v":0},{"$f":"+IF((INDEX($C$17:$AAT$17,IT$17-1)=Simulador!$I$72),IS59,0)","v":0},{"$f":"+IF((INDEX($C$17:$AAT$17,IU$17-1)=Simulador!$I$72),IT59,0)","v":0},{"$f":"+IF((INDEX($C$17:$AAT$17,IV$17-1)=Simulador!$I$72),IU59,0)","v":0},{"$f":"+IF((INDEX($C$17:$AAT$17,IW$17-1)=Simulador!$I$72),IV59,0)","v":0},{"$f":"+IF((INDEX($C$17:$AAT$17,IX$17-1)=Simulador!$I$72),IW59,0)","v":0},{"$f":"+IF((INDEX($C$17:$AAT$17,IY$17-1)=Simulador!$I$72),IX59,0)","v":0},{"$f":"+IF((INDEX($C$17:$AAT$17,IZ$17-1)=Simulador!$I$72),IY59,0)","v":0},{"$f":"+IF((INDEX($C$17:$AAT$17,JA$17-1)=Simulador!$I$72),IZ59,0)","v":0},{"$f":"+IF((INDEX($C$17:$AAT$17,JB$17-1)=Simulador!$I$72),JA59,0)","v":0},{"$f":"+IF((INDEX($C$17:$AAT$17,JC$17-1)=Simulador!$I$72),JB59,0)","v":0},{"$f":"+IF((INDEX($C$17:$AAT$17,JD$17-1)=Simulador!$I$72),JC59,0)","v":0},{"$f":"+IF((INDEX($C$17:$AAT$17,JE$17-1)=Simulador!$I$72),JD59,0)","v":0},{"$f":"+IF((INDEX($C$17:$AAT$17,JF$17-1)=Simulador!$I$72),JE59,0)","v":0},{"$f":"+IF((INDEX($C$17:$AAT$17,JG$17-1)=Simulador!$I$72),JF59,0)","v":0},{"$f":"+IF((INDEX($C$17:$AAT$17,JH$17-1)=Simulador!$I$72),JG59,0)","v":0},{"$f":"+IF((INDEX($C$17:$AAT$17,JI$17-1)=Simulador!$I$72),JH59,0)","v":0},{"$f":"+IF((INDEX($C$17:$AAT$17,JJ$17-1)=Simulador!$I$72),JI59,0)","v":0},{"$f":"+IF((INDEX($C$17:$AAT$17,JK$17-1)=Simulador!$I$72),JJ59,0)","v":0},{"$f":"+IF((INDEX($C$17:$AAT$17,JL$17-1)=Simulador!$I$72),JK59,0)","v":0},{"$f":"+IF((INDEX($C$17:$AAT$17,JM$17-1)=Simulador!$I$72),JL59,0)","v":0},{"$f":"+IF((INDEX($C$17:$AAT$17,JN$17-1)=Simulador!$I$72),JM59,0)","v":0},{"$f":"+IF((INDEX($C$17:$AAT$17,JO$17-1)=Simulador!$I$72),JN59,0)","v":0},{"$f":"+IF((INDEX($C$17:$AAT$17,JP$17-1)=Simulador!$I$72),JO59,0)","v":0},{"$f":"+IF((INDEX($C$17:$AAT$17,JQ$17-1)=Simulador!$I$72),JP59,0)","v":0},{"$f":"+IF((INDEX($C$17:$AAT$17,JR$17-1)=Simulador!$I$72),JQ59,0)","v":0},{"$f":"+IF((INDEX($C$17:$AAT$17,JS$17-1)=Simulador!$I$72),JR59,0)","v":0},{"$f":"+IF((INDEX($C$17:$AAT$17,JT$17-1)=Simulador!$I$72),JS59,0)","v":0},{"$f":"+IF((INDEX($C$17:$AAT$17,JU$17-1)=Simulador!$I$72),JT59,0)","v":0},{"$f":"+IF((INDEX($C$17:$AAT$17,JV$17-1)=Simulador!$I$72),JU59,0)","v":0},{"$f":"+IF((INDEX($C$17:$AAT$17,JW$17-1)=Simulador!$I$72),JV59,0)","v":0},{"$f":"+IF((INDEX($C$17:$AAT$17,JX$17-1)=Simulador!$I$72),JW59,0)","v":0},{"$f":"+IF((INDEX($C$17:$AAT$17,JY$17-1)=Simulador!$I$72),JX59,0)","v":0},{"$f":"+IF((INDEX($C$17:$AAT$17,JZ$17-1)=Simulador!$I$72),JY59,0)","v":0},{"$f":"+IF((INDEX($C$17:$AAT$17,KA$17-1)=Simulador!$I$72),JZ59,0)","v":0},{"$f":"+IF((INDEX($C$17:$AAT$17,KB$17-1)=Simulador!$I$72),KA59,0)","v":0},{"$f":"+IF((INDEX($C$17:$AAT$17,KC$17-1)=Simulador!$I$72),KB59,0)","v":0},{"$f":"+IF((INDEX($C$17:$AAT$17,KD$17-1)=Simulador!$I$72),KC59,0)","v":0},{"$f":"+IF((INDEX($C$17:$AAT$17,KE$17-1)=Simulador!$I$72),KD59,0)","v":0},{"$f":"+IF((INDEX($C$17:$AAT$17,KF$17-1)=Simulador!$I$72),KE59,0)","v":0},{"$f":"+IF((INDEX($C$17:$AAT$17,KG$17-1)=Simulador!$I$72),KF59,0)","v":0},{"$f":"+IF((INDEX($C$17:$AAT$17,KH$17-1)=Simulador!$I$72),KG59,0)","v":0},{"$f":"+IF((INDEX($C$17:$AAT$17,KI$17-1)=Simulador!$I$72),KH59,0)","v":0},{"$f":"+IF((INDEX($C$17:$AAT$17,KJ$17-1)=Simulador!$I$72),KI59,0)","v":0},{"$f":"+IF((INDEX($C$17:$AAT$17,KK$17-1)=Simulador!$I$72),KJ59,0)","v":0},{"$f":"+IF((INDEX($C$17:$AAT$17,KL$17-1)=Simulador!$I$72),KK59,0)","v":0},{"$f":"+IF((INDEX($C$17:$AAT$17,KM$17-1)=Simulador!$I$72),KL59,0)","v":0},{"$f":"+IF((INDEX($C$17:$AAT$17,KN$17-1)=Simulador!$I$72),KM59,0)","v":0},{"$f":"+IF((INDEX($C$17:$AAT$17,KO$17-1)=Simulador!$I$72),KN59,0)","v":0},{"$f":"+IF((INDEX($C$17:$AAT$17,KP$17-1)=Simulador!$I$72),KO59,0)","v":0},{"$f":"+IF((INDEX($C$17:$AAT$17,KQ$17-1)=Simulador!$I$72),KP59,0)","v":0},{"$f":"+IF((INDEX($C$17:$AAT$17,KR$17-1)=Simulador!$I$72),KQ59,0)","v":0},{"$f":"+IF((INDEX($C$17:$AAT$17,KS$17-1)=Simulador!$I$72),KR59,0)","v":0},{"$f":"+IF((INDEX($C$17:$AAT$17,KT$17-1)=Simulador!$I$72),KS59,0)","v":0},{"$f":"+IF((INDEX($C$17:$AAT$17,KU$17-1)=Simulador!$I$72),KT59,0)","v":0},{"$f":"+IF((INDEX($C$17:$AAT$17,KV$17-1)=Simulador!$I$72),KU59,0)","v":0},{"$f":"+IF((INDEX($C$17:$AAT$17,KW$17-1)=Simulador!$I$72),KV59,0)","v":0},{"$f":"+IF((INDEX($C$17:$AAT$17,KX$17-1)=Simulador!$I$72),KW59,0)","v":0},{"$f":"+IF((INDEX($C$17:$AAT$17,KY$17-1)=Simulador!$I$72),KX59,0)","v":0},{"$f":"+IF((INDEX($C$17:$AAT$17,KZ$17-1)=Simulador!$I$72),KY59,0)","v":0},{"$f":"+IF((INDEX($C$17:$AAT$17,LA$17-1)=Simulador!$I$72),KZ59,0)","v":0},{"$f":"+IF((INDEX($C$17:$AAT$17,LB$17-1)=Simulador!$I$72),LA59,0)","v":0},{"$f":"+IF((INDEX($C$17:$AAT$17,LC$17-1)=Simulador!$I$72),LB59,0)","v":0},{"$f":"+IF((INDEX($C$17:$AAT$17,LD$17-1)=Simulador!$I$72),LC59,0)","v":0},{"$f":"+IF((INDEX($C$17:$AAT$17,LE$17-1)=Simulador!$I$72),LD59,0)","v":0},{"$f":"+IF((INDEX($C$17:$AAT$17,LF$17-1)=Simulador!$I$72),LE59,0)","v":0},{"$f":"+IF((INDEX($C$17:$AAT$17,LG$17-1)=Simulador!$I$72),LF59,0)","v":0},{"$f":"+IF((INDEX($C$17:$AAT$17,LH$17-1)=Simulador!$I$72),LG59,0)","v":0},{"$f":"+IF((INDEX($C$17:$AAT$17,LI$17-1)=Simulador!$I$72),LH59,0)","v":0},{"$f":"+IF((INDEX($C$17:$AAT$17,LJ$17-1)=Simulador!$I$72),LI59,0)","v":0},{"$f":"+IF((INDEX($C$17:$AAT$17,LK$17-1)=Simulador!$I$72),LJ59,0)","v":0},{"$f":"+IF((INDEX($C$17:$AAT$17,LL$17-1)=Simulador!$I$72),LK59,0)","v":0},{"$f":"+IF((INDEX($C$17:$AAT$17,LM$17-1)=Simulador!$I$72),LL59,0)","v":0},{"$f":"+IF((INDEX($C$17:$AAT$17,LN$17-1)=Simulador!$I$72),LM59,0)","v":0},{"$f":"+IF((INDEX($C$17:$AAT$17,LO$17-1)=Simulador!$I$72),LN59,0)","v":0},{"$f":"+IF((INDEX($C$17:$AAT$17,LP$17-1)=Simulador!$I$72),LO59,0)","v":0},{"$f":"+IF((INDEX($C$17:$AAT$17,LQ$17-1)=Simulador!$I$72),LP59,0)","v":0},{"$f":"+IF((INDEX($C$17:$AAT$17,LR$17-1)=Simulador!$I$72),LQ59,0)","v":0},{"$f":"+IF((INDEX($C$17:$AAT$17,LS$17-1)=Simulador!$I$72),LR59,0)","v":0},{"$f":"+IF((INDEX($C$17:$AAT$17,LT$17-1)=Simulador!$I$72),LS59,0)","v":0},{"$f":"+IF((INDEX($C$17:$AAT$17,LU$17-1)=Simulador!$I$72),LT59,0)","v":0},{"$f":"+IF((INDEX($C$17:$AAT$17,LV$17-1)=Simulador!$I$72),LU59,0)","v":0},{"$f":"+IF((INDEX($C$17:$AAT$17,LW$17-1)=Simulador!$I$72),LV59,0)","v":0},{"$f":"+IF((INDEX($C$17:$AAT$17,LX$17-1)=Simulador!$I$72),LW59,0)","v":0},{"$f":"+IF((INDEX($C$17:$AAT$17,LY$17-1)=Simulador!$I$72),LX59,0)","v":0},{"$f":"+IF((INDEX($C$17:$AAT$17,LZ$17-1)=Simulador!$I$72),LY59,0)","v":0},{"$f":"+IF((INDEX($C$17:$AAT$17,MA$17-1)=Simulador!$I$72),LZ59,0)","v":0},{"$f":"+IF((INDEX($C$17:$AAT$17,MB$17-1)=Simulador!$I$72),MA59,0)","v":0},{"$f":"+IF((INDEX($C$17:$AAT$17,MC$17-1)=Simulador!$I$72),MB59,0)","v":0},{"$f":"+IF((INDEX($C$17:$AAT$17,MD$17-1)=Simulador!$I$72),MC59,0)","v":0},{"$f":"+IF((INDEX($C$17:$AAT$17,ME$17-1)=Simulador!$I$72),MD59,0)","v":0},{"$f":"+IF((INDEX($C$17:$AAT$17,MF$17-1)=Simulador!$I$72),ME59,0)","v":0},{"$f":"+IF((INDEX($C$17:$AAT$17,MG$17-1)=Simulador!$I$72),MF59,0)","v":0},{"$f":"+IF((INDEX($C$17:$AAT$17,MH$17-1)=Simulador!$I$72),MG59,0)","v":0},{"$f":"+IF((INDEX($C$17:$AAT$17,MI$17-1)=Simulador!$I$72),MH59,0)","v":0},{"$f":"+IF((INDEX($C$17:$AAT$17,MJ$17-1)=Simulador!$I$72),MI59,0)","v":0},{"$f":"+IF((INDEX($C$17:$AAT$17,MK$17-1)=Simulador!$I$72),MJ59,0)","v":0},{"$f":"+IF((INDEX($C$17:$AAT$17,ML$17-1)=Simulador!$I$72),MK59,0)","v":0},{"$f":"+IF((INDEX($C$17:$AAT$17,MM$17-1)=Simulador!$I$72),ML59,0)","v":0},{"$f":"+IF((INDEX($C$17:$AAT$17,MN$17-1)=Simulador!$I$72),MM59,0)","v":0},{"$f":"+IF((INDEX($C$17:$AAT$17,MO$17-1)=Simulador!$I$72),MN59,0)","v":0},{"$f":"+IF((INDEX($C$17:$AAT$17,MP$17-1)=Simulador!$I$72),MO59,0)","v":0},{"$f":"+IF((INDEX($C$17:$AAT$17,MQ$17-1)=Simulador!$I$72),MP59,0)","v":0},{"$f":"+IF((INDEX($C$17:$AAT$17,MR$17-1)=Simulador!$I$72),MQ59,0)","v":0},{"$f":"+IF((INDEX($C$17:$AAT$17,MS$17-1)=Simulador!$I$72),MR59,0)","v":0},{"$f":"+IF((INDEX($C$17:$AAT$17,MT$17-1)=Simulador!$I$72),MS59,0)","v":0},{"$f":"+IF((INDEX($C$17:$AAT$17,MU$17-1)=Simulador!$I$72),MT59,0)","v":0},{"$f":"+IF((INDEX($C$17:$AAT$17,MV$17-1)=Simulador!$I$72),MU59,0)","v":0},{"$f":"+IF((INDEX($C$17:$AAT$17,MW$17-1)=Simulador!$I$72),MV59,0)","v":0},{"$f":"+IF((INDEX($C$17:$AAT$17,MX$17-1)=Simulador!$I$72),MW59,0)","v":0},{"$f":"+IF((INDEX($C$17:$AAT$17,MY$17-1)=Simulador!$I$72),MX59,0)","v":0},{"$f":"+IF((INDEX($C$17:$AAT$17,MZ$17-1)=Simulador!$I$72),MY59,0)","v":0},{"$f":"+IF((INDEX($C$17:$AAT$17,NA$17-1)=Simulador!$I$72),MZ59,0)","v":0},{"$f":"+IF((INDEX($C$17:$AAT$17,NB$17-1)=Simulador!$I$72),NA59,0)","v":0},{"$f":"+IF((INDEX($C$17:$AAT$17,NC$17-1)=Simulador!$I$72),NB59,0)","v":0},{"$f":"+IF((INDEX($C$17:$AAT$17,ND$17-1)=Simulador!$I$72),NC59,0)","v":17.380000000000006},{"$f":"+IF((INDEX($C$17:$AAT$17,NE$17-1)=Simulador!$I$72),ND59,0)","v":0},{"$f":"+IF((INDEX($C$17:$AAT$17,NF$17-1)=Simulador!$I$72),NE59,0)","v":0},{"$f":"+IF((INDEX($C$17:$AAT$17,NG$17-1)=Simulador!$I$72),NF59,0)","v":0},{"$f":"+IF((INDEX($C$17:$AAT$17,NH$17-1)=Simulador!$I$72),NG59,0)","v":0},{"$f":"+IF((INDEX($C$17:$AAT$17,NI$17-1)=Simulador!$I$72),NH59,0)","v":0},{"$f":"+IF((INDEX($C$17:$AAT$17,NJ$17-1)=Simulador!$I$72),NI59,0)","v":0},{"$f":"+IF((INDEX($C$17:$AAT$17,NK$17-1)=Simulador!$I$72),NJ59,0)","v":0},{"$f":"+IF((INDEX($C$17:$AAT$17,NL$17-1)=Simulador!$I$72),NK59,0)","v":0},{"$f":"+IF((INDEX($C$17:$AAT$17,NM$17-1)=Simulador!$I$72),NL59,0)","v":0},{"$f":"+IF((INDEX($C$17:$AAT$17,NN$17-1)=Simulador!$I$72),NM59,0)","v":0},{"$f":"+IF((INDEX($C$17:$AAT$17,NO$17-1)=Simulador!$I$72),NN59,0)","v":0},{"$f":"+IF((INDEX($C$17:$AAT$17,NP$17-1)=Simulador!$I$72),NO59,0)","v":0},{"$f":"+IF((INDEX($C$17:$AAT$17,NQ$17-1)=Simulador!$I$72),NP59,0)","v":0},{"$f":"+IF((INDEX($C$17:$AAT$17,NR$17-1)=Simulador!$I$72),NQ59,0)","v":0},{"$f":"+IF((INDEX($C$17:$AAT$17,NS$17-1)=Simulador!$I$72),NR59,0)","v":0},{"$f":"+IF((INDEX($C$17:$AAT$17,NT$17-1)=Simulador!$I$72),NS59,0)","v":0},{"$f":"+IF((INDEX($C$17:$AAT$17,NU$17-1)=Simulador!$I$72),NT59,0)","v":0},{"$f":"+IF((INDEX($C$17:$AAT$17,NV$17-1)=Simulador!$I$72),NU59,0)","v":0},{"$f":"+IF((INDEX($C$17:$AAT$17,NW$17-1)=Simulador!$I$72),NV59,0)","v":0},{"$f":"+IF((INDEX($C$17:$AAT$17,NX$17-1)=Simulador!$I$72),NW59,0)","v":0},{"$f":"+IF((INDEX($C$17:$AAT$17,NY$17-1)=Simulador!$I$72),NX59,0)","v":0},{"$f":"+IF((INDEX($C$17:$AAT$17,NZ$17-1)=Simulador!$I$72),NY59,0)","v":0},{"$f":"+IF((INDEX($C$17:$AAT$17,OA$17-1)=Simulador!$I$72),NZ59,0)","v":0},{"$f":"+IF((INDEX($C$17:$AAT$17,OB$17-1)=Simulador!$I$72),OA59,0)","v":0},{"$f":"+IF((INDEX($C$17:$AAT$17,OC$17-1)=Simulador!$I$72),OB59,0)","v":0},{"$f":"+IF((INDEX($C$17:$AAT$17,OD$17-1)=Simulador!$I$72),OC59,0)","v":0},{"$f":"+IF((INDEX($C$17:$AAT$17,OE$17-1)=Simulador!$I$72),OD59,0)","v":0},{"$f":"+IF((INDEX($C$17:$AAT$17,OF$17-1)=Simulador!$I$72),OE59,0)","v":0},{"$f":"+IF((INDEX($C$17:$AAT$17,OG$17-1)=Simulador!$I$72),OF59,0)","v":0},{"$f":"+IF((INDEX($C$17:$AAT$17,OH$17-1)=Simulador!$I$72),OG59,0)","v":0},{"$f":"+IF((INDEX($C$17:$AAT$17,OI$17-1)=Simulador!$I$72),OH59,0)","v":0},{"$f":"+IF((INDEX($C$17:$AAT$17,OJ$17-1)=Simulador!$I$72),OI59,0)","v":0},{"$f":"+IF((INDEX($C$17:$AAT$17,OK$17-1)=Simulador!$I$72),OJ59,0)","v":0},{"$f":"+IF((INDEX($C$17:$AAT$17,OL$17-1)=Simulador!$I$72),OK59,0)","v":0},{"$f":"+IF((INDEX($C$17:$AAT$17,OM$17-1)=Simulador!$I$72),OL59,0)","v":0},{"$f":"+IF((INDEX($C$17:$AAT$17,ON$17-1)=Simulador!$I$72),OM59,0)","v":0},{"$f":"+IF((INDEX($C$17:$AAT$17,OO$17-1)=Simulador!$I$72),ON59,0)","v":0},{"$f":"+IF((INDEX($C$17:$AAT$17,OP$17-1)=Simulador!$I$72),OO59,0)","v":0},{"$f":"+IF((INDEX($C$17:$AAT$17,OQ$17-1)=Simulador!$I$72),OP59,0)","v":0},{"$f":"+IF((INDEX($C$17:$AAT$17,OR$17-1)=Simulador!$I$72),OQ59,0)","v":0},{"$f":"+IF((INDEX($C$17:$AAT$17,OS$17-1)=Simulador!$I$72),OR59,0)","v":0},{"$f":"+IF((INDEX($C$17:$AAT$17,OT$17-1)=Simulador!$I$72),OS59,0)","v":0},{"$f":"+IF((INDEX($C$17:$AAT$17,OU$17-1)=Simulador!$I$72),OT59,0)","v":0},{"$f":"+IF((INDEX($C$17:$AAT$17,OV$17-1)=Simulador!$I$72),OU59,0)","v":0},{"$f":"+IF((INDEX($C$17:$AAT$17,OW$17-1)=Simulador!$I$72),OV59,0)","v":0},{"$f":"+IF((INDEX($C$17:$AAT$17,OX$17-1)=Simulador!$I$72),OW59,0)","v":0},{"$f":"+IF((INDEX($C$17:$AAT$17,OY$17-1)=Simulador!$I$72),OX59,0)","v":0},{"$f":"+IF((INDEX($C$17:$AAT$17,OZ$17-1)=Simulador!$I$72),OY59,0)","v":0},{"$f":"+IF((INDEX($C$17:$AAT$17,PA$17-1)=Simulador!$I$72),OZ59,0)","v":0},{"$f":"+IF((INDEX($C$17:$AAT$17,PB$17-1)=Simulador!$I$72),PA59,0)","v":0},{"$f":"+IF((INDEX($C$17:$AAT$17,PC$17-1)=Simulador!$I$72),PB59,0)","v":0},{"$f":"+IF((INDEX($C$17:$AAT$17,PD$17-1)=Simulador!$I$72),PC59,0)","v":0},{"$f":"+IF((INDEX($C$17:$AAT$17,PE$17-1)=Simulador!$I$72),PD59,0)","v":0},{"$f":"+IF((INDEX($C$17:$AAT$17,PF$17-1)=Simulador!$I$72),PE59,0)","v":0},{"$f":"+IF((INDEX($C$17:$AAT$17,PG$17-1)=Simulador!$I$72),PF59,0)","v":0},{"$f":"+IF((INDEX($C$17:$AAT$17,PH$17-1)=Simulador!$I$72),PG59,0)","v":0},{"$f":"+IF((INDEX($C$17:$AAT$17,PI$17-1)=Simulador!$I$72),PH59,0)","v":0},{"$f":"+IF((INDEX($C$17:$AAT$17,PJ$17-1)=Simulador!$I$72),PI59,0)","v":0},{"$f":"+IF((INDEX($C$17:$AAT$17,PK$17-1)=Simulador!$I$72),PJ59,0)","v":0},{"$f":"+IF((INDEX($C$17:$AAT$17,PL$17-1)=Simulador!$I$72),PK59,0)","v":0},{"$f":"+IF((INDEX($C$17:$AAT$17,PM$17-1)=Simulador!$I$72),PL59,0)","v":0},{"$f":"+IF((INDEX($C$17:$AAT$17,PN$17-1)=Simulador!$I$72),PM59,0)","v":0},{"$f":"+IF((INDEX($C$17:$AAT$17,PO$17-1)=Simulador!$I$72),PN59,0)","v":0},{"$f":"+IF((INDEX($C$17:$AAT$17,PP$17-1)=Simulador!$I$72),PO59,0)","v":0},{"$f":"+IF((INDEX($C$17:$AAT$17,PQ$17-1)=Simulador!$I$72),PP59,0)","v":0},{"$f":"+IF((INDEX($C$17:$AAT$17,PR$17-1)=Simulador!$I$72),PQ59,0)","v":0},{"$f":"+IF((INDEX($C$17:$AAT$17,PS$17-1)=Simulador!$I$72),PR59,0)","v":0},{"$f":"+IF((INDEX($C$17:$AAT$17,PT$17-1)=Simulador!$I$72),PS59,0)","v":0},{"$f":"+IF((INDEX($C$17:$AAT$17,PU$17-1)=Simulador!$I$72),PT59,0)","v":0},{"$f":"+IF((INDEX($C$17:$AAT$17,PV$17-1)=Simulador!$I$72),PU59,0)","v":0},{"$f":"+IF((INDEX($C$17:$AAT$17,PW$17-1)=Simulador!$I$72),PV59,0)","v":0},{"$f":"+IF((INDEX($C$17:$AAT$17,PX$17-1)=Simulador!$I$72),PW59,0)","v":0},{"$f":"+IF((INDEX($C$17:$AAT$17,PY$17-1)=Simulador!$I$72),PX59,0)","v":0},{"$f":"+IF((INDEX($C$17:$AAT$17,PZ$17-1)=Simulador!$I$72),PY59,0)","v":0},{"$f":"+IF((INDEX($C$17:$AAT$17,QA$17-1)=Simulador!$I$72),PZ59,0)","v":0},{"$f":"+IF((INDEX($C$17:$AAT$17,QB$17-1)=Simulador!$I$72),QA59,0)","v":0},{"$f":"+IF((INDEX($C$17:$AAT$17,QC$17-1)=Simulador!$I$72),QB59,0)","v":0},{"$f":"+IF((INDEX($C$17:$AAT$17,QD$17-1)=Simulador!$I$72),QC59,0)","v":0},{"$f":"+IF((INDEX($C$17:$AAT$17,QE$17-1)=Simulador!$I$72),QD59,0)","v":0},{"$f":"+IF((INDEX($C$17:$AAT$17,QF$17-1)=Simulador!$I$72),QE59,0)","v":0},{"$f":"+IF((INDEX($C$17:$AAT$17,QG$17-1)=Simulador!$I$72),QF59,0)","v":0},{"$f":"+IF((INDEX($C$17:$AAT$17,QH$17-1)=Simulador!$I$72),QG59,0)","v":0},{"$f":"+IF((INDEX($C$17:$AAT$17,QI$17-1)=Simulador!$I$72),QH59,0)","v":0},{"$f":"+IF((INDEX($C$17:$AAT$17,QJ$17-1)=Simulador!$I$72),QI59,0)","v":0},{"$f":"+IF((INDEX($C$17:$AAT$17,QK$17-1)=Simulador!$I$72),QJ59,0)","v":0},{"$f":"+IF((INDEX($C$17:$AAT$17,QL$17-1)=Simulador!$I$72),QK59,0)","v":0},{"$f":"+IF((INDEX($C$17:$AAT$17,QM$17-1)=Simulador!$I$72),QL59,0)","v":0},{"$f":"+IF((INDEX($C$17:$AAT$17,QN$17-1)=Simulador!$I$72),QM59,0)","v":0},{"$f":"+IF((INDEX($C$17:$AAT$17,QO$17-1)=Simulador!$I$72),QN59,0)","v":0},{"$f":"+IF((INDEX($C$17:$AAT$17,QP$17-1)=Simulador!$I$72),QO59,0)","v":0},{"$f":"+IF((INDEX($C$17:$AAT$17,QQ$17-1)=Simulador!$I$72),QP59,0)","v":0},{"$f":"+IF((INDEX($C$17:$AAT$17,QR$17-1)=Simulador!$I$72),QQ59,0)","v":0},{"$f":"+IF((INDEX($C$17:$AAT$17,QS$17-1)=Simulador!$I$72),QR59,0)","v":0},{"$f":"+IF((INDEX($C$17:$AAT$17,QT$17-1)=Simulador!$I$72),QS59,0)","v":0},{"$f":"+IF((INDEX($C$17:$AAT$17,QU$17-1)=Simulador!$I$72),QT59,0)","v":0},{"$f":"+IF((INDEX($C$17:$AAT$17,QV$17-1)=Simulador!$I$72),QU59,0)","v":0},{"$f":"+IF((INDEX($C$17:$AAT$17,QW$17-1)=Simulador!$I$72),QV59,0)","v":0},{"$f":"+IF((INDEX($C$17:$AAT$17,QX$17-1)=Simulador!$I$72),QW59,0)","v":0},{"$f":"+IF((INDEX($C$17:$AAT$17,QY$17-1)=Simulador!$I$72),QX59,0)","v":0},{"$f":"+IF((INDEX($C$17:$AAT$17,QZ$17-1)=Simulador!$I$72),QY59,0)","v":0},{"$f":"+IF((INDEX($C$17:$AAT$17,RA$17-1)=Simulador!$I$72),QZ59,0)","v":0},{"$f":"+IF((INDEX($C$17:$AAT$17,RB$17-1)=Simulador!$I$72),RA59,0)","v":0},{"$f":"+IF((INDEX($C$17:$AAT$17,RC$17-1)=Simulador!$I$72),RB59,0)","v":0},{"$f":"+IF((INDEX($C$17:$AAT$17,RD$17-1)=Simulador!$I$72),RC59,0)","v":0},{"$f":"+IF((INDEX($C$17:$AAT$17,RE$17-1)=Simulador!$I$72),RD59,0)","v":0},{"$f":"+IF((INDEX($C$17:$AAT$17,RF$17-1)=Simulador!$I$72),RE59,0)","v":0},{"$f":"+IF((INDEX($C$17:$AAT$17,RG$17-1)=Simulador!$I$72),RF59,0)","v":0},{"$f":"+IF((INDEX($C$17:$AAT$17,RH$17-1)=Simulador!$I$72),RG59,0)","v":0},{"$f":"+IF((INDEX($C$17:$AAT$17,RI$17-1)=Simulador!$I$72),RH59,0)","v":0},{"$f":"+IF((INDEX($C$17:$AAT$17,RJ$17-1)=Simulador!$I$72),RI59,0)","v":0},{"$f":"+IF((INDEX($C$17:$AAT$17,RK$17-1)=Simulador!$I$72),RJ59,0)","v":0},{"$f":"+IF((INDEX($C$17:$AAT$17,RL$17-1)=Simulador!$I$72),RK59,0)","v":0},{"$f":"+IF((INDEX($C$17:$AAT$17,RM$17-1)=Simulador!$I$72),RL59,0)","v":0},{"$f":"+IF((INDEX($C$17:$AAT$17,RN$17-1)=Simulador!$I$72),RM59,0)","v":0},{"$f":"+IF((INDEX($C$17:$AAT$17,RO$17-1)=Simulador!$I$72),RN59,0)","v":0},{"$f":"+IF((INDEX($C$17:$AAT$17,RP$17-1)=Simulador!$I$72),RO59,0)","v":0},{"$f":"+IF((INDEX($C$17:$AAT$17,RQ$17-1)=Simulador!$I$72),RP59,0)","v":0},{"$f":"+IF((INDEX($C$17:$AAT$17,RR$17-1)=Simulador!$I$72),RQ59,0)","v":0},{"$f":"+IF((INDEX($C$17:$AAT$17,RS$17-1)=Simulador!$I$72),RR59,0)","v":0},{"$f":"+IF((INDEX($C$17:$AAT$17,RT$17-1)=Simulador!$I$72),RS59,0)","v":0},{"$f":"+IF((INDEX($C$17:$AAT$17,RU$17-1)=Simulador!$I$72),RT59,0)","v":0},{"$f":"+IF((INDEX($C$17:$AAT$17,RV$17-1)=Simulador!$I$72),RU59,0)","v":0},{"$f":"+IF((INDEX($C$17:$AAT$17,RW$17-1)=Simulador!$I$72),RV59,0)","v":0},{"$f":"+IF((INDEX($C$17:$AAT$17,RX$17-1)=Simulador!$I$72),RW59,0)","v":0},{"$f":"+IF((INDEX($C$17:$AAT$17,RY$17-1)=Simulador!$I$72),RX59,0)","v":0},{"$f":"+IF((INDEX($C$17:$AAT$17,RZ$17-1)=Simulador!$I$72),RY59,0)","v":0},{"$f":"+IF((INDEX($C$17:$AAT$17,SA$17-1)=Simulador!$I$72),RZ59,0)","v":0},{"$f":"+IF((INDEX($C$17:$AAT$17,SB$17-1)=Simulador!$I$72),SA59,0)","v":0},{"$f":"+IF((INDEX($C$17:$AAT$17,SC$17-1)=Simulador!$I$72),SB59,0)","v":0},{"$f":"+IF((INDEX($C$17:$AAT$17,SD$17-1)=Simulador!$I$72),SC59,0)","v":0},{"$f":"+IF((INDEX($C$17:$AAT$17,SE$17-1)=Simulador!$I$72),SD59,0)","v":0},{"$f":"+IF((INDEX($C$17:$AAT$17,SF$17-1)=Simulador!$I$72),SE59,0)","v":0},{"$f":"+IF((INDEX($C$17:$AAT$17,SG$17-1)=Simulador!$I$72),SF59,0)","v":0},{"$f":"+IF((INDEX($C$17:$AAT$17,SH$17-1)=Simulador!$I$72),SG59,0)","v":0},{"$f":"+IF((INDEX($C$17:$AAT$17,SI$17-1)=Simulador!$I$72),SH59,0)","v":0},{"$f":"+IF((INDEX($C$17:$AAT$17,SJ$17-1)=Simulador!$I$72),SI59,0)","v":0},{"$f":"+IF((INDEX($C$17:$AAT$17,SK$17-1)=Simulador!$I$72),SJ59,0)","v":0},{"$f":"+IF((INDEX($C$17:$AAT$17,SL$17-1)=Simulador!$I$72),SK59,0)","v":0},{"$f":"+IF((INDEX($C$17:$AAT$17,SM$17-1)=Simulador!$I$72),SL59,0)","v":0},{"$f":"+IF((INDEX($C$17:$AAT$17,SN$17-1)=Simulador!$I$72),SM59,0)","v":0},{"$f":"+IF((INDEX($C$17:$AAT$17,SO$17-1)=Simulador!$I$72),SN59,0)","v":0},{"$f":"+IF((INDEX($C$17:$AAT$17,SP$17-1)=Simulador!$I$72),SO59,0)","v":0},{"$f":"+IF((INDEX($C$17:$AAT$17,SQ$17-1)=Simulador!$I$72),SP59,0)","v":0},{"$f":"+IF((INDEX($C$17:$AAT$17,SR$17-1)=Simulador!$I$72),SQ59,0)","v":0},{"$f":"+IF((INDEX($C$17:$AAT$17,SS$17-1)=Simulador!$I$72),SR59,0)","v":0},{"$f":"+IF((INDEX($C$17:$AAT$17,ST$17-1)=Simulador!$I$72),SS59,0)","v":0},{"$f":"+IF((INDEX($C$17:$AAT$17,SU$17-1)=Simulador!$I$72),ST59,0)","v":0},{"$f":"+IF((INDEX($C$17:$AAT$17,SV$17-1)=Simulador!$I$72),SU59,0)","v":0},{"$f":"+IF((INDEX($C$17:$AAT$17,SW$17-1)=Simulador!$I$72),SV59,0)","v":0},{"$f":"+IF((INDEX($C$17:$AAT$17,SX$17-1)=Simulador!$I$72),SW59,0)","v":0},{"$f":"+IF((INDEX($C$17:$AAT$17,SY$17-1)=Simulador!$I$72),SX59,0)","v":0},{"$f":"+IF((INDEX($C$17:$AAT$17,SZ$17-1)=Simulador!$I$72),SY59,0)","v":0},{"$f":"+IF((INDEX($C$17:$AAT$17,TA$17-1)=Simulador!$I$72),SZ59,0)","v":0},{"$f":"+IF((INDEX($C$17:$AAT$17,TB$17-1)=Simulador!$I$72),TA59,0)","v":0},{"$f":"+IF((INDEX($C$17:$AAT$17,TC$17-1)=Simulador!$I$72),TB59,0)","v":0},{"$f":"+IF((INDEX($C$17:$AAT$17,TD$17-1)=Simulador!$I$72),TC59,0)","v":0},{"$f":"+IF((INDEX($C$17:$AAT$17,TE$17-1)=Simulador!$I$72),TD59,0)","v":0},{"$f":"+IF((INDEX($C$17:$AAT$17,TF$17-1)=Simulador!$I$72),TE59,0)","v":0},{"$f":"+IF((INDEX($C$17:$AAT$17,TG$17-1)=Simulador!$I$72),TF59,0)","v":0},{"$f":"+IF((INDEX($C$17:$AAT$17,TH$17-1)=Simulador!$I$72),TG59,0)","v":0},{"$f":"+IF((INDEX($C$17:$AAT$17,TI$17-1)=Simulador!$I$72),TH59,0)","v":0},{"$f":"+IF((INDEX($C$17:$AAT$17,TJ$17-1)=Simulador!$I$72),TI59,0)","v":0},{"$f":"+IF((INDEX($C$17:$AAT$17,TK$17-1)=Simulador!$I$72),TJ59,0)","v":0},{"$f":"+IF((INDEX($C$17:$AAT$17,TL$17-1)=Simulador!$I$72),TK59,0)","v":0},{"$f":"+IF((INDEX($C$17:$AAT$17,TM$17-1)=Simulador!$I$72),TL59,0)","v":0},{"$f":"+IF((INDEX($C$17:$AAT$17,TN$17-1)=Simulador!$I$72),TM59,0)","v":0},{"$f":"+IF((INDEX($C$17:$AAT$17,TO$17-1)=Simulador!$I$72),TN59,0)","v":0},{"$f":"+IF((INDEX($C$17:$AAT$17,TP$17-1)=Simulador!$I$72),TO59,0)","v":0},{"$f":"+IF((INDEX($C$17:$AAT$17,TQ$17-1)=Simulador!$I$72),TP59,0)","v":0},{"$f":"+IF((INDEX($C$17:$AAT$17,TR$17-1)=Simulador!$I$72),TQ59,0)","v":0},{"$f":"+IF((INDEX($C$17:$AAT$17,TS$17-1)=Simulador!$I$72),TR59,0)","v":0},{"$f":"+IF((INDEX($C$17:$AAT$17,TT$17-1)=Simulador!$I$72),TS59,0)","v":0},{"$f":"+IF((INDEX($C$17:$AAT$17,TU$17-1)=Simulador!$I$72),TT59,0)","v":0},{"$f":"+IF((INDEX($C$17:$AAT$17,TV$17-1)=Simulador!$I$72),TU59,0)","v":0},{"$f":"+IF((INDEX($C$17:$AAT$17,TW$17-1)=Simulador!$I$72),TV59,0)","v":0},{"$f":"+IF((INDEX($C$17:$AAT$17,TX$17-1)=Simulador!$I$72),TW59,0)","v":0},{"$f":"+IF((INDEX($C$17:$AAT$17,TY$17-1)=Simulador!$I$72),TX59,0)","v":0},{"$f":"+IF((INDEX($C$17:$AAT$17,TZ$17-1)=Simulador!$I$72),TY59,0)","v":0},{"$f":"+IF((INDEX($C$17:$AAT$17,UA$17-1)=Simulador!$I$72),TZ59,0)","v":0},{"$f":"+IF((INDEX($C$17:$AAT$17,UB$17-1)=Simulador!$I$72),UA59,0)","v":0},{"$f":"+IF((INDEX($C$17:$AAT$17,UC$17-1)=Simulador!$I$72),UB59,0)","v":0},{"$f":"+IF((INDEX($C$17:$AAT$17,UD$17-1)=Simulador!$I$72),UC59,0)","v":0},{"$f":"+IF((INDEX($C$17:$AAT$17,UE$17-1)=Simulador!$I$72),UD59,0)","v":0},{"$f":"+IF((INDEX($C$17:$AAT$17,UF$17-1)=Simulador!$I$72),UE59,0)","v":0},{"$f":"+IF((INDEX($C$17:$AAT$17,UG$17-1)=Simulador!$I$72),UF59,0)","v":0},{"$f":"+IF((INDEX($C$17:$AAT$17,UH$17-1)=Simulador!$I$72),UG59,0)","v":0},{"$f":"+IF((INDEX($C$17:$AAT$17,UI$17-1)=Simulador!$I$72),UH59,0)","v":0},{"$f":"+IF((INDEX($C$17:$AAT$17,UJ$17-1)=Simulador!$I$72),UI59,0)","v":0},{"$f":"+IF((INDEX($C$17:$AAT$17,UK$17-1)=Simulador!$I$72),UJ59,0)","v":0},{"$f":"+IF((INDEX($C$17:$AAT$17,UL$17-1)=Simulador!$I$72),UK59,0)","v":0},{"$f":"+IF((INDEX($C$17:$AAT$17,UM$17-1)=Simulador!$I$72),UL59,0)","v":0},{"$f":"+IF((INDEX($C$17:$AAT$17,UN$17-1)=Simulador!$I$72),UM59,0)","v":0},{"$f":"+IF((INDEX($C$17:$AAT$17,UO$17-1)=Simulador!$I$72),UN59,0)","v":0},{"$f":"+IF((INDEX($C$17:$AAT$17,UP$17-1)=Simulador!$I$72),UO59,0)","v":0},{"$f":"+IF((INDEX($C$17:$AAT$17,UQ$17-1)=Simulador!$I$72),UP59,0)","v":0},{"$f":"+IF((INDEX($C$17:$AAT$17,UR$17-1)=Simulador!$I$72),UQ59,0)","v":0},{"$f":"+IF((INDEX($C$17:$AAT$17,US$17-1)=Simulador!$I$72),UR59,0)","v":0},{"$f":"+IF((INDEX($C$17:$AAT$17,UT$17-1)=Simulador!$I$72),US59,0)","v":0},{"$f":"+IF((INDEX($C$17:$AAT$17,UU$17-1)=Simulador!$I$72),UT59,0)","v":0},{"$f":"+IF((INDEX($C$17:$AAT$17,UV$17-1)=Simulador!$I$72),UU59,0)","v":0},{"$f":"+IF((INDEX($C$17:$AAT$17,UW$17-1)=Simulador!$I$72),UV59,0)","v":0},{"$f":"+IF((INDEX($C$17:$AAT$17,UX$17-1)=Simulador!$I$72),UW59,0)","v":0},{"$f":"+IF((INDEX($C$17:$AAT$17,UY$17-1)=Simulador!$I$72),UX59,0)","v":0},{"$f":"+IF((INDEX($C$17:$AAT$17,UZ$17-1)=Simulador!$I$72),UY59,0)","v":0},{"$f":"+IF((INDEX($C$17:$AAT$17,VA$17-1)=Simulador!$I$72),UZ59,0)","v":0},{"$f":"+IF((INDEX($C$17:$AAT$17,VB$17-1)=Simulador!$I$72),VA59,0)","v":0},{"$f":"+IF((INDEX($C$17:$AAT$17,VC$17-1)=Simulador!$I$72),VB59,0)","v":0},{"$f":"+IF((INDEX($C$17:$AAT$17,VD$17-1)=Simulador!$I$72),VC59,0)","v":0},{"$f":"+IF((INDEX($C$17:$AAT$17,VE$17-1)=Simulador!$I$72),VD59,0)","v":0},{"$f":"+IF((INDEX($C$17:$AAT$17,VF$17-1)=Simulador!$I$72),VE59,0)","v":0},{"$f":"+IF((INDEX($C$17:$AAT$17,VG$17-1)=Simulador!$I$72),VF59,0)","v":0},{"$f":"+IF((INDEX($C$17:$AAT$17,VH$17-1)=Simulador!$I$72),VG59,0)","v":0},{"$f":"+IF((INDEX($C$17:$AAT$17,VI$17-1)=Simulador!$I$72),VH59,0)","v":0},{"$f":"+IF((INDEX($C$17:$AAT$17,VJ$17-1)=Simulador!$I$72),VI59,0)","v":0},{"$f":"+IF((INDEX($C$17:$AAT$17,VK$17-1)=Simulador!$I$72),VJ59,0)","v":0},{"$f":"+IF((INDEX($C$17:$AAT$17,VL$17-1)=Simulador!$I$72),VK59,0)","v":0},{"$f":"+IF((INDEX($C$17:$AAT$17,VM$17-1)=Simulador!$I$72),VL59,0)","v":0},{"$f":"+IF((INDEX($C$17:$AAT$17,VN$17-1)=Simulador!$I$72),VM59,0)","v":0},{"$f":"+IF((INDEX($C$17:$AAT$17,VO$17-1)=Simulador!$I$72),VN59,0)","v":0},{"$f":"+IF((INDEX($C$17:$AAT$17,VP$17-1)=Simulador!$I$72),VO59,0)","v":0},{"$f":"+IF((INDEX($C$17:$AAT$17,VQ$17-1)=Simulador!$I$72),VP59,0)","v":0},{"$f":"+IF((INDEX($C$17:$AAT$17,VR$17-1)=Simulador!$I$72),VQ59,0)","v":0},{"$f":"+IF((INDEX($C$17:$AAT$17,VS$17-1)=Simulador!$I$72),VR59,0)","v":0},{"$f":"+IF((INDEX($C$17:$AAT$17,VT$17-1)=Simulador!$I$72),VS59,0)","v":0},{"$f":"+IF((INDEX($C$17:$AAT$17,VU$17-1)=Simulador!$I$72),VT59,0)","v":0},{"$f":"+IF((INDEX($C$17:$AAT$17,VV$17-1)=Simulador!$I$72),VU59,0)","v":0},{"$f":"+IF((INDEX($C$17:$AAT$17,VW$17-1)=Simulador!$I$72),VV59,0)","v":0},{"$f":"+IF((INDEX($C$17:$AAT$17,VX$17-1)=Simulador!$I$72),VW59,0)","v":0},{"$f":"+IF((INDEX($C$17:$AAT$17,VY$17-1)=Simulador!$I$72),VX59,0)","v":0},{"$f":"+IF((INDEX($C$17:$AAT$17,VZ$17-1)=Simulador!$I$72),VY59,0)","v":0},{"$f":"+IF((INDEX($C$17:$AAT$17,WA$17-1)=Simulador!$I$72),VZ59,0)","v":0},{"$f":"+IF((INDEX($C$17:$AAT$17,WB$17-1)=Simulador!$I$72),WA59,0)","v":0},{"$f":"+IF((INDEX($C$17:$AAT$17,WC$17-1)=Simulador!$I$72),WB59,0)","v":0},{"$f":"+IF((INDEX($C$17:$AAT$17,WD$17-1)=Simulador!$I$72),WC59,0)","v":0},{"$f":"+IF((INDEX($C$17:$AAT$17,WE$17-1)=Simulador!$I$72),WD59,0)","v":0},{"$f":"+IF((INDEX($C$17:$AAT$17,WF$17-1)=Simulador!$I$72),WE59,0)","v":0},{"$f":"+IF((INDEX($C$17:$AAT$17,WG$17-1)=Simulador!$I$72),WF59,0)","v":0},{"$f":"+IF((INDEX($C$17:$AAT$17,WH$17-1)=Simulador!$I$72),WG59,0)","v":0},{"$f":"+IF((INDEX($C$17:$AAT$17,WI$17-1)=Simulador!$I$72),WH59,0)","v":0},{"$f":"+IF((INDEX($C$17:$AAT$17,WJ$17-1)=Simulador!$I$72),WI59,0)","v":0},{"$f":"+IF((INDEX($C$17:$AAT$17,WK$17-1)=Simulador!$I$72),WJ59,0)","v":0},{"$f":"+IF((INDEX($C$17:$AAT$17,WL$17-1)=Simulador!$I$72),WK59,0)","v":0},{"$f":"+IF((INDEX($C$17:$AAT$17,WM$17-1)=Simulador!$I$72),WL59,0)","v":0},{"$f":"+IF((INDEX($C$17:$AAT$17,WN$17-1)=Simulador!$I$72),WM59,0)","v":0},{"$f":"+IF((INDEX($C$17:$AAT$17,WO$17-1)=Simulador!$I$72),WN59,0)","v":0},{"$f":"+IF((INDEX($C$17:$AAT$17,WP$17-1)=Simulador!$I$72),WO59,0)","v":0},{"$f":"+IF((INDEX($C$17:$AAT$17,WQ$17-1)=Simulador!$I$72),WP59,0)","v":0},{"$f":"+IF((INDEX($C$17:$AAT$17,WR$17-1)=Simulador!$I$72),WQ59,0)","v":0},{"$f":"+IF((INDEX($C$17:$AAT$17,WS$17-1)=Simulador!$I$72),WR59,0)","v":0},{"$f":"+IF((INDEX($C$17:$AAT$17,WT$17-1)=Simulador!$I$72),WS59,0)","v":0},{"$f":"+IF((INDEX($C$17:$AAT$17,WU$17-1)=Simulador!$I$72),WT59,0)","v":0},{"$f":"+IF((INDEX($C$17:$AAT$17,WV$17-1)=Simulador!$I$72),WU59,0)","v":0},{"$f":"+IF((INDEX($C$17:$AAT$17,WW$17-1)=Simulador!$I$72),WV59,0)","v":0},{"$f":"+IF((INDEX($C$17:$AAT$17,WX$17-1)=Simulador!$I$72),WW59,0)","v":0},{"$f":"+IF((INDEX($C$17:$AAT$17,WY$17-1)=Simulador!$I$72),WX59,0)","v":0},{"$f":"+IF((INDEX($C$17:$AAT$17,WZ$17-1)=Simulador!$I$72),WY59,0)","v":0},{"$f":"+IF((INDEX($C$17:$AAT$17,XA$17-1)=Simulador!$I$72),WZ59,0)","v":0},{"$f":"+IF((INDEX($C$17:$AAT$17,XB$17-1)=Simulador!$I$72),XA59,0)","v":0},{"$f":"+IF((INDEX($C$17:$AAT$17,XC$17-1)=Simulador!$I$72),XB59,0)","v":0},{"$f":"+IF((INDEX($C$17:$AAT$17,XD$17-1)=Simulador!$I$72),XC59,0)","v":0},{"$f":"+IF((INDEX($C$17:$AAT$17,XE$17-1)=Simulador!$I$72),XD59,0)","v":0},{"$f":"+IF((INDEX($C$17:$AAT$17,XF$17-1)=Simulador!$I$72),XE59,0)","v":0},{"$f":"+IF((INDEX($C$17:$AAT$17,XG$17-1)=Simulador!$I$72),XF59,0)","v":0},{"$f":"+IF((INDEX($C$17:$AAT$17,XH$17-1)=Simulador!$I$72),XG59,0)","v":0},{"$f":"+IF((INDEX($C$17:$AAT$17,XI$17-1)=Simulador!$I$72),XH59,0)","v":0},{"$f":"+IF((INDEX($C$17:$AAT$17,XJ$17-1)=Simulador!$I$72),XI59,0)","v":0},{"$f":"+IF((INDEX($C$17:$AAT$17,XK$17-1)=Simulador!$I$72),XJ59,0)","v":0},{"$f":"+IF((INDEX($C$17:$AAT$17,XL$17-1)=Simulador!$I$72),XK59,0)","v":0},{"$f":"+IF((INDEX($C$17:$AAT$17,XM$17-1)=Simulador!$I$72),XL59,0)","v":0},{"$f":"+IF((INDEX($C$17:$AAT$17,XN$17-1)=Simulador!$I$72),XM59,0)","v":0},{"$f":"+IF((INDEX($C$17:$AAT$17,XO$17-1)=Simulador!$I$72),XN59,0)","v":0},{"$f":"+IF((INDEX($C$17:$AAT$17,XP$17-1)=Simulador!$I$72),XO59,0)","v":0},{"$f":"+IF((INDEX($C$17:$AAT$17,XQ$17-1)=Simulador!$I$72),XP59,0)","v":0},{"$f":"+IF((INDEX($C$17:$AAT$17,XR$17-1)=Simulador!$I$72),XQ59,0)","v":0},{"$f":"+IF((INDEX($C$17:$AAT$17,XS$17-1)=Simulador!$I$72),XR59,0)","v":0},{"$f":"+IF((INDEX($C$17:$AAT$17,XT$17-1)=Simulador!$I$72),XS59,0)","v":0},{"$f":"+IF((INDEX($C$17:$AAT$17,XU$17-1)=Simulador!$I$72),XT59,0)","v":0},{"$f":"+IF((INDEX($C$17:$AAT$17,XV$17-1)=Simulador!$I$72),XU59,0)","v":0},{"$f":"+IF((INDEX($C$17:$AAT$17,XW$17-1)=Simulador!$I$72),XV59,0)","v":0},{"$f":"+IF((INDEX($C$17:$AAT$17,XX$17-1)=Simulador!$I$72),XW59,0)","v":0},{"$f":"+IF((INDEX($C$17:$AAT$17,XY$17-1)=Simulador!$I$72),XX59,0)","v":0},{"$f":"+IF((INDEX($C$17:$AAT$17,XZ$17-1)=Simulador!$I$72),XY59,0)","v":0},{"$f":"+IF((INDEX($C$17:$AAT$17,YA$17-1)=Simulador!$I$72),XZ59,0)","v":0},{"$f":"+IF((INDEX($C$17:$AAT$17,YB$17-1)=Simulador!$I$72),YA59,0)","v":0},{"$f":"+IF((INDEX($C$17:$AAT$17,YC$17-1)=Simulador!$I$72),YB59,0)","v":0},{"$f":"+IF((INDEX($C$17:$AAT$17,YD$17-1)=Simulador!$I$72),YC59,0)","v":0},{"$f":"+IF((INDEX($C$17:$AAT$17,YE$17-1)=Simulador!$I$72),YD59,0)","v":0},{"$f":"+IF((INDEX($C$17:$AAT$17,YF$17-1)=Simulador!$I$72),YE59,0)","v":0},{"$f":"+IF((INDEX($C$17:$AAT$17,YG$17-1)=Simulador!$I$72),YF59,0)","v":0},{"$f":"+IF((INDEX($C$17:$AAT$17,YH$17-1)=Simulador!$I$72),YG59,0)","v":0},{"$f":"+IF((INDEX($C$17:$AAT$17,YI$17-1)=Simulador!$I$72),YH59,0)","v":0},{"$f":"+IF((INDEX($C$17:$AAT$17,YJ$17-1)=Simulador!$I$72),YI59,0)","v":0},{"$f":"+IF((INDEX($C$17:$AAT$17,YK$17-1)=Simulador!$I$72),YJ59,0)","v":0},{"$f":"+IF((INDEX($C$17:$AAT$17,YL$17-1)=Simulador!$I$72),YK59,0)","v":0},{"$f":"+IF((INDEX($C$17:$AAT$17,YM$17-1)=Simulador!$I$72),YL59,0)","v":0},{"$f":"+IF((INDEX($C$17:$AAT$17,YN$17-1)=Simulador!$I$72),YM59,0)","v":0},{"$f":"+IF((INDEX($C$17:$AAT$17,YO$17-1)=Simulador!$I$72),YN59,0)","v":0},{"$f":"+IF((INDEX($C$17:$AAT$17,YP$17-1)=Simulador!$I$72),YO59,0)","v":0},{"$f":"+IF((INDEX($C$17:$AAT$17,YQ$17-1)=Simulador!$I$72),YP59,0)","v":0},{"$f":"+IF((INDEX($C$17:$AAT$17,YR$17-1)=Simulador!$I$72),YQ59,0)","v":0},{"$f":"+IF((INDEX($C$17:$AAT$17,YS$17-1)=Simulador!$I$72),YR59,0)","v":0},{"$f":"+IF((INDEX($C$17:$AAT$17,YT$17-1)=Simulador!$I$72),YS59,0)","v":0},{"$f":"+IF((INDEX($C$17:$AAT$17,YU$17-1)=Simulador!$I$72),YT59,0)","v":0},{"$f":"+IF((INDEX($C$17:$AAT$17,YV$17-1)=Simulador!$I$72),YU59,0)","v":0},{"$f":"+IF((INDEX($C$17:$AAT$17,YW$17-1)=Simulador!$I$72),YV59,0)","v":0},{"$f":"+IF((INDEX($C$17:$AAT$17,YX$17-1)=Simulador!$I$72),YW59,0)","v":0},{"$f":"+IF((INDEX($C$17:$AAT$17,YY$17-1)=Simulador!$I$72),YX59,0)","v":0},{"$f":"+IF((INDEX($C$17:$AAT$17,YZ$17-1)=Simulador!$I$72),YY59,0)","v":0},{"$f":"+IF((INDEX($C$17:$AAT$17,ZA$17-1)=Simulador!$I$72),YZ59,0)","v":0},{"$f":"+IF((INDEX($C$17:$AAT$17,ZB$17-1)=Simulador!$I$72),ZA59,0)","v":0},{"$f":"+IF((INDEX($C$17:$AAT$17,ZC$17-1)=Simulador!$I$72),ZB59,0)","v":0},{"$f":"+IF((INDEX($C$17:$AAT$17,ZD$17-1)=Simulador!$I$72),ZC59,0)","v":0},{"$f":"+IF((INDEX($C$17:$AAT$17,ZE$17-1)=Simulador!$I$72),ZD59,0)","v":0},{"$f":"+IF((INDEX($C$17:$AAT$17,ZF$17-1)=Simulador!$I$72),ZE59,0)","v":0},{"$f":"+IF((INDEX($C$17:$AAT$17,ZG$17-1)=Simulador!$I$72),ZF59,0)","v":0},{"$f":"+IF((INDEX($C$17:$AAT$17,ZH$17-1)=Simulador!$I$72),ZG59,0)","v":0},{"$f":"+IF((INDEX($C$17:$AAT$17,ZI$17-1)=Simulador!$I$72),ZH59,0)","v":0},{"$f":"+IF((INDEX($C$17:$AAT$17,ZJ$17-1)=Simulador!$I$72),ZI59,0)","v":0},{"$f":"+IF((INDEX($C$17:$AAT$17,ZK$17-1)=Simulador!$I$72),ZJ59,0)","v":0},{"$f":"+IF((INDEX($C$17:$AAT$17,ZL$17-1)=Simulador!$I$72),ZK59,0)","v":0},{"$f":"+IF((INDEX($C$17:$AAT$17,ZM$17-1)=Simulador!$I$72),ZL59,0)","v":0},{"$f":"+IF((INDEX($C$17:$AAT$17,ZN$17-1)=Simulador!$I$72),ZM59,0)","v":0},{"$f":"+IF((INDEX($C$17:$AAT$17,ZO$17-1)=Simulador!$I$72),ZN59,0)","v":0},{"$f":"+IF((INDEX($C$17:$AAT$17,ZP$17-1)=Simulador!$I$72),ZO59,0)","v":0},{"$f":"+IF((INDEX($C$17:$AAT$17,ZQ$17-1)=Simulador!$I$72),ZP59,0)","v":0},{"$f":"+IF((INDEX($C$17:$AAT$17,ZR$17-1)=Simulador!$I$72),ZQ59,0)","v":0},{"$f":"+IF((INDEX($C$17:$AAT$17,ZS$17-1)=Simulador!$I$72),ZR59,0)","v":0},{"$f":"+IF((INDEX($C$17:$AAT$17,ZT$17-1)=Simulador!$I$72),ZS59,0)","v":0},{"$f":"+IF((INDEX($C$17:$AAT$17,ZU$17-1)=Simulador!$I$72),ZT59,0)","v":0},{"$f":"+IF((INDEX($C$17:$AAT$17,ZV$17-1)=Simulador!$I$72),ZU59,0)","v":0},{"$f":"+IF((INDEX($C$17:$AAT$17,ZW$17-1)=Simulador!$I$72),ZV59,0)","v":0},{"$f":"+IF((INDEX($C$17:$AAT$17,ZX$17-1)=Simulador!$I$72),ZW59,0)","v":0},{"$f":"+IF((INDEX($C$17:$AAT$17,ZY$17-1)=Simulador!$I$72),ZX59,0)","v":0},{"$f":"+IF((INDEX($C$17:$AAT$17,ZZ$17-1)=Simulador!$I$72),ZY59,0)","v":0},{"$f":"+IF((INDEX($C$17:$AAT$17,AAA$17-1)=Simulador!$I$72),ZZ59,0)","v":0},{"$f":"+IF((INDEX($C$17:$AAT$17,AAB$17-1)=Simulador!$I$72),AAA59,0)","v":0},{"$f":"+IF((INDEX($C$17:$AAT$17,AAC$17-1)=Simulador!$I$72),AAB59,0)","v":0},{"$f":"+IF((INDEX($C$17:$AAT$17,AAD$17-1)=Simulador!$I$72),AAC59,0)","v":0},{"$f":"+IF((INDEX($C$17:$AAT$17,AAE$17-1)=Simulador!$I$72),AAD59,0)","v":0},{"$f":"+IF((INDEX($C$17:$AAT$17,AAF$17-1)=Simulador!$I$72),AAE59,0)","v":0},{"$f":"+IF((INDEX($C$17:$AAT$17,AAG$17-1)=Simulador!$I$72),AAF59,0)","v":0},{"$f":"+IF((INDEX($C$17:$AAT$17,AAH$17-1)=Simulador!$I$72),AAG59,0)","v":0},{"$f":"+IF((INDEX($C$17:$AAT$17,AAI$17-1)=Simulador!$I$72),AAH59,0)","v":0},{"$f":"+IF((INDEX($C$17:$AAT$17,AAJ$17-1)=Simulador!$I$72),AAI59,0)","v":0},{"$f":"+IF((INDEX($C$17:$AAT$17,AAK$17-1)=Simulador!$I$72),AAJ59,0)","v":0},{"$f":"+IF((INDEX($C$17:$AAT$17,AAL$17-1)=Simulador!$I$72),AAK59,0)","v":0},{"$f":"+IF((INDEX($C$17:$AAT$17,AAM$17-1)=Simulador!$I$72),AAL59,0)","v":0},{"$f":"+IF((INDEX($C$17:$AAT$17,AAN$17-1)=Simulador!$I$72),AAM59,0)","v":0},{"$f":"+IF((INDEX($C$17:$AAT$17,AAO$17-1)=Simulador!$I$72),AAN59,0)","v":0},{"$f":"+IF((INDEX($C$17:$AAT$17,AAP$17-1)=Simulador!$I$72),AAO59,0)","v":0},{"$f":"+IF((INDEX($C$17:$AAT$17,AAQ$17-1)=Simulador!$I$72),AAP59,0)","v":0},{"$f":"+IF((INDEX($C$17:$AAT$17,AAR$17-1)=Simulador!$I$72),AAQ59,0)","v":0},{"$f":"+IF((INDEX($C$17:$AAT$17,AAS$17-1)=Simulador!$I$72),AAR59,0)","v":0},{"$f":"+IF((INDEX($C$17:$AAT$17,AAT$17-1)=Simulador!$I$72),AAS59,0)","v":0},{"$f":"+IF((INDEX($C$17:$AAT$17,AAU$17-1)=Simulador!$I$72),AAT59,0)","v":0}]
[null,"Capitalización de interés no bloqueado",0,{"$f":"+IF(D$15=\"Sí\",C58,0)","v":0},0,0,0,0,0,0,0,0,0,0,0.10999999999999999,0,0,0,0,0,0,0,0,0,0,0,0,0,0,0,0,0,0,0,0,0,0,0,0,0,0,0,0,0.38000000000000012,0,0,0,0,0,0,0,0,0,0,0,0,0,0,0,0,0,0,0,0,0,0,0,{"$f":"+IF(BP$15=\"Sí\",BO58,0)","v":0},0,0,0,0,0,0,0,0.64000000000000024,0,0,0,0,0,0,0,0,0,0,0,0,0,0,0,0,0,0,0,0,0,0,0,0,0,0,0,0,0,0,0.73000000000000032,0,0,0,0,0,0,0,0,0,0,0,0,0,0,0,0,0,0,0,0,0,0,0,0,{"$f":"+IF(EB$15=\"Sí\",EA58,0)","v":0},0,0,0.9200000000000006,0,0,0,0,0,0,0,0,0,0,0,0,0,0,0,0,0,0,0,0,0,0,0,0,0,0,0,0,0,0,0,1.2800000000000005,0,0,0,0,0,0,0,0,0,0,0,0,0,0,0,0,0,0,0,0,0,0,0,0,0,0,0,0,{"$f":"+IF(GN$15=\"Sí\",GM58,0)","v":0},0,1.3400000000000005,0,0,0,0,0,0,0,0,0,0,0,0,0,0,0,0,0,0,0,0,0,0,0,0,0,0,0,1.4700000000000006,0,0,0,0,0,0,0,0,0,0,0,0,0,0,0,0,0,0,0,0,0,0,0,0,0,0,0,0,0,0,0,1.9200000000000013,0,{"$f":"+IF(IZ$15=\"Sí\",IY58,0)","v":0},0,0,0,0,0,0,0,0,0,0,0,0,0,0,0,0,0,0,0,0,0,0,0,0,0,0,0,2.100000000000001,0,0,0,0,0,0,0,0,0,0,0,0,0,0,0,0,0,0,0,0,0,0,0,0,0,0,0,0,2.1200000000000014,0,0,0,0,0,0,{"$f":"+IF(LL$15=\"Sí\",LK58,0)","v":0},0,0,0,0,0,0,0,0,0,0,0,0,0,0,0,0,0,0,0,0,0,0,0,0,2.6599999999999997,0,0,0,0,0,0,0,0,0,0,0,0,0,0,0,0,0,0,0,0,0,0,0,0,0,0,0,0,0,0,2.7899999999999996,0,0,0,0,0,0,0,{"$f":"+IF(NX$15=\"Sí\",NW58,0)","v":0},0,0,0,0,0,0,0,0,0,0,0,0,0,0,0,0,0,0,0,0,0,0,2.9000000000000012,0,0,0,0,0,0,0,0,0,0,0,0,0,0,0,0,0,0,0,0,0,0,0,0,0,0,0,0,0,3.0999999999999992,0,0,0,0,0,0,0,0,0,0,{"$f":"+IF(QJ$15=\"Sí\",QI58,0)","v":0},0,0,0,0,0,0,0,0,0,0,0,0,0,0,0,0,0,0,3.4000000000000017,0,0,0,0,0,0,0,0,0,0,0,0,0,0,0,0,0,0,0,0,0,0,0,0,0,0,0,0,0,0,3.7200000000000024,0,0,0,0,0,0,0,0,0,0,0,0,0,{"$f":"+IF(SV$15=\"Sí\",SU58,0)","v":0},0,0,0,0,0,0,0,0,0,0,0,0,0,0,0,3.7,0,0,0,0,0,0,0,0,0,0,0,0,0,0,0,0,0,0,0,0,0,0,0,0,0,0,0,0,0,3.9899999999999998,0,0,0,0,0,0,0,0,0,0,0,0,0,0,0,0,0,{"$f":"+IF(VH$15=\"Sí\",VG58,0)","v":0},0,0,0,0,0,0,0,0,0,3.9800000000000013,0,0,0,0,0,0,0,0,0,0,0,0,0,0,0,0,0,0,0,0,0,0,0,0,0,0,0,0,0,0,0,0,4.9500000000000011,0,0,0,0,0,0,0,0,0,0,0,0,0,0,0,0,0,0,0,0,{"$f":"+IF(XT$15=\"Sí\",XS58,0)","v":0},0,0,0,0,0,0,0,4.4400000000000004,0,0,0,0,0,0,0,0,0,0,0,0,0,0,0,0,0,0,0,0,0,0,0,0,0,0,0,0,0,0,0,5.23,0,0,0,0,0,0,0,0,0,0,0,0,0,0,0,0,0,0,0,0,0,0,0,{"$f":"+IF(AAF$15=\"Sí\",AAE58,0)","v":0},0,0,0,0,0,5.1999999999999975,0,0,0,0,0,0,0,0,0]
[null,"Ahorro Acumulado + interés",{"$f":"+IF(Simulador!$C$50=\"Si\",C53+C54,C53+C55)","v":10},{"$f":"+IF(Simulador!$C$50=\"Si\",D53+D54,D53+D55)","v":60},{"$f":"+IF(Simulador!$C$50=\"Si\",E53+E54,E53+E55)","v":60},{"$f":"+IF(Simulador!$C$50=\"Si\",F53+F54,F53+F55)","v":60},{"$f":"+IF(Simulador!$C$50=\"Si\",G53+G54,G53+G55)","v":60},{"$f":"+IF(Simulador!$C$50=\"Si\",H53+H54,H53+H55)","v":60},{"$f":"+IF(Simulador!$C$50=\"Si\",I53+I54,I53+I55)","v":60},{"$f":"+IF(Simulador!$C$50=\"Si\",J53+J54,J53+J55)","v":60},{"$f":"+IF(Simulador!$C$50=\"Si\",K53+K54,K53+K55)","v":60},{"$f":"+IF(Simulador!$C$50=\"Si\",L53+L54,L53+L55)","v":60},{"$f":"+IF(Simulador!$C$50=\"Si\",M53+M54,M53+M55)","v":60},{"$f":"+IF(Simulador!$C$50=\"Si\",N53+N54,N53+N55)","v":60},{"$f":"+IF(Simulador!$C$50=\"Si\",O53+O54,O53+O55)","v":60.11},{"$f":"+IF(Simulador!$C$50=\"Si\",P53+P54,P53+P55)","v":60.11},{"$f":"+IF(Simulador!$C$50=\"Si\",Q53+Q54,Q53+Q55)","v":60.11},{"$f":"+IF(Simulador!$C$50=\"Si\",R53+R54,R53+R55)","v":60.11},{"$f":"+IF(Simulador!$C$50=\"Si\",S53+S54,S53+S55)","v":60.11},{"$f":"+IF(Simulador!$C$50=\"Si\",T53+T54,T53+T55)","v":60.11},{"$f":"+IF(Simulador!$C$50=\"Si\",U53+U54,U53+U55)","v":60.11},{"$f":"+IF(Simulador!$C$50=\"Si\",V53+V54,V53+V55)","v":60.11},{"$f":"+IF(Simulador!$C$50=\"Si\",W53+W54,W53+W55)","v":60.11},{"$f":"+IF(Simulador!$C$50=\"Si\",X53+X54,X53+X55)","v":60.11},{"$f":"+IF(Simulador!$C$50=\"Si\",Y53+Y54,Y53+Y55)","v":60.11},{"$f":"+IF(Simulador!$C$50=\"Si\",Z53+Z54,Z53+Z55)","v":60.11},{"$f":"+IF(Simulador!$C$50=\"Si\",AA53+AA54,AA53+AA55)","v":60.11},{"$f":"+IF(Simulador!$C$50=\"Si\",AB53+AB54,AB53+AB55)","v":60.11},{"$f":"+IF(Simulador!$C$50=\"Si\",AC53+AC54,AC53+AC55)","v":60.11},{"$f":"+IF(Simulador!$C$50=\"Si\",AD53+AD54,AD53+AD55)","v":60.11},{"$f":"+IF(Simulador!$C$50=\"Si\",AE53+AE54,AE53+AE55)","v":60.11},{"$f":"+IF(Simulador!$C$50=\"Si\",AF53+AF54,AF53+AF55)","v":60.11},{"$f":"+IF(Simulador!$C$50=\"Si\",AG53+AG54,AG53+AG55)","v":60.11},{"$f":"+IF(Simulador!$C$50=\"Si\",AH53+AH54,AH53+AH55)","v":60.11},{"$f":"+IF(Simulador!$C$50=\"Si\",AI53+AI54,AI53+AI55)","v":110.11},{"$f":"+IF(Simulador!$C$50=\"Si\",AJ53+AJ54,AJ53+AJ55)","v":110.11},{"$f":"+IF(Simulador!$C$50=\"Si\",AK53+AK54,AK53+AK55)","v":110.11},{"$f":"+IF(Simulador!$C$50=\"Si\",AL53+AL54,AL53+AL55)","v":110.11},{"$f":"+IF(Simulador!$C$50=\"Si\",AM53+AM54,AM53+AM55)","v":110.11},{"$f":"+IF(Simulador!$C$50=\"Si\",AN53+AN54,AN53+AN55)","v":110.11},{"$f":"+IF(Simulador!$C$50=\"Si\",AO53+AO54,AO53+AO55)","v":110.11},{"$f":"+IF(Simulador!$C$50=\"Si\",AP53+AP54,AP53+AP55)","v":110.11},{"$f":"+IF(Simulador!$C$50=\"Si\",AQ53+AQ54,AQ53+AQ55)","v":110.11},{"$f":"+IF(Simulador!$C$50=\"Si\",AR53+AR54,AR53+AR55)","v":110.49},{"$f":"+IF(Simulador!$C$50=\"Si\",AS53+AS54,AS53+AS55)","v":110.49},{"$f":"+IF(Simulador!$C$50=\"Si\",AT53+AT54,AT53+AT55)","v":110.49},{"$f":"+IF(Simulador!$C$50=\"Si\",AU53+AU54,AU53+AU55)","v":110.49},{"$f":"+IF(Simulador!$C$50=\"Si\",AV53+AV54,AV53+AV55)","v":110.49},{"$f":"+IF(Simulador!$C$50=\"Si\",AW53+AW54,AW53+AW55)","v":110.49},{"$f":"+IF(Simulador!$C$50=\"Si\",AX53+AX54,AX53+AX55)","v":110.49},{"$f":"+IF(Simulador!$C$50=\"Si\",AY53+AY54,AY53+AY55)","v":110.49},{"$f":"+IF(Simulador!$C$50=\"Si\",AZ53+AZ54,AZ53+AZ55)","v":110.49},{"$f":"+IF(Simulador!$C$50=\"Si\",BA53+BA54,BA53+BA55)","v":110.49},{"$f":"+IF(Simulador!$C$50=\"Si\",BB53+BB54,BB53+BB55)","v":110.49},{"$f":"+IF(Simulador!$C$50=\"Si\",BC53+BC54,BC53+BC55)","v":110.49},{"$f":"+IF(Simulador!$C$50=\"Si\",BD53+BD54,BD53+BD55)","v":110.49},{"$f":"+IF(Simulador!$C$50=\"Si\",BE53+BE54,BE53+BE55)","v":110.49},{"$f":"+IF(Simulador!$C$50=\"Si\",BF53+BF54,BF53+BF55)","v":110.49},{"$f":"+IF(Simulador!$C$50=\"Si\",BG53+BG54,BG53+BG55)","v":110.49},{"$f":"+IF(Simulador!$C$50=\"Si\",BH53+BH54,BH53+BH55)","v":110.49},{"$f":"+IF(Simulador!$C$50=\"Si\",BI53+BI54,BI53+BI55)","v":110.49},{"$f":"+IF(Simulador!$C$50=\"Si\",BJ53+BJ54,BJ53+BJ55)","v":110.49},{"$f":"+IF(Simulador!$C$50=\"Si\",BK53+BK54,BK53+BK55)","v":110.49},{"$f":"+IF(Simulador!$C$50=\"Si\",BL53+BL54,BL53+BL55)","v":110.49},{"$f":"+IF(Simulador!$C$50=\"Si\",BM53+BM54,BM53+BM55)","v":110.49},{"$f":"+IF(Simulador!$C$50=\"Si\",BN53+BN54,BN53+BN55)","v":160.49},{"$f":"+IF(Simulador!$C$50=\"Si\",BO53+BO54,BO53+BO55)","v":160.49},{"$f":"+IF(Simulador!$C$50=\"Si\",BP53+BP54,BP53+BP55)","v":160.49},{"$f":"+IF(Simulador!$C$50=\"Si\",BQ53+BQ54,BQ53+BQ55)","v":160.49},{"$f":"+IF(Simulador!$C$50=\"Si\",BR53+BR54,BR53+BR55)","v":160.49},{"$f":"+IF(Simulador!$C$50=\"Si\",BS53+BS54,BS53+BS55)","v":160.49},{"$f":"+IF(Simulador!$C$50=\"Si\",BT53+BT54,BT53+BT55)","v":160.49},{"$f":"+IF(Simulador!$C$50=\"Si\",BU53+BU54,BU53+BU55)","v":160.49},{"$f":"+IF(Simulador!$C$50=\"Si\",BV53+BV54,BV53+BV55)","v":160.49},{"$f":"+IF(Simulador!$C$50=\"Si\",BW53+BW54,BW53+BW55)","v":160.49},{"$f":"+IF(Simulador!$C$50=\"Si\",BX53+BX54,BX53+BX55)","v":161.13},{"$f":"+IF(Simulador!$C$50=\"Si\",BY53+BY54,BY53+BY55)","v":161.13},{"$f":"+IF(Simulador!$C$50=\"Si\",BZ53+BZ54,BZ53+BZ55)","v":161.13},{"$f":"+IF(Simulador!$C$50=\"Si\",CA53+CA54,CA53+CA55)","v":161.13},{"$f":"+IF(Simulador!$C$50=\"Si\",CB53+CB54,CB53+CB55)","v":161.13},{"$f":"+IF(Simulador!$C$50=\"Si\",CC53+CC54,CC53+CC55)","v":161.13},{"$f":"+IF(Simulador!$C$50=\"Si\",CD53+CD54,CD53+CD55)","v":161.13},{"$f":"+IF(Simulador!$C$50=\"Si\",CE53+CE54,CE53+CE55)","v":161.13},{"$f":"+IF(Simulador!$C$50=\"Si\",CF53+CF54,CF53+CF55)","v":161.13},{"$f":"+IF(Simulador!$C$50=\"Si\",CG53+CG54,CG53+CG55)","v":161.13},{"$f":"+IF(Simulador!$C$50=\"Si\",CH53+CH54,CH53+CH55)","v":161.13},{"$f":"+IF(Simulador!$C$50=\"Si\",CI53+CI54,CI53+CI55)","v":161.13},{"$f":"+IF(Simulador!$C$50=\"Si\",CJ53+CJ54,CJ53+CJ55)","v":161.13},{"$f":"+IF(Simulador!$C$50=\"Si\",CK53+CK54,CK53+CK55)","v":161.13},{"$f":"+IF(Simulador!$C$50=\"Si\",CL53+CL54,CL53+CL55)","v":161.13},{"$f":"+IF(Simulador!$C$50=\"Si\",CM53+CM54,CM53+CM55)","v":161.13},{"$f":"+IF(Simulador!$C$50=\"Si\",CN53+CN54,CN53+CN55)","v":161.13},{"$f":"+IF(Simulador!$C$50=\"Si\",CO53+CO54,CO53+CO55)","v":161.13},{"$f":"+IF(Simulador!$C$50=\"Si\",CP53+CP54,CP53+CP55)","v":161.13},{"$f":"+IF(Simulador!$C$50=\"Si\",CQ53+CQ54,CQ53+CQ55)","v":161.13},{"$f":"+IF(Simulador!$C$50=\"Si\",CR53+CR54,CR53+CR55)","v":211.13},{"$f":"+IF(Simulador!$C$50=\"Si\",CS53+CS54,CS53+CS55)","v":211.13},{"$f":"+IF(Simulador!$C$50=\"Si\",CT53+CT54,CT53+CT55)","v":211.13},{"$f":"+IF(Simulador!$C$50=\"Si\",CU53+CU54,CU53+CU55)","v":211.13},{"$f":"+IF(Simulador!$C$50=\"Si\",CV53+CV54,CV53+CV55)","v":211.13},{"$f":"+IF(Simulador!$C$50=\"Si\",CW53+CW54,CW53+CW55)","v":211.13},{"$f":"+IF(Simulador!$C$50=\"Si\",CX53+CX54,CX53+CX55)","v":211.13},{"$f":"+IF(Simulador!$C$50=\"Si\",CY53+CY54,CY53+CY55)","v":211.13},{"$f":"+IF(Simulador!$C$50=\"Si\",CZ53+CZ54,CZ53+CZ55)","v":211.13},{"$f":"+IF(Simulador!$C$50=\"Si\",DA53+DA54,DA53+DA55)","v":211.13},{"$f":"+IF(Simulador!$C$50=\"Si\",DB53+DB54,DB53+DB55)","v":211.13},{"$f":"+IF(Simulador!$C$50=\"Si\",DC53+DC54,DC53+DC55)","v":211.85999999999999},{"$f":"+IF(Simulador!$C$50=\"Si\",DD53+DD54,DD53+DD55)","v":211.85999999999999},{"$f":"+IF(Simulador!$C$50=\"Si\",DE53+DE54,DE53+DE55)","v":211.85999999999999},{"$f":"+IF(Simulador!$C$50=\"Si\",DF53+DF54,DF53+DF55)","v":211.85999999999999},{"$f":"+IF(Simulador!$C$50=\"Si\",DG53+DG54,DG53+DG55)","v":211.85999999999999},{"$f":"+IF(Simulador!$C$50=\"Si\",DH53+DH54,DH53+DH55)","v":211.85999999999999},{"$f":"+IF(Simulador!$C$50=\"Si\",DI53+DI54,DI53+DI55)","v":211.85999999999999},{"$f":"+IF(Simulador!$C$50=\"Si\",DJ53+DJ54,DJ53+DJ55)","v":211.85999999999999},{"$f":"+IF(Simulador!$C$50=\"Si\",DK53+DK54,DK53+DK55)","v":211.85999999999999},{"$f":"+IF(Simulador!$C$50=\"Si\",DL53+DL54,DL53+DL55)","v":211.85999999999999},{"$f":"+IF(Simulador!$C$50=\"Si\",DM53+DM54,DM53+DM55)","v":211.85999999999999},{"$f":"+IF(Simulador!$C$50=\"Si\",DN53+DN54,DN53+DN55)","v":211.85999999999999},{"$f":"+IF(Simulador!$C$50=\"Si\",DO53+DO54,DO53+DO55)","v":211.85999999999999},{"$f":"+IF(Simulador!$C$50=\"Si\",DP53+DP54,DP53+DP55)","v":211.85999999999999},{"$f":"+IF(Simulador!$C$50=\"Si\",DQ53+DQ54,DQ53+DQ55)","v":211.85999999999999},{"$f":"+IF(Simulador!$C$50=\"Si\",DR53+DR54,DR53+DR55)","v":211.85999999999999},{"$f":"+IF(Simulador!$C$50=\"Si\",DS53+DS54,DS53+DS55)","v":211.85999999999999},{"$f":"+IF(Simulador!$C$50=\"Si\",DT53+DT54,DT53+DT55)","v":211.85999999999999},{"$f":"+IF(Simulador!$C$50=\"Si\",DU53+DU54,DU53+DU55)","v":211.85999999999999},{"$f":"+IF(Simulador!$C$50=\"Si\",DV53+DV54,DV53+DV55)","v":211.85999999999999},{"$f":"+IF(Simulador!$C$50=\"Si\",DW53+DW54,DW53+DW55)","v":261.86},{"$f":"+IF(Simulador!$C$50=\"Si\",DX53+DX54,DX53+DX55)","v":261.86},{"$f":"+IF(Simulador!$C$50=\"Si\",DY53+DY54,DY53+DY55)","v":261.86},{"$f":"+IF(Simulador!$C$50=\"Si\",DZ53+DZ54,DZ53+DZ55)","v":261.86},{"$f":"+IF(Simulador!$C$50=\"Si\",EA53+EA54,EA53+EA55)","v":261.86},{"$f":"+IF(Simulador!$C$50=\"Si\",EB53+EB54,EB53+EB55)","v":261.86},{"$f":"+IF(Simulador!$C$50=\"Si\",EC53+EC54,EC53+EC55)","v":261.86},{"$f":"+IF(Simulador!$C$50=\"Si\",ED53+ED54,ED53+ED55)","v":261.86},{"$f":"+IF(Simulador!$C$50=\"Si\",EE53+EE54,EE53+EE55)","v":262.78000000000003},{"$f":"+IF(Simulador!$C$50=\"Si\",EF53+EF54,EF53+EF55)","v":262.78000000000003},{"$f":"+IF(Simulador!$C$50=\"Si\",EG53+EG54,EG53+EG55)","v":262.78000000000003},{"$f":"+IF(Simulador!$C$50=\"Si\",EH53+EH54,EH53+EH55)","v":262.78000000000003},{"$f":"+IF(Simulador!$C$50=\"Si\",EI53+EI54,EI53+EI55)","v":262.78000000000003},{"$f":"+IF(Simulador!$C$50=\"Si\",EJ53+EJ54,EJ53+EJ55)","v":262.78000000000003},{"$f":"+IF(Simulador!$C$50=\"Si\",EK53+EK54,EK53+EK55)","v":262.78000000000003},{"$f":"+IF(Simulador!$C$50=\"Si\",EL53+EL54,EL53+EL55)","v":262.78000000000003},{"$f":"+IF(Simulador!$C$50=\"Si\",EM53+EM54,EM53+EM55)","v":262.78000000000003},{"$f":"+IF(Simulador!$C$50=\"Si\",EN53+EN54,EN53+EN55)","v":262.78000000000003},{"$f":"+IF(Simulador!$C$50=\"Si\",EO53+EO54,EO53+EO55)","v":262.78000000000003},{"$f":"+IF(Simulador!$C$50=\"Si\",EP53+EP54,EP53+EP55)","v":262.78000000000003},{"$f":"+IF(Simulador!$C$50=\"Si\",EQ53+EQ54,EQ53+EQ55)","v":262.78000000000003},{"$f":"+IF(Simulador!$C$50=\"Si\",ER53+ER54,ER53+ER55)","v":262.78000000000003},{"$f":"+IF(Simulador!$C$50=\"Si\",ES53+ES54,ES53+ES55)","v":262.78000000000003},{"$f":"+IF(Simulador!$C$50=\"Si\",ET53+ET54,ET53+ET55)","v":262.78000000000003},{"$f":"+IF(Simulador!$C$50=\"Si\",EU53+EU54,EU53+EU55)","v":262.78000000000003},{"$f":"+IF(Simulador!$C$50=\"Si\",EV53+EV54,EV53+EV55)","v":262.78000000000003},{"$f":"+IF(Simulador!$C$50=\"Si\",EW53+EW54,EW53+EW55)","v":262.78000000000003},{"$f":"+IF(Simulador!$C$50=\"Si\",EX53+EX54,EX53+EX55)","v":262.78000000000003},{"$f":"+IF(Simulador!$C$50=\"Si\",EY53+EY54,EY53+EY55)","v":262.78000000000003},{"$f":"+IF(Simulador!$C$50=\"Si\",EZ53+EZ54,EZ53+EZ55)","v":262.78000000000003},{"$f":"+IF(Simulador!$C$50=\"Si\",FA53+FA54,FA53+FA55)","v":312.78000000000003},{"$f":"+IF(Simulador!$C$50=\"Si\",FB53+FB54,FB53+FB55)","v":312.78000000000003},{"$f":"+IF(Simulador!$C$50=\"Si\",FC53+FC54,FC53+FC55)","v":312.78000000000003},{"$f":"+IF(Simulador!$C$50=\"Si\",FD53+FD54,FD53+FD55)","v":312.78000000000003},{"$f":"+IF(Simulador!$C$50=\"Si\",FE53+FE54,FE53+FE55)","v":312.78000000000003},{"$f":"+IF(Simulador!$C$50=\"Si\",FF53+FF54,FF53+FF55)","v":312.78000000000003},{"$f":"+IF(Simulador!$C$50=\"Si\",FG53+FG54,FG53+FG55)","v":312.78000000000003},{"$f":"+IF(Simulador!$C$50=\"Si\",FH53+FH54,FH53+FH55)","v":312.78000000000003},{"$f":"+IF(Simulador!$C$50=\"Si\",FI53+FI54,FI53+FI55)","v":312.78000000000003},{"$f":"+IF(Simulador!$C$50=\"Si\",FJ53+FJ54,FJ53+FJ55)","v":312.78000000000003},{"$f":"+IF(Simulador!$C$50=\"Si\",FK53+FK54,FK53+FK55)","v":314.06},{"$f":"+IF(Simulador!$C$50=\"Si\",FL53+FL54,FL53+FL55)","v":314.06},{"$f":"+IF(Simulador!$C$50=\"Si\",FM53+FM54,FM53+FM55)","v":314.06},{"$f":"+IF(Simulador!$C$50=\"Si\",FN53+FN54,FN53+FN55)","v":314.06},{"$f":"+IF(Simulador!$C$50=\"Si\",FO53+FO54,FO53+FO55)","v":314.06},{"$f":"+IF(Simulador!$C$50=\"Si\",FP53+FP54,FP53+FP55)","v":314.06},{"$f":"+IF(Simulador!$C$50=\"Si\",FQ53+FQ54,FQ53+FQ55)","v":314.06},{"$f":"+IF(Simulador!$C$50=\"Si\",FR53+FR54,FR53+FR55)","v":314.06},{"$f":"+IF(Simulador!$C$50=\"Si\",FS53+FS54,FS53+FS55)","v":314.06},{"$f":"+IF(Simulador!$C$50=\"Si\",FT53+FT54,FT53+FT55)","v":314.06},{"$f":"+IF(Simulador!$C$50=\"Si\",FU53+FU54,FU53+FU55)","v":314.06},{"$f":"+IF(Simulador!$C$50=\"Si\",FV53+FV54,FV53+FV55)","v":314.06},{"$f":"+IF(Simulador!$C$50=\"Si\",FW53+FW54,FW53+FW55)","v":314.06},{"$f":"+IF(Simulador!$C$50=\"Si\",FX53+FX54,FX53+FX55)","v":314.06},{"$f":"+IF(Simulador!$C$50=\"Si\",FY53+FY54,FY53+FY55)","v":314.06},{"$f":"+IF(Simulador!$C$50=\"Si\",FZ53+FZ54,FZ53+FZ55)","v":314.06},{"$f":"+IF(Simulador!$C$50=\"Si\",GA53+GA54,GA53+GA55)","v":314.06},{"$f":"+IF(Simulador!$C$50=\"Si\",GB53+GB54,GB53+GB55)","v":314.06},{"$f":"+IF(Simulador!$C$50=\"Si\",GC53+GC54,GC53+GC55)","v":314.06},{"$f":"+IF(Simulador!$C$50=\"Si\",GD53+GD54,GD53+GD55)","v":314.06},{"$f":"+IF(Simulador!$C$50=\"Si\",GE53+GE54,GE53+GE55)","v":314.06},{"$f":"+IF(Simulador!$C$50=\"Si\",GF53+GF54,GF53+GF55)","v":364.06},{"$f":"+IF(Simulador!$C$50=\"Si\",GG53+GG54,GG53+GG55)","v":364.06},{"$f":"+IF(Simulador!$C$50=\"Si\",GH53+GH54,GH53+GH55)","v":364.06},{"$f":"+IF(Simulador!$C$50=\"Si\",GI53+GI54,GI53+GI55)","v":364.06},{"$f":"+IF(Simulador!$C$50=\"Si\",GJ53+GJ54,GJ53+GJ55)","v":364.06},{"$f":"+IF(Simulador!$C$50=\"Si\",GK53+GK54,GK53+GK55)","v":364.06},{"$f":"+IF(Simulador!$C$50=\"Si\",GL53+GL54,GL53+GL55)","v":364.06},{"$f":"+IF(Simulador!$C$50=\"Si\",GM53+GM54,GM53+GM55)","v":364.06},{"$f":"+IF(Simulador!$C$50=\"Si\",GN53+GN54,GN53+GN55)","v":364.06},{"$f":"+IF(Simulador!$C$50=\"Si\",GO53+GO54,GO53+GO55)","v":364.06},{"$f":"+IF(Simulador!$C$50=\"Si\",GP53+GP54,GP53+GP55)","v":365.4},{"$f":"+IF(Simulador!$C$50=\"Si\",GQ53+GQ54,GQ53+GQ55)","v":365.4},{"$f":"+IF(Simulador!$C$50=\"Si\",GR53+GR54,GR53+GR55)","v":365.4},{"$f":"+IF(Simulador!$C$50=\"Si\",GS53+GS54,GS53+GS55)","v":365.4},{"$f":"+IF(Simulador!$C$50=\"Si\",GT53+GT54,GT53+GT55)","v":365.4},{"$f":"+IF(Simulador!$C$50=\"Si\",GU53+GU54,GU53+GU55)","v":365.4},{"$f":"+IF(Simulador!$C$50=\"Si\",GV53+GV54,GV53+GV55)","v":365.4},{"$f":"+IF(Simulador!$C$50=\"Si\",GW53+GW54,GW53+GW55)","v":365.4},{"$f":"+IF(Simulador!$C$50=\"Si\",GX53+GX54,GX53+GX55)","v":365.4},{"$f":"+IF(Simulador!$C$50=\"Si\",GY53+GY54,GY53+GY55)","v":365.4},{"$f":"+IF(Simulador!$C$50=\"Si\",GZ53+GZ54,GZ53+GZ55)","v":365.4},{"$f":"+IF(Simulador!$C$50=\"Si\",HA53+HA54,HA53+HA55)","v":365.4},{"$f":"+IF(Simulador!$C$50=\"Si\",HB53+HB54,HB53+HB55)","v":365.4},{"$f":"+IF(Simulador!$C$50=\"Si\",HC53+HC54,HC53+HC55)","v":365.4},{"$f":"+IF(Simulador!$C$50=\"Si\",HD53+HD54,HD53+HD55)","v":365.4},{"$f":"+IF(Simulador!$C$50=\"Si\",HE53+HE54,HE53+HE55)","v":365.4},{"$f":"+IF(Simulador!$C$50=\"Si\",HF53+HF54,HF53+HF55)","v":365.4},{"$f":"+IF(Simulador!$C$50=\"Si\",HG53+HG54,HG53+HG55)","v":365.4},{"$f":"+IF(Simulador!$C$50=\"Si\",HH53+HH54,HH53+HH55)","v":365.4},{"$f":"+IF(Simulador!$C$50=\"Si\",HI53+HI54,HI53+HI55)","v":365.4},{"$f":"+IF(Simulador!$C$50=\"Si\",HJ53+HJ54,HJ53+HJ55)","v":365.4},{"$f":"+IF(Simulador!$C$50=\"Si\",HK53+HK54,HK53+HK55)","v":415.4},{"$f":"+IF(Simulador!$C$50=\"Si\",HL53+HL54,HL53+HL55)","v":415.4},{"$f":"+IF(Simulador!$C$50=\"Si\",HM53+HM54,HM53+HM55)","v":415.4},{"$f":"+IF(Simulador!$C$50=\"Si\",HN53+HN54,HN53+HN55)","v":415.4},{"$f":"+IF(Simulador!$C$50=\"Si\",HO53+HO54,HO53+HO55)","v":415.4},{"$f":"+IF(Simulador!$C$50=\"Si\",HP53+HP54,HP53+HP55)","v":415.4},{"$f":"+IF(Simulador!$C$50=\"Si\",HQ53+HQ54,HQ53+HQ55)","v":415.4},{"$f":"+IF(Simulador!$C$50=\"Si\",HR53+HR54,HR53+HR55)","v":416.87},{"$f":"+IF(Simulador!$C$50=\"Si\",HS53+HS54,HS53+HS55)","v":416.87},{"$f":"+IF(Simulador!$C$50=\"Si\",HT53+HT54,HT53+HT55)","v":416.87},{"$f":"+IF(Simulador!$C$50=\"Si\",HU53+HU54,HU53+HU55)","v":416.87},{"$f":"+IF(Simulador!$C$50=\"Si\",HV53+HV54,HV53+HV55)","v":416.87},{"$f":"+IF(Simulador!$C$50=\"Si\",HW53+HW54,HW53+HW55)","v":416.87},{"$f":"+IF(Simulador!$C$50=\"Si\",HX53+HX54,HX53+HX55)","v":416.87},{"$f":"+IF(Simulador!$C$50=\"Si\",HY53+HY54,HY53+HY55)","v":416.87},{"$f":"+IF(Simulador!$C$50=\"Si\",HZ53+HZ54,HZ53+HZ55)","v":416.87},{"$f":"+IF(Simulador!$C$50=\"Si\",IA53+IA54,IA53+IA55)","v":416.87},{"$f":"+IF(Simulador!$C$50=\"Si\",IB53+IB54,IB53+IB55)","v":416.87},{"$f":"+IF(Simulador!$C$50=\"Si\",IC53+IC54,IC53+IC55)","v":416.87},{"$f":"+IF(Simulador!$C$50=\"Si\",ID53+ID54,ID53+ID55)","v":416.87},{"$f":"+IF(Simulador!$C$50=\"Si\",IE53+IE54,IE53+IE55)","v":416.87},{"$f":"+IF(Simulador!$C$50=\"Si\",IF53+IF54,IF53+IF55)","v":416.87},{"$f":"+IF(Simulador!$C$50=\"Si\",IG53+IG54,IG53+IG55)","v":416.87},{"$f":"+IF(Simulador!$C$50=\"Si\",IH53+IH54,IH53+IH55)","v":416.87},{"$f":"+IF(Simulador!$C$50=\"Si\",II53+II54,II53+II55)","v":416.87},{"$f":"+IF(Simulador!$C$50=\"Si\",IJ53+IJ54,IJ53+IJ55)","v":416.87},{"$f":"+IF(Simulador!$C$50=\"Si\",IK53+IK54,IK53+IK55)","v":416.87},{"$f":"+IF(Simulador!$C$50=\"Si\",IL53+IL54,IL53+IL55)","v":416.87},{"$f":"+IF(Simulador!$C$50=\"Si\",IM53+IM54,IM53+IM55)","v":466.87},{"$f":"+IF(Simulador!$C$50=\"Si\",IN53+IN54,IN53+IN55)","v":466.87},{"$f":"+IF(Simulador!$C$50=\"Si\",IO53+IO54,IO53+IO55)","v":466.87},{"$f":"+IF(Simulador!$C$50=\"Si\",IP53+IP54,IP53+IP55)","v":466.87},{"$f":"+IF(Simulador!$C$50=\"Si\",IQ53+IQ54,IQ53+IQ55)","v":466.87},{"$f":"+IF(Simulador!$C$50=\"Si\",IR53+IR54,IR53+IR55)","v":466.87},{"$f":"+IF(Simulador!$C$50=\"Si\",IS53+IS54,IS53+IS55)","v":466.87},{"$f":"+IF(Simulador!$C$50=\"Si\",IT53+IT54,IT53+IT55)","v":466.87},{"$f":"+IF(Simulador!$C$50=\"Si\",IU53+IU54,IU53+IU55)","v":466.87},{"$f":"+IF(Simulador!$C$50=\"Si\",IV53+IV54,IV53+IV55)","v":466.87},{"$f":"+IF(Simulador!$C$50=\"Si\",IW53+IW54,IW53+IW55)","v":466.87},{"$f":"+IF(Simulador!$C$50=\"Si\",IX53+IX54,IX53+IX55)","v":468.79},{"$f":"+IF(Simulador!$C$50=\"Si\",IY53+IY54,IY53+IY55)","v":468.79},{"$f":"+IF(Simulador!$C$50=\"Si\",IZ53+IZ54,IZ53+IZ55)","v":468.79},{"$f":"+IF(Simulador!$C$50=\"Si\",JA53+JA54,JA53+JA55)","v":468.79},{"$f":"+IF(Simulador!$C$50=\"Si\",JB53+JB54,JB53+JB55)","v":468.79},{"$f":"+IF(Simulador!$C$50=\"Si\",JC53+JC54,JC53+JC55)","v":468.79},{"$f":"+IF(Simulador!$C$50=\"Si\",JD53+JD54,JD53+JD55)","v":468.79},{"$f":"+IF(Simulador!$C$50=\"Si\",JE53+JE54,JE53+JE55)","v":468.79},{"$f":"+IF(Simulador!$C$50=\"Si\",JF53+JF54,JF53+JF55)","v":468.79},{"$f":"+IF(Simulador!$C$50=\"Si\",JG53+JG54,JG53+JG55)","v":468.79},{"$f":"+IF(Simulador!$C$50=\"Si\",JH53+JH54,JH53+JH55)","v":468.79},{"$f":"+IF(Simulador!$C$50=\"Si\",JI53+JI54,JI53+JI55)","v":468.79},{"$f":"+IF(Simulador!$C$50=\"Si\",JJ53+JJ54,JJ53+JJ55)","v":468.79},{"$f":"+IF(Simulador!$C$50=\"Si\",JK53+JK54,JK53+JK55)","v":468.79},{"$f":"+IF(Simulador!$C$50=\"Si\",JL53+JL54,JL53+JL55)","v":468.79},{"$f":"+IF(Simulador!$C$50=\"Si\",JM53+JM54,JM53+JM55)","v":468.79},{"$f":"+IF(Simulador!$C$50=\"Si\",JN53+JN54,JN53+JN55)","v":468.79},{"$f":"+IF(Simulador!$C$50=\"Si\",JO53+JO54,JO53+JO55)","v":468.79},{"$f":"+IF(Simulador!$C$50=\"Si\",JP53+JP54,JP53+JP55)","v":468.79},{"$f":"+IF(Simulador!$C$50=\"Si\",JQ53+JQ54,JQ53+JQ55)","v":468.79},{"$f":"+IF(Simulador!$C$50=\"Si\",JR53+JR54,JR53+JR55)","v":518.79},{"$f":"+IF(Simulador!$C$50=\"Si\",JS53+JS54,JS53+JS55)","v":518.79},{"$f":"+IF(Simulador!$C$50=\"Si\",JT53+JT54,JT53+JT55)","v":518.79},{"$f":"+IF(Simulador!$C$50=\"Si\",JU53+JU54,JU53+JU55)","v":518.79},{"$f":"+IF(Simulador!$C$50=\"Si\",JV53+JV54,JV53+JV55)","v":518.79},{"$f":"+IF(Simulador!$C$50=\"Si\",JW53+JW54,JW53+JW55)","v":518.79},{"$f":"+IF(Simulador!$C$50=\"Si\",JX53+JX54,JX53+JX55)","v":518.79},{"$f":"+IF(Simulador!$C$50=\"Si\",JY53+JY54,JY53+JY55)","v":518.79},{"$f":"+IF(Simulador!$C$50=\"Si\",JZ53+JZ54,JZ53+JZ55)","v":518.79},{"$f":"+IF(Simulador!$C$50=\"Si\",KA53+KA54,KA53+KA55)","v":518.79},{"$f":"+IF(Simulador!$C$50=\"Si\",KB53+KB54,KB53+KB55)","v":520.89},{"$f":"+IF(Simulador!$C$50=\"Si\",KC53+KC54,KC53+KC55)","v":520.89},{"$f":"+IF(Simulador!$C$50=\"Si\",KD53+KD54,KD53+KD55)","v":520.89},{"$f":"+IF(Simulador!$C$50=\"Si\",KE53+KE54,KE53+KE55)","v":520.89},{"$f":"+IF(Simulador!$C$50=\"Si\",KF53+KF54,KF53+KF55)","v":520.89},{"$f":"+IF(Simulador!$C$50=\"Si\",KG53+KG54,KG53+KG55)","v":520.89},{"$f":"+IF(Simulador!$C$50=\"Si\",KH53+KH54,KH53+KH55)","v":520.89},{"$f":"+IF(Simulador!$C$50=\"Si\",KI53+KI54,KI53+KI55)","v":520.89},{"$f":"+IF(Simulador!$C$50=\"Si\",KJ53+KJ54,KJ53+KJ55)","v":520.89},{"$f":"+IF(Simulador!$C$50=\"Si\",KK53+KK54,KK53+KK55)","v":520.89},{"$f":"+IF(Simulador!$C$50=\"Si\",KL53+KL54,KL53+KL55)","v":520.89},{"$f":"+IF(Simulador!$C$50=\"Si\",KM53+KM54,KM53+KM55)","v":520.89},{"$f":"+IF(Simulador!$C$50=\"Si\",KN53+KN54,KN53+KN55)","v":520.89},{"$f":"+IF(Simulador!$C$50=\"Si\",KO53+KO54,KO53+KO55)","v":520.89},{"$f":"+IF(Simulador!$C$50=\"Si\",KP53+KP54,KP53+KP55)","v":520.89},{"$f":"+IF(Simulador!$C$50=\"Si\",KQ53+KQ54,KQ53+KQ55)","v":520.89},{"$f":"+IF(Simulador!$C$50=\"Si\",KR53+KR54,KR53+KR55)","v":520.89},{"$f":"+IF(Simulador!$C$50=\"Si\",KS53+KS54,KS53+KS55)","v":520.89},{"$f":"+IF(Simulador!$C$50=\"Si\",KT53+KT54,KT53+KT55)","v":520.89},{"$f":"+IF(Simulador!$C$50=\"Si\",KU53+KU54,KU53+KU55)","v":520.89},{"$f":"+IF(Simulador!$C$50=\"Si\",KV53+KV54,KV53+KV55)","v":570.89},{"$f":"+IF(Simulador!$C$50=\"Si\",KW53+KW54,KW53+KW55)","v":570.89},{"$f":"+IF(Simulador!$C$50=\"Si\",KX53+KX54,KX53+KX55)","v":570.89},{"$f":"+IF(Simulador!$C$50=\"Si\",KY53+KY54,KY53+KY55)","v":570.89},{"$f":"+IF(Simulador!$C$50=\"Si\",KZ53+KZ54,KZ53+KZ55)","v":570.89},{"$f":"+IF(Simulador!$C$50=\"Si\",LA53+LA54,LA53+LA55)","v":570.89},{"$f":"+IF(Simulador!$C$50=\"Si\",LB53+LB54,LB53+LB55)","v":570.89},{"$f":"+IF(Simulador!$C$50=\"Si\",LC53+LC54,LC53+LC55)","v":570.89},{"$f":"+IF(Simulador!$C$50=\"Si\",LD53+LD54,LD53+LD55)","v":570.89},{"$f":"+IF(Simulador!$C$50=\"Si\",LE53+LE54,LE53+LE55)","v":573.01},{"$f":"+IF(Simulador!$C$50=\"Si\",LF53+LF54,LF53+LF55)","v":573.01},{"$f":"+IF(Simulador!$C$50=\"Si\",LG53+LG54,LG53+LG55)","v":573.01},{"$f":"+IF(Simulador!$C$50=\"Si\",LH53+LH54,LH53+LH55)","v":573.01},{"$f":"+IF(Simulador!$C$50=\"Si\",LI53+LI54,LI53+LI55)","v":573.01},{"$f":"+IF(Simulador!$C$50=\"Si\",LJ53+LJ54,LJ53+LJ55)","v":573.01},{"$f":"+IF(Simulador!$C$50=\"Si\",LK53+LK54,LK53+LK55)","v":573.01},{"$f":"+IF(Simulador!$C$50=\"Si\",LL53+LL54,LL53+LL55)","v":573.01},{"$f":"+IF(Simulador!$C$50=\"Si\",LM53+LM54,LM53+LM55)","v":573.01},{"$f":"+IF(Simulador!$C$50=\"Si\",LN53+LN54,LN53+LN55)","v":573.01},{"$f":"+IF(Simulador!$C$50=\"Si\",LO53+LO54,LO53+LO55)","v":573.01},{"$f":"+IF(Simulador!$C$50=\"Si\",LP53+LP54,LP53+LP55)","v":573.01},{"$f":"+IF(Simulador!$C$50=\"Si\",LQ53+LQ54,LQ53+LQ55)","v":573.01},{"$f":"+IF(Simulador!$C$50=\"Si\",LR53+LR54,LR53+LR55)","v":573.01},{"$f":"+IF(Simulador!$C$50=\"Si\",LS53+LS54,LS53+LS55)","v":573.01},{"$f":"+IF(Simulador!$C$50=\"Si\",LT53+LT54,LT53+LT55)","v":573.01},{"$f":"+IF(Simulador!$C$50=\"Si\",LU53+LU54,LU53+LU55)","v":573.01},{"$f":"+IF(Simulador!$C$50=\"Si\",LV53+LV54,LV53+LV55)","v":573.01},{"$f":"+IF(Simulador!$C$50=\"Si\",LW53+LW54,LW53+LW55)","v":573.01},{"$f":"+IF(Simulador!$C$50=\"Si\",LX53+LX54,LX53+LX55)","v":573.01},{"$f":"+IF(Simulador!$C$50=\"Si\",LY53+LY54,LY53+LY55)","v":573.01},{"$f":"+IF(Simulador!$C$50=\"Si\",LZ53+LZ54,LZ53+LZ55)","v":573.01},{"$f":"+IF(Simulador!$C$50=\"Si\",MA53+MA54,MA53+MA55)","v":623.01},{"$f":"+IF(Simulador!$C$50=\"Si\",MB53+MB54,MB53+MB55)","v":623.01},{"$f":"+IF(Simulador!$C$50=\"Si\",MC53+MC54,MC53+MC55)","v":623.01},{"$f":"+IF(Simulador!$C$50=\"Si\",MD53+MD54,MD53+MD55)","v":623.01},{"$f":"+IF(Simulador!$C$50=\"Si\",ME53+ME54,ME53+ME55)","v":623.01},{"$f":"+IF(Simulador!$C$50=\"Si\",MF53+MF54,MF53+MF55)","v":623.01},{"$f":"+IF(Simulador!$C$50=\"Si\",MG53+MG54,MG53+MG55)","v":623.01},{"$f":"+IF(Simulador!$C$50=\"Si\",MH53+MH54,MH53+MH55)","v":623.01},{"$f":"+IF(Simulador!$C$50=\"Si\",MI53+MI54,MI53+MI55)","v":623.01},{"$f":"+IF(Simulador!$C$50=\"Si\",MJ53+MJ54,MJ53+MJ55)","v":623.01},{"$f":"+IF(Simulador!$C$50=\"Si\",MK53+MK54,MK53+MK55)","v":625.66999999999996},{"$f":"+IF(Simulador!$C$50=\"Si\",ML53+ML54,ML53+ML55)","v":625.66999999999996},{"$f":"+IF(Simulador!$C$50=\"Si\",MM53+MM54,MM53+MM55)","v":625.66999999999996},{"$f":"+IF(Simulador!$C$50=\"Si\",MN53+MN54,MN53+MN55)","v":625.66999999999996},{"$f":"+IF(Simulador!$C$50=\"Si\",MO53+MO54,MO53+MO55)","v":625.66999999999996},{"$f":"+IF(Simulador!$C$50=\"Si\",MP53+MP54,MP53+MP55)","v":625.66999999999996},{"$f":"+IF(Simulador!$C$50=\"Si\",MQ53+MQ54,MQ53+MQ55)","v":625.66999999999996},{"$f":"+IF(Simulador!$C$50=\"Si\",MR53+MR54,MR53+MR55)","v":625.66999999999996},{"$f":"+IF(Simulador!$C$50=\"Si\",MS53+MS54,MS53+MS55)","v":625.66999999999996},{"$f":"+IF(Simulador!$C$50=\"Si\",MT53+MT54,MT53+MT55)","v":625.66999999999996},{"$f":"+IF(Simulador!$C$50=\"Si\",MU53+MU54,MU53+MU55)","v":625.66999999999996},{"$f":"+IF(Simulador!$C$50=\"Si\",MV53+MV54,MV53+MV55)","v":625.66999999999996},{"$f":"+IF(Simulador!$C$50=\"Si\",MW53+MW54,MW53+MW55)","v":625.66999999999996},{"$f":"+IF(Simulador!$C$50=\"Si\",MX53+MX54,MX53+MX55)","v":625.66999999999996},{"$f":"+IF(Simulador!$C$50=\"Si\",MY53+MY54,MY53+MY55)","v":625.66999999999996},{"$f":"+IF(Simulador!$C$50=\"Si\",MZ53+MZ54,MZ53+MZ55)","v":625.66999999999996},{"$f":"+IF(Simulador!$C$50=\"Si\",NA53+NA54,NA53+NA55)","v":625.66999999999996},{"$f":"+IF(Simulador!$C$50=\"Si\",NB53+NB54,NB53+NB55)","v":625.66999999999996},{"$f":"+IF(Simulador!$C$50=\"Si\",NC53+NC54,NC53+NC55)","v":625.66999999999996},{"$f":"+IF(Simulador!$C$50=\"Si\",ND53+ND54,ND53+ND55)","v":625.66999999999996},{"$f":"+IF(Simulador!$C$50=\"Si\",NE53+NE54,NE53+NE55)","v":675.67},{"$f":"+IF(Simulador!$C$50=\"Si\",NF53+NF54,NF53+NF55)","v":675.67},{"$f":"+IF(Simulador!$C$50=\"Si\",NG53+NG54,NG53+NG55)","v":675.67},{"$f":"+IF(Simulador!$C$50=\"Si\",NH53+NH54,NH53+NH55)","v":675.67},{"$f":"+IF(Simulador!$C$50=\"Si\",NI53+NI54,NI53+NI55)","v":675.67},{"$f":"+IF(Simulador!$C$50=\"Si\",NJ53+NJ54,NJ53+NJ55)","v":675.67},{"$f":"+IF(Simulador!$C$50=\"Si\",NK53+NK54,NK53+NK55)","v":675.67},{"$f":"+IF(Simulador!$C$50=\"Si\",NL53+NL54,NL53+NL55)","v":675.67},{"$f":"+IF(Simulador!$C$50=\"Si\",NM53+NM54,NM53+NM55)","v":675.67},{"$f":"+IF(Simulador!$C$50=\"Si\",NN53+NN54,NN53+NN55)","v":675.67},{"$f":"+IF(Simulador!$C$50=\"Si\",NO53+NO54,NO53+NO55)","v":675.67},{"$f":"+IF(Simulador!$C$50=\"Si\",NP53+NP54,NP53+NP55)","v":678.45999999999992},{"$f":"+IF(Simulador!$C$50=\"Si\",NQ53+NQ54,NQ53+NQ55)","v":678.45999999999992},{"$f":"+IF(Simulador!$C$50=\"Si\",NR53+NR54,NR53+NR55)","v":678.45999999999992},{"$f":"+IF(Simulador!$C$50=\"Si\",NS53+NS54,NS53+NS55)","v":678.45999999999992},{"$f":"+IF(Simulador!$C$50=\"Si\",NT53+NT54,NT53+NT55)","v":678.45999999999992},{"$f":"+IF(Simulador!$C$50=\"Si\",NU53+NU54,NU53+NU55)","v":678.45999999999992},{"$f":"+IF(Simulador!$C$50=\"Si\",NV53+NV54,NV53+NV55)","v":678.45999999999992},{"$f":"+IF(Simulador!$C$50=\"Si\",NW53+NW54,NW53+NW55)","v":678.45999999999992},{"$f":"+IF(Simulador!$C$50=\"Si\",NX53+NX54,NX53+NX55)","v":678.45999999999992},{"$f":"+IF(Simulador!$C$50=\"Si\",NY53+NY54,NY53+NY55)","v":678.45999999999992},{"$f":"+IF(Simulador!$C$50=\"Si\",NZ53+NZ54,NZ53+NZ55)","v":678.45999999999992},{"$f":"+IF(Simulador!$C$50=\"Si\",OA53+OA54,OA53+OA55)","v":678.45999999999992},{"$f":"+IF(Simulador!$C$50=\"Si\",OB53+OB54,OB53+OB55)","v":678.45999999999992},{"$f":"+IF(Simulador!$C$50=\"Si\",OC53+OC54,OC53+OC55)","v":678.45999999999992},{"$f":"+IF(Simulador!$C$50=\"Si\",OD53+OD54,OD53+OD55)","v":678.45999999999992},{"$f":"+IF(Simulador!$C$50=\"Si\",OE53+OE54,OE53+OE55)","v":678.45999999999992},{"$f":"+IF(Simulador!$C$50=\"Si\",OF53+OF54,OF53+OF55)","v":678.45999999999992},{"$f":"+IF(Simulador!$C$50=\"Si\",OG53+OG54,OG53+OG55)","v":678.45999999999992},{"$f":"+IF(Simulador!$C$50=\"Si\",OH53+OH54,OH53+OH55)","v":678.45999999999992},{"$f":"+IF(Simulador!$C$50=\"Si\",OI53+OI54,OI53+OI55)","v":678.45999999999992},{"$f":"+IF(Simulador!$C$50=\"Si\",OJ53+OJ54,OJ53+OJ55)","v":728.45999999999992},{"$f":"+IF(Simulador!$C$50=\"Si\",OK53+OK54,OK53+OK55)","v":728.45999999999992},{"$f":"+IF(Simulador!$C$50=\"Si\",OL53+OL54,OL53+OL55)","v":728.45999999999992},{"$f":"+IF(Simulador!$C$50=\"Si\",OM53+OM54,OM53+OM55)","v":728.45999999999992},{"$f":"+IF(Simulador!$C$50=\"Si\",ON53+ON54,ON53+ON55)","v":728.45999999999992},{"$f":"+IF(Simulador!$C$50=\"Si\",OO53+OO54,OO53+OO55)","v":728.45999999999992},{"$f":"+IF(Simulador!$C$50=\"Si\",OP53+OP54,OP53+OP55)","v":728.45999999999992},{"$f":"+IF(Simulador!$C$50=\"Si\",OQ53+OQ54,OQ53+OQ55)","v":728.45999999999992},{"$f":"+IF(Simulador!$C$50=\"Si\",OR53+OR54,OR53+OR55)","v":728.45999999999992},{"$f":"+IF(Simulador!$C$50=\"Si\",OS53+OS54,OS53+OS55)","v":728.45999999999992},{"$f":"+IF(Simulador!$C$50=\"Si\",OT53+OT54,OT53+OT55)","v":728.45999999999992},{"$f":"+IF(Simulador!$C$50=\"Si\",OU53+OU54,OU53+OU55)","v":731.3599999999999},{"$f":"+IF(Simulador!$C$50=\"Si\",OV53+OV54,OV53+OV55)","v":731.3599999999999},{"$f":"+IF(Simulador!$C$50=\"Si\",OW53+OW54,OW53+OW55)","v":731.3599999999999},{"$f":"+IF(Simulador!$C$50=\"Si\",OX53+OX54,OX53+OX55)","v":731.3599999999999},{"$f":"+IF(Simulador!$C$50=\"Si\",OY53+OY54,OY53+OY55)","v":731.3599999999999},{"$f":"+IF(Simulador!$C$50=\"Si\",OZ53+OZ54,OZ53+OZ55)","v":731.3599999999999},{"$f":"+IF(Simulador!$C$50=\"Si\",PA53+PA54,PA53+PA55)","v":731.3599999999999},{"$f":"+IF(Simulador!$C$50=\"Si\",PB53+PB54,PB53+PB55)","v":731.3599999999999},{"$f":"+IF(Simulador!$C$50=\"Si\",PC53+PC54,PC53+PC55)","v":731.3599999999999},{"$f":"+IF(Simulador!$C$50=\"Si\",PD53+PD54,PD53+PD55)","v":731.3599999999999},{"$f":"+IF(Simulador!$C$50=\"Si\",PE53+PE54,PE53+PE55)","v":731.3599999999999},{"$f":"+IF(Simulador!$C$50=\"Si\",PF53+PF54,PF53+PF55)","v":731.3599999999999},{"$f":"+IF(Simulador!$C$50=\"Si\",PG53+PG54,PG53+PG55)","v":731.3599999999999},{"$f":"+IF(Simulador!$C$50=\"Si\",PH53+PH54,PH53+PH55)","v":731.3599999999999},{"$f":"+IF(Simulador!$C$50=\"Si\",PI53+PI54,PI53+PI55)","v":731.3599999999999},{"$f":"+IF(Simulador!$C$50=\"Si\",PJ53+PJ54,PJ53+PJ55)","v":731.3599999999999},{"$f":"+IF(Simulador!$C$50=\"Si\",PK53+PK54,PK53+PK55)","v":731.3599999999999},{"$f":"+IF(Simulador!$C$50=\"Si\",PL53+PL54,PL53+PL55)","v":731.3599999999999},{"$f":"+IF(Simulador!$C$50=\"Si\",PM53+PM54,PM53+PM55)","v":731.3599999999999},{"$f":"+IF(Simulador!$C$50=\"Si\",PN53+PN54,PN53+PN55)","v":731.3599999999999},{"$f":"+IF(Simulador!$C$50=\"Si\",PO53+PO54,PO53+PO55)","v":781.3599999999999},{"$f":"+IF(Simulador!$C$50=\"Si\",PP53+PP54,PP53+PP55)","v":781.3599999999999},{"$f":"+IF(Simulador!$C$50=\"Si\",PQ53+PQ54,PQ53+PQ55)","v":781.3599999999999},{"$f":"+IF(Simulador!$C$50=\"Si\",PR53+PR54,PR53+PR55)","v":781.3599999999999},{"$f":"+IF(Simulador!$C$50=\"Si\",PS53+PS54,PS53+PS55)","v":781.3599999999999},{"$f":"+IF(Simulador!$C$50=\"Si\",PT53+PT54,PT53+PT55)","v":781.3599999999999},{"$f":"+IF(Simulador!$C$50=\"Si\",PU53+PU54,PU53+PU55)","v":781.3599999999999},{"$f":"+IF(Simulador!$C$50=\"Si\",PV53+PV54,PV53+PV55)","v":781.3599999999999},{"$f":"+IF(Simulador!$C$50=\"Si\",PW53+PW54,PW53+PW55)","v":781.3599999999999},{"$f":"+IF(Simulador!$C$50=\"Si\",PX53+PX54,PX53+PX55)","v":781.3599999999999},{"$f":"+IF(Simulador!$C$50=\"Si\",PY53+PY54,PY53+PY55)","v":784.45999999999992},{"$f":"+IF(Simulador!$C$50=\"Si\",PZ53+PZ54,PZ53+PZ55)","v":784.45999999999992},{"$f":"+IF(Simulador!$C$50=\"Si\",QA53+QA54,QA53+QA55)","v":784.45999999999992},{"$f":"+IF(Simulador!$C$50=\"Si\",QB53+QB54,QB53+QB55)","v":784.45999999999992},{"$f":"+IF(Simulador!$C$50=\"Si\",QC53+QC54,QC53+QC55)","v":784.45999999999992},{"$f":"+IF(Simulador!$C$50=\"Si\",QD53+QD54,QD53+QD55)","v":784.45999999999992},{"$f":"+IF(Simulador!$C$50=\"Si\",QE53+QE54,QE53+QE55)","v":784.45999999999992},{"$f":"+IF(Simulador!$C$50=\"Si\",QF53+QF54,QF53+QF55)","v":784.45999999999992},{"$f":"+IF(Simulador!$C$50=\"Si\",QG53+QG54,QG53+QG55)","v":784.45999999999992},{"$f":"+IF(Simulador!$C$50=\"Si\",QH53+QH54,QH53+QH55)","v":784.45999999999992},{"$f":"+IF(Simulador!$C$50=\"Si\",QI53+QI54,QI53+QI55)","v":784.45999999999992},{"$f":"+IF(Simulador!$C$50=\"Si\",QJ53+QJ54,QJ53+QJ55)","v":784.45999999999992},{"$f":"+IF(Simulador!$C$50=\"Si\",QK53+QK54,QK53+QK55)","v":784.45999999999992},{"$f":"+IF(Simulador!$C$50=\"Si\",QL53+QL54,QL53+QL55)","v":784.45999999999992},{"$f":"+IF(Simulador!$C$50=\"Si\",QM53+QM54,QM53+QM55)","v":784.45999999999992},{"$f":"+IF(Simulador!$C$50=\"Si\",QN53+QN54,QN53+QN55)","v":784.45999999999992},{"$f":"+IF(Simulador!$C$50=\"Si\",QO53+QO54,QO53+QO55)","v":784.45999999999992},{"$f":"+IF(Simulador!$C$50=\"Si\",QP53+QP54,QP53+QP55)","v":784.45999999999992},{"$f":"+IF(Simulador!$C$50=\"Si\",QQ53+QQ54,QQ53+QQ55)","v":784.45999999999992},{"$f":"+IF(Simulador!$C$50=\"Si\",QR53+QR54,QR53+QR55)","v":784.45999999999992},{"$f":"+IF(Simulador!$C$50=\"Si\",QS53+QS54,QS53+QS55)","v":834.45999999999992},{"$f":"+IF(Simulador!$C$50=\"Si\",QT53+QT54,QT53+QT55)","v":834.45999999999992},{"$f":"+IF(Simulador!$C$50=\"Si\",QU53+QU54,QU53+QU55)","v":834.45999999999992},{"$f":"+IF(Simulador!$C$50=\"Si\",QV53+QV54,QV53+QV55)","v":834.45999999999992},{"$f":"+IF(Simulador!$C$50=\"Si\",QW53+QW54,QW53+QW55)","v":834.45999999999992},{"$f":"+IF(Simulador!$C$50=\"Si\",QX53+QX54,QX53+QX55)","v":834.45999999999992},{"$f":"+IF(Simulador!$C$50=\"Si\",QY53+QY54,QY53+QY55)","v":834.45999999999992},{"$f":"+IF(Simulador!$C$50=\"Si\",QZ53+QZ54,QZ53+QZ55)","v":834.45999999999992},{"$f":"+IF(Simulador!$C$50=\"Si\",RA53+RA54,RA53+RA55)","v":834.45999999999992},{"$f":"+IF(Simulador!$C$50=\"Si\",RB53+RB54,RB53+RB55)","v":834.45999999999992},{"$f":"+IF(Simulador!$C$50=\"Si\",RC53+RC54,RC53+RC55)","v":837.8599999999999},{"$f":"+IF(Simulador!$C$50=\"Si\",RD53+RD54,RD53+RD55)","v":837.8599999999999},{"$f":"+IF(Simulador!$C$50=\"Si\",RE53+RE54,RE53+RE55)","v":837.8599999999999},{"$f":"+IF(Simulador!$C$50=\"Si\",RF53+RF54,RF53+RF55)","v":837.8599999999999},{"$f":"+IF(Simulador!$C$50=\"Si\",RG53+RG54,RG53+RG55)","v":837.8599999999999},{"$f":"+IF(Simulador!$C$50=\"Si\",RH53+RH54,RH53+RH55)","v":837.8599999999999},{"$f":"+IF(Simulador!$C$50=\"Si\",RI53+RI54,RI53+RI55)","v":837.8599999999999},{"$f":"+IF(Simulador!$C$50=\"Si\",RJ53+RJ54,RJ53+RJ55)","v":837.8599999999999},{"$f":"+IF(Simulador!$C$50=\"Si\",RK53+RK54,RK53+RK55)","v":837.8599999999999},{"$f":"+IF(Simulador!$C$50=\"Si\",RL53+RL54,RL53+RL55)","v":837.8599999999999},{"$f":"+IF(Simulador!$C$50=\"Si\",RM53+RM54,RM53+RM55)","v":837.8599999999999},{"$f":"+IF(Simulador!$C$50=\"Si\",RN53+RN54,RN53+RN55)","v":837.8599999999999},{"$f":"+IF(Simulador!$C$50=\"Si\",RO53+RO54,RO53+RO55)","v":837.8599999999999},{"$f":"+IF(Simulador!$C$50=\"Si\",RP53+RP54,RP53+RP55)","v":837.8599999999999},{"$f":"+IF(Simulador!$C$50=\"Si\",RQ53+RQ54,RQ53+RQ55)","v":837.8599999999999},{"$f":"+IF(Simulador!$C$50=\"Si\",RR53+RR54,RR53+RR55)","v":837.8599999999999},{"$f":"+IF(Simulador!$C$50=\"Si\",RS53+RS54,RS53+RS55)","v":837.8599999999999},{"$f":"+IF(Simulador!$C$50=\"Si\",RT53+RT54,RT53+RT55)","v":837.8599999999999},{"$f":"+IF(Simulador!$C$50=\"Si\",RU53+RU54,RU53+RU55)","v":837.8599999999999},{"$f":"+IF(Simulador!$C$50=\"Si\",RV53+RV54,RV53+RV55)","v":837.8599999999999},{"$f":"+IF(Simulador!$C$50=\"Si\",RW53+RW54,RW53+RW55)","v":837.8599999999999},{"$f":"+IF(Simulador!$C$50=\"Si\",RX53+RX54,RX53+RX55)","v":887.8599999999999},{"$f":"+IF(Simulador!$C$50=\"Si\",RY53+RY54,RY53+RY55)","v":887.8599999999999},{"$f":"+IF(Simulador!$C$50=\"Si\",RZ53+RZ54,RZ53+RZ55)","v":887.8599999999999},{"$f":"+IF(Simulador!$C$50=\"Si\",SA53+SA54,SA53+SA55)","v":887.8599999999999},{"$f":"+IF(Simulador!$C$50=\"Si\",SB53+SB54,SB53+SB55)","v":887.8599999999999},{"$f":"+IF(Simulador!$C$50=\"Si\",SC53+SC54,SC53+SC55)","v":887.8599999999999},{"$f":"+IF(Simulador!$C$50=\"Si\",SD53+SD54,SD53+SD55)","v":887.8599999999999},{"$f":"+IF(Simulador!$C$50=\"Si\",SE53+SE54,SE53+SE55)","v":887.8599999999999},{"$f":"+IF(Simulador!$C$50=\"Si\",SF53+SF54,SF53+SF55)","v":887.8599999999999},{"$f":"+IF(Simulador!$C$50=\"Si\",SG53+SG54,SG53+SG55)","v":887.8599999999999},{"$f":"+IF(Simulador!$C$50=\"Si\",SH53+SH54,SH53+SH55)","v":891.57999999999993},{"$f":"+IF(Simulador!$C$50=\"Si\",SI53+SI54,SI53+SI55)","v":891.57999999999993},{"$f":"+IF(Simulador!$C$50=\"Si\",SJ53+SJ54,SJ53+SJ55)","v":891.57999999999993},{"$f":"+IF(Simulador!$C$50=\"Si\",SK53+SK54,SK53+SK55)","v":891.57999999999993},{"$f":"+IF(Simulador!$C$50=\"Si\",SL53+SL54,SL53+SL55)","v":891.57999999999993},{"$f":"+IF(Simulador!$C$50=\"Si\",SM53+SM54,SM53+SM55)","v":891.57999999999993},{"$f":"+IF(Simulador!$C$50=\"Si\",SN53+SN54,SN53+SN55)","v":891.57999999999993},{"$f":"+IF(Simulador!$C$50=\"Si\",SO53+SO54,SO53+SO55)","v":891.57999999999993},{"$f":"+IF(Simulador!$C$50=\"Si\",SP53+SP54,SP53+SP55)","v":891.57999999999993},{"$f":"+IF(Simulador!$C$50=\"Si\",SQ53+SQ54,SQ53+SQ55)","v":891.57999999999993},{"$f":"+IF(Simulador!$C$50=\"Si\",SR53+SR54,SR53+SR55)","v":891.57999999999993},{"$f":"+IF(Simulador!$C$50=\"Si\",SS53+SS54,SS53+SS55)","v":891.57999999999993},{"$f":"+IF(Simulador!$C$50=\"Si\",ST53+ST54,ST53+ST55)","v":891.57999999999993},{"$f":"+IF(Simulador!$C$50=\"Si\",SU53+SU54,SU53+SU55)","v":891.57999999999993},{"$f":"+IF(Simulador!$C$50=\"Si\",SV53+SV54,SV53+SV55)","v":891.57999999999993},{"$f":"+IF(Simulador!$C$50=\"Si\",SW53+SW54,SW53+SW55)","v":891.57999999999993},{"$f":"+IF(Simulador!$C$50=\"Si\",SX53+SX54,SX53+SX55)","v":891.57999999999993},{"$f":"+IF(Simulador!$C$50=\"Si\",SY53+SY54,SY53+SY55)","v":891.57999999999993},{"$f":"+IF(Simulador!$C$50=\"Si\",SZ53+SZ54,SZ53+SZ55)","v":891.57999999999993},{"$f":"+IF(Simulador!$C$50=\"Si\",TA53+TA54,TA53+TA55)","v":891.57999999999993},{"$f":"+IF(Simulador!$C$50=\"Si\",TB53+TB54,TB53+TB55)","v":941.57999999999993},{"$f":"+IF(Simulador!$C$50=\"Si\",TC53+TC54,TC53+TC55)","v":941.57999999999993},{"$f":"+IF(Simulador!$C$50=\"Si\",TD53+TD54,TD53+TD55)","v":941.57999999999993},{"$f":"+IF(Simulador!$C$50=\"Si\",TE53+TE54,TE53+TE55)","v":941.57999999999993},{"$f":"+IF(Simulador!$C$50=\"Si\",TF53+TF54,TF53+TF55)","v":941.57999999999993},{"$f":"+IF(Simulador!$C$50=\"Si\",TG53+TG54,TG53+TG55)","v":941.57999999999993},{"$f":"+IF(Simulador!$C$50=\"Si\",TH53+TH54,TH53+TH55)","v":941.57999999999993},{"$f":"+IF(Simulador!$C$50=\"Si\",TI53+TI54,TI53+TI55)","v":941.57999999999993},{"$f":"+IF(Simulador!$C$50=\"Si\",TJ53+TJ54,TJ53+TJ55)","v":941.57999999999993},{"$f":"+IF(Simulador!$C$50=\"Si\",TK53+TK54,TK53+TK55)","v":941.57999999999993},{"$f":"+IF(Simulador!$C$50=\"Si\",TL53+TL54,TL53+TL55)","v":945.28},{"$f":"+IF(Simulador!$C$50=\"Si\",TM53+TM54,TM53+TM55)","v":945.28},{"$f":"+IF(Simulador!$C$50=\"Si\",TN53+TN54,TN53+TN55)","v":945.28},{"$f":"+IF(Simulador!$C$50=\"Si\",TO53+TO54,TO53+TO55)","v":945.28},{"$f":"+IF(Simulador!$C$50=\"Si\",TP53+TP54,TP53+TP55)","v":945.28},{"$f":"+IF(Simulador!$C$50=\"Si\",TQ53+TQ54,TQ53+TQ55)","v":945.28},{"$f":"+IF(Simulador!$C$50=\"Si\",TR53+TR54,TR53+TR55)","v":945.28},{"$f":"+IF(Simulador!$C$50=\"Si\",TS53+TS54,TS53+TS55)","v":945.28},{"$f":"+IF(Simulador!$C$50=\"Si\",TT53+TT54,TT53+TT55)","v":945.28},{"$f":"+IF(Simulador!$C$50=\"Si\",TU53+TU54,TU53+TU55)","v":945.28},{"$f":"+IF(Simulador!$C$50=\"Si\",TV53+TV54,TV53+TV55)","v":945.28},{"$f":"+IF(Simulador!$C$50=\"Si\",TW53+TW54,TW53+TW55)","v":945.28},{"$f":"+IF(Simulador!$C$50=\"Si\",TX53+TX54,TX53+TX55)","v":945.28},{"$f":"+IF(Simulador!$C$50=\"Si\",TY53+TY54,TY53+TY55)","v":945.28},{"$f":"+IF(Simulador!$C$50=\"Si\",TZ53+TZ54,TZ53+TZ55)","v":945.28},{"$f":"+IF(Simulador!$C$50=\"Si\",UA53+UA54,UA53+UA55)","v":945.28},{"$f":"+IF(Simulador!$C$50=\"Si\",UB53+UB54,UB53+UB55)","v":945.28},{"$f":"+IF(Simulador!$C$50=\"Si\",UC53+UC54,UC53+UC55)","v":945.28},{"$f":"+IF(Simulador!$C$50=\"Si\",UD53+UD54,UD53+UD55)","v":945.28},{"$f":"+IF(Simulador!$C$50=\"Si\",UE53+UE54,UE53+UE55)","v":945.28},{"$f":"+IF(Simulador!$C$50=\"Si\",UF53+UF54,UF53+UF55)","v":945.28},{"$f":"+IF(Simulador!$C$50=\"Si\",UG53+UG54,UG53+UG55)","v":995.28},{"$f":"+IF(Simulador!$C$50=\"Si\",UH53+UH54,UH53+UH55)","v":995.28},{"$f":"+IF(Simulador!$C$50=\"Si\",UI53+UI54,UI53+UI55)","v":995.28},{"$f":"+IF(Simulador!$C$50=\"Si\",UJ53+UJ54,UJ53+UJ55)","v":995.28},{"$f":"+IF(Simulador!$C$50=\"Si\",UK53+UK54,UK53+UK55)","v":995.28},{"$f":"+IF(Simulador!$C$50=\"Si\",UL53+UL54,UL53+UL55)","v":995.28},{"$f":"+IF(Simulador!$C$50=\"Si\",UM53+UM54,UM53+UM55)","v":995.28},{"$f":"+IF(Simulador!$C$50=\"Si\",UN53+UN54,UN53+UN55)","v":995.28},{"$f":"+IF(Simulador!$C$50=\"Si\",UO53+UO54,UO53+UO55)","v":995.28},{"$f":"+IF(Simulador!$C$50=\"Si\",UP53+UP54,UP53+UP55)","v":999.27},{"$f":"+IF(Simulador!$C$50=\"Si\",UQ53+UQ54,UQ53+UQ55)","v":999.27},{"$f":"+IF(Simulador!$C$50=\"Si\",UR53+UR54,UR53+UR55)","v":999.27},{"$f":"+IF(Simulador!$C$50=\"Si\",US53+US54,US53+US55)","v":999.27},{"$f":"+IF(Simulador!$C$50=\"Si\",UT53+UT54,UT53+UT55)","v":999.27},{"$f":"+IF(Simulador!$C$50=\"Si\",UU53+UU54,UU53+UU55)","v":999.27},{"$f":"+IF(Simulador!$C$50=\"Si\",UV53+UV54,UV53+UV55)","v":999.27},{"$f":"+IF(Simulador!$C$50=\"Si\",UW53+UW54,UW53+UW55)","v":999.27},{"$f":"+IF(Simulador!$C$50=\"Si\",UX53+UX54,UX53+UX55)","v":999.27},{"$f":"+IF(Simulador!$C$50=\"Si\",UY53+UY54,UY53+UY55)","v":999.27},{"$f":"+IF(Simulador!$C$50=\"Si\",UZ53+UZ54,UZ53+UZ55)","v":999.27},{"$f":"+IF(Simulador!$C$50=\"Si\",VA53+VA54,VA53+VA55)","v":999.27},{"$f":"+IF(Simulador!$C$50=\"Si\",VB53+VB54,VB53+VB55)","v":999.27},{"$f":"+IF(Simulador!$C$50=\"Si\",VC53+VC54,VC53+VC55)","v":999.27},{"$f":"+IF(Simulador!$C$50=\"Si\",VD53+VD54,VD53+VD55)","v":999.27},{"$f":"+IF(Simulador!$C$50=\"Si\",VE53+VE54,VE53+VE55)","v":999.27},{"$f":"+IF(Simulador!$C$50=\"Si\",VF53+VF54,VF53+VF55)","v":999.27},{"$f":"+IF(Simulador!$C$50=\"Si\",VG53+VG54,VG53+VG55)","v":999.27},{"$f":"+IF(Simulador!$C$50=\"Si\",VH53+VH54,VH53+VH55)","v":999.27},{"$f":"+IF(Simulador!$C$50=\"Si\",VI53+VI54,VI53+VI55)","v":999.27},{"$f":"+IF(Simulador!$C$50=\"Si\",VJ53+VJ54,VJ53+VJ55)","v":999.27},{"$f":"+IF(Simulador!$C$50=\"Si\",VK53+VK54,VK53+VK55)","v":999.27},{"$f":"+IF(Simulador!$C$50=\"Si\",VL53+VL54,VL53+VL55)","v":1049.27},{"$f":"+IF(Simulador!$C$50=\"Si\",VM53+VM54,VM53+VM55)","v":1049.27},{"$f":"+IF(Simulador!$C$50=\"Si\",VN53+VN54,VN53+VN55)","v":1049.27},{"$f":"+IF(Simulador!$C$50=\"Si\",VO53+VO54,VO53+VO55)","v":1049.27},{"$f":"+IF(Simulador!$C$50=\"Si\",VP53+VP54,VP53+VP55)","v":1049.27},{"$f":"+IF(Simulador!$C$50=\"Si\",VQ53+VQ54,VQ53+VQ55)","v":1049.27},{"$f":"+IF(Simulador!$C$50=\"Si\",VR53+VR54,VR53+VR55)","v":1053.25},{"$f":"+IF(Simulador!$C$50=\"Si\",VS53+VS54,VS53+VS55)","v":1053.25},{"$f":"+IF(Simulador!$C$50=\"Si\",VT53+VT54,VT53+VT55)","v":1053.25},{"$f":"+IF(Simulador!$C$50=\"Si\",VU53+VU54,VU53+VU55)","v":1053.25},{"$f":"+IF(Simulador!$C$50=\"Si\",VV53+VV54,VV53+VV55)","v":1053.25},{"$f":"+IF(Simulador!$C$50=\"Si\",VW53+VW54,VW53+VW55)","v":1053.25},{"$f":"+IF(Simulador!$C$50=\"Si\",VX53+VX54,VX53+VX55)","v":1053.25},{"$f":"+IF(Simulador!$C$50=\"Si\",VY53+VY54,VY53+VY55)","v":1053.25},{"$f":"+IF(Simulador!$C$50=\"Si\",VZ53+VZ54,VZ53+VZ55)","v":1053.25},{"$f":"+IF(Simulador!$C$50=\"Si\",WA53+WA54,WA53+WA55)","v":1053.25},{"$f":"+IF(Simulador!$C$50=\"Si\",WB53+WB54,WB53+WB55)","v":1053.25},{"$f":"+IF(Simulador!$C$50=\"Si\",WC53+WC54,WC53+WC55)","v":1053.25},{"$f":"+IF(Simulador!$C$50=\"Si\",WD53+WD54,WD53+WD55)","v":1053.25},{"$f":"+IF(Simulador!$C$50=\"Si\",WE53+WE54,WE53+WE55)","v":1053.25},{"$f":"+IF(Simulador!$C$50=\"Si\",WF53+WF54,WF53+WF55)","v":1053.25},{"$f":"+IF(Simulador!$C$50=\"Si\",WG53+WG54,WG53+WG55)","v":1053.25},{"$f":"+IF(Simulador!$C$50=\"Si\",WH53+WH54,WH53+WH55)","v":1053.25},{"$f":"+IF(Simulador!$C$50=\"Si\",WI53+WI54,WI53+WI55)","v":1053.25},{"$f":"+IF(Simulador!$C$50=\"Si\",WJ53+WJ54,WJ53+WJ55)","v":1053.25},{"$f":"+IF(Simulador!$C$50=\"Si\",WK53+WK54,WK53+WK55)","v":1053.25},{"$f":"+IF(Simulador!$C$50=\"Si\",WL53+WL54,WL53+WL55)","v":1053.25},{"$f":"+IF(Simulador!$C$50=\"Si\",WM53+WM54,WM53+WM55)","v":1053.25},{"$f":"+IF(Simulador!$C$50=\"Si\",WN53+WN54,WN53+WN55)","v":1103.25},{"$f":"+IF(Simulador!$C$50=\"Si\",WO53+WO54,WO53+WO55)","v":1103.25},{"$f":"+IF(Simulador!$C$50=\"Si\",WP53+WP54,WP53+WP55)","v":1103.25},{"$f":"+IF(Simulador!$C$50=\"Si\",WQ53+WQ54,WQ53+WQ55)","v":1103.25},{"$f":"+IF(Simulador!$C$50=\"Si\",WR53+WR54,WR53+WR55)","v":1103.25},{"$f":"+IF(Simulador!$C$50=\"Si\",WS53+WS54,WS53+WS55)","v":1103.25},{"$f":"+IF(Simulador!$C$50=\"Si\",WT53+WT54,WT53+WT55)","v":1103.25},{"$f":"+IF(Simulador!$C$50=\"Si\",WU53+WU54,WU53+WU55)","v":1103.25},{"$f":"+IF(Simulador!$C$50=\"Si\",WV53+WV54,WV53+WV55)","v":1103.25},{"$f":"+IF(Simulador!$C$50=\"Si\",WW53+WW54,WW53+WW55)","v":1103.25},{"$f":"+IF(Simulador!$C$50=\"Si\",WX53+WX54,WX53+WX55)","v":1103.25},{"$f":"+IF(Simulador!$C$50=\"Si\",WY53+WY54,WY53+WY55)","v":1108.2},{"$f":"+IF(Simulador!$C$50=\"Si\",WZ53+WZ54,WZ53+WZ55)","v":1108.2},{"$f":"+IF(Simulador!$C$50=\"Si\",XA53+XA54,XA53+XA55)","v":1108.2},{"$f":"+IF(Simulador!$C$50=\"Si\",XB53+XB54,XB53+XB55)","v":1108.2},{"$f":"+IF(Simulador!$C$50=\"Si\",XC53+XC54,XC53+XC55)","v":1108.2},{"$f":"+IF(Simulador!$C$50=\"Si\",XD53+XD54,XD53+XD55)","v":1108.2},{"$f":"+IF(Simulador!$C$50=\"Si\",XE53+XE54,XE53+XE55)","v":1108.2},{"$f":"+IF(Simulador!$C$50=\"Si\",XF53+XF54,XF53+XF55)","v":1108.2},{"$f":"+IF(Simulador!$C$50=\"Si\",XG53+XG54,XG53+XG55)","v":1108.2},{"$f":"+IF(Simulador!$C$50=\"Si\",XH53+XH54,XH53+XH55)","v":1108.2},{"$f":"+IF(Simulador!$C$50=\"Si\",XI53+XI54,XI53+XI55)","v":1108.2},{"$f":"+IF(Simulador!$C$50=\"Si\",XJ53+XJ54,XJ53+XJ55)","v":1108.2},{"$f":"+IF(Simulador!$C$50=\"Si\",XK53+XK54,XK53+XK55)","v":1108.2},{"$f":"+IF(Simulador!$C$50=\"Si\",XL53+XL54,XL53+XL55)","v":1108.2},{"$f":"+IF(Simulador!$C$50=\"Si\",XM53+XM54,XM53+XM55)","v":1108.2},{"$f":"+IF(Simulador!$C$50=\"Si\",XN53+XN54,XN53+XN55)","v":1108.2},{"$f":"+IF(Simulador!$C$50=\"Si\",XO53+XO54,XO53+XO55)","v":1108.2},{"$f":"+IF(Simulador!$C$50=\"Si\",XP53+XP54,XP53+XP55)","v":1108.2},{"$f":"+IF(Simulador!$C$50=\"Si\",XQ53+XQ54,XQ53+XQ55)","v":1108.2},{"$f":"+IF(Simulador!$C$50=\"Si\",XR53+XR54,XR53+XR55)","v":1108.2},{"$f":"+IF(Simulador!$C$50=\"Si\",XS53+XS54,XS53+XS55)","v":1158.2},{"$f":"+IF(Simulador!$C$50=\"Si\",XT53+XT54,XT53+XT55)","v":1158.2},{"$f":"+IF(Simulador!$C$50=\"Si\",XU53+XU54,XU53+XU55)","v":1158.2},{"$f":"+IF(Simulador!$C$50=\"Si\",XV53+XV54,XV53+XV55)","v":1158.2},{"$f":"+IF(Simulador!$C$50=\"Si\",XW53+XW54,XW53+XW55)","v":1158.2},{"$f":"+IF(Simulador!$C$50=\"Si\",XX53+XX54,XX53+XX55)","v":1158.2},{"$f":"+IF(Simulador!$C$50=\"Si\",XY53+XY54,XY53+XY55)","v":1158.2},{"$f":"+IF(Simulador!$C$50=\"Si\",XZ53+XZ54,XZ53+XZ55)","v":1158.2},{"$f":"+IF(Simulador!$C$50=\"Si\",YA53+YA54,YA53+YA55)","v":1158.2},{"$f":"+IF(Simulador!$C$50=\"Si\",YB53+YB54,YB53+YB55)","v":1162.6400000000001},{"$f":"+IF(Simulador!$C$50=\"Si\",YC53+YC54,YC53+YC55)","v":1162.6400000000001},{"$f":"+IF(Simulador!$C$50=\"Si\",YD53+YD54,YD53+YD55)","v":1162.6400000000001},{"$f":"+IF(Simulador!$C$50=\"Si\",YE53+YE54,YE53+YE55)","v":1162.6400000000001},{"$f":"+IF(Simulador!$C$50=\"Si\",YF53+YF54,YF53+YF55)","v":1162.6400000000001},{"$f":"+IF(Simulador!$C$50=\"Si\",YG53+YG54,YG53+YG55)","v":1162.6400000000001},{"$f":"+IF(Simulador!$C$50=\"Si\",YH53+YH54,YH53+YH55)","v":1162.6400000000001},{"$f":"+IF(Simulador!$C$50=\"Si\",YI53+YI54,YI53+YI55)","v":1162.6400000000001},{"$f":"+IF(Simulador!$C$50=\"Si\",YJ53+YJ54,YJ53+YJ55)","v":1162.6400000000001},{"$f":"+IF(Simulador!$C$50=\"Si\",YK53+YK54,YK53+YK55)","v":1162.6400000000001},{"$f":"+IF(Simulador!$C$50=\"Si\",YL53+YL54,YL53+YL55)","v":1162.6400000000001},{"$f":"+IF(Simulador!$C$50=\"Si\",YM53+YM54,YM53+YM55)","v":1162.6400000000001},{"$f":"+IF(Simulador!$C$50=\"Si\",YN53+YN54,YN53+YN55)","v":1162.6400000000001},{"$f":"+IF(Simulador!$C$50=\"Si\",YO53+YO54,YO53+YO55)","v":1162.6400000000001},{"$f":"+IF(Simulador!$C$50=\"Si\",YP53+YP54,YP53+YP55)","v":1162.6400000000001},{"$f":"+IF(Simulador!$C$50=\"Si\",YQ53+YQ54,YQ53+YQ55)","v":1162.6400000000001},{"$f":"+IF(Simulador!$C$50=\"Si\",YR53+YR54,YR53+YR55)","v":1162.6400000000001},{"$f":"+IF(Simulador!$C$50=\"Si\",YS53+YS54,YS53+YS55)","v":1162.6400000000001},{"$f":"+IF(Simulador!$C$50=\"Si\",YT53+YT54,YT53+YT55)","v":1162.6400000000001},{"$f":"+IF(Simulador!$C$50=\"Si\",YU53+YU54,YU53+YU55)","v":1162.6400000000001},{"$f":"+IF(Simulador!$C$50=\"Si\",YV53+YV54,YV53+YV55)","v":1162.6400000000001},{"$f":"+IF(Simulador!$C$50=\"Si\",YW53+YW54,YW53+YW55)","v":1212.6400000000001},{"$f":"+IF(Simulador!$C$50=\"Si\",YX53+YX54,YX53+YX55)","v":1212.6400000000001},{"$f":"+IF(Simulador!$C$50=\"Si\",YY53+YY54,YY53+YY55)","v":1212.6400000000001},{"$f":"+IF(Simulador!$C$50=\"Si\",YZ53+YZ54,YZ53+YZ55)","v":1212.6400000000001},{"$f":"+IF(Simulador!$C$50=\"Si\",ZA53+ZA54,ZA53+ZA55)","v":1212.6400000000001},{"$f":"+IF(Simulador!$C$50=\"Si\",ZB53+ZB54,ZB53+ZB55)","v":1212.6400000000001},{"$f":"+IF(Simulador!$C$50=\"Si\",ZC53+ZC54,ZC53+ZC55)","v":1212.6400000000001},{"$f":"+IF(Simulador!$C$50=\"Si\",ZD53+ZD54,ZD53+ZD55)","v":1212.6400000000001},{"$f":"+IF(Simulador!$C$50=\"Si\",ZE53+ZE54,ZE53+ZE55)","v":1212.6400000000001},{"$f":"+IF(Simulador!$C$50=\"Si\",ZF53+ZF54,ZF53+ZF55)","v":1212.6400000000001},{"$f":"+IF(Simulador!$C$50=\"Si\",ZG53+ZG54,ZG53+ZG55)","v":1212.6400000000001},{"$f":"+IF(Simulador!$C$50=\"Si\",ZH53+ZH54,ZH53+ZH55)","v":1217.8700000000001},{"$f":"+IF(Simulador!$C$50=\"Si\",ZI53+ZI54,ZI53+ZI55)","v":1217.8700000000001},{"$f":"+IF(Simulador!$C$50=\"Si\",ZJ53+ZJ54,ZJ53+ZJ55)","v":1217.8700000000001},{"$f":"+IF(Simulador!$C$50=\"Si\",ZK53+ZK54,ZK53+ZK55)","v":1217.8700000000001},{"$f":"+IF(Simulador!$C$50=\"Si\",ZL53+ZL54,ZL53+ZL55)","v":1217.8700000000001},{"$f":"+IF(Simulador!$C$50=\"Si\",ZM53+ZM54,ZM53+ZM55)","v":1217.8700000000001},{"$f":"+IF(Simulador!$C$50=\"Si\",ZN53+ZN54,ZN53+ZN55)","v":1217.8700000000001},{"$f":"+IF(Simulador!$C$50=\"Si\",ZO53+ZO54,ZO53+ZO55)","v":1217.8700000000001},{"$f":"+IF(Simulador!$C$50=\"Si\",ZP53+ZP54,ZP53+ZP55)","v":1217.8700000000001},{"$f":"+IF(Simulador!$C$50=\"Si\",ZQ53+ZQ54,ZQ53+ZQ55)","v":1217.8700000000001},{"$f":"+IF(Simulador!$C$50=\"Si\",ZR53+ZR54,ZR53+ZR55)","v":1217.8700000000001},{"$f":"+IF(Simulador!$C$50=\"Si\",ZS53+ZS54,ZS53+ZS55)","v":1217.8700000000001},{"$f":"+IF(Simulador!$C$50=\"Si\",ZT53+ZT54,ZT53+ZT55)","v":1217.8700000000001},{"$f":"+IF(Simulador!$C$50=\"Si\",ZU53+ZU54,ZU53+ZU55)","v":1217.8700000000001},{"$f":"+IF(Simulador!$C$50=\"Si\",ZV53+ZV54,ZV53+ZV55)","v":1217.8700000000001},{"$f":"+IF(Simulador!$C$50=\"Si\",ZW53+ZW54,ZW53+ZW55)","v":1217.8700000000001},{"$f":"+IF(Simulador!$C$50=\"Si\",ZX53+ZX54,ZX53+ZX55)","v":1217.8700000000001},{"$f":"+IF(Simulador!$C$50=\"Si\",ZY53+ZY54,ZY53+ZY55)","v":1217.8700000000001},{"$f":"+IF(Simulador!$C$50=\"Si\",ZZ53+ZZ54,ZZ53+ZZ55)","v":1217.8700000000001},{"$f":"+IF(Simulador!$C$50=\"Si\",AAA53+AAA54,AAA53+AAA55)","v":1217.8700000000001},{"$f":"+IF(Simulador!$C$50=\"Si\",AAB53+AAB54,AAB53+AAB55)","v":1267.8700000000001},{"$f":"+IF(Simulador!$C$50=\"Si\",AAC53+AAC54,AAC53+AAC55)","v":1267.8700000000001},{"$f":"+IF(Simulador!$C$50=\"Si\",AAD53+AAD54,AAD53+AAD55)","v":1267.8700000000001},{"$f":"+IF(Simulador!$C$50=\"Si\",AAE53+AAE54,AAE53+AAE55)","v":1267.8700000000001},{"$f":"+IF(Simulador!$C$50=\"Si\",AAF53+AAF54,AAF53+AAF55)","v":1267.8700000000001},{"$f":"+IF(Simulador!$C$50=\"Si\",AAG53+AAG54,AAG53+AAG55)","v":1267.8700000000001},{"$f":"+IF(Simulador!$C$50=\"Si\",AAH53+AAH54,AAH53+AAH55)","v":1267.8700000000001},{"$f":"+IF(Simulador!$C$50=\"Si\",AAI53+AAI54,AAI53+AAI55)","v":1267.8700000000001},{"$f":"+IF(Simulador!$C$50=\"Si\",AAJ53+AAJ54,AAJ53+AAJ55)","v":1267.8700000000001},{"$f":"+IF(Simulador!$C$50=\"Si\",AAK53+AAK54,AAK53+AAK55)","v":1267.8700000000001},{"$f":"+IF(Simulador!$C$50=\"Si\",AAL53+AAL54,AAL53+AAL55)","v":1273.0700000000002},{"$f":"+IF(Simulador!$C$50=\"Si\",AAM53+AAM54,AAM53+AAM55)","v":1273.0700000000002},{"$f":"+IF(Simulador!$C$50=\"Si\",AAN53+AAN54,AAN53+AAN55)","v":1273.0700000000002},{"$f":"+IF(Simulador!$C$50=\"Si\",AAO53+AAO54,AAO53+AAO55)","v":1273.0700000000002},{"$f":"+IF(Simulador!$C$50=\"Si\",AAP53+AAP54,AAP53+AAP55)","v":1273.0700000000002},{"$f":"+IF(Simulador!$C$50=\"Si\",AAQ53+AAQ54,AAQ53+AAQ55)","v":1273.0700000000002},{"$f":"+IF(Simulador!$C$50=\"Si\",AAR53+AAR54,AAR53+AAR55)","v":1273.0700000000002},{"$f":"+IF(Simulador!$C$50=\"Si\",AAS53+AAS54,AAS53+AAS55)","v":1273.0700000000002},{"$f":"+IF(Simulador!$C$50=\"Si\",AAT53+AAT54,AAT53+AAT55)","v":1273.0700000000002},{"$f":"+IF(Simulador!$C$50=\"Si\",AAU53+AAU54,AAU53+AAU55)","v":1273.0700000000002}]
[null,"Interés diario",{"$f":"+ROUND(ROUND(C56*(Simulador!$I$63/360),4),2)","v":0},{"$f":"+ROUND(ROUND(D56*(Simulador!$I$63/360),4),2)","v":0.01},{"$f":"+ROUND(ROUND(E56*(Simulador!$I$63/360),4),2)","v":0.01},{"$f":"+ROUND(ROUND(F56*(Simulador!$I$63/360),4),2)","v":0.01},{"$f":"+ROUND(ROUND(G56*(Simulador!$I$63/360),4),2)","v":0.01},{"$f":"+ROUND(ROUND(H56*(Simulador!$I$63/360),4),2)","v":0.01},{"$f":"+ROUND(ROUND(I56*(Simulador!$I$63/360),4),2)","v":0.01},{"$f":"+ROUND(ROUND(J56*(Simulador!$I$63/360),4),2)","v":0.01},{"$f":"+ROUND(ROUND(K56*(Simulador!$I$63/360),4),2)","v":0.01},{"$f":"+ROUND(ROUND(L56*(Simulador!$I$63/360),4),2)","v":0.01},{"$f":"+ROUND(ROUND(M56*(Simulador!$I$63/360),4),2)","v":0.01},{"$f":"+ROUND(ROUND(N56*(Simulador!$I$63/360),4),2)","v":0.01},{"$f":"+ROUND(ROUND(O56*(Simulador!$I$63/360),4),2)","v":0.01},{"$f":"+ROUND(ROUND(P56*(Simulador!$I$63/360),4),2)","v":0.01},{"$f":"+ROUND(ROUND(Q56*(Simulador!$I$63/360),4),2)","v":0.01},{"$f":"+ROUND(ROUND(R56*(Simulador!$I$63/360),4),2)","v":0.01},{"$f":"+ROUND(ROUND(S56*(Simulador!$I$63/360),4),2)","v":0.01},{"$f":"+ROUND(ROUND(T56*(Simulador!$I$63/360),4),2)","v":0.01},{"$f":"+ROUND(ROUND(U56*(Simulador!$I$63/360),4),2)","v":0.01},{"$f":"+ROUND(ROUND(V56*(Simulador!$I$63/360),4),2)","v":0.01},{"$f":"+ROUND(ROUND(W56*(Simulador!$I$63/360),4),2)","v":0.01},{"$f":"+ROUND(ROUND(X56*(Simulador!$I$63/360),4),2)","v":0.01},{"$f":"+ROUND(ROUND(Y56*(Simulador!$I$63/360),4),2)","v":0.01},{"$f":"+ROUND(ROUND(Z56*(Simulador!$I$63/360),4),2)","v":0.01},{"$f":"+ROUND(ROUND(AA56*(Simulador!$I$63/360),4),2)","v":0.01},{"$f":"+ROUND(ROUND(AB56*(Simulador!$I$63/360),4),2)","v":0.01},{"$f":"+ROUND(ROUND(AC56*(Simulador!$I$63/360),4),2)","v":0.01},{"$f":"+ROUND(ROUND(AD56*(Simulador!$I$63/360),4),2)","v":0.01},{"$f":"+ROUND(ROUND(AE56*(Simulador!$I$63/360),4),2)","v":0.01},{"$f":"+ROUND(ROUND(AF56*(Simulador!$I$63/360),4),2)","v":0.01},{"$f":"+ROUND(ROUND(AG56*(Simulador!$I$63/360),4),2)","v":0.01},{"$f":"+ROUND(ROUND(AH56*(Simulador!$I$63/360),4),2)","v":0.01},{"$f":"+ROUND(ROUND(AI56*(Simulador!$I$63/360),4),2)","v":0.02},{"$f":"+ROUND(ROUND(AJ56*(Simulador!$I$63/360),4),2)","v":0.02},{"$f":"+ROUND(ROUND(AK56*(Simulador!$I$63/360),4),2)","v":0.02},{"$f":"+ROUND(ROUND(AL56*(Simulador!$I$63/360),4),2)","v":0.02},{"$f":"+ROUND(ROUND(AM56*(Simulador!$I$63/360),4),2)","v":0.02},{"$f":"+ROUND(ROUND(AN56*(Simulador!$I$63/360),4),2)","v":0.02},{"$f":"+ROUND(ROUND(AO56*(Simulador!$I$63/360),4),2)","v":0.02},{"$f":"+ROUND(ROUND(AP56*(Simulador!$I$63/360),4),2)","v":0.02},{"$f":"+ROUND(ROUND(AQ56*(Simulador!$I$63/360),4),2)","v":0.02},{"$f":"+ROUND(ROUND(AR56*(Simulador!$I$63/360),4),2)","v":0.02},{"$f":"+ROUND(ROUND(AS56*(Simulador!$I$63/360),4),2)","v":0.02},{"$f":"+ROUND(ROUND(AT56*(Simulador!$I$63/360),4),2)","v":0.02},{"$f":"+ROUND(ROUND(AU56*(Simulador!$I$63/360),4),2)","v":0.02},{"$f":"+ROUND(ROUND(AV56*(Simulador!$I$63/360),4),2)","v":0.02},{"$f":"+ROUND(ROUND(AW56*(Simulador!$I$63/360),4),2)","v":0.02},{"$f":"+ROUND(ROUND(AX56*(Simulador!$I$63/360),4),2)","v":0.02},{"$f":"+ROUND(ROUND(AY56*(Simulador!$I$63/360),4),2)","v":0.02},{"$f":"+ROUND(ROUND(AZ56*(Simulador!$I$63/360),4),2)","v":0.02},{"$f":"+ROUND(ROUND(BA56*(Simulador!$I$63/360),4),2)","v":0.02},{"$f":"+ROUND(ROUND(BB56*(Simulador!$I$63/360),4),2)","v":0.02},{"$f":"+ROUND(ROUND(BC56*(Simulador!$I$63/360),4),2)","v":0.02},{"$f":"+ROUND(ROUND(BD56*(Simulador!$I$63/360),4),2)","v":0.02},{"$f":"+ROUND(ROUND(BE56*(Simulador!$I$63/360),4),2)","v":0.02},{"$f":"+ROUND(ROUND(BF56*(Simulador!$I$63/360),4),2)","v":0.02},{"$f":"+ROUND(ROUND(BG56*(Simulador!$I$63/360),4),2)","v":0.02},{"$f":"+ROUND(ROUND(BH56*(Simulador!$I$63/360),4),2)","v":0.02},{"$f":"+ROUND(ROUND(BI56*(Simulador!$I$63/360),4),2)","v":0.02},{"$f":"+ROUND(ROUND(BJ56*(Simulador!$I$63/360),4),2)","v":0.02},{"$f":"+ROUND(ROUND(BK56*(Simulador!$I$63/360),4),2)","v":0.02},{"$f":"+ROUND(ROUND(BL56*(Simulador!$I$63/360),4),2)","v":0.02},{"$f":"+ROUND(ROUND(BM56*(Simulador!$I$63/360),4),2)","v":0.02},{"$f":"+ROUND(ROUND(BN56*(Simulador!$I$63/360),4),2)","v":0.02},{"$f":"+ROUND(ROUND(BO56*(Simulador!$I$63/360),4),2)","v":0.02},{"$f":"+ROUND(ROUND(BP56*(Simulador!$I$63/360),4),2)","v":0.02},{"$f":"+ROUND(ROUND(BQ56*(Simulador!$I$63/360),4),2)","v":0.02},{"$f":"+ROUND(ROUND(BR56*(Simulador!$I$63/360),4),2)","v":0.02},{"$f":"+ROUND(ROUND(BS56*(Simulador!$I$63/360),4),2)","v":0.02},{"$f":"+ROUND(ROUND(BT56*(Simulador!$I$63/360),4),2)","v":0.02},{"$f":"+ROUND(ROUND(BU56*(Simulador!$I$63/360),4),2)","v":0.02},{"$f":"+ROUND(ROUND(BV56*(Simulador!$I$63/360),4),2)","v":0.02},{"$f":"+ROUND(ROUND(BW56*(Simulador!$I$63/360),4),2)","v":0.02},{"$f":"+ROUND(ROUND(BX56*(Simulador!$I$63/360),4),2)","v":0.02},{"$f":"+ROUND(ROUND(BY56*(Simulador!$I$63/360),4),2)","v":0.02},{"$f":"+ROUND(ROUND(BZ56*(Simulador!$I$63/360),4),2)","v":0.02},{"$f":"+ROUND(ROUND(CA56*(Simulador!$I$63/360),4),2)","v":0.02},{"$f":"+ROUND(ROUND(CB56*(Simulador!$I$63/360),4),2)","v":0.02},{"$f":"+ROUND(ROUND(CC56*(Simulador!$I$63/360),4),2)","v":0.02},{"$f":"+ROUND(ROUND(CD56*(Simulador!$I$63/360),4),2)","v":0.02},{"$f":"+ROUND(ROUND(CE56*(Simulador!$I$63/360),4),2)","v":0.02},{"$f":"+ROUND(ROUND(CF56*(Simulador!$I$63/360),4),2)","v":0.02},{"$f":"+ROUND(ROUND(CG56*(Simulador!$I$63/360),4),2)","v":0.02},{"$f":"+ROUND(ROUND(CH56*(Simulador!$I$63/360),4),2)","v":0.02},{"$f":"+ROUND(ROUND(CI56*(Simulador!$I$63/360),4),2)","v":0.02},{"$f":"+ROUND(ROUND(CJ56*(Simulador!$I$63/360),4),2)","v":0.02},{"$f":"+ROUND(ROUND(CK56*(Simulador!$I$63/360),4),2)","v":0.02},{"$f":"+ROUND(ROUND(CL56*(Simulador!$I$63/360),4),2)","v":0.02},{"$f":"+ROUND(ROUND(CM56*(Simulador!$I$63/360),4),2)","v":0.02},{"$f":"+ROUND(ROUND(CN56*(Simulador!$I$63/360),4),2)","v":0.02},{"$f":"+ROUND(ROUND(CO56*(Simulador!$I$63/360),4),2)","v":0.02},{"$f":"+ROUND(ROUND(CP56*(Simulador!$I$63/360),4),2)","v":0.02},{"$f":"+ROUND(ROUND(CQ56*(Simulador!$I$63/360),4),2)","v":0.02},{"$f":"+ROUND(ROUND(CR56*(Simulador!$I$63/360),4),2)","v":0.03},{"$f":"+ROUND(ROUND(CS56*(Simulador!$I$63/360),4),2)","v":0.03},{"$f":"+ROUND(ROUND(CT56*(Simulador!$I$63/360),4),2)","v":0.03},{"$f":"+ROUND(ROUND(CU56*(Simulador!$I$63/360),4),2)","v":0.03},{"$f":"+ROUND(ROUND(CV56*(Simulador!$I$63/360),4),2)","v":0.03},{"$f":"+ROUND(ROUND(CW56*(Simulador!$I$63/360),4),2)","v":0.03},{"$f":"+ROUND(ROUND(CX56*(Simulador!$I$63/360),4),2)","v":0.03},{"$f":"+ROUND(ROUND(CY56*(Simulador!$I$63/360),4),2)","v":0.03},{"$f":"+ROUND(ROUND(CZ56*(Simulador!$I$63/360),4),2)","v":0.03},{"$f":"+ROUND(ROUND(DA56*(Simulador!$I$63/360),4),2)","v":0.03},{"$f":"+ROUND(ROUND(DB56*(Simulador!$I$63/360),4),2)","v":0.03},{"$f":"+ROUND(ROUND(DC56*(Simulador!$I$63/360),4),2)","v":0.03},{"$f":"+ROUND(ROUND(DD56*(Simulador!$I$63/360),4),2)","v":0.03},{"$f":"+ROUND(ROUND(DE56*(Simulador!$I$63/360),4),2)","v":0.03},{"$f":"+ROUND(ROUND(DF56*(Simulador!$I$63/360),4),2)","v":0.03},{"$f":"+ROUND(ROUND(DG56*(Simulador!$I$63/360),4),2)","v":0.03},{"$f":"+ROUND(ROUND(DH56*(Simulador!$I$63/360),4),2)","v":0.03},{"$f":"+ROUND(ROUND(DI56*(Simulador!$I$63/360),4),2)","v":0.03},{"$f":"+ROUND(ROUND(DJ56*(Simulador!$I$63/360),4),2)","v":0.03},{"$f":"+ROUND(ROUND(DK56*(Simulador!$I$63/360),4),2)","v":0.03},{"$f":"+ROUND(ROUND(DL56*(Simulador!$I$63/360),4),2)","v":0.03},{"$f":"+ROUND(ROUND(DM56*(Simulador!$I$63/360),4),2)","v":0.03},{"$f":"+ROUND(ROUND(DN56*(Simulador!$I$63/360),4),2)","v":0.03},{"$f":"+ROUND(ROUND(DO56*(Simulador!$I$63/360),4),2)","v":0.03},{"$f":"+ROUND(ROUND(DP56*(Simulador!$I$63/360),4),2)","v":0.03},{"$f":"+ROUND(ROUND(DQ56*(Simulador!$I$63/360),4),2)","v":0.03},{"$f":"+ROUND(ROUND(DR56*(Simulador!$I$63/360),4),2)","v":0.03},{"$f":"+ROUND(ROUND(DS56*(Simulador!$I$63/360),4),2)","v":0.03},{"$f":"+ROUND(ROUND(DT56*(Simulador!$I$63/360),4),2)","v":0.03},{"$f":"+ROUND(ROUND(DU56*(Simulador!$I$63/360),4),2)","v":0.03},{"$f":"+ROUND(ROUND(DV56*(Simulador!$I$63/360),4),2)","v":0.03},{"$f":"+ROUND(ROUND(DW56*(Simulador!$I$63/360),4),2)","v":0.04},{"$f":"+ROUND(ROUND(DX56*(Simulador!$I$63/360),4),2)","v":0.04},{"$f":"+ROUND(ROUND(DY56*(Simulador!$I$63/360),4),2)","v":0.04},{"$f":"+ROUND(ROUND(DZ56*(Simulador!$I$63/360),4),2)","v":0.04},{"$f":"+ROUND(ROUND(EA56*(Simulador!$I$63/360),4),2)","v":0.04},{"$f":"+ROUND(ROUND(EB56*(Simulador!$I$63/360),4),2)","v":0.04},{"$f":"+ROUND(ROUND(EC56*(Simulador!$I$63/360),4),2)","v":0.04},{"$f":"+ROUND(ROUND(ED56*(Simulador!$I$63/360),4),2)","v":0.04},{"$f":"+ROUND(ROUND(EE56*(Simulador!$I$63/360),4),2)","v":0.04},{"$f":"+ROUND(ROUND(EF56*(Simulador!$I$63/360),4),2)","v":0.04},{"$f":"+ROUND(ROUND(EG56*(Simulador!$I$63/360),4),2)","v":0.04},{"$f":"+ROUND(ROUND(EH56*(Simulador!$I$63/360),4),2)","v":0.04},{"$f":"+ROUND(ROUND(EI56*(Simulador!$I$63/360),4),2)","v":0.04},{"$f":"+ROUND(ROUND(EJ56*(Simulador!$I$63/360),4),2)","v":0.04},{"$f":"+ROUND(ROUND(EK56*(Simulador!$I$63/360),4),2)","v":0.04},{"$f":"+ROUND(ROUND(EL56*(Simulador!$I$63/360),4),2)","v":0.04},{"$f":"+ROUND(ROUND(EM56*(Simulador!$I$63/360),4),2)","v":0.04},{"$f":"+ROUND(ROUND(EN56*(Simulador!$I$63/360),4),2)","v":0.04},{"$f":"+ROUND(ROUND(EO56*(Simulador!$I$63/360),4),2)","v":0.04},{"$f":"+ROUND(ROUND(EP56*(Simulador!$I$63/360),4),2)","v":0.04},{"$f":"+ROUND(ROUND(EQ56*(Simulador!$I$63/360),4),2)","v":0.04},{"$f":"+ROUND(ROUND(ER56*(Simulador!$I$63/360),4),2)","v":0.04},{"$f":"+ROUND(ROUND(ES56*(Simulador!$I$63/360),4),2)","v":0.04},{"$f":"+ROUND(ROUND(ET56*(Simulador!$I$63/360),4),2)","v":0.04},{"$f":"+ROUND(ROUND(EU56*(Simulador!$I$63/360),4),2)","v":0.04},{"$f":"+ROUND(ROUND(EV56*(Simulador!$I$63/360),4),2)","v":0.04},{"$f":"+ROUND(ROUND(EW56*(Simulador!$I$63/360),4),2)","v":0.04},{"$f":"+ROUND(ROUND(EX56*(Simulador!$I$63/360),4),2)","v":0.04},{"$f":"+ROUND(ROUND(EY56*(Simulador!$I$63/360),4),2)","v":0.04},{"$f":"+ROUND(ROUND(EZ56*(Simulador!$I$63/360),4),2)","v":0.04},{"$f":"+ROUND(ROUND(FA56*(Simulador!$I$63/360),4),2)","v":0.04},{"$f":"+ROUND(ROUND(FB56*(Simulador!$I$63/360),4),2)","v":0.04},{"$f":"+ROUND(ROUND(FC56*(Simulador!$I$63/360),4),2)","v":0.04},{"$f":"+ROUND(ROUND(FD56*(Simulador!$I$63/360),4),2)","v":0.04},{"$f":"+ROUND(ROUND(FE56*(Simulador!$I$63/360),4),2)","v":0.04},{"$f":"+ROUND(ROUND(FF56*(Simulador!$I$63/360),4),2)","v":0.04},{"$f":"+ROUND(ROUND(FG56*(Simulador!$I$63/360),4),2)","v":0.04},{"$f":"+ROUND(ROUND(FH56*(Simulador!$I$63/360),4),2)","v":0.04},{"$f":"+ROUND(ROUND(FI56*(Simulador!$I$63/360),4),2)","v":0.04},{"$f":"+ROUND(ROUND(FJ56*(Simulador!$I$63/360),4),2)","v":0.04},{"$f":"+ROUND(ROUND(FK56*(Simulador!$I$63/360),4),2)","v":0.04},{"$f":"+ROUND(ROUND(FL56*(Simulador!$I$63/360),4),2)","v":0.04},{"$f":"+ROUND(ROUND(FM56*(Simulador!$I$63/360),4),2)","v":0.04},{"$f":"+ROUND(ROUND(FN56*(Simulador!$I$63/360),4),2)","v":0.04},{"$f":"+ROUND(ROUND(FO56*(Simulador!$I$63/360),4),2)","v":0.04},{"$f":"+ROUND(ROUND(FP56*(Simulador!$I$63/360),4),2)","v":0.04},{"$f":"+ROUND(ROUND(FQ56*(Simulador!$I$63/360),4),2)","v":0.04},{"$f":"+ROUND(ROUND(FR56*(Simulador!$I$63/360),4),2)","v":0.04},{"$f":"+ROUND(ROUND(FS56*(Simulador!$I$63/360),4),2)","v":0.04},{"$f":"+ROUND(ROUND(FT56*(Simulador!$I$63/360),4),2)","v":0.04},{"$f":"+ROUND(ROUND(FU56*(Simulador!$I$63/360),4),2)","v":0.04},{"$f":"+ROUND(ROUND(FV56*(Simulador!$I$63/360),4),2)","v":0.04},{"$f":"+ROUND(ROUND(FW56*(Simulador!$I$63/360),4),2)","v":0.04},{"$f":"+ROUND(ROUND(FX56*(Simulador!$I$63/360),4),2)","v":0.04},{"$f":"+ROUND(ROUND(FY56*(Simulador!$I$63/360),4),2)","v":0.04},{"$f":"+ROUND(ROUND(FZ56*(Simulador!$I$63/360),4),2)","v":0.04},{"$f":"+ROUND(ROUND(GA56*(Simulador!$I$63/360),4),2)","v":0.04},{"$f":"+ROUND(ROUND(GB56*(Simulador!$I$63/360),4),2)","v":0.04},{"$f":"+ROUND(ROUND(GC56*(Simulador!$I$63/360),4),2)","v":0.04},{"$f":"+ROUND(ROUND(GD56*(Simulador!$I$63/360),4),2)","v":0.04},{"$f":"+ROUND(ROUND(GE56*(Simulador!$I$63/360),4),2)","v":0.04},{"$f":"+ROUND(ROUND(GF56*(Simulador!$I$63/360),4),2)","v":0.05},{"$f":"+ROUND(ROUND(GG56*(Simulador!$I$63/360),4),2)","v":0.05},{"$f":"+ROUND(ROUND(GH56*(Simulador!$I$63/360),4),2)","v":0.05},{"$f":"+ROUND(ROUND(GI56*(Simulador!$I$63/360),4),2)","v":0.05},{"$f":"+ROUND(ROUND(GJ56*(Simulador!$I$63/360),4),2)","v":0.05},{"$f":"+ROUND(ROUND(GK56*(Simulador!$I$63/360),4),2)","v":0.05},{"$f":"+ROUND(ROUND(GL56*(Simulador!$I$63/360),4),2)","v":0.05},{"$f":"+ROUND(ROUND(GM56*(Simulador!$I$63/360),4),2)","v":0.05},{"$f":"+ROUND(ROUND(GN56*(Simulador!$I$63/360),4),2)","v":0.05},{"$f":"+ROUND(ROUND(GO56*(Simulador!$I$63/360),4),2)","v":0.05},{"$f":"+ROUND(ROUND(GP56*(Simulador!$I$63/360),4),2)","v":0.05},{"$f":"+ROUND(ROUND(GQ56*(Simulador!$I$63/360),4),2)","v":0.05},{"$f":"+ROUND(ROUND(GR56*(Simulador!$I$63/360),4),2)","v":0.05},{"$f":"+ROUND(ROUND(GS56*(Simulador!$I$63/360),4),2)","v":0.05},{"$f":"+ROUND(ROUND(GT56*(Simulador!$I$63/360),4),2)","v":0.05},{"$f":"+ROUND(ROUND(GU56*(Simulador!$I$63/360),4),2)","v":0.05},{"$f":"+ROUND(ROUND(GV56*(Simulador!$I$63/360),4),2)","v":0.05},{"$f":"+ROUND(ROUND(GW56*(Simulador!$I$63/360),4),2)","v":0.05},{"$f":"+ROUND(ROUND(GX56*(Simulador!$I$63/360),4),2)","v":0.05},{"$f":"+ROUND(ROUND(GY56*(Simulador!$I$63/360),4),2)","v":0.05},{"$f":"+ROUND(ROUND(GZ56*(Simulador!$I$63/360),4),2)","v":0.05},{"$f":"+ROUND(ROUND(HA56*(Simulador!$I$63/360),4),2)","v":0.05},{"$f":"+ROUND(ROUND(HB56*(Simulador!$I$63/360),4),2)","v":0.05},{"$f":"+ROUND(ROUND(HC56*(Simulador!$I$63/360),4),2)","v":0.05},{"$f":"+ROUND(ROUND(HD56*(Simulador!$I$63/360),4),2)","v":0.05},{"$f":"+ROUND(ROUND(HE56*(Simulador!$I$63/360),4),2)","v":0.05},{"$f":"+ROUND(ROUND(HF56*(Simulador!$I$63/360),4),2)","v":0.05},{"$f":"+ROUND(ROUND(HG56*(Simulador!$I$63/360),4),2)","v":0.05},{"$f":"+ROUND(ROUND(HH56*(Simulador!$I$63/360),4),2)","v":0.05},{"$f":"+ROUND(ROUND(HI56*(Simulador!$I$63/360),4),2)","v":0.05},{"$f":"+ROUND(ROUND(HJ56*(Simulador!$I$63/360),4),2)","v":0.05},{"$f":"+ROUND(ROUND(HK56*(Simulador!$I$63/360),4),2)","v":0.06},{"$f":"+ROUND(ROUND(HL56*(Simulador!$I$63/360),4),2)","v":0.06},{"$f":"+ROUND(ROUND(HM56*(Simulador!$I$63/360),4),2)","v":0.06},{"$f":"+ROUND(ROUND(HN56*(Simulador!$I$63/360),4),2)","v":0.06},{"$f":"+ROUND(ROUND(HO56*(Simulador!$I$63/360),4),2)","v":0.06},{"$f":"+ROUND(ROUND(HP56*(Simulador!$I$63/360),4),2)","v":0.06},{"$f":"+ROUND(ROUND(HQ56*(Simulador!$I$63/360),4),2)","v":0.06},{"$f":"+ROUND(ROUND(HR56*(Simulador!$I$63/360),4),2)","v":0.06},{"$f":"+ROUND(ROUND(HS56*(Simulador!$I$63/360),4),2)","v":0.06},{"$f":"+ROUND(ROUND(HT56*(Simulador!$I$63/360),4),2)","v":0.06},{"$f":"+ROUND(ROUND(HU56*(Simulador!$I$63/360),4),2)","v":0.06},{"$f":"+ROUND(ROUND(HV56*(Simulador!$I$63/360),4),2)","v":0.06},{"$f":"+ROUND(ROUND(HW56*(Simulador!$I$63/360),4),2)","v":0.06},{"$f":"+ROUND(ROUND(HX56*(Simulador!$I$63/360),4),2)","v":0.06},{"$f":"+ROUND(ROUND(HY56*(Simulador!$I$63/360),4),2)","v":0.06},{"$f":"+ROUND(ROUND(HZ56*(Simulador!$I$63/360),4),2)","v":0.06},{"$f":"+ROUND(ROUND(IA56*(Simulador!$I$63/360),4),2)","v":0.06},{"$f":"+ROUND(ROUND(IB56*(Simulador!$I$63/360),4),2)","v":0.06},{"$f":"+ROUND(ROUND(IC56*(Simulador!$I$63/360),4),2)","v":0.06},{"$f":"+ROUND(ROUND(ID56*(Simulador!$I$63/360),4),2)","v":0.06},{"$f":"+ROUND(ROUND(IE56*(Simulador!$I$63/360),4),2)","v":0.06},{"$f":"+ROUND(ROUND(IF56*(Simulador!$I$63/360),4),2)","v":0.06},{"$f":"+ROUND(ROUND(IG56*(Simulador!$I$63/360),4),2)","v":0.06},{"$f":"+ROUND(ROUND(IH56*(Simulador!$I$63/360),4),2)","v":0.06},{"$f":"+ROUND(ROUND(II56*(Simulador!$I$63/360),4),2)","v":0.06},{"$f":"+ROUND(ROUND(IJ56*(Simulador!$I$63/360),4),2)","v":0.06},{"$f":"+ROUND(ROUND(IK56*(Simulador!$I$63/360),4),2)","v":0.06},{"$f":"+ROUND(ROUND(IL56*(Simulador!$I$63/360),4),2)","v":0.06},{"$f":"+ROUND(ROUND(IM56*(Simulador!$I$63/360),4),2)","v":0.06},{"$f":"+ROUND(ROUND(IN56*(Simulador!$I$63/360),4),2)","v":0.06},{"$f":"+ROUND(ROUND(IO56*(Simulador!$I$63/360),4),2)","v":0.06},{"$f":"+ROUND(ROUND(IP56*(Simulador!$I$63/360),4),2)","v":0.06},{"$f":"+ROUND(ROUND(IQ56*(Simulador!$I$63/360),4),2)","v":0.06},{"$f":"+ROUND(ROUND(IR56*(Simulador!$I$63/360),4),2)","v":0.06},{"$f":"+ROUND(ROUND(IS56*(Simulador!$I$63/360),4),2)","v":0.06},{"$f":"+ROUND(ROUND(IT56*(Simulador!$I$63/360),4),2)","v":0.06},{"$f":"+ROUND(ROUND(IU56*(Simulador!$I$63/360),4),2)","v":0.06},{"$f":"+ROUND(ROUND(IV56*(Simulador!$I$63/360),4),2)","v":0.06},{"$f":"+ROUND(ROUND(IW56*(Simulador!$I$63/360),4),2)","v":0.06},{"$f":"+ROUND(ROUND(IX56*(Simulador!$I$63/360),4),2)","v":7.0000000000000007E-2},{"$f":"+ROUND(ROUND(IY56*(Simulador!$I$63/360),4),2)","v":7.0000000000000007E-2},{"$f":"+ROUND(ROUND(IZ56*(Simulador!$I$63/360),4),2)","v":7.0000000000000007E-2},{"$f":"+ROUND(ROUND(JA56*(Simulador!$I$63/360),4),2)","v":7.0000000000000007E-2},{"$f":"+ROUND(ROUND(JB56*(Simulador!$I$63/360),4),2)","v":7.0000000000000007E-2},{"$f":"+ROUND(ROUND(JC56*(Simulador!$I$63/360),4),2)","v":7.0000000000000007E-2},{"$f":"+ROUND(ROUND(JD56*(Simulador!$I$63/360),4),2)","v":7.0000000000000007E-2},{"$f":"+ROUND(ROUND(JE56*(Simulador!$I$63/360),4),2)","v":7.0000000000000007E-2},{"$f":"+ROUND(ROUND(JF56*(Simulador!$I$63/360),4),2)","v":7.0000000000000007E-2},{"$f":"+ROUND(ROUND(JG56*(Simulador!$I$63/360),4),2)","v":7.0000000000000007E-2},{"$f":"+ROUND(ROUND(JH56*(Simulador!$I$63/360),4),2)","v":7.0000000000000007E-2},{"$f":"+ROUND(ROUND(JI56*(Simulador!$I$63/360),4),2)","v":7.0000000000000007E-2},{"$f":"+ROUND(ROUND(JJ56*(Simulador!$I$63/360),4),2)","v":7.0000000000000007E-2},{"$f":"+ROUND(ROUND(JK56*(Simulador!$I$63/360),4),2)","v":7.0000000000000007E-2},{"$f":"+ROUND(ROUND(JL56*(Simulador!$I$63/360),4),2)","v":7.0000000000000007E-2},{"$f":"+ROUND(ROUND(JM56*(Simulador!$I$63/360),4),2)","v":7.0000000000000007E-2},{"$f":"+ROUND(ROUND(JN56*(Simulador!$I$63/360),4),2)","v":7.0000000000000007E-2},{"$f":"+ROUND(ROUND(JO56*(Simulador!$I$63/360),4),2)","v":7.0000000000000007E-2},{"$f":"+ROUND(ROUND(JP56*(Simulador!$I$63/360),4),2)","v":7.0000000000000007E-2},{"$f":"+ROUND(ROUND(JQ56*(Simulador!$I$63/360),4),2)","v":7.0000000000000007E-2},{"$f":"+ROUND(ROUND(JR56*(Simulador!$I$63/360),4),2)","v":7.0000000000000007E-2},{"$f":"+ROUND(ROUND(JS56*(Simulador!$I$63/360),4),2)","v":7.0000000000000007E-2},{"$f":"+ROUND(ROUND(JT56*(Simulador!$I$63/360),4),2)","v":7.0000000000000007E-2},{"$f":"+ROUND(ROUND(JU56*(Simulador!$I$63/360),4),2)","v":7.0000000000000007E-2},{"$f":"+ROUND(ROUND(JV56*(Simulador!$I$63/360),4),2)","v":7.0000000000000007E-2},{"$f":"+ROUND(ROUND(JW56*(Simulador!$I$63/360),4),2)","v":7.0000000000000007E-2},{"$f":"+ROUND(ROUND(JX56*(Simulador!$I$63/360),4),2)","v":7.0000000000000007E-2},{"$f":"+ROUND(ROUND(JY56*(Simulador!$I$63/360),4),2)","v":7.0000000000000007E-2},{"$f":"+ROUND(ROUND(JZ56*(Simulador!$I$63/360),4),2)","v":7.0000000000000007E-2},{"$f":"+ROUND(ROUND(KA56*(Simulador!$I$63/360),4),2)","v":7.0000000000000007E-2},{"$f":"+ROUND(ROUND(KB56*(Simulador!$I$63/360),4),2)","v":7.0000000000000007E-2},{"$f":"+ROUND(ROUND(KC56*(Simulador!$I$63/360),4),2)","v":7.0000000000000007E-2},{"$f":"+ROUND(ROUND(KD56*(Simulador!$I$63/360),4),2)","v":7.0000000000000007E-2},{"$f":"+ROUND(ROUND(KE56*(Simulador!$I$63/360),4),2)","v":7.0000000000000007E-2},{"$f":"+ROUND(ROUND(KF56*(Simulador!$I$63/360),4),2)","v":7.0000000000000007E-2},{"$f":"+ROUND(ROUND(KG56*(Simulador!$I$63/360),4),2)","v":7.0000000000000007E-2},{"$f":"+ROUND(ROUND(KH56*(Simulador!$I$63/360),4),2)","v":7.0000000000000007E-2},{"$f":"+ROUND(ROUND(KI56*(Simulador!$I$63/360),4),2)","v":7.0000000000000007E-2},{"$f":"+ROUND(ROUND(KJ56*(Simulador!$I$63/360),4),2)","v":7.0000000000000007E-2},{"$f":"+ROUND(ROUND(KK56*(Simulador!$I$63/360),4),2)","v":7.0000000000000007E-2},{"$f":"+ROUND(ROUND(KL56*(Simulador!$I$63/360),4),2)","v":7.0000000000000007E-2},{"$f":"+ROUND(ROUND(KM56*(Simulador!$I$63/360),4),2)","v":7.0000000000000007E-2},{"$f":"+ROUND(ROUND(KN56*(Simulador!$I$63/360),4),2)","v":7.0000000000000007E-2},{"$f":"+ROUND(ROUND(KO56*(Simulador!$I$63/360),4),2)","v":7.0000000000000007E-2},{"$f":"+ROUND(ROUND(KP56*(Simulador!$I$63/360),4),2)","v":7.0000000000000007E-2},{"$f":"+ROUND(ROUND(KQ56*(Simulador!$I$63/360),4),2)","v":7.0000000000000007E-2},{"$f":"+ROUND(ROUND(KR56*(Simulador!$I$63/360),4),2)","v":7.0000000000000007E-2},{"$f":"+ROUND(ROUND(KS56*(Simulador!$I$63/360),4),2)","v":7.0000000000000007E-2},{"$f":"+ROUND(ROUND(KT56*(Simulador!$I$63/360),4),2)","v":7.0000000000000007E-2},{"$f":"+ROUND(ROUND(KU56*(Simulador!$I$63/360),4),2)","v":7.0000000000000007E-2},{"$f":"+ROUND(ROUND(KV56*(Simulador!$I$63/360),4),2)","v":0.08},{"$f":"+ROUND(ROUND(KW56*(Simulador!$I$63/360),4),2)","v":0.08},{"$f":"+ROUND(ROUND(KX56*(Simulador!$I$63/360),4),2)","v":0.08},{"$f":"+ROUND(ROUND(KY56*(Simulador!$I$63/360),4),2)","v":0.08},{"$f":"+ROUND(ROUND(KZ56*(Simulador!$I$63/360),4),2)","v":0.08},{"$f":"+ROUND(ROUND(LA56*(Simulador!$I$63/360),4),2)","v":0.08},{"$f":"+ROUND(ROUND(LB56*(Simulador!$I$63/360),4),2)","v":0.08},{"$f":"+ROUND(ROUND(LC56*(Simulador!$I$63/360),4),2)","v":0.08},{"$f":"+ROUND(ROUND(LD56*(Simulador!$I$63/360),4),2)","v":0.08},{"$f":"+ROUND(ROUND(LE56*(Simulador!$I$63/360),4),2)","v":0.08},{"$f":"+ROUND(ROUND(LF56*(Simulador!$I$63/360),4),2)","v":0.08},{"$f":"+ROUND(ROUND(LG56*(Simulador!$I$63/360),4),2)","v":0.08},{"$f":"+ROUND(ROUND(LH56*(Simulador!$I$63/360),4),2)","v":0.08},{"$f":"+ROUND(ROUND(LI56*(Simulador!$I$63/360),4),2)","v":0.08},{"$f":"+ROUND(ROUND(LJ56*(Simulador!$I$63/360),4),2)","v":0.08},{"$f":"+ROUND(ROUND(LK56*(Simulador!$I$63/360),4),2)","v":0.08},{"$f":"+ROUND(ROUND(LL56*(Simulador!$I$63/360),4),2)","v":0.08},{"$f":"+ROUND(ROUND(LM56*(Simulador!$I$63/360),4),2)","v":0.08},{"$f":"+ROUND(ROUND(LN56*(Simulador!$I$63/360),4),2)","v":0.08},{"$f":"+ROUND(ROUND(LO56*(Simulador!$I$63/360),4),2)","v":0.08},{"$f":"+ROUND(ROUND(LP56*(Simulador!$I$63/360),4),2)","v":0.08},{"$f":"+ROUND(ROUND(LQ56*(Simulador!$I$63/360),4),2)","v":0.08},{"$f":"+ROUND(ROUND(LR56*(Simulador!$I$63/360),4),2)","v":0.08},{"$f":"+ROUND(ROUND(LS56*(Simulador!$I$63/360),4),2)","v":0.08},{"$f":"+ROUND(ROUND(LT56*(Simulador!$I$63/360),4),2)","v":0.08},{"$f":"+ROUND(ROUND(LU56*(Simulador!$I$63/360),4),2)","v":0.08},{"$f":"+ROUND(ROUND(LV56*(Simulador!$I$63/360),4),2)","v":0.08},{"$f":"+ROUND(ROUND(LW56*(Simulador!$I$63/360),4),2)","v":0.08},{"$f":"+ROUND(ROUND(LX56*(Simulador!$I$63/360),4),2)","v":0.08},{"$f":"+ROUND(ROUND(LY56*(Simulador!$I$63/360),4),2)","v":0.08},{"$f":"+ROUND(ROUND(LZ56*(Simulador!$I$63/360),4),2)","v":0.08},{"$f":"+ROUND(ROUND(MA56*(Simulador!$I$63/360),4),2)","v":0.09},{"$f":"+ROUND(ROUND(MB56*(Simulador!$I$63/360),4),2)","v":0.09},{"$f":"+ROUND(ROUND(MC56*(Simulador!$I$63/360),4),2)","v":0.09},{"$f":"+ROUND(ROUND(MD56*(Simulador!$I$63/360),4),2)","v":0.09},{"$f":"+ROUND(ROUND(ME56*(Simulador!$I$63/360),4),2)","v":0.09},{"$f":"+ROUND(ROUND(MF56*(Simulador!$I$63/360),4),2)","v":0.09},{"$f":"+ROUND(ROUND(MG56*(Simulador!$I$63/360),4),2)","v":0.09},{"$f":"+ROUND(ROUND(MH56*(Simulador!$I$63/360),4),2)","v":0.09},{"$f":"+ROUND(ROUND(MI56*(Simulador!$I$63/360),4),2)","v":0.09},{"$f":"+ROUND(ROUND(MJ56*(Simulador!$I$63/360),4),2)","v":0.09},{"$f":"+ROUND(ROUND(MK56*(Simulador!$I$63/360),4),2)","v":0.09},{"$f":"+ROUND(ROUND(ML56*(Simulador!$I$63/360),4),2)","v":0.09},{"$f":"+ROUND(ROUND(MM56*(Simulador!$I$63/360),4),2)","v":0.09},{"$f":"+ROUND(ROUND(MN56*(Simulador!$I$63/360),4),2)","v":0.09},{"$f":"+ROUND(ROUND(MO56*(Simulador!$I$63/360),4),2)","v":0.09},{"$f":"+ROUND(ROUND(MP56*(Simulador!$I$63/360),4),2)","v":0.09},{"$f":"+ROUND(ROUND(MQ56*(Simulador!$I$63/360),4),2)","v":0.09},{"$f":"+ROUND(ROUND(MR56*(Simulador!$I$63/360),4),2)","v":0.09},{"$f":"+ROUND(ROUND(MS56*(Simulador!$I$63/360),4),2)","v":0.09},{"$f":"+ROUND(ROUND(MT56*(Simulador!$I$63/360),4),2)","v":0.09},{"$f":"+ROUND(ROUND(MU56*(Simulador!$I$63/360),4),2)","v":0.09},{"$f":"+ROUND(ROUND(MV56*(Simulador!$I$63/360),4),2)","v":0.09},{"$f":"+ROUND(ROUND(MW56*(Simulador!$I$63/360),4),2)","v":0.09},{"$f":"+ROUND(ROUND(MX56*(Simulador!$I$63/360),4),2)","v":0.09},{"$f":"+ROUND(ROUND(MY56*(Simulador!$I$63/360),4),2)","v":0.09},{"$f":"+ROUND(ROUND(MZ56*(Simulador!$I$63/360),4),2)","v":0.09},{"$f":"+ROUND(ROUND(NA56*(Simulador!$I$63/360),4),2)","v":0.09},{"$f":"+ROUND(ROUND(NB56*(Simulador!$I$63/360),4),2)","v":0.09},{"$f":"+ROUND(ROUND(NC56*(Simulador!$I$63/360),4),2)","v":0.09},{"$f":"+ROUND(ROUND(ND56*(Simulador!$I$63/360),4),2)","v":0.09},{"$f":"+ROUND(ROUND(NE56*(Simulador!$I$63/360),4),2)","v":0.09},{"$f":"+ROUND(ROUND(NF56*(Simulador!$I$63/360),4),2)","v":0.09},{"$f":"+ROUND(ROUND(NG56*(Simulador!$I$63/360),4),2)","v":0.09},{"$f":"+ROUND(ROUND(NH56*(Simulador!$I$63/360),4),2)","v":0.09},{"$f":"+ROUND(ROUND(NI56*(Simulador!$I$63/360),4),2)","v":0.09},{"$f":"+ROUND(ROUND(NJ56*(Simulador!$I$63/360),4),2)","v":0.09},{"$f":"+ROUND(ROUND(NK56*(Simulador!$I$63/360),4),2)","v":0.09},{"$f":"+ROUND(ROUND(NL56*(Simulador!$I$63/360),4),2)","v":0.09},{"$f":"+ROUND(ROUND(NM56*(Simulador!$I$63/360),4),2)","v":0.09},{"$f":"+ROUND(ROUND(NN56*(Simulador!$I$63/360),4),2)","v":0.09},{"$f":"+ROUND(ROUND(NO56*(Simulador!$I$63/360),4),2)","v":0.09},{"$f":"+ROUND(ROUND(NP56*(Simulador!$I$63/360),4),2)","v":0.09},{"$f":"+ROUND(ROUND(NQ56*(Simulador!$I$63/360),4),2)","v":0.09},{"$f":"+ROUND(ROUND(NR56*(Simulador!$I$63/360),4),2)","v":0.09},{"$f":"+ROUND(ROUND(NS56*(Simulador!$I$63/360),4),2)","v":0.09},{"$f":"+ROUND(ROUND(NT56*(Simulador!$I$63/360),4),2)","v":0.09},{"$f":"+ROUND(ROUND(NU56*(Simulador!$I$63/360),4),2)","v":0.09},{"$f":"+ROUND(ROUND(NV56*(Simulador!$I$63/360),4),2)","v":0.09},{"$f":"+ROUND(ROUND(NW56*(Simulador!$I$63/360),4),2)","v":0.09},{"$f":"+ROUND(ROUND(NX56*(Simulador!$I$63/360),4),2)","v":0.09},{"$f":"+ROUND(ROUND(NY56*(Simulador!$I$63/360),4),2)","v":0.09},{"$f":"+ROUND(ROUND(NZ56*(Simulador!$I$63/360),4),2)","v":0.09},{"$f":"+ROUND(ROUND(OA56*(Simulador!$I$63/360),4),2)","v":0.09},{"$f":"+ROUND(ROUND(OB56*(Simulador!$I$63/360),4),2)","v":0.09},{"$f":"+ROUND(ROUND(OC56*(Simulador!$I$63/360),4),2)","v":0.09},{"$f":"+ROUND(ROUND(OD56*(Simulador!$I$63/360),4),2)","v":0.09},{"$f":"+ROUND(ROUND(OE56*(Simulador!$I$63/360),4),2)","v":0.09},{"$f":"+ROUND(ROUND(OF56*(Simulador!$I$63/360),4),2)","v":0.09},{"$f":"+ROUND(ROUND(OG56*(Simulador!$I$63/360),4),2)","v":0.09},{"$f":"+ROUND(ROUND(OH56*(Simulador!$I$63/360),4),2)","v":0.09},{"$f":"+ROUND(ROUND(OI56*(Simulador!$I$63/360),4),2)","v":0.09},{"$f":"+ROUND(ROUND(OJ56*(Simulador!$I$63/360),4),2)","v":0.1},{"$f":"+ROUND(ROUND(OK56*(Simulador!$I$63/360),4),2)","v":0.1},{"$f":"+ROUND(ROUND(OL56*(Simulador!$I$63/360),4),2)","v":0.1},{"$f":"+ROUND(ROUND(OM56*(Simulador!$I$63/360),4),2)","v":0.1},{"$f":"+ROUND(ROUND(ON56*(Simulador!$I$63/360),4),2)","v":0.1},{"$f":"+ROUND(ROUND(OO56*(Simulador!$I$63/360),4),2)","v":0.1},{"$f":"+ROUND(ROUND(OP56*(Simulador!$I$63/360),4),2)","v":0.1},{"$f":"+ROUND(ROUND(OQ56*(Simulador!$I$63/360),4),2)","v":0.1},{"$f":"+ROUND(ROUND(OR56*(Simulador!$I$63/360),4),2)","v":0.1},{"$f":"+ROUND(ROUND(OS56*(Simulador!$I$63/360),4),2)","v":0.1},{"$f":"+ROUND(ROUND(OT56*(Simulador!$I$63/360),4),2)","v":0.1},{"$f":"+ROUND(ROUND(OU56*(Simulador!$I$63/360),4),2)","v":0.1},{"$f":"+ROUND(ROUND(OV56*(Simulador!$I$63/360),4),2)","v":0.1},{"$f":"+ROUND(ROUND(OW56*(Simulador!$I$63/360),4),2)","v":0.1},{"$f":"+ROUND(ROUND(OX56*(Simulador!$I$63/360),4),2)","v":0.1},{"$f":"+ROUND(ROUND(OY56*(Simulador!$I$63/360),4),2)","v":0.1},{"$f":"+ROUND(ROUND(OZ56*(Simulador!$I$63/360),4),2)","v":0.1},{"$f":"+ROUND(ROUND(PA56*(Simulador!$I$63/360),4),2)","v":0.1},{"$f":"+ROUND(ROUND(PB56*(Simulador!$I$63/360),4),2)","v":0.1},{"$f":"+ROUND(ROUND(PC56*(Simulador!$I$63/360),4),2)","v":0.1},{"$f":"+ROUND(ROUND(PD56*(Simulador!$I$63/360),4),2)","v":0.1},{"$f":"+ROUND(ROUND(PE56*(Simulador!$I$63/360),4),2)","v":0.1},{"$f":"+ROUND(ROUND(PF56*(Simulador!$I$63/360),4),2)","v":0.1},{"$f":"+ROUND(ROUND(PG56*(Simulador!$I$63/360),4),2)","v":0.1},{"$f":"+ROUND(ROUND(PH56*(Simulador!$I$63/360),4),2)","v":0.1},{"$f":"+ROUND(ROUND(PI56*(Simulador!$I$63/360),4),2)","v":0.1},{"$f":"+ROUND(ROUND(PJ56*(Simulador!$I$63/360),4),2)","v":0.1},{"$f":"+ROUND(ROUND(PK56*(Simulador!$I$63/360),4),2)","v":0.1},{"$f":"+ROUND(ROUND(PL56*(Simulador!$I$63/360),4),2)","v":0.1},{"$f":"+ROUND(ROUND(PM56*(Simulador!$I$63/360),4),2)","v":0.1},{"$f":"+ROUND(ROUND(PN56*(Simulador!$I$63/360),4),2)","v":0.1},{"$f":"+ROUND(ROUND(PO56*(Simulador!$I$63/360),4),2)","v":0.11},{"$f":"+ROUND(ROUND(PP56*(Simulador!$I$63/360),4),2)","v":0.11},{"$f":"+ROUND(ROUND(PQ56*(Simulador!$I$63/360),4),2)","v":0.11},{"$f":"+ROUND(ROUND(PR56*(Simulador!$I$63/360),4),2)","v":0.11},{"$f":"+ROUND(ROUND(PS56*(Simulador!$I$63/360),4),2)","v":0.11},{"$f":"+ROUND(ROUND(PT56*(Simulador!$I$63/360),4),2)","v":0.11},{"$f":"+ROUND(ROUND(PU56*(Simulador!$I$63/360),4),2)","v":0.11},{"$f":"+ROUND(ROUND(PV56*(Simulador!$I$63/360),4),2)","v":0.11},{"$f":"+ROUND(ROUND(PW56*(Simulador!$I$63/360),4),2)","v":0.11},{"$f":"+ROUND(ROUND(PX56*(Simulador!$I$63/360),4),2)","v":0.11},{"$f":"+ROUND(ROUND(PY56*(Simulador!$I$63/360),4),2)","v":0.11},{"$f":"+ROUND(ROUND(PZ56*(Simulador!$I$63/360),4),2)","v":0.11},{"$f":"+ROUND(ROUND(QA56*(Simulador!$I$63/360),4),2)","v":0.11},{"$f":"+ROUND(ROUND(QB56*(Simulador!$I$63/360),4),2)","v":0.11},{"$f":"+ROUND(ROUND(QC56*(Simulador!$I$63/360),4),2)","v":0.11},{"$f":"+ROUND(ROUND(QD56*(Simulador!$I$63/360),4),2)","v":0.11},{"$f":"+ROUND(ROUND(QE56*(Simulador!$I$63/360),4),2)","v":0.11},{"$f":"+ROUND(ROUND(QF56*(Simulador!$I$63/360),4),2)","v":0.11},{"$f":"+ROUND(ROUND(QG56*(Simulador!$I$63/360),4),2)","v":0.11},{"$f":"+ROUND(ROUND(QH56*(Simulador!$I$63/360),4),2)","v":0.11},{"$f":"+ROUND(ROUND(QI56*(Simulador!$I$63/360),4),2)","v":0.11},{"$f":"+ROUND(ROUND(QJ56*(Simulador!$I$63/360),4),2)","v":0.11},{"$f":"+ROUND(ROUND(QK56*(Simulador!$I$63/360),4),2)","v":0.11},{"$f":"+ROUND(ROUND(QL56*(Simulador!$I$63/360),4),2)","v":0.11},{"$f":"+ROUND(ROUND(QM56*(Simulador!$I$63/360),4),2)","v":0.11},{"$f":"+ROUND(ROUND(QN56*(Simulador!$I$63/360),4),2)","v":0.11},{"$f":"+ROUND(ROUND(QO56*(Simulador!$I$63/360),4),2)","v":0.11},{"$f":"+ROUND(ROUND(QP56*(Simulador!$I$63/360),4),2)","v":0.11},{"$f":"+ROUND(ROUND(QQ56*(Simulador!$I$63/360),4),2)","v":0.11},{"$f":"+ROUND(ROUND(QR56*(Simulador!$I$63/360),4),2)","v":0.11},{"$f":"+ROUND(ROUND(QS56*(Simulador!$I$63/360),4),2)","v":0.12},{"$f":"+ROUND(ROUND(QT56*(Simulador!$I$63/360),4),2)","v":0.12},{"$f":"+ROUND(ROUND(QU56*(Simulador!$I$63/360),4),2)","v":0.12},{"$f":"+ROUND(ROUND(QV56*(Simulador!$I$63/360),4),2)","v":0.12},{"$f":"+ROUND(ROUND(QW56*(Simulador!$I$63/360),4),2)","v":0.12},{"$f":"+ROUND(ROUND(QX56*(Simulador!$I$63/360),4),2)","v":0.12},{"$f":"+ROUND(ROUND(QY56*(Simulador!$I$63/360),4),2)","v":0.12},{"$f":"+ROUND(ROUND(QZ56*(Simulador!$I$63/360),4),2)","v":0.12},{"$f":"+ROUND(ROUND(RA56*(Simulador!$I$63/360),4),2)","v":0.12},{"$f":"+ROUND(ROUND(RB56*(Simulador!$I$63/360),4),2)","v":0.12},{"$f":"+ROUND(ROUND(RC56*(Simulador!$I$63/360),4),2)","v":0.12},{"$f":"+ROUND(ROUND(RD56*(Simulador!$I$63/360),4),2)","v":0.12},{"$f":"+ROUND(ROUND(RE56*(Simulador!$I$63/360),4),2)","v":0.12},{"$f":"+ROUND(ROUND(RF56*(Simulador!$I$63/360),4),2)","v":0.12},{"$f":"+ROUND(ROUND(RG56*(Simulador!$I$63/360),4),2)","v":0.12},{"$f":"+ROUND(ROUND(RH56*(Simulador!$I$63/360),4),2)","v":0.12},{"$f":"+ROUND(ROUND(RI56*(Simulador!$I$63/360),4),2)","v":0.12},{"$f":"+ROUND(ROUND(RJ56*(Simulador!$I$63/360),4),2)","v":0.12},{"$f":"+ROUND(ROUND(RK56*(Simulador!$I$63/360),4),2)","v":0.12},{"$f":"+ROUND(ROUND(RL56*(Simulador!$I$63/360),4),2)","v":0.12},{"$f":"+ROUND(ROUND(RM56*(Simulador!$I$63/360),4),2)","v":0.12},{"$f":"+ROUND(ROUND(RN56*(Simulador!$I$63/360),4),2)","v":0.12},{"$f":"+ROUND(ROUND(RO56*(Simulador!$I$63/360),4),2)","v":0.12},{"$f":"+ROUND(ROUND(RP56*(Simulador!$I$63/360),4),2)","v":0.12},{"$f":"+ROUND(ROUND(RQ56*(Simulador!$I$63/360),4),2)","v":0.12},{"$f":"+ROUND(ROUND(RR56*(Simulador!$I$63/360),4),2)","v":0.12},{"$f":"+ROUND(ROUND(RS56*(Simulador!$I$63/360),4),2)","v":0.12},{"$f":"+ROUND(ROUND(RT56*(Simulador!$I$63/360),4),2)","v":0.12},{"$f":"+ROUND(ROUND(RU56*(Simulador!$I$63/360),4),2)","v":0.12},{"$f":"+ROUND(ROUND(RV56*(Simulador!$I$63/360),4),2)","v":0.12},{"$f":"+ROUND(ROUND(RW56*(Simulador!$I$63/360),4),2)","v":0.12},{"$f":"+ROUND(ROUND(RX56*(Simulador!$I$63/360),4),2)","v":0.12},{"$f":"+ROUND(ROUND(RY56*(Simulador!$I$63/360),4),2)","v":0.12},{"$f":"+ROUND(ROUND(RZ56*(Simulador!$I$63/360),4),2)","v":0.12},{"$f":"+ROUND(ROUND(SA56*(Simulador!$I$63/360),4),2)","v":0.12},{"$f":"+ROUND(ROUND(SB56*(Simulador!$I$63/360),4),2)","v":0.12},{"$f":"+ROUND(ROUND(SC56*(Simulador!$I$63/360),4),2)","v":0.12},{"$f":"+ROUND(ROUND(SD56*(Simulador!$I$63/360),4),2)","v":0.12},{"$f":"+ROUND(ROUND(SE56*(Simulador!$I$63/360),4),2)","v":0.12},{"$f":"+ROUND(ROUND(SF56*(Simulador!$I$63/360),4),2)","v":0.12},{"$f":"+ROUND(ROUND(SG56*(Simulador!$I$63/360),4),2)","v":0.12},{"$f":"+ROUND(ROUND(SH56*(Simulador!$I$63/360),4),2)","v":0.12},{"$f":"+ROUND(ROUND(SI56*(Simulador!$I$63/360),4),2)","v":0.12},{"$f":"+ROUND(ROUND(SJ56*(Simulador!$I$63/360),4),2)","v":0.12},{"$f":"+ROUND(ROUND(SK56*(Simulador!$I$63/360),4),2)","v":0.12},{"$f":"+ROUND(ROUND(SL56*(Simulador!$I$63/360),4),2)","v":0.12},{"$f":"+ROUND(ROUND(SM56*(Simulador!$I$63/360),4),2)","v":0.12},{"$f":"+ROUND(ROUND(SN56*(Simulador!$I$63/360),4),2)","v":0.12},{"$f":"+ROUND(ROUND(SO56*(Simulador!$I$63/360),4),2)","v":0.12},{"$f":"+ROUND(ROUND(SP56*(Simulador!$I$63/360),4),2)","v":0.12},{"$f":"+ROUND(ROUND(SQ56*(Simulador!$I$63/360),4),2)","v":0.12},{"$f":"+ROUND(ROUND(SR56*(Simulador!$I$63/360),4),2)","v":0.12},{"$f":"+ROUND(ROUND(SS56*(Simulador!$I$63/360),4),2)","v":0.12},{"$f":"+ROUND(ROUND(ST56*(Simulador!$I$63/360),4),2)","v":0.12},{"$f":"+ROUND(ROUND(SU56*(Simulador!$I$63/360),4),2)","v":0.12},{"$f":"+ROUND(ROUND(SV56*(Simulador!$I$63/360),4),2)","v":0.12},{"$f":"+ROUND(ROUND(SW56*(Simulador!$I$63/360),4),2)","v":0.12},{"$f":"+ROUND(ROUND(SX56*(Simulador!$I$63/360),4),2)","v":0.12},{"$f":"+ROUND(ROUND(SY56*(Simulador!$I$63/360),4),2)","v":0.12},{"$f":"+ROUND(ROUND(SZ56*(Simulador!$I$63/360),4),2)","v":0.12},{"$f":"+ROUND(ROUND(TA56*(Simulador!$I$63/360),4),2)","v":0.12},{"$f":"+ROUND(ROUND(TB56*(Simulador!$I$63/360),4),2)","v":0.13},{"$f":"+ROUND(ROUND(TC56*(Simulador!$I$63/360),4),2)","v":0.13},{"$f":"+ROUND(ROUND(TD56*(Simulador!$I$63/360),4),2)","v":0.13},{"$f":"+ROUND(ROUND(TE56*(Simulador!$I$63/360),4),2)","v":0.13},{"$f":"+ROUND(ROUND(TF56*(Simulador!$I$63/360),4),2)","v":0.13},{"$f":"+ROUND(ROUND(TG56*(Simulador!$I$63/360),4),2)","v":0.13},{"$f":"+ROUND(ROUND(TH56*(Simulador!$I$63/360),4),2)","v":0.13},{"$f":"+ROUND(ROUND(TI56*(Simulador!$I$63/360),4),2)","v":0.13},{"$f":"+ROUND(ROUND(TJ56*(Simulador!$I$63/360),4),2)","v":0.13},{"$f":"+ROUND(ROUND(TK56*(Simulador!$I$63/360),4),2)","v":0.13},{"$f":"+ROUND(ROUND(TL56*(Simulador!$I$63/360),4),2)","v":0.13},{"$f":"+ROUND(ROUND(TM56*(Simulador!$I$63/360),4),2)","v":0.13},{"$f":"+ROUND(ROUND(TN56*(Simulador!$I$63/360),4),2)","v":0.13},{"$f":"+ROUND(ROUND(TO56*(Simulador!$I$63/360),4),2)","v":0.13},{"$f":"+ROUND(ROUND(TP56*(Simulador!$I$63/360),4),2)","v":0.13},{"$f":"+ROUND(ROUND(TQ56*(Simulador!$I$63/360),4),2)","v":0.13},{"$f":"+ROUND(ROUND(TR56*(Simulador!$I$63/360),4),2)","v":0.13},{"$f":"+ROUND(ROUND(TS56*(Simulador!$I$63/360),4),2)","v":0.13},{"$f":"+ROUND(ROUND(TT56*(Simulador!$I$63/360),4),2)","v":0.13},{"$f":"+ROUND(ROUND(TU56*(Simulador!$I$63/360),4),2)","v":0.13},{"$f":"+ROUND(ROUND(TV56*(Simulador!$I$63/360),4),2)","v":0.13},{"$f":"+ROUND(ROUND(TW56*(Simulador!$I$63/360),4),2)","v":0.13},{"$f":"+ROUND(ROUND(TX56*(Simulador!$I$63/360),4),2)","v":0.13},{"$f":"+ROUND(ROUND(TY56*(Simulador!$I$63/360),4),2)","v":0.13},{"$f":"+ROUND(ROUND(TZ56*(Simulador!$I$63/360),4),2)","v":0.13},{"$f":"+ROUND(ROUND(UA56*(Simulador!$I$63/360),4),2)","v":0.13},{"$f":"+ROUND(ROUND(UB56*(Simulador!$I$63/360),4),2)","v":0.13},{"$f":"+ROUND(ROUND(UC56*(Simulador!$I$63/360),4),2)","v":0.13},{"$f":"+ROUND(ROUND(UD56*(Simulador!$I$63/360),4),2)","v":0.13},{"$f":"+ROUND(ROUND(UE56*(Simulador!$I$63/360),4),2)","v":0.13},{"$f":"+ROUND(ROUND(UF56*(Simulador!$I$63/360),4),2)","v":0.13},{"$f":"+ROUND(ROUND(UG56*(Simulador!$I$63/360),4),2)","v":0.14000000000000001},{"$f":"+ROUND(ROUND(UH56*(Simulador!$I$63/360),4),2)","v":0.14000000000000001},{"$f":"+ROUND(ROUND(UI56*(Simulador!$I$63/360),4),2)","v":0.14000000000000001},{"$f":"+ROUND(ROUND(UJ56*(Simulador!$I$63/360),4),2)","v":0.14000000000000001},{"$f":"+ROUND(ROUND(UK56*(Simulador!$I$63/360),4),2)","v":0.14000000000000001},{"$f":"+ROUND(ROUND(UL56*(Simulador!$I$63/360),4),2)","v":0.14000000000000001},{"$f":"+ROUND(ROUND(UM56*(Simulador!$I$63/360),4),2)","v":0.14000000000000001},{"$f":"+ROUND(ROUND(UN56*(Simulador!$I$63/360),4),2)","v":0.14000000000000001},{"$f":"+ROUND(ROUND(UO56*(Simulador!$I$63/360),4),2)","v":0.14000000000000001},{"$f":"+ROUND(ROUND(UP56*(Simulador!$I$63/360),4),2)","v":0.14000000000000001},{"$f":"+ROUND(ROUND(UQ56*(Simulador!$I$63/360),4),2)","v":0.14000000000000001},{"$f":"+ROUND(ROUND(UR56*(Simulador!$I$63/360),4),2)","v":0.14000000000000001},{"$f":"+ROUND(ROUND(US56*(Simulador!$I$63/360),4),2)","v":0.14000000000000001},{"$f":"+ROUND(ROUND(UT56*(Simulador!$I$63/360),4),2)","v":0.14000000000000001},{"$f":"+ROUND(ROUND(UU56*(Simulador!$I$63/360),4),2)","v":0.14000000000000001},{"$f":"+ROUND(ROUND(UV56*(Simulador!$I$63/360),4),2)","v":0.14000000000000001},{"$f":"+ROUND(ROUND(UW56*(Simulador!$I$63/360),4),2)","v":0.14000000000000001},{"$f":"+ROUND(ROUND(UX56*(Simulador!$I$63/360),4),2)","v":0.14000000000000001},{"$f":"+ROUND(ROUND(UY56*(Simulador!$I$63/360),4),2)","v":0.14000000000000001},{"$f":"+ROUND(ROUND(UZ56*(Simulador!$I$63/360),4),2)","v":0.14000000000000001},{"$f":"+ROUND(ROUND(VA56*(Simulador!$I$63/360),4),2)","v":0.14000000000000001},{"$f":"+ROUND(ROUND(VB56*(Simulador!$I$63/360),4),2)","v":0.14000000000000001},{"$f":"+ROUND(ROUND(VC56*(Simulador!$I$63/360),4),2)","v":0.14000000000000001},{"$f":"+ROUND(ROUND(VD56*(Simulador!$I$63/360),4),2)","v":0.14000000000000001},{"$f":"+ROUND(ROUND(VE56*(Simulador!$I$63/360),4),2)","v":0.14000000000000001},{"$f":"+ROUND(ROUND(VF56*(Simulador!$I$63/360),4),2)","v":0.14000000000000001},{"$f":"+ROUND(ROUND(VG56*(Simulador!$I$63/360),4),2)","v":0.14000000000000001},{"$f":"+ROUND(ROUND(VH56*(Simulador!$I$63/360),4),2)","v":0.14000000000000001},{"$f":"+ROUND(ROUND(VI56*(Simulador!$I$63/360),4),2)","v":0.14000000000000001},{"$f":"+ROUND(ROUND(VJ56*(Simulador!$I$63/360),4),2)","v":0.14000000000000001},{"$f":"+ROUND(ROUND(VK56*(Simulador!$I$63/360),4),2)","v":0.14000000000000001},{"$f":"+ROUND(ROUND(VL56*(Simulador!$I$63/360),4),2)","v":0.15},{"$f":"+ROUND(ROUND(VM56*(Simulador!$I$63/360),4),2)","v":0.15},{"$f":"+ROUND(ROUND(VN56*(Simulador!$I$63/360),4),2)","v":0.15},{"$f":"+ROUND(ROUND(VO56*(Simulador!$I$63/360),4),2)","v":0.15},{"$f":"+ROUND(ROUND(VP56*(Simulador!$I$63/360),4),2)","v":0.15},{"$f":"+ROUND(ROUND(VQ56*(Simulador!$I$63/360),4),2)","v":0.15},{"$f":"+ROUND(ROUND(VR56*(Simulador!$I$63/360),4),2)","v":0.15},{"$f":"+ROUND(ROUND(VS56*(Simulador!$I$63/360),4),2)","v":0.15},{"$f":"+ROUND(ROUND(VT56*(Simulador!$I$63/360),4),2)","v":0.15},{"$f":"+ROUND(ROUND(VU56*(Simulador!$I$63/360),4),2)","v":0.15},{"$f":"+ROUND(ROUND(VV56*(Simulador!$I$63/360),4),2)","v":0.15},{"$f":"+ROUND(ROUND(VW56*(Simulador!$I$63/360),4),2)","v":0.15},{"$f":"+ROUND(ROUND(VX56*(Simulador!$I$63/360),4),2)","v":0.15},{"$f":"+ROUND(ROUND(VY56*(Simulador!$I$63/360),4),2)","v":0.15},{"$f":"+ROUND(ROUND(VZ56*(Simulador!$I$63/360),4),2)","v":0.15},{"$f":"+ROUND(ROUND(WA56*(Simulador!$I$63/360),4),2)","v":0.15},{"$f":"+ROUND(ROUND(WB56*(Simulador!$I$63/360),4),2)","v":0.15},{"$f":"+ROUND(ROUND(WC56*(Simulador!$I$63/360),4),2)","v":0.15},{"$f":"+ROUND(ROUND(WD56*(Simulador!$I$63/360),4),2)","v":0.15},{"$f":"+ROUND(ROUND(WE56*(Simulador!$I$63/360),4),2)","v":0.15},{"$f":"+ROUND(ROUND(WF56*(Simulador!$I$63/360),4),2)","v":0.15},{"$f":"+ROUND(ROUND(WG56*(Simulador!$I$63/360),4),2)","v":0.15},{"$f":"+ROUND(ROUND(WH56*(Simulador!$I$63/360),4),2)","v":0.15},{"$f":"+ROUND(ROUND(WI56*(Simulador!$I$63/360),4),2)","v":0.15},{"$f":"+ROUND(ROUND(WJ56*(Simulador!$I$63/360),4),2)","v":0.15},{"$f":"+ROUND(ROUND(WK56*(Simulador!$I$63/360),4),2)","v":0.15},{"$f":"+ROUND(ROUND(WL56*(Simulador!$I$63/360),4),2)","v":0.15},{"$f":"+ROUND(ROUND(WM56*(Simulador!$I$63/360),4),2)","v":0.15},{"$f":"+ROUND(ROUND(WN56*(Simulador!$I$63/360),4),2)","v":0.15},{"$f":"+ROUND(ROUND(WO56*(Simulador!$I$63/360),4),2)","v":0.15},{"$f":"+ROUND(ROUND(WP56*(Simulador!$I$63/360),4),2)","v":0.15},{"$f":"+ROUND(ROUND(WQ56*(Simulador!$I$63/360),4),2)","v":0.15},{"$f":"+ROUND(ROUND(WR56*(Simulador!$I$63/360),4),2)","v":0.15},{"$f":"+ROUND(ROUND(WS56*(Simulador!$I$63/360),4),2)","v":0.15},{"$f":"+ROUND(ROUND(WT56*(Simulador!$I$63/360),4),2)","v":0.15},{"$f":"+ROUND(ROUND(WU56*(Simulador!$I$63/360),4),2)","v":0.15},{"$f":"+ROUND(ROUND(WV56*(Simulador!$I$63/360),4),2)","v":0.15},{"$f":"+ROUND(ROUND(WW56*(Simulador!$I$63/360),4),2)","v":0.15},{"$f":"+ROUND(ROUND(WX56*(Simulador!$I$63/360),4),2)","v":0.15},{"$f":"+ROUND(ROUND(WY56*(Simulador!$I$63/360),4),2)","v":0.15},{"$f":"+ROUND(ROUND(WZ56*(Simulador!$I$63/360),4),2)","v":0.15},{"$f":"+ROUND(ROUND(XA56*(Simulador!$I$63/360),4),2)","v":0.15},{"$f":"+ROUND(ROUND(XB56*(Simulador!$I$63/360),4),2)","v":0.15},{"$f":"+ROUND(ROUND(XC56*(Simulador!$I$63/360),4),2)","v":0.15},{"$f":"+ROUND(ROUND(XD56*(Simulador!$I$63/360),4),2)","v":0.15},{"$f":"+ROUND(ROUND(XE56*(Simulador!$I$63/360),4),2)","v":0.15},{"$f":"+ROUND(ROUND(XF56*(Simulador!$I$63/360),4),2)","v":0.15},{"$f":"+ROUND(ROUND(XG56*(Simulador!$I$63/360),4),2)","v":0.15},{"$f":"+ROUND(ROUND(XH56*(Simulador!$I$63/360),4),2)","v":0.15},{"$f":"+ROUND(ROUND(XI56*(Simulador!$I$63/360),4),2)","v":0.15},{"$f":"+ROUND(ROUND(XJ56*(Simulador!$I$63/360),4),2)","v":0.15},{"$f":"+ROUND(ROUND(XK56*(Simulador!$I$63/360),4),2)","v":0.15},{"$f":"+ROUND(ROUND(XL56*(Simulador!$I$63/360),4),2)","v":0.15},{"$f":"+ROUND(ROUND(XM56*(Simulador!$I$63/360),4),2)","v":0.15},{"$f":"+ROUND(ROUND(XN56*(Simulador!$I$63/360),4),2)","v":0.15},{"$f":"+ROUND(ROUND(XO56*(Simulador!$I$63/360),4),2)","v":0.15},{"$f":"+ROUND(ROUND(XP56*(Simulador!$I$63/360),4),2)","v":0.15},{"$f":"+ROUND(ROUND(XQ56*(Simulador!$I$63/360),4),2)","v":0.15},{"$f":"+ROUND(ROUND(XR56*(Simulador!$I$63/360),4),2)","v":0.15},{"$f":"+ROUND(ROUND(XS56*(Simulador!$I$63/360),4),2)","v":0.16},{"$f":"+ROUND(ROUND(XT56*(Simulador!$I$63/360),4),2)","v":0.16},{"$f":"+ROUND(ROUND(XU56*(Simulador!$I$63/360),4),2)","v":0.16},{"$f":"+ROUND(ROUND(XV56*(Simulador!$I$63/360),4),2)","v":0.16},{"$f":"+ROUND(ROUND(XW56*(Simulador!$I$63/360),4),2)","v":0.16},{"$f":"+ROUND(ROUND(XX56*(Simulador!$I$63/360),4),2)","v":0.16},{"$f":"+ROUND(ROUND(XY56*(Simulador!$I$63/360),4),2)","v":0.16},{"$f":"+ROUND(ROUND(XZ56*(Simulador!$I$63/360),4),2)","v":0.16},{"$f":"+ROUND(ROUND(YA56*(Simulador!$I$63/360),4),2)","v":0.16},{"$f":"+ROUND(ROUND(YB56*(Simulador!$I$63/360),4),2)","v":0.16},{"$f":"+ROUND(ROUND(YC56*(Simulador!$I$63/360),4),2)","v":0.16},{"$f":"+ROUND(ROUND(YD56*(Simulador!$I$63/360),4),2)","v":0.16},{"$f":"+ROUND(ROUND(YE56*(Simulador!$I$63/360),4),2)","v":0.16},{"$f":"+ROUND(ROUND(YF56*(Simulador!$I$63/360),4),2)","v":0.16},{"$f":"+ROUND(ROUND(YG56*(Simulador!$I$63/360),4),2)","v":0.16},{"$f":"+ROUND(ROUND(YH56*(Simulador!$I$63/360),4),2)","v":0.16},{"$f":"+ROUND(ROUND(YI56*(Simulador!$I$63/360),4),2)","v":0.16},{"$f":"+ROUND(ROUND(YJ56*(Simulador!$I$63/360),4),2)","v":0.16},{"$f":"+ROUND(ROUND(YK56*(Simulador!$I$63/360),4),2)","v":0.16},{"$f":"+ROUND(ROUND(YL56*(Simulador!$I$63/360),4),2)","v":0.16},{"$f":"+ROUND(ROUND(YM56*(Simulador!$I$63/360),4),2)","v":0.16},{"$f":"+ROUND(ROUND(YN56*(Simulador!$I$63/360),4),2)","v":0.16},{"$f":"+ROUND(ROUND(YO56*(Simulador!$I$63/360),4),2)","v":0.16},{"$f":"+ROUND(ROUND(YP56*(Simulador!$I$63/360),4),2)","v":0.16},{"$f":"+ROUND(ROUND(YQ56*(Simulador!$I$63/360),4),2)","v":0.16},{"$f":"+ROUND(ROUND(YR56*(Simulador!$I$63/360),4),2)","v":0.16},{"$f":"+ROUND(ROUND(YS56*(Simulador!$I$63/360),4),2)","v":0.16},{"$f":"+ROUND(ROUND(YT56*(Simulador!$I$63/360),4),2)","v":0.16},{"$f":"+ROUND(ROUND(YU56*(Simulador!$I$63/360),4),2)","v":0.16},{"$f":"+ROUND(ROUND(YV56*(Simulador!$I$63/360),4),2)","v":0.16},{"$f":"+ROUND(ROUND(YW56*(Simulador!$I$63/360),4),2)","v":0.17},{"$f":"+ROUND(ROUND(YX56*(Simulador!$I$63/360),4),2)","v":0.17},{"$f":"+ROUND(ROUND(YY56*(Simulador!$I$63/360),4),2)","v":0.17},{"$f":"+ROUND(ROUND(YZ56*(Simulador!$I$63/360),4),2)","v":0.17},{"$f":"+ROUND(ROUND(ZA56*(Simulador!$I$63/360),4),2)","v":0.17},{"$f":"+ROUND(ROUND(ZB56*(Simulador!$I$63/360),4),2)","v":0.17},{"$f":"+ROUND(ROUND(ZC56*(Simulador!$I$63/360),4),2)","v":0.17},{"$f":"+ROUND(ROUND(ZD56*(Simulador!$I$63/360),4),2)","v":0.17},{"$f":"+ROUND(ROUND(ZE56*(Simulador!$I$63/360),4),2)","v":0.17},{"$f":"+ROUND(ROUND(ZF56*(Simulador!$I$63/360),4),2)","v":0.17},{"$f":"+ROUND(ROUND(ZG56*(Simulador!$I$63/360),4),2)","v":0.17},{"$f":"+ROUND(ROUND(ZH56*(Simulador!$I$63/360),4),2)","v":0.17},{"$f":"+ROUND(ROUND(ZI56*(Simulador!$I$63/360),4),2)","v":0.17},{"$f":"+ROUND(ROUND(ZJ56*(Simulador!$I$63/360),4),2)","v":0.17},{"$f":"+ROUND(ROUND(ZK56*(Simulador!$I$63/360),4),2)","v":0.17},{"$f":"+ROUND(ROUND(ZL56*(Simulador!$I$63/360),4),2)","v":0.17},{"$f":"+ROUND(ROUND(ZM56*(Simulador!$I$63/360),4),2)","v":0.17},{"$f":"+ROUND(ROUND(ZN56*(Simulador!$I$63/360),4),2)","v":0.17},{"$f":"+ROUND(ROUND(ZO56*(Simulador!$I$63/360),4),2)","v":0.17},{"$f":"+ROUND(ROUND(ZP56*(Simulador!$I$63/360),4),2)","v":0.17},{"$f":"+ROUND(ROUND(ZQ56*(Simulador!$I$63/360),4),2)","v":0.17},{"$f":"+ROUND(ROUND(ZR56*(Simulador!$I$63/360),4),2)","v":0.17},{"$f":"+ROUND(ROUND(ZS56*(Simulador!$I$63/360),4),2)","v":0.17},{"$f":"+ROUND(ROUND(ZT56*(Simulador!$I$63/360),4),2)","v":0.17},{"$f":"+ROUND(ROUND(ZU56*(Simulador!$I$63/360),4),2)","v":0.17},{"$f":"+ROUND(ROUND(ZV56*(Simulador!$I$63/360),4),2)","v":0.17},{"$f":"+ROUND(ROUND(ZW56*(Simulador!$I$63/360),4),2)","v":0.17},{"$f":"+ROUND(ROUND(ZX56*(Simulador!$I$63/360),4),2)","v":0.17},{"$f":"+ROUND(ROUND(ZY56*(Simulador!$I$63/360),4),2)","v":0.17},{"$f":"+ROUND(ROUND(ZZ56*(Simulador!$I$63/360),4),2)","v":0.17},{"$f":"+ROUND(ROUND(AAA56*(Simulador!$I$63/360),4),2)","v":0.17},{"$f":"+ROUND(ROUND(AAB56*(Simulador!$I$63/360),4),2)","v":0.18},{"$f":"+ROUND(ROUND(AAC56*(Simulador!$I$63/360),4),2)","v":0.18},{"$f":"+ROUND(ROUND(AAD56*(Simulador!$I$63/360),4),2)","v":0.18},{"$f":"+ROUND(ROUND(AAE56*(Simulador!$I$63/360),4),2)","v":0.18},{"$f":"+ROUND(ROUND(AAF56*(Simulador!$I$63/360),4),2)","v":0.18},{"$f":"+ROUND(ROUND(AAG56*(Simulador!$I$63/360),4),2)","v":0.18},{"$f":"+ROUND(ROUND(AAH56*(Simulador!$I$63/360),4),2)","v":0.18},{"$f":"+ROUND(ROUND(AAI56*(Simulador!$I$63/360),4),2)","v":0.18},{"$f":"+ROUND(ROUND(AAJ56*(Simulador!$I$63/360),4),2)","v":0.18},{"$f":"+ROUND(ROUND(AAK56*(Simulador!$I$63/360),4),2)","v":0.18},{"$f":"+ROUND(ROUND(AAL56*(Simulador!$I$63/360),4),2)","v":0.18},{"$f":"+ROUND(ROUND(AAM56*(Simulador!$I$63/360),4),2)","v":0.18},{"$f":"+ROUND(ROUND(AAN56*(Simulador!$I$63/360),4),2)","v":0.18},{"$f":"+ROUND(ROUND(AAO56*(Simulador!$I$63/360),4),2)","v":0.18},{"$f":"+ROUND(ROUND(AAP56*(Simulador!$I$63/360),4),2)","v":0.18},{"$f":"+ROUND(ROUND(AAQ56*(Simulador!$I$63/360),4),2)","v":0.18},{"$f":"+ROUND(ROUND(AAR56*(Simulador!$I$63/360),4),2)","v":0.18},{"$f":"+ROUND(ROUND(AAS56*(Simulador!$I$63/360),4),2)","v":0.18},{"$f":"+ROUND(ROUND(AAT56*(Simulador!$I$63/360),4),2)","v":0.18},{"$f":"+ROUND(ROUND(AAU56*(Simulador!$I$63/360),4),2)","v":0.18}]
[null,"Interés acumulado mensual",{"$f":"+C57","v":0},{"$f":"+D57+IF(D$15=\"No\",C58,0)","v":0.01},0.02,0.03,0.04,0.05,6.0000000000000005E-2,7.0000000000000007E-2,0.08,0.09,9.9999999999999992E-2,0.10999999999999999,0.01,0.02,0.03,0.04,0.05,6.0000000000000005E-2,7.0000000000000007E-2,0.08,0.09,9.9999999999999992E-2,0.10999999999999999,0.11999999999999998,0.12999999999999998,0.13999999999999999,0.15,0.16,0.17,0.18000000000000002,0.19000000000000003,0.20000000000000004,0.22000000000000003,0.24000000000000002,0.26,0.28000000000000003,0.30000000000000004,0.32000000000000006,0.34000000000000008,0.3600000000000001,0.38000000000000012,0.02,0.04,0.06,0.08,0.1,0.12000000000000001,0.14000000000000001,0.16,0.18,0.19999999999999998,0.21999999999999997,0.23999999999999996,0.25999999999999995,0.27999999999999997,0.3,0.32,0.34,0.36000000000000004,0.38000000000000006,0.40000000000000008,0.4200000000000001,0.44000000000000011,0.46000000000000013,0.48000000000000015,{"$f":"+BP57+IF(BP$15=\"No\",BO58,0)","v":0.50000000000000011},0.52000000000000013,0.54000000000000015,0.56000000000000016,0.58000000000000018,0.6000000000000002,0.62000000000000022,0.64000000000000024,0.02,0.04,0.06,0.08,0.1,0.12000000000000001,0.14000000000000001,0.16,0.18,0.19999999999999998,0.21999999999999997,0.23999999999999996,0.25999999999999995,0.27999999999999997,0.3,0.32,0.34,0.36000000000000004,0.38000000000000006,0.40000000000000008,0.43000000000000005,0.46000000000000008,0.4900000000000001,0.52000000000000013,0.55000000000000016,0.58000000000000018,0.61000000000000021,0.64000000000000024,0.67000000000000026,0.70000000000000029,0.73000000000000032,0.03,0.06,0.09,0.12,0.15,0.18,0.21,0.24,0.27,0.30000000000000004,0.33000000000000007,0.3600000000000001,0.39000000000000012,0.42000000000000015,0.45000000000000018,0.4800000000000002,0.51000000000000023,0.54000000000000026,0.57000000000000028,0.60000000000000031,0.64000000000000035,0.68000000000000038,0.72000000000000042,0.76000000000000045,0.80000000000000049,{"$f":"+EB57+IF(EB$15=\"No\",EA58,0)","v":0.84000000000000052},0.88000000000000056,0.9200000000000006,0.04,0.08,0.12,0.16,0.2,0.24000000000000002,0.28000000000000003,0.32,0.36,0.39999999999999997,0.43999999999999995,0.47999999999999993,0.51999999999999991,0.55999999999999994,0.6,0.64,0.68,0.72000000000000008,0.76000000000000012,0.80000000000000016,0.84000000000000019,0.88000000000000023,0.92000000000000026,0.9600000000000003,1.0000000000000002,1.0400000000000003,1.0800000000000003,1.1200000000000003,1.1600000000000004,1.2000000000000004,1.2400000000000004,1.2800000000000005,0.04,0.08,0.12,0.16,0.2,0.24000000000000002,0.28000000000000003,0.32,0.36,0.39999999999999997,0.43999999999999995,0.47999999999999993,0.51999999999999991,0.55999999999999994,0.6,0.64,0.68,0.72000000000000008,0.76000000000000012,0.80000000000000016,0.84000000000000019,0.89000000000000024,0.94000000000000028,0.99000000000000032,1.0400000000000003,1.0900000000000003,1.1400000000000003,1.1900000000000004,1.2400000000000004,{"$f":"+GN57+IF(GN$15=\"No\",GM58,0)","v":1.2900000000000005},1.3400000000000005,0.05,0.1,0.15000000000000002,0.2,0.25,0.3,0.35,0.39999999999999997,0.44999999999999996,0.49999999999999994,0.54999999999999993,0.6,0.65,0.70000000000000007,0.75000000000000011,0.80000000000000016,0.8500000000000002,0.90000000000000024,0.95000000000000029,1.0000000000000002,1.0500000000000003,1.1100000000000003,1.1700000000000004,1.2300000000000004,1.2900000000000005,1.3500000000000005,1.4100000000000006,1.4700000000000006,0.06,0.12,0.18,0.24,0.3,0.36,0.42,0.48,0.54,0.60000000000000009,0.66000000000000014,0.7200000000000002,0.78000000000000025,0.8400000000000003,0.90000000000000036,0.96000000000000041,1.0200000000000005,1.0800000000000005,1.1400000000000006,1.2000000000000006,1.2600000000000007,1.3200000000000007,1.3800000000000008,1.4400000000000008,1.5000000000000009,1.5600000000000009,1.620000000000001,1.680000000000001,1.7400000000000011,1.8000000000000012,1.8600000000000012,1.9200000000000013,7.0000000000000007E-2,0.14000000000000001,{"$f":"+IZ57+IF(IZ$15=\"No\",IY58,0)","v":0.21000000000000002},0.28000000000000003,0.35000000000000003,0.42000000000000004,0.49000000000000005,0.56000000000000005,0.63000000000000012,0.70000000000000018,0.77000000000000024,0.8400000000000003,0.91000000000000036,0.98000000000000043,1.0500000000000005,1.1200000000000006,1.1900000000000006,1.2600000000000007,1.3300000000000007,1.4000000000000008,1.4700000000000009,1.5400000000000009,1.610000000000001,1.680000000000001,1.7500000000000011,1.8200000000000012,1.8900000000000012,1.9600000000000013,2.0300000000000011,2.100000000000001,7.0000000000000007E-2,0.14000000000000001,0.21000000000000002,0.28000000000000003,0.35000000000000003,0.42000000000000004,0.49000000000000005,0.56000000000000005,0.63000000000000012,0.70000000000000018,0.77000000000000024,0.8400000000000003,0.91000000000000036,0.98000000000000043,1.0500000000000005,1.1200000000000006,1.1900000000000006,1.2600000000000007,1.3300000000000007,1.4000000000000008,1.4800000000000009,1.5600000000000009,1.640000000000001,1.7200000000000011,1.8000000000000012,1.8800000000000012,1.9600000000000013,2.0400000000000014,2.1200000000000014,0.08,0.16,0.24,0.32,0.4,0.48000000000000004,0.56000000000000005,{"$f":"+LL57+IF(LL$15=\"No\",LK58,0)","v":0.64},0.72,0.79999999999999993,0.87999999999999989,0.95999999999999985,1.0399999999999998,1.1199999999999999,1.2,1.28,1.36,1.4400000000000002,1.5200000000000002,1.6000000000000003,1.6800000000000004,1.7600000000000005,1.8500000000000005,1.9400000000000006,2.0300000000000007,2.1200000000000006,2.2100000000000004,2.3000000000000003,2.39,2.48,2.57,2.6599999999999997,0.09,0.18,0.27,0.36,0.44999999999999996,0.53999999999999992,0.62999999999999989,0.71999999999999986,0.80999999999999983,0.8999999999999998,0.98999999999999977,1.0799999999999998,1.17,1.26,1.35,1.4400000000000002,1.5300000000000002,1.6200000000000003,1.7100000000000004,1.8000000000000005,1.8900000000000006,1.9800000000000006,2.0700000000000007,2.1600000000000006,2.2500000000000004,2.3400000000000003,2.4300000000000002,2.52,2.61,2.6999999999999997,2.7899999999999996,0.09,0.18,0.27,0.36,0.44999999999999996,0.53999999999999992,0.62999999999999989,0.71999999999999986,{"$f":"+NX57+IF(NX$15=\"No\",NW58,0)","v":0.80999999999999983},0.8999999999999998,0.98999999999999977,1.0799999999999998,1.17,1.26,1.35,1.4400000000000002,1.5300000000000002,1.6200000000000003,1.7100000000000004,1.8000000000000005,1.9000000000000006,2.0000000000000004,2.1000000000000005,2.2000000000000006,2.3000000000000007,2.4000000000000008,2.5000000000000009,2.600000000000001,2.7000000000000011,2.8000000000000012,2.9000000000000012,0.1,0.2,0.30000000000000004,0.4,0.5,0.6,0.7,0.79999999999999993,0.89999999999999991,0.99999999999999989,1.0999999999999999,1.2,1.3,1.4000000000000001,1.5000000000000002,1.6000000000000003,1.7000000000000004,1.8000000000000005,1.9000000000000006,2.0000000000000004,2.1100000000000003,2.2200000000000002,2.33,2.44,2.5499999999999998,2.6599999999999997,2.7699999999999996,2.8799999999999994,2.9899999999999993,3.0999999999999992,0.11,0.22,0.33,0.44,0.55000000000000004,0.66,0.77,0.88,0.99,1.1000000000000001,1.2100000000000002,{"$f":"+QJ57+IF(QJ$15=\"No\",QI58,0)","v":1.3200000000000003},1.4300000000000004,1.5400000000000005,1.6500000000000006,1.7600000000000007,1.8700000000000008,1.9800000000000009,2.0900000000000007,2.2000000000000006,2.3200000000000007,2.4400000000000008,2.5600000000000009,2.680000000000001,2.8000000000000012,2.9200000000000013,3.0400000000000014,3.1600000000000015,3.2800000000000016,3.4000000000000017,0.12,0.24,0.36,0.48,0.6,0.72,0.84,0.96,1.08,1.2000000000000002,1.3200000000000003,1.4400000000000004,1.5600000000000005,1.6800000000000006,1.8000000000000007,1.9200000000000008,2.0400000000000009,2.160000000000001,2.2800000000000011,2.4000000000000012,2.5200000000000014,2.6400000000000015,2.7600000000000016,2.8800000000000017,3.0000000000000018,3.1200000000000019,3.240000000000002,3.3600000000000021,3.4800000000000022,3.6000000000000023,3.7200000000000024,0.12,0.24,0.36,0.48,0.6,0.72,0.84,0.96,1.08,1.2000000000000002,1.3200000000000003,1.4400000000000004,1.5600000000000005,1.6800000000000006,{"$f":"+SV57+IF(SV$15=\"No\",SU58,0)","v":1.8000000000000007},1.9200000000000008,2.0400000000000009,2.160000000000001,2.2800000000000011,2.4000000000000012,2.5300000000000011,2.660000000000001,2.7900000000000009,2.9200000000000008,3.0500000000000007,3.1800000000000006,3.3100000000000005,3.4400000000000004,3.5700000000000003,3.7,0.13,0.26,0.39,0.52,0.65,0.78,0.91,1.04,1.17,1.2999999999999998,1.4299999999999997,1.5599999999999996,1.6899999999999995,1.8199999999999994,1.9499999999999993,2.0799999999999992,2.2099999999999991,2.339999999999999,2.4699999999999989,2.5999999999999988,2.7299999999999986,2.8699999999999988,3.0099999999999989,3.149999999999999,3.2899999999999991,3.4299999999999993,3.5699999999999994,3.7099999999999995,3.8499999999999996,3.9899999999999998,0.14000000000000001,0.28000000000000003,0.42000000000000004,0.56000000000000005,0.70000000000000007,0.84000000000000008,0.98000000000000009,1.1200000000000001,1.2600000000000002,1.4000000000000004,1.5400000000000005,1.6800000000000006,1.8200000000000007,1.9600000000000009,2.100000000000001,2.2400000000000011,2.3800000000000012,2.5200000000000014,{"$f":"+VH57+IF(VH$15=\"No\",VG58,0)","v":2.6600000000000015},2.8000000000000016,2.9400000000000017,3.0800000000000018,3.2300000000000018,3.3800000000000017,3.5300000000000016,3.6800000000000015,3.8300000000000014,3.9800000000000013,0.15,0.3,0.44999999999999996,0.6,0.75,0.9,1.05,1.2,1.3499999999999999,1.4999999999999998,1.6499999999999997,1.7999999999999996,1.9499999999999995,2.0999999999999996,2.2499999999999996,2.3999999999999995,2.5499999999999994,2.6999999999999993,2.8499999999999992,2.9999999999999991,3.149999999999999,3.2999999999999989,3.4499999999999988,3.5999999999999988,3.7499999999999987,3.8999999999999986,4.0499999999999989,4.1999999999999993,4.3499999999999996,4.5,4.6500000000000004,4.8000000000000007,4.9500000000000011,0.15,0.3,0.44999999999999996,0.6,0.75,0.9,1.05,1.2,1.3499999999999999,1.4999999999999998,1.6499999999999997,1.7999999999999996,1.9499999999999995,2.0999999999999996,2.2499999999999996,2.3999999999999995,2.5499999999999994,2.6999999999999993,2.8499999999999992,2.9999999999999991,3.1599999999999993,{"$f":"+XT57+IF(XT$15=\"No\",XS58,0)","v":3.3199999999999994},3.4799999999999995,3.6399999999999997,3.8,3.96,4.12,4.28,4.4400000000000004,0.16,0.32,0.48,0.64,0.8,0.96000000000000008,1.1200000000000001,1.28,1.44,1.5999999999999999,1.7599999999999998,1.9199999999999997,2.0799999999999996,2.2399999999999998,2.4,2.56,2.72,2.8800000000000003,3.0400000000000005,3.2000000000000006,3.3600000000000008,3.5300000000000007,3.7000000000000006,3.8700000000000006,4.0400000000000009,4.2100000000000009,4.3800000000000008,4.5500000000000007,4.7200000000000006,4.8900000000000006,5.0600000000000005,5.23,0.17,0.34,0.51,0.68,0.85000000000000009,1.02,1.19,1.3599999999999999,1.5299999999999998,1.6999999999999997,1.8699999999999997,2.0399999999999996,2.2099999999999995,2.3799999999999994,2.5499999999999994,2.7199999999999993,2.8899999999999992,3.0599999999999992,3.2299999999999991,3.399999999999999,3.5799999999999992,3.7599999999999993,3.9399999999999995,4.1199999999999992,{"$f":"+AAF57+IF(AAF$15=\"No\",AAE58,0)","v":4.2999999999999989},4.4799999999999986,4.6599999999999984,4.8399999999999981,5.0199999999999978,5.1999999999999975,0.18,0.36,0.54,0.72,0.89999999999999991,1.0799999999999998,1.2599999999999998,1.4399999999999997,1.6199999999999997,1.7999999999999996]
[null,"Interés acumulado periodo",{"$f":"+C57","v":0},{"$f":"+C59+D57","v":0.01},0.02,0.03,0.04,0.05,6.0000000000000005E-2,7.0000000000000007E-2,0.08,0.09,9.9999999999999992E-2,0.10999999999999999,0.11999999999999998,0.12999999999999998,0.13999999999999999,0.15,0.16,0.17,0.18000000000000002,0.19000000000000003,0.20000000000000004,0.21000000000000005,0.22000000000000006,0.23000000000000007,0.24000000000000007,0.25000000000000006,0.26000000000000006,0.27000000000000007,0.28000000000000008,0.29000000000000009,0.3000000000000001,0.31000000000000011,0.33000000000000013,0.35000000000000014,0.37000000000000016,0.39000000000000018,0.4100000000000002,0.43000000000000022,0.45000000000000023,0.47000000000000025,0.49000000000000027,0.51000000000000023,0.53000000000000025,0.55000000000000027,0.57000000000000028,0.5900000000000003,0.61000000000000032,0.63000000000000034,0.65000000000000036,0.67000000000000037,0.69000000000000039,0.71000000000000041,0.73000000000000043,0.75000000000000044,0.77000000000000046,0.79000000000000048,0.8100000000000005,0.83000000000000052,0.85000000000000053,0.87000000000000055,0.89000000000000057,0.91000000000000059,0.9300000000000006,0.95000000000000062,0.97000000000000064,{"$f":"+BO59+BP57","v":0.99000000000000066},1.0100000000000007,1.0300000000000007,1.0500000000000007,1.0700000000000007,1.0900000000000007,1.1100000000000008,1.1300000000000008,1.1500000000000008,1.1700000000000008,1.1900000000000008,1.2100000000000009,1.2300000000000009,1.2500000000000009,1.2700000000000009,1.2900000000000009,1.3100000000000009,1.330000000000001,1.350000000000001,1.370000000000001,1.390000000000001,1.410000000000001,1.430000000000001,1.4500000000000011,1.4700000000000011,1.4900000000000011,1.5100000000000011,1.5300000000000011,1.5600000000000012,1.5900000000000012,1.6200000000000012,1.6500000000000012,1.6800000000000013,1.7100000000000013,1.7400000000000013,1.7700000000000014,1.8000000000000014,1.8300000000000014,1.8600000000000014,1.8900000000000015,1.9200000000000015,1.9500000000000015,1.9800000000000015,2.0100000000000016,2.0400000000000014,2.0700000000000012,2.100000000000001,2.1300000000000008,2.1600000000000006,2.1900000000000004,2.2200000000000002,2.25,2.2799999999999998,2.3099999999999996,2.3399999999999994,2.3699999999999992,2.399999999999999,2.4299999999999988,2.4599999999999986,2.4999999999999987,2.5399999999999987,2.5799999999999987,2.6199999999999988,2.6599999999999988,{"$f":"+EA59+EB57","v":2.6999999999999988},2.7399999999999989,2.7799999999999989,2.819999999999999,2.859999999999999,2.899999999999999,2.9399999999999991,2.9799999999999991,3.0199999999999991,3.0599999999999992,3.0999999999999992,3.1399999999999992,3.1799999999999993,3.2199999999999993,3.2599999999999993,3.2999999999999994,3.3399999999999994,3.3799999999999994,3.4199999999999995,3.4599999999999995,3.4999999999999996,3.5399999999999996,3.5799999999999996,3.6199999999999997,3.6599999999999997,3.6999999999999997,3.7399999999999998,3.78,3.82,3.86,3.9,3.94,3.98,4.0199999999999996,4.0599999999999996,4.0999999999999996,4.1399999999999997,4.18,4.22,4.26,4.3,4.34,4.38,4.42,4.46,4.5,4.54,4.58,4.62,4.66,4.7,4.74,4.78,4.82,4.8600000000000003,4.9000000000000004,4.95,5,5.05,5.0999999999999996,5.1499999999999995,5.1999999999999993,5.2499999999999991,5.2999999999999989,{"$f":"+GM59+GN57","v":5.3499999999999988},5.3999999999999986,5.4499999999999984,5.4999999999999982,5.549999999999998,5.5999999999999979,5.6499999999999977,5.6999999999999975,5.7499999999999973,5.7999999999999972,5.849999999999997,5.8999999999999968,5.9499999999999966,5.9999999999999964,6.0499999999999963,6.0999999999999961,6.1499999999999959,6.1999999999999957,6.2499999999999956,6.2999999999999954,6.3499999999999952,6.399999999999995,6.4499999999999948,6.5099999999999945,6.5699999999999941,6.6299999999999937,6.6899999999999933,6.7499999999999929,6.8099999999999925,6.8699999999999921,6.9299999999999917,6.9899999999999913,7.0499999999999909,7.1099999999999905,7.1699999999999902,7.2299999999999898,7.2899999999999894,7.349999999999989,7.4099999999999886,7.4699999999999882,7.5299999999999878,7.5899999999999874,7.649999999999987,7.7099999999999866,7.7699999999999863,7.8299999999999859,7.8899999999999855,7.9499999999999851,8.0099999999999856,8.0699999999999861,8.1299999999999866,8.1899999999999871,8.2499999999999876,8.3099999999999881,8.3699999999999886,8.4299999999999891,8.4899999999999896,8.5499999999999901,8.6099999999999905,8.669999999999991,8.7299999999999915,8.789999999999992,8.8599999999999923,8.9299999999999926,{"$f":"+IY59+IZ57","v":8.9999999999999929},9.0699999999999932,9.1399999999999935,9.2099999999999937,9.279999999999994,9.3499999999999943,9.4199999999999946,9.4899999999999949,9.5599999999999952,9.6299999999999955,9.6999999999999957,9.769999999999996,9.8399999999999963,9.9099999999999966,9.9799999999999969,10.049999999999997,10.119999999999997,10.189999999999998,10.259999999999998,10.329999999999998,10.399999999999999,10.469999999999999,10.54,10.61,10.68,10.75,10.82,10.89,10.96,11.030000000000001,11.100000000000001,11.170000000000002,11.240000000000002,11.310000000000002,11.380000000000003,11.450000000000003,11.520000000000003,11.590000000000003,11.660000000000004,11.730000000000004,11.800000000000004,11.870000000000005,11.940000000000005,12.010000000000005,12.080000000000005,12.150000000000006,12.220000000000006,12.290000000000006,12.370000000000006,12.450000000000006,12.530000000000006,12.610000000000007,12.690000000000007,12.770000000000007,12.850000000000007,12.930000000000007,13.010000000000007,13.090000000000007,13.170000000000007,13.250000000000007,13.330000000000007,13.410000000000007,13.490000000000007,13.570000000000007,{"$f":"+LK59+LL57","v":13.650000000000007},13.730000000000008,13.810000000000008,13.890000000000008,13.970000000000008,14.050000000000008,14.130000000000008,14.210000000000008,14.290000000000008,14.370000000000008,14.450000000000008,14.530000000000008,14.610000000000008,14.690000000000008,14.770000000000008,14.860000000000008,14.950000000000008,15.040000000000008,15.130000000000008,15.220000000000008,15.310000000000008,15.400000000000007,15.490000000000007,15.580000000000007,15.670000000000007,15.760000000000007,15.850000000000007,15.940000000000007,16.030000000000008,16.120000000000008,16.210000000000008,16.300000000000008,16.390000000000008,16.480000000000008,16.570000000000007,16.660000000000007,16.750000000000007,16.840000000000007,16.930000000000007,17.020000000000007,17.110000000000007,17.200000000000006,17.290000000000006,17.380000000000006,17.470000000000006,17.560000000000006,17.650000000000006,17.740000000000006,17.830000000000005,17.920000000000005,18.010000000000005,18.100000000000005,18.190000000000005,18.280000000000005,18.370000000000005,18.460000000000004,18.550000000000004,18.640000000000004,18.730000000000004,18.820000000000004,18.910000000000004,19.000000000000004,19.090000000000003,19.180000000000003,{"$f":"+NW59+NX57","v":19.270000000000003},19.360000000000003,19.450000000000003,19.540000000000003,19.630000000000003,19.720000000000002,19.810000000000002,19.900000000000002,19.990000000000002,20.080000000000002,20.170000000000002,20.260000000000002,20.360000000000003,20.460000000000004,20.560000000000006,20.660000000000007,20.760000000000009,20.86000000000001,20.960000000000012,21.060000000000013,21.160000000000014,21.260000000000016,21.360000000000017,21.460000000000019,21.56000000000002,21.660000000000021,21.760000000000023,21.860000000000024,21.960000000000026,22.060000000000027,22.160000000000029,22.26000000000003,22.360000000000031,22.460000000000033,22.560000000000034,22.660000000000036,22.760000000000037,22.860000000000039,22.96000000000004,23.060000000000041,23.160000000000043,23.260000000000044,23.360000000000046,23.470000000000045,23.580000000000044,23.690000000000044,23.800000000000043,23.910000000000043,24.020000000000042,24.130000000000042,24.240000000000041,24.350000000000041,24.46000000000004,24.570000000000039,24.680000000000039,24.790000000000038,24.900000000000038,25.010000000000037,25.120000000000037,25.230000000000036,25.340000000000035,25.450000000000035,25.560000000000034,25.670000000000034,{"$f":"+QI59+QJ57","v":25.780000000000033},25.890000000000033,26.000000000000032,26.110000000000031,26.220000000000031,26.33000000000003,26.44000000000003,26.550000000000029,26.660000000000029,26.78000000000003,26.900000000000031,27.020000000000032,27.140000000000033,27.260000000000034,27.380000000000035,27.500000000000036,27.620000000000037,27.740000000000038,27.860000000000039,27.98000000000004,28.100000000000041,28.220000000000041,28.340000000000042,28.460000000000043,28.580000000000044,28.700000000000045,28.820000000000046,28.940000000000047,29.060000000000048,29.180000000000049,29.30000000000005,29.420000000000051,29.540000000000052,29.660000000000053,29.780000000000054,29.900000000000055,30.020000000000056,30.140000000000057,30.260000000000058,30.380000000000059,30.50000000000006,30.620000000000061,30.740000000000062,30.860000000000063,30.980000000000064,31.100000000000065,31.220000000000066,31.340000000000067,31.460000000000068,31.580000000000069,31.70000000000007,31.820000000000071,31.940000000000072,32.060000000000073,32.180000000000071,32.300000000000068,32.420000000000066,32.540000000000063,32.660000000000061,32.780000000000058,32.900000000000055,33.020000000000053,33.14000000000005,33.260000000000048,{"$f":"+SU59+SV57","v":33.380000000000045},33.500000000000043,33.62000000000004,33.740000000000038,33.860000000000035,33.980000000000032,34.110000000000035,34.240000000000038,34.37000000000004,34.500000000000043,34.630000000000045,34.760000000000048,34.89000000000005,35.020000000000053,35.150000000000055,35.280000000000058,35.410000000000061,35.540000000000063,35.670000000000066,35.800000000000068,35.930000000000071,36.060000000000073,36.190000000000076,36.320000000000078,36.450000000000081,36.580000000000084,36.710000000000086,36.840000000000089,36.970000000000091,37.100000000000094,37.230000000000096,37.360000000000099,37.490000000000101,37.620000000000104,37.750000000000107,37.880000000000109,38.010000000000112,38.150000000000112,38.290000000000113,38.430000000000113,38.570000000000114,38.710000000000115,38.850000000000115,38.990000000000116,39.130000000000116,39.270000000000117,39.410000000000117,39.550000000000118,39.690000000000119,39.830000000000119,39.97000000000012,40.11000000000012,40.250000000000121,40.390000000000121,40.530000000000122,40.670000000000122,40.810000000000123,40.950000000000124,41.090000000000124,41.230000000000125,41.370000000000125,41.510000000000126,41.650000000000126,41.790000000000127,{"$f":"+VG59+VH57","v":41.930000000000128},42.070000000000128,42.210000000000129,42.350000000000129,42.500000000000128,42.650000000000126,42.800000000000125,42.950000000000124,43.100000000000122,43.250000000000121,43.400000000000119,43.550000000000118,43.700000000000117,43.850000000000115,44.000000000000114,44.150000000000112,44.300000000000111,44.450000000000109,44.600000000000108,44.750000000000107,44.900000000000105,45.050000000000104,45.200000000000102,45.350000000000101,45.500000000000099,45.650000000000098,45.800000000000097,45.950000000000095,46.100000000000094,46.250000000000092,46.400000000000091,46.55000000000009,46.700000000000088,46.850000000000087,47.000000000000085,47.150000000000084,47.300000000000082,47.450000000000081,47.60000000000008,47.750000000000078,47.900000000000077,48.050000000000075,48.200000000000074,48.350000000000072,48.500000000000071,48.65000000000007,48.800000000000068,48.950000000000067,49.100000000000065,49.250000000000064,49.400000000000063,49.550000000000061,49.70000000000006,49.850000000000058,50.000000000000057,50.150000000000055,50.300000000000054,50.450000000000053,50.600000000000051,50.75000000000005,50.900000000000048,51.050000000000047,51.200000000000045,51.360000000000042,{"$f":"+XS59+XT57","v":51.520000000000039},51.680000000000035,51.840000000000032,52.000000000000028,52.160000000000025,52.320000000000022,52.480000000000018,52.640000000000015,52.800000000000011,52.960000000000008,53.120000000000005,53.28,53.44,53.599999999999994,53.759999999999991,53.919999999999987,54.079999999999984,54.239999999999981,54.399999999999977,54.559999999999974,54.71999999999997,54.879999999999967,55.039999999999964,55.19999999999996,55.359999999999957,55.519999999999953,55.67999999999995,55.839999999999947,55.999999999999943,56.169999999999945,56.339999999999947,56.509999999999948,56.67999999999995,56.849999999999952,57.019999999999953,57.189999999999955,57.359999999999957,57.529999999999959,57.69999999999996,57.869999999999962,58.039999999999964,58.209999999999965,58.379999999999967,58.549999999999969,58.71999999999997,58.889999999999972,59.059999999999974,59.229999999999976,59.399999999999977,59.569999999999979,59.739999999999981,59.909999999999982,60.079999999999984,60.249999999999986,60.419999999999987,60.589999999999989,60.759999999999991,60.929999999999993,61.099999999999994,61.269999999999996,61.449999999999996,61.629999999999995,61.809999999999995,61.989999999999995,{"$f":"+AAE59+AAF57","v":62.169999999999995},62.349999999999994,62.529999999999994,62.709999999999994,62.889999999999993,63.069999999999993,63.249999999999993,63.429999999999993,63.609999999999992,63.789999999999992,63.969999999999992,64.149999999999991,64.33,64.510000000000005,64.690000000000012,64.870000000000019]
[]
[null,null,null,null,null,null,null,null,null,null,null,null,null,null,null,null,null,null,null,null,null,null,null,null,null,null,null,null,null,null,null,null,null,null,null,null,null,null,null,null,null,null,null,null,null,null,null,null,null,null,null,null,null,null,null,null,null,null,null,null,null,null,null,null,null,null,null,null,null,null,null,null,null,null,null,null,null,null,null,null,null,null,null,null,null,null,null,null,null,null,null,null,null,null,null,null,null,null,null,null,null,null,null,null,null,null,null,null,null,null,null,null,null,null,null,null,null,null,null,null,null,null,null,null,null,null,null,null,null,null,null,null,null,null,null,null,null,null,null,null,null,null,null,null,null,null,null,null,null,null,{"$f":"+#REF!-#REF!","v":{"$error":"#REF!"}}]

{"sheet":"Rangos","index":2,"n_rows":79,"n_cols":15,"rows_kept":79,"cut":false,"hidden":true,"merged":[[19,1,19,3],[0,2,0,3],[9,2,9,3]]}
[null,null,"Tasa Bonificable",null,null,null,null,"Plazo en estos rangos","Cálculo",1,2]
[null,null,"Plazo","Tasa",null,"Si",0,"1 a 29","$$$",31,365]
[null,0,"De 1 a 29",0.05,null,"No",30,"30 a 60","$$$",31,365,null,null,"Tasa Pichincha",4.7500000000000001E-2]
[null,30,"De 30 a 60",0.05,null,null,61,"61 a 90","$$$",30,365,null,null,"Tasa Guayaquil",5.3699999999999998E-2]
[null,61,"De 61 a 90",0.05,null,null,91,"91 a 180","$$$",90,365]
[null,91,"91 a 180",5.2999999999999999E-2,null,null,181,"181 a 270","$$$",90,365]
[null,181,"181 a 270",5.3999999999999999E-2,null,null,271,"271 a 365","$$$",355]
[null,271,"271 a 365",5.5E-2,null,null,366,"Mayor a 365","$$$"]
[]
[null,null,"Tasa Penalizada"]
[null,null,"Plazo","Tasa"]
[null,0,"De 1 a 29",4.4999999999999998E-2]
[null,30,"De 30 a 60",4.4999999999999998E-2]
[null,61,"De 61 a 90",4.4999999999999998E-2]
[null,91,"91 a 180",4.4999999999999998E-2]
[null,181,"181 a 270",4.4999999999999998E-2]
[null,271,"271 a 365",4.4999999999999998E-2]
[]
["Año",{"$f":"+YEAR(Tabla!C10)","v":2025}]
[]
["Feriado","Fecha","Tipo"]
["Año Nuevo","2024-01-01","Feriado"]
["Carnaval","2024-02-12","Feriado"]
["Carnaval","2024-02-13","Feriado"]
["Viernes Santo","2024-03-29","Feriado"]
["Día del trabajo","2024-05-03","Feriado"]
["Batalla de pichincha","2024-05-24","Feriado"]
["Primer grito","2024-08-09","Feriado"]
["Independencia de GYE","2024-10-11","Feriado"]
["Difuntos","2024-11-01","Feriado"]
["Independencia de CUE","2024-11-04","Feriado"]
["Navidad","2024-12-25","Feriado"]
["Año Nuevo","2025-01-01","Feriado"]
["Carnaval","2024-03-04","Feriado"]
["Carnaval","2024-03-05","Feriado"]
["Viernes Santo","2024-04-19","Feriado"]
["Día del trabajo","2025-05-02","Feriado"]
["Batalla de pichincha","2025-05-23","Feriado"]
["Primer grito","2025-08-11","Feriado"]
["Independencia de GYE","2025-10-10","Feriado"]
["Difuntos","2025-11-03","Feriado"]
["Independencia de CUE","2025-11-03","Feriado"]
["Navidad","2025-12-25","Feriado"]
["Feriado cierre","2025-12-31","Feriado"]
["Año Nuevo","2026-01-01","Feriado"]
["Carnaval","2026-02-16","Feriado"]
["Carnaval","2026-02-17","Feriado"]
["Viernes Santo","2026-04-03","Feriado"]
["Día del trabajo","2026-05-01","Feriado"]
["Batalla de pichincha","2026-05-25","Feriado"]
["Primer grito","2026-08-10","Feriado"]
["Independencia de GYE","2026-10-09","Feriado"]
["Difuntos","2026-11-02","Feriado"]
["Independencia de CUE","2026-11-03","Feriado"]
["Navidad","2026-12-25","Feriado"]
["Feriado cierre","2026-12-31","Feriado"]
["Año Nuevo","2027-01-01","Feriado"]
["Carnaval","2027-02-08","Feriado"]
["Carnaval","2027-02-09","Feriado"]
["Viernes Santo","2027-03-26","Feriado"]
["Día del trabajo","2027-04-30","Feriado"]
["Batalla de pichincha","2027-05-24","Feriado"]
["Primer grito","2027-08-09","Feriado"]
["Independencia de GYE","2027-10-08","Feriado"]
["Difuntos","2027-11-01","Feriado"]
["Independencia de CUE","2027-11-05","Feriado"]
["Navidad","2027-12-24","Feriado"]
["Año Nuevo","2027-12-31","Feriado"]
["Carnaval","2028-02-28","Feriado"]
["Carnaval","2028-02-29","Feriado"]
["Viernes Santo","2028-04-14","Feriado"]
["Día del trabajo","2028-05-01","Feriado"]
["Batalla de pichincha","2028-05-26","Feriado"]
["Primer grito","2028-08-11","Feriado"]
["Independencia de GYE","2028-10-09","Feriado"]
["Difuntos","2028-11-02","Feriado"]
["Independencia de CUE","2028-11-03","Feriado"]
["Navidad","2028-12-25","Feriado"]
["Año Nuevo","2029-01-01","Feriado"]